BEGIN:VCALENDAR
VERSION:2.0
PRODID:-// - ECPv6.15.20//NONSGML v1.0//EN
CALSCALE:GREGORIAN
METHOD:PUBLISH
X-ORIGINAL-URL:https://blackrock-kadence.gotbdev.com
X-WR-CALDESC:Events for 
REFRESH-INTERVAL;VALUE=DURATION:PT1H
X-Robots-Tag:noindex
X-PUBLISHED-TTL:PT1H
BEGIN:VTIMEZONE
TZID:America/Vancouver
BEGIN:DAYLIGHT
TZOFFSETFROM:-0800
TZOFFSETTO:-0700
TZNAME:PDT
DTSTART:20230312T100000
END:DAYLIGHT
BEGIN:STANDARD
TZOFFSETFROM:-0700
TZOFFSETTO:-0800
TZNAME:PST
DTSTART:20231105T090000
END:STANDARD
BEGIN:DAYLIGHT
TZOFFSETFROM:-0800
TZOFFSETTO:-0700
TZNAME:PDT
DTSTART:20240310T100000
END:DAYLIGHT
BEGIN:STANDARD
TZOFFSETFROM:-0700
TZOFFSETTO:-0800
TZNAME:PST
DTSTART:20241103T090000
END:STANDARD
BEGIN:DAYLIGHT
TZOFFSETFROM:-0800
TZOFFSETTO:-0700
TZNAME:PDT
DTSTART:20250309T100000
END:DAYLIGHT
BEGIN:STANDARD
TZOFFSETFROM:-0700
TZOFFSETTO:-0800
TZNAME:PST
DTSTART:20251102T090000
END:STANDARD
END:VTIMEZONE
BEGIN:VEVENT
DTSTART;TZID=America/Vancouver:20240912T170000
DTEND;TZID=America/Vancouver:20240912T174500
DTSTAMP:20260423T025540
CREATED:20240911T172247Z
LAST-MODIFIED:20260221T003221Z
UID:10005142-1726160400-1726163100@blackrock-kadence.gotbdev.com
SUMMARY:Mezz: Kids Jiu Jitsu (6-9 Years Old)
DESCRIPTION:Enroll in Kids Jiu-Jitsu at Black Rock Martial Arts\, designed for ages 6-9! Our classes teach grappling techniques\, self-defense skills\, and body control while promoting confidence and discipline. Perfect for beginners and experienced kids in a fun\, supportive environment.
URL:https://blackrock-kadence.gotbdev.com/event/kids-no-gi-jiu-jitsu-6-11-3/2024-09-12/
CATEGORIES:Jiu Jitsu
ATTACH;FMTTYPE=image/jpeg:https://blackrock-kadence.gotbdev.com/wp-content/uploads/2025/11/JAK0049-scaled-1-scaled.jpg
END:VEVENT
BEGIN:VEVENT
DTSTART;TZID=America/Vancouver:20240912T170000
DTEND;TZID=America/Vancouver:20240912T180000
DTSTAMP:20260423T025540
CREATED:20240105T011440Z
LAST-MODIFIED:20260221T003227Z
UID:10004470-1726160400-1726164000@blackrock-kadence.gotbdev.com
SUMMARY:Teen Kickboxing
DESCRIPTION:Join Teen Kickboxing classes at Black Rock Martial Arts\, designed for ages 12-17! Our high-energy sessions combine kickboxing techniques with intense cardio workouts to boost fitness\, strength\, and endurance. Perfect for all skill levels\, these classes focus on improving coordination\, agility\, and confidence while having fun in a positive\, supportive environment. Led by experienced instructors\, teens will learn essential self-defense skills and enjoy a dynamic workout that keeps them motivated and engaged. Get fit\, make friends\, and feel empowered with Teen Kickboxing!
URL:https://blackrock-kadence.gotbdev.com/event/teen-kickboxing-5-6-pm/2024-09-12/
CATEGORIES:Kickboxing
ATTACH;FMTTYPE=image/jpeg:https://blackrock-kadence.gotbdev.com/wp-content/uploads/2024/09/teen-kickboxing-22.jpg
END:VEVENT
END:VCALENDAR