BEGIN:VCALENDAR
VERSION:2.0
PRODID:-// - ECPv6.15.20//NONSGML v1.0//EN
CALSCALE:GREGORIAN
METHOD:PUBLISH
X-ORIGINAL-URL:https://blackrock-kadence.gotbdev.com
X-WR-CALDESC:Events for 
REFRESH-INTERVAL;VALUE=DURATION:PT1H
X-Robots-Tag:noindex
X-PUBLISHED-TTL:PT1H
BEGIN:VTIMEZONE
TZID:America/Vancouver
BEGIN:DAYLIGHT
TZOFFSETFROM:-0800
TZOFFSETTO:-0700
TZNAME:PDT
DTSTART:20240310T100000
END:DAYLIGHT
BEGIN:STANDARD
TZOFFSETFROM:-0700
TZOFFSETTO:-0800
TZNAME:PST
DTSTART:20241103T090000
END:STANDARD
BEGIN:DAYLIGHT
TZOFFSETFROM:-0800
TZOFFSETTO:-0700
TZNAME:PDT
DTSTART:20250309T100000
END:DAYLIGHT
BEGIN:STANDARD
TZOFFSETFROM:-0700
TZOFFSETTO:-0800
TZNAME:PST
DTSTART:20251102T090000
END:STANDARD
BEGIN:DAYLIGHT
TZOFFSETFROM:-0800
TZOFFSETTO:-0700
TZNAME:PDT
DTSTART:20260308T100000
END:DAYLIGHT
BEGIN:STANDARD
TZOFFSETFROM:-0700
TZOFFSETTO:-0800
TZNAME:PST
DTSTART:20261101T090000
END:STANDARD
END:VTIMEZONE
BEGIN:VEVENT
DTSTART;TZID=America/Vancouver:20250702T180000
DTEND;TZID=America/Vancouver:20250702T190000
DTSTAMP:20260423T035443
CREATED:20250307T004221Z
LAST-MODIFIED:20260221T002730Z
UID:10015052-1751479200-1751482800@blackrock-kadence.gotbdev.com
SUMMARY:Mezz: Jiu Jitsu Fundamentals
DESCRIPTION:Perfect for beginners and those looking to refine their technique\, our Jiu Jitsu Fundamentals class focuses on core movements\, essential positions\, and foundational strategies. Learn in a supportive environment while building strength\, flexibility\, and confidence on the mat.
URL:https://blackrock-kadence.gotbdev.com/event/jiu-jitsu-fundamentals-4-2/2025-07-02/
CATEGORIES:Jiu Jitsu
ATTACH;FMTTYPE=image/jpeg:https://blackrock-kadence.gotbdev.com/wp-content/uploads/2025/11/WPA4490-scaled-1-scaled.jpg
END:VEVENT
BEGIN:VEVENT
DTSTART;TZID=America/Vancouver:20250703T170000
DTEND;TZID=America/Vancouver:20250703T174500
DTSTAMP:20260423T035443
CREATED:20240911T172247Z
LAST-MODIFIED:20260221T003221Z
UID:10005220-1751562000-1751564700@blackrock-kadence.gotbdev.com
SUMMARY:Mezz: Kids Jiu Jitsu (6-9 Years Old)
DESCRIPTION:Enroll in Kids Jiu-Jitsu at Black Rock Martial Arts\, designed for ages 6-9! Our classes teach grappling techniques\, self-defense skills\, and body control while promoting confidence and discipline. Perfect for beginners and experienced kids in a fun\, supportive environment.
URL:https://blackrock-kadence.gotbdev.com/event/kids-no-gi-jiu-jitsu-6-11-3/2025-07-03/
CATEGORIES:Jiu Jitsu
ATTACH;FMTTYPE=image/jpeg:https://blackrock-kadence.gotbdev.com/wp-content/uploads/2025/11/JAK0049-scaled-1-scaled.jpg
END:VEVENT
BEGIN:VEVENT
DTSTART;TZID=America/Vancouver:20250703T190000
DTEND;TZID=America/Vancouver:20250703T203000
DTSTAMP:20260423T035443
CREATED:20240917T180118Z
LAST-MODIFIED:20260221T003433Z
UID:10006929-1751569200-1751574600@blackrock-kadence.gotbdev.com
SUMMARY:Adult Jiu Jitsu
DESCRIPTION:Experience Adult No-Gi Jiu-Jitsu at Black Rock Martial Arts\, where you’ll master grappling techniques\, enhance your strength\, and build confidence in a supportive\, dynamic environment. Our classes focus on real-world self-defense\, agility\, and strategy\, making them ideal for both beginners and seasoned practitioners. Under the guidance of skilled instructors\, you’ll learn to control opponents\, execute submissions\, and refine your skills through live sparring. Whether you’re aiming for competition or personal growth\, our classes provide the challenge and community you need to excel.
URL:https://blackrock-kadence.gotbdev.com/event/adult-no-gi-jiu-jitsu/2025-07-03/
CATEGORIES:Jiu Jitsu
ATTACH;FMTTYPE=image/jpeg:https://blackrock-kadence.gotbdev.com/wp-content/uploads/2025/11/JAK0198-scaled-1-scaled.jpg
END:VEVENT
BEGIN:VEVENT
DTSTART;TZID=America/Vancouver:20250704T170000
DTEND;TZID=America/Vancouver:20250704T180000
DTSTAMP:20260423T035443
CREATED:20250227T172703Z
LAST-MODIFIED:20260221T003456Z
UID:10014725-1751648400-1751652000@blackrock-kadence.gotbdev.com
SUMMARY:Women’s Jiu Jitsu
DESCRIPTION:Designed for women of all skill levels\, our Women’s Jiu Jitsu class offers a supportive and empowering environment to learn self-defense\, improve technique\, and build confidence on the mat. Join us and train with a strong\, like-minded community!
URL:https://blackrock-kadence.gotbdev.com/event/womens-jiu-jitsu/2025-07-04/
CATEGORIES:Jiu Jitsu
ATTACH;FMTTYPE=image/png:https://blackrock-kadence.gotbdev.com/wp-content/uploads/2025/02/Screenshot-2025-02-27-at-9.26.32-AM.png
END:VEVENT
BEGIN:VEVENT
DTSTART;TZID=America/Vancouver:20250704T190000
DTEND;TZID=America/Vancouver:20250704T203000
DTSTAMP:20260423T035443
CREATED:20240917T180118Z
LAST-MODIFIED:20260221T003433Z
UID:10006930-1751655600-1751661000@blackrock-kadence.gotbdev.com
SUMMARY:Adult Jiu Jitsu
DESCRIPTION:Experience Adult No-Gi Jiu-Jitsu at Black Rock Martial Arts\, where you’ll master grappling techniques\, enhance your strength\, and build confidence in a supportive\, dynamic environment. Our classes focus on real-world self-defense\, agility\, and strategy\, making them ideal for both beginners and seasoned practitioners. Under the guidance of skilled instructors\, you’ll learn to control opponents\, execute submissions\, and refine your skills through live sparring. Whether you’re aiming for competition or personal growth\, our classes provide the challenge and community you need to excel.
URL:https://blackrock-kadence.gotbdev.com/event/adult-no-gi-jiu-jitsu/2025-07-04/
CATEGORIES:Jiu Jitsu
ATTACH;FMTTYPE=image/jpeg:https://blackrock-kadence.gotbdev.com/wp-content/uploads/2025/11/JAK0198-scaled-1-scaled.jpg
END:VEVENT
BEGIN:VEVENT
DTSTART;TZID=America/Vancouver:20250707T180000
DTEND;TZID=America/Vancouver:20250707T190000
DTSTAMP:20260423T035443
CREATED:20250307T004221Z
LAST-MODIFIED:20260221T002730Z
UID:10015053-1751911200-1751914800@blackrock-kadence.gotbdev.com
SUMMARY:Mezz: Jiu Jitsu Fundamentals
DESCRIPTION:Perfect for beginners and those looking to refine their technique\, our Jiu Jitsu Fundamentals class focuses on core movements\, essential positions\, and foundational strategies. Learn in a supportive environment while building strength\, flexibility\, and confidence on the mat.
URL:https://blackrock-kadence.gotbdev.com/event/jiu-jitsu-fundamentals-4-2/2025-07-07/
CATEGORIES:Jiu Jitsu
ATTACH;FMTTYPE=image/jpeg:https://blackrock-kadence.gotbdev.com/wp-content/uploads/2025/11/WPA4490-scaled-1-scaled.jpg
END:VEVENT
BEGIN:VEVENT
DTSTART;TZID=America/Vancouver:20250708T120000
DTEND;TZID=America/Vancouver:20250708T130000
DTSTAMP:20260423T035443
CREATED:20250704T113011Z
LAST-MODIFIED:20260221T002615Z
UID:10016231-1751976000-1751979600@blackrock-kadence.gotbdev.com
SUMMARY:Adult Jiu Jitsu
DESCRIPTION:Sharpen your skills\, build strength\, and boost confidence in this dynamic noon-hour class. Whether you’re a beginner or an experienced practitioner\, our Adult Jiu Jitsu sessions focus on technique\, conditioning\, and real-world application in a supportive and high-energy environment. Join us Tuesdays\, Wednesdays\, and Thursdays from 12:00–1:00 PM on the main floor!
URL:https://blackrock-kadence.gotbdev.com/event/adult-jiu-jitsu/2025-07-08/
CATEGORIES:Jiu Jitsu
ATTACH;FMTTYPE=image/jpeg:https://blackrock-kadence.gotbdev.com/wp-content/uploads/2025/07/WPA4450-scaled-1-scaled.jpg
END:VEVENT
BEGIN:VEVENT
DTSTART;TZID=America/Vancouver:20250708T150000
DTEND;TZID=America/Vancouver:20250708T153000
DTSTAMP:20260423T035443
CREATED:20241218T065427Z
LAST-MODIFIED:20260221T002815Z
UID:10011725-1751986800-1751988600@blackrock-kadence.gotbdev.com
SUMMARY:Lil Ninjas (3-5yrs)
DESCRIPTION:Enroll your child in Lil Ninjas Taekwondo at Black Rock Martial Arts\, specially designed for ages 3-5! Our fun and engaging classes introduce young children to the basics of Taekwondo\, including simple kicks\, blocks\, and stances\, while promoting important life skills like focus\, listening\, and respect. With experienced instructors creating a playful\, supportive atmosphere\, your little ones will develop coordination\, balance\, and confidence. Perfect for young beginners\, our program encourages a love for martial arts while fostering social skills\, teamwork\, and a positive attitude in a safe and nurturing environment.
URL:https://blackrock-kadence.gotbdev.com/event/lil-ninjas-2-2-2/2025-07-08/
CATEGORIES:Jiu Jitsu
ATTACH;FMTTYPE=image/jpeg:https://blackrock-kadence.gotbdev.com/wp-content/uploads/2024/09/lil-ninjas-9.jpg
END:VEVENT
BEGIN:VEVENT
DTSTART;TZID=America/Vancouver:20250708T170000
DTEND;TZID=America/Vancouver:20250708T174500
DTSTAMP:20260423T035443
CREATED:20240911T172247Z
LAST-MODIFIED:20260221T003221Z
UID:10005221-1751994000-1751996700@blackrock-kadence.gotbdev.com
SUMMARY:Mezz: Kids Jiu Jitsu (6-9 Years Old)
DESCRIPTION:Enroll in Kids Jiu-Jitsu at Black Rock Martial Arts\, designed for ages 6-9! Our classes teach grappling techniques\, self-defense skills\, and body control while promoting confidence and discipline. Perfect for beginners and experienced kids in a fun\, supportive environment.
URL:https://blackrock-kadence.gotbdev.com/event/kids-no-gi-jiu-jitsu-6-11-3/2025-07-08/
CATEGORIES:Jiu Jitsu
ATTACH;FMTTYPE=image/jpeg:https://blackrock-kadence.gotbdev.com/wp-content/uploads/2025/11/JAK0049-scaled-1-scaled.jpg
END:VEVENT
BEGIN:VEVENT
DTSTART;TZID=America/Vancouver:20250708T190000
DTEND;TZID=America/Vancouver:20250708T203000
DTSTAMP:20260423T035443
CREATED:20240917T180118Z
LAST-MODIFIED:20260221T003433Z
UID:10006931-1752001200-1752006600@blackrock-kadence.gotbdev.com
SUMMARY:Adult Jiu Jitsu
DESCRIPTION:Experience Adult No-Gi Jiu-Jitsu at Black Rock Martial Arts\, where you’ll master grappling techniques\, enhance your strength\, and build confidence in a supportive\, dynamic environment. Our classes focus on real-world self-defense\, agility\, and strategy\, making them ideal for both beginners and seasoned practitioners. Under the guidance of skilled instructors\, you’ll learn to control opponents\, execute submissions\, and refine your skills through live sparring. Whether you’re aiming for competition or personal growth\, our classes provide the challenge and community you need to excel.
URL:https://blackrock-kadence.gotbdev.com/event/adult-no-gi-jiu-jitsu/2025-07-08/
CATEGORIES:Jiu Jitsu
ATTACH;FMTTYPE=image/jpeg:https://blackrock-kadence.gotbdev.com/wp-content/uploads/2025/11/JAK0198-scaled-1-scaled.jpg
END:VEVENT
BEGIN:VEVENT
DTSTART;TZID=America/Vancouver:20250709T120000
DTEND;TZID=America/Vancouver:20250709T130000
DTSTAMP:20260423T035443
CREATED:20250704T113011Z
LAST-MODIFIED:20260221T002615Z
UID:10016232-1752062400-1752066000@blackrock-kadence.gotbdev.com
SUMMARY:Adult Jiu Jitsu
DESCRIPTION:Sharpen your skills\, build strength\, and boost confidence in this dynamic noon-hour class. Whether you’re a beginner or an experienced practitioner\, our Adult Jiu Jitsu sessions focus on technique\, conditioning\, and real-world application in a supportive and high-energy environment. Join us Tuesdays\, Wednesdays\, and Thursdays from 12:00–1:00 PM on the main floor!
URL:https://blackrock-kadence.gotbdev.com/event/adult-jiu-jitsu/2025-07-09/
CATEGORIES:Jiu Jitsu
ATTACH;FMTTYPE=image/jpeg:https://blackrock-kadence.gotbdev.com/wp-content/uploads/2025/07/WPA4450-scaled-1-scaled.jpg
END:VEVENT
BEGIN:VEVENT
DTSTART;TZID=America/Vancouver:20250709T180000
DTEND;TZID=America/Vancouver:20250709T190000
DTSTAMP:20260423T035443
CREATED:20250307T004221Z
LAST-MODIFIED:20260221T002730Z
UID:10015054-1752084000-1752087600@blackrock-kadence.gotbdev.com
SUMMARY:Mezz: Jiu Jitsu Fundamentals
DESCRIPTION:Perfect for beginners and those looking to refine their technique\, our Jiu Jitsu Fundamentals class focuses on core movements\, essential positions\, and foundational strategies. Learn in a supportive environment while building strength\, flexibility\, and confidence on the mat.
URL:https://blackrock-kadence.gotbdev.com/event/jiu-jitsu-fundamentals-4-2/2025-07-09/
CATEGORIES:Jiu Jitsu
ATTACH;FMTTYPE=image/jpeg:https://blackrock-kadence.gotbdev.com/wp-content/uploads/2025/11/WPA4490-scaled-1-scaled.jpg
END:VEVENT
BEGIN:VEVENT
DTSTART;TZID=America/Vancouver:20250710T120000
DTEND;TZID=America/Vancouver:20250710T130000
DTSTAMP:20260423T035443
CREATED:20250704T113011Z
LAST-MODIFIED:20260221T002615Z
UID:10016233-1752148800-1752152400@blackrock-kadence.gotbdev.com
SUMMARY:Adult Jiu Jitsu
DESCRIPTION:Sharpen your skills\, build strength\, and boost confidence in this dynamic noon-hour class. Whether you’re a beginner or an experienced practitioner\, our Adult Jiu Jitsu sessions focus on technique\, conditioning\, and real-world application in a supportive and high-energy environment. Join us Tuesdays\, Wednesdays\, and Thursdays from 12:00–1:00 PM on the main floor!
URL:https://blackrock-kadence.gotbdev.com/event/adult-jiu-jitsu/2025-07-10/
CATEGORIES:Jiu Jitsu
ATTACH;FMTTYPE=image/jpeg:https://blackrock-kadence.gotbdev.com/wp-content/uploads/2025/07/WPA4450-scaled-1-scaled.jpg
END:VEVENT
BEGIN:VEVENT
DTSTART;TZID=America/Vancouver:20250710T170000
DTEND;TZID=America/Vancouver:20250710T174500
DTSTAMP:20260423T035443
CREATED:20240911T172247Z
LAST-MODIFIED:20260221T003221Z
UID:10005222-1752166800-1752169500@blackrock-kadence.gotbdev.com
SUMMARY:Mezz: Kids Jiu Jitsu (6-9 Years Old)
DESCRIPTION:Enroll in Kids Jiu-Jitsu at Black Rock Martial Arts\, designed for ages 6-9! Our classes teach grappling techniques\, self-defense skills\, and body control while promoting confidence and discipline. Perfect for beginners and experienced kids in a fun\, supportive environment.
URL:https://blackrock-kadence.gotbdev.com/event/kids-no-gi-jiu-jitsu-6-11-3/2025-07-10/
CATEGORIES:Jiu Jitsu
ATTACH;FMTTYPE=image/jpeg:https://blackrock-kadence.gotbdev.com/wp-content/uploads/2025/11/JAK0049-scaled-1-scaled.jpg
END:VEVENT
BEGIN:VEVENT
DTSTART;TZID=America/Vancouver:20250710T190000
DTEND;TZID=America/Vancouver:20250710T203000
DTSTAMP:20260423T035443
CREATED:20240917T180118Z
LAST-MODIFIED:20260221T003433Z
UID:10006932-1752174000-1752179400@blackrock-kadence.gotbdev.com
SUMMARY:Adult Jiu Jitsu
DESCRIPTION:Experience Adult No-Gi Jiu-Jitsu at Black Rock Martial Arts\, where you’ll master grappling techniques\, enhance your strength\, and build confidence in a supportive\, dynamic environment. Our classes focus on real-world self-defense\, agility\, and strategy\, making them ideal for both beginners and seasoned practitioners. Under the guidance of skilled instructors\, you’ll learn to control opponents\, execute submissions\, and refine your skills through live sparring. Whether you’re aiming for competition or personal growth\, our classes provide the challenge and community you need to excel.
URL:https://blackrock-kadence.gotbdev.com/event/adult-no-gi-jiu-jitsu/2025-07-10/
CATEGORIES:Jiu Jitsu
ATTACH;FMTTYPE=image/jpeg:https://blackrock-kadence.gotbdev.com/wp-content/uploads/2025/11/JAK0198-scaled-1-scaled.jpg
END:VEVENT
BEGIN:VEVENT
DTSTART;TZID=America/Vancouver:20250711T170000
DTEND;TZID=America/Vancouver:20250711T180000
DTSTAMP:20260423T035443
CREATED:20250227T172703Z
LAST-MODIFIED:20260221T003456Z
UID:10014726-1752253200-1752256800@blackrock-kadence.gotbdev.com
SUMMARY:Women’s Jiu Jitsu
DESCRIPTION:Designed for women of all skill levels\, our Women’s Jiu Jitsu class offers a supportive and empowering environment to learn self-defense\, improve technique\, and build confidence on the mat. Join us and train with a strong\, like-minded community!
URL:https://blackrock-kadence.gotbdev.com/event/womens-jiu-jitsu/2025-07-11/
CATEGORIES:Jiu Jitsu
ATTACH;FMTTYPE=image/png:https://blackrock-kadence.gotbdev.com/wp-content/uploads/2025/02/Screenshot-2025-02-27-at-9.26.32-AM.png
END:VEVENT
BEGIN:VEVENT
DTSTART;TZID=America/Vancouver:20250711T190000
DTEND;TZID=America/Vancouver:20250711T203000
DTSTAMP:20260423T035444
CREATED:20240917T180118Z
LAST-MODIFIED:20260221T003433Z
UID:10006933-1752260400-1752265800@blackrock-kadence.gotbdev.com
SUMMARY:Adult Jiu Jitsu
DESCRIPTION:Experience Adult No-Gi Jiu-Jitsu at Black Rock Martial Arts\, where you’ll master grappling techniques\, enhance your strength\, and build confidence in a supportive\, dynamic environment. Our classes focus on real-world self-defense\, agility\, and strategy\, making them ideal for both beginners and seasoned practitioners. Under the guidance of skilled instructors\, you’ll learn to control opponents\, execute submissions\, and refine your skills through live sparring. Whether you’re aiming for competition or personal growth\, our classes provide the challenge and community you need to excel.
URL:https://blackrock-kadence.gotbdev.com/event/adult-no-gi-jiu-jitsu/2025-07-11/
CATEGORIES:Jiu Jitsu
ATTACH;FMTTYPE=image/jpeg:https://blackrock-kadence.gotbdev.com/wp-content/uploads/2025/11/JAK0198-scaled-1-scaled.jpg
END:VEVENT
BEGIN:VEVENT
DTSTART;TZID=America/Vancouver:20250714T180000
DTEND;TZID=America/Vancouver:20250714T190000
DTSTAMP:20260423T035444
CREATED:20250307T004221Z
LAST-MODIFIED:20260221T002730Z
UID:10015055-1752516000-1752519600@blackrock-kadence.gotbdev.com
SUMMARY:Mezz: Jiu Jitsu Fundamentals
DESCRIPTION:Perfect for beginners and those looking to refine their technique\, our Jiu Jitsu Fundamentals class focuses on core movements\, essential positions\, and foundational strategies. Learn in a supportive environment while building strength\, flexibility\, and confidence on the mat.
URL:https://blackrock-kadence.gotbdev.com/event/jiu-jitsu-fundamentals-4-2/2025-07-14/
CATEGORIES:Jiu Jitsu
ATTACH;FMTTYPE=image/jpeg:https://blackrock-kadence.gotbdev.com/wp-content/uploads/2025/11/WPA4490-scaled-1-scaled.jpg
END:VEVENT
BEGIN:VEVENT
DTSTART;TZID=America/Vancouver:20250715T120000
DTEND;TZID=America/Vancouver:20250715T130000
DTSTAMP:20260423T035444
CREATED:20250704T113011Z
LAST-MODIFIED:20260221T002615Z
UID:10016234-1752580800-1752584400@blackrock-kadence.gotbdev.com
SUMMARY:Adult Jiu Jitsu
DESCRIPTION:Sharpen your skills\, build strength\, and boost confidence in this dynamic noon-hour class. Whether you’re a beginner or an experienced practitioner\, our Adult Jiu Jitsu sessions focus on technique\, conditioning\, and real-world application in a supportive and high-energy environment. Join us Tuesdays\, Wednesdays\, and Thursdays from 12:00–1:00 PM on the main floor!
URL:https://blackrock-kadence.gotbdev.com/event/adult-jiu-jitsu/2025-07-15/
CATEGORIES:Jiu Jitsu
ATTACH;FMTTYPE=image/jpeg:https://blackrock-kadence.gotbdev.com/wp-content/uploads/2025/07/WPA4450-scaled-1-scaled.jpg
END:VEVENT
BEGIN:VEVENT
DTSTART;TZID=America/Vancouver:20250715T150000
DTEND;TZID=America/Vancouver:20250715T153000
DTSTAMP:20260423T035444
CREATED:20241218T065427Z
LAST-MODIFIED:20260221T002815Z
UID:10011726-1752591600-1752593400@blackrock-kadence.gotbdev.com
SUMMARY:Lil Ninjas (3-5yrs)
DESCRIPTION:Enroll your child in Lil Ninjas Taekwondo at Black Rock Martial Arts\, specially designed for ages 3-5! Our fun and engaging classes introduce young children to the basics of Taekwondo\, including simple kicks\, blocks\, and stances\, while promoting important life skills like focus\, listening\, and respect. With experienced instructors creating a playful\, supportive atmosphere\, your little ones will develop coordination\, balance\, and confidence. Perfect for young beginners\, our program encourages a love for martial arts while fostering social skills\, teamwork\, and a positive attitude in a safe and nurturing environment.
URL:https://blackrock-kadence.gotbdev.com/event/lil-ninjas-2-2-2/2025-07-15/
CATEGORIES:Jiu Jitsu
ATTACH;FMTTYPE=image/jpeg:https://blackrock-kadence.gotbdev.com/wp-content/uploads/2024/09/lil-ninjas-9.jpg
END:VEVENT
BEGIN:VEVENT
DTSTART;TZID=America/Vancouver:20250715T170000
DTEND;TZID=America/Vancouver:20250715T174500
DTSTAMP:20260423T035444
CREATED:20240911T172247Z
LAST-MODIFIED:20260221T003221Z
UID:10005223-1752598800-1752601500@blackrock-kadence.gotbdev.com
SUMMARY:Mezz: Kids Jiu Jitsu (6-9 Years Old)
DESCRIPTION:Enroll in Kids Jiu-Jitsu at Black Rock Martial Arts\, designed for ages 6-9! Our classes teach grappling techniques\, self-defense skills\, and body control while promoting confidence and discipline. Perfect for beginners and experienced kids in a fun\, supportive environment.
URL:https://blackrock-kadence.gotbdev.com/event/kids-no-gi-jiu-jitsu-6-11-3/2025-07-15/
CATEGORIES:Jiu Jitsu
ATTACH;FMTTYPE=image/jpeg:https://blackrock-kadence.gotbdev.com/wp-content/uploads/2025/11/JAK0049-scaled-1-scaled.jpg
END:VEVENT
BEGIN:VEVENT
DTSTART;TZID=America/Vancouver:20250715T190000
DTEND;TZID=America/Vancouver:20250715T203000
DTSTAMP:20260423T035444
CREATED:20240917T180118Z
LAST-MODIFIED:20260221T003433Z
UID:10006934-1752606000-1752611400@blackrock-kadence.gotbdev.com
SUMMARY:Adult Jiu Jitsu
DESCRIPTION:Experience Adult No-Gi Jiu-Jitsu at Black Rock Martial Arts\, where you’ll master grappling techniques\, enhance your strength\, and build confidence in a supportive\, dynamic environment. Our classes focus on real-world self-defense\, agility\, and strategy\, making them ideal for both beginners and seasoned practitioners. Under the guidance of skilled instructors\, you’ll learn to control opponents\, execute submissions\, and refine your skills through live sparring. Whether you’re aiming for competition or personal growth\, our classes provide the challenge and community you need to excel.
URL:https://blackrock-kadence.gotbdev.com/event/adult-no-gi-jiu-jitsu/2025-07-15/
CATEGORIES:Jiu Jitsu
ATTACH;FMTTYPE=image/jpeg:https://blackrock-kadence.gotbdev.com/wp-content/uploads/2025/11/JAK0198-scaled-1-scaled.jpg
END:VEVENT
BEGIN:VEVENT
DTSTART;TZID=America/Vancouver:20250716T120000
DTEND;TZID=America/Vancouver:20250716T130000
DTSTAMP:20260423T035444
CREATED:20250704T113011Z
LAST-MODIFIED:20260221T002615Z
UID:10016235-1752667200-1752670800@blackrock-kadence.gotbdev.com
SUMMARY:Adult Jiu Jitsu
DESCRIPTION:Sharpen your skills\, build strength\, and boost confidence in this dynamic noon-hour class. Whether you’re a beginner or an experienced practitioner\, our Adult Jiu Jitsu sessions focus on technique\, conditioning\, and real-world application in a supportive and high-energy environment. Join us Tuesdays\, Wednesdays\, and Thursdays from 12:00–1:00 PM on the main floor!
URL:https://blackrock-kadence.gotbdev.com/event/adult-jiu-jitsu/2025-07-16/
CATEGORIES:Jiu Jitsu
ATTACH;FMTTYPE=image/jpeg:https://blackrock-kadence.gotbdev.com/wp-content/uploads/2025/07/WPA4450-scaled-1-scaled.jpg
END:VEVENT
BEGIN:VEVENT
DTSTART;TZID=America/Vancouver:20250716T180000
DTEND;TZID=America/Vancouver:20250716T190000
DTSTAMP:20260423T035444
CREATED:20250307T004221Z
LAST-MODIFIED:20260221T002730Z
UID:10015056-1752688800-1752692400@blackrock-kadence.gotbdev.com
SUMMARY:Mezz: Jiu Jitsu Fundamentals
DESCRIPTION:Perfect for beginners and those looking to refine their technique\, our Jiu Jitsu Fundamentals class focuses on core movements\, essential positions\, and foundational strategies. Learn in a supportive environment while building strength\, flexibility\, and confidence on the mat.
URL:https://blackrock-kadence.gotbdev.com/event/jiu-jitsu-fundamentals-4-2/2025-07-16/
CATEGORIES:Jiu Jitsu
ATTACH;FMTTYPE=image/jpeg:https://blackrock-kadence.gotbdev.com/wp-content/uploads/2025/11/WPA4490-scaled-1-scaled.jpg
END:VEVENT
BEGIN:VEVENT
DTSTART;TZID=America/Vancouver:20250717T120000
DTEND;TZID=America/Vancouver:20250717T130000
DTSTAMP:20260423T035444
CREATED:20250704T113011Z
LAST-MODIFIED:20260221T002615Z
UID:10016236-1752753600-1752757200@blackrock-kadence.gotbdev.com
SUMMARY:Adult Jiu Jitsu
DESCRIPTION:Sharpen your skills\, build strength\, and boost confidence in this dynamic noon-hour class. Whether you’re a beginner or an experienced practitioner\, our Adult Jiu Jitsu sessions focus on technique\, conditioning\, and real-world application in a supportive and high-energy environment. Join us Tuesdays\, Wednesdays\, and Thursdays from 12:00–1:00 PM on the main floor!
URL:https://blackrock-kadence.gotbdev.com/event/adult-jiu-jitsu/2025-07-17/
CATEGORIES:Jiu Jitsu
ATTACH;FMTTYPE=image/jpeg:https://blackrock-kadence.gotbdev.com/wp-content/uploads/2025/07/WPA4450-scaled-1-scaled.jpg
END:VEVENT
BEGIN:VEVENT
DTSTART;TZID=America/Vancouver:20250717T170000
DTEND;TZID=America/Vancouver:20250717T174500
DTSTAMP:20260423T035444
CREATED:20240911T172247Z
LAST-MODIFIED:20260221T003221Z
UID:10005224-1752771600-1752774300@blackrock-kadence.gotbdev.com
SUMMARY:Mezz: Kids Jiu Jitsu (6-9 Years Old)
DESCRIPTION:Enroll in Kids Jiu-Jitsu at Black Rock Martial Arts\, designed for ages 6-9! Our classes teach grappling techniques\, self-defense skills\, and body control while promoting confidence and discipline. Perfect for beginners and experienced kids in a fun\, supportive environment.
URL:https://blackrock-kadence.gotbdev.com/event/kids-no-gi-jiu-jitsu-6-11-3/2025-07-17/
CATEGORIES:Jiu Jitsu
ATTACH;FMTTYPE=image/jpeg:https://blackrock-kadence.gotbdev.com/wp-content/uploads/2025/11/JAK0049-scaled-1-scaled.jpg
END:VEVENT
BEGIN:VEVENT
DTSTART;TZID=America/Vancouver:20250717T190000
DTEND;TZID=America/Vancouver:20250717T203000
DTSTAMP:20260423T035444
CREATED:20240917T180118Z
LAST-MODIFIED:20260221T003433Z
UID:10006935-1752778800-1752784200@blackrock-kadence.gotbdev.com
SUMMARY:Adult Jiu Jitsu
DESCRIPTION:Experience Adult No-Gi Jiu-Jitsu at Black Rock Martial Arts\, where you’ll master grappling techniques\, enhance your strength\, and build confidence in a supportive\, dynamic environment. Our classes focus on real-world self-defense\, agility\, and strategy\, making them ideal for both beginners and seasoned practitioners. Under the guidance of skilled instructors\, you’ll learn to control opponents\, execute submissions\, and refine your skills through live sparring. Whether you’re aiming for competition or personal growth\, our classes provide the challenge and community you need to excel.
URL:https://blackrock-kadence.gotbdev.com/event/adult-no-gi-jiu-jitsu/2025-07-17/
CATEGORIES:Jiu Jitsu
ATTACH;FMTTYPE=image/jpeg:https://blackrock-kadence.gotbdev.com/wp-content/uploads/2025/11/JAK0198-scaled-1-scaled.jpg
END:VEVENT
BEGIN:VEVENT
DTSTART;TZID=America/Vancouver:20250718T170000
DTEND;TZID=America/Vancouver:20250718T180000
DTSTAMP:20260423T035444
CREATED:20250227T172703Z
LAST-MODIFIED:20260221T003456Z
UID:10014727-1752858000-1752861600@blackrock-kadence.gotbdev.com
SUMMARY:Women’s Jiu Jitsu
DESCRIPTION:Designed for women of all skill levels\, our Women’s Jiu Jitsu class offers a supportive and empowering environment to learn self-defense\, improve technique\, and build confidence on the mat. Join us and train with a strong\, like-minded community!
URL:https://blackrock-kadence.gotbdev.com/event/womens-jiu-jitsu/2025-07-18/
CATEGORIES:Jiu Jitsu
ATTACH;FMTTYPE=image/png:https://blackrock-kadence.gotbdev.com/wp-content/uploads/2025/02/Screenshot-2025-02-27-at-9.26.32-AM.png
END:VEVENT
BEGIN:VEVENT
DTSTART;TZID=America/Vancouver:20250718T190000
DTEND;TZID=America/Vancouver:20250718T203000
DTSTAMP:20260423T035444
CREATED:20240917T180118Z
LAST-MODIFIED:20260221T003433Z
UID:10006936-1752865200-1752870600@blackrock-kadence.gotbdev.com
SUMMARY:Adult Jiu Jitsu
DESCRIPTION:Experience Adult No-Gi Jiu-Jitsu at Black Rock Martial Arts\, where you’ll master grappling techniques\, enhance your strength\, and build confidence in a supportive\, dynamic environment. Our classes focus on real-world self-defense\, agility\, and strategy\, making them ideal for both beginners and seasoned practitioners. Under the guidance of skilled instructors\, you’ll learn to control opponents\, execute submissions\, and refine your skills through live sparring. Whether you’re aiming for competition or personal growth\, our classes provide the challenge and community you need to excel.
URL:https://blackrock-kadence.gotbdev.com/event/adult-no-gi-jiu-jitsu/2025-07-18/
CATEGORIES:Jiu Jitsu
ATTACH;FMTTYPE=image/jpeg:https://blackrock-kadence.gotbdev.com/wp-content/uploads/2025/11/JAK0198-scaled-1-scaled.jpg
END:VEVENT
BEGIN:VEVENT
DTSTART;TZID=America/Vancouver:20250721T180000
DTEND;TZID=America/Vancouver:20250721T190000
DTSTAMP:20260423T035444
CREATED:20250307T004221Z
LAST-MODIFIED:20260221T002730Z
UID:10015057-1753120800-1753124400@blackrock-kadence.gotbdev.com
SUMMARY:Mezz: Jiu Jitsu Fundamentals
DESCRIPTION:Perfect for beginners and those looking to refine their technique\, our Jiu Jitsu Fundamentals class focuses on core movements\, essential positions\, and foundational strategies. Learn in a supportive environment while building strength\, flexibility\, and confidence on the mat.
URL:https://blackrock-kadence.gotbdev.com/event/jiu-jitsu-fundamentals-4-2/2025-07-21/
CATEGORIES:Jiu Jitsu
ATTACH;FMTTYPE=image/jpeg:https://blackrock-kadence.gotbdev.com/wp-content/uploads/2025/11/WPA4490-scaled-1-scaled.jpg
END:VEVENT
END:VCALENDAR