BEGIN:VCALENDAR
VERSION:2.0
PRODID:-// - ECPv6.15.20//NONSGML v1.0//EN
CALSCALE:GREGORIAN
METHOD:PUBLISH
X-ORIGINAL-URL:https://blackrock-kadence.gotbdev.com
X-WR-CALDESC:Events for 
REFRESH-INTERVAL;VALUE=DURATION:PT1H
X-Robots-Tag:noindex
X-PUBLISHED-TTL:PT1H
BEGIN:VTIMEZONE
TZID:America/Vancouver
BEGIN:DAYLIGHT
TZOFFSETFROM:-0800
TZOFFSETTO:-0700
TZNAME:PDT
DTSTART:20240310T100000
END:DAYLIGHT
BEGIN:STANDARD
TZOFFSETFROM:-0700
TZOFFSETTO:-0800
TZNAME:PST
DTSTART:20241103T090000
END:STANDARD
BEGIN:DAYLIGHT
TZOFFSETFROM:-0800
TZOFFSETTO:-0700
TZNAME:PDT
DTSTART:20250309T100000
END:DAYLIGHT
BEGIN:STANDARD
TZOFFSETFROM:-0700
TZOFFSETTO:-0800
TZNAME:PST
DTSTART:20251102T090000
END:STANDARD
BEGIN:DAYLIGHT
TZOFFSETFROM:-0800
TZOFFSETTO:-0700
TZNAME:PDT
DTSTART:20260308T100000
END:DAYLIGHT
BEGIN:STANDARD
TZOFFSETFROM:-0700
TZOFFSETTO:-0800
TZNAME:PST
DTSTART:20261101T090000
END:STANDARD
END:VTIMEZONE
BEGIN:VEVENT
DTSTART;TZID=America/Vancouver:20250901T180000
DTEND;TZID=America/Vancouver:20250901T190000
DTSTAMP:20260421T132156
CREATED:20250307T004221Z
LAST-MODIFIED:20260221T002730Z
UID:10015069-1756749600-1756753200@blackrock-kadence.gotbdev.com
SUMMARY:Mezz: Jiu Jitsu Fundamentals
DESCRIPTION:Perfect for beginners and those looking to refine their technique\, our Jiu Jitsu Fundamentals class focuses on core movements\, essential positions\, and foundational strategies. Learn in a supportive environment while building strength\, flexibility\, and confidence on the mat.
URL:https://blackrock-kadence.gotbdev.com/event/jiu-jitsu-fundamentals-4-2/2025-09-01/
CATEGORIES:Jiu Jitsu
ATTACH;FMTTYPE=image/jpeg:https://blackrock-kadence.gotbdev.com/wp-content/uploads/2025/11/WPA4490-scaled-1-scaled.jpg
END:VEVENT
BEGIN:VEVENT
DTSTART;TZID=America/Vancouver:20250902T120000
DTEND;TZID=America/Vancouver:20250902T130000
DTSTAMP:20260421T132156
CREATED:20250704T113011Z
LAST-MODIFIED:20260221T002615Z
UID:10016255-1756814400-1756818000@blackrock-kadence.gotbdev.com
SUMMARY:Adult Jiu Jitsu
DESCRIPTION:Sharpen your skills\, build strength\, and boost confidence in this dynamic noon-hour class. Whether you’re a beginner or an experienced practitioner\, our Adult Jiu Jitsu sessions focus on technique\, conditioning\, and real-world application in a supportive and high-energy environment. Join us Tuesdays\, Wednesdays\, and Thursdays from 12:00–1:00 PM on the main floor!
URL:https://blackrock-kadence.gotbdev.com/event/adult-jiu-jitsu/2025-09-02/
CATEGORIES:Jiu Jitsu
ATTACH;FMTTYPE=image/jpeg:https://blackrock-kadence.gotbdev.com/wp-content/uploads/2025/07/WPA4450-scaled-1-scaled.jpg
END:VEVENT
BEGIN:VEVENT
DTSTART;TZID=America/Vancouver:20250902T150000
DTEND;TZID=America/Vancouver:20250902T153000
DTSTAMP:20260421T132156
CREATED:20241218T065427Z
LAST-MODIFIED:20260221T002815Z
UID:10011733-1756825200-1756827000@blackrock-kadence.gotbdev.com
SUMMARY:Lil Ninjas (3-5yrs)
DESCRIPTION:Enroll your child in Lil Ninjas Taekwondo at Black Rock Martial Arts\, specially designed for ages 3-5! Our fun and engaging classes introduce young children to the basics of Taekwondo\, including simple kicks\, blocks\, and stances\, while promoting important life skills like focus\, listening\, and respect. With experienced instructors creating a playful\, supportive atmosphere\, your little ones will develop coordination\, balance\, and confidence. Perfect for young beginners\, our program encourages a love for martial arts while fostering social skills\, teamwork\, and a positive attitude in a safe and nurturing environment.
URL:https://blackrock-kadence.gotbdev.com/event/lil-ninjas-2-2-2/2025-09-02/
CATEGORIES:Jiu Jitsu
ATTACH;FMTTYPE=image/jpeg:https://blackrock-kadence.gotbdev.com/wp-content/uploads/2024/09/lil-ninjas-9.jpg
END:VEVENT
BEGIN:VEVENT
DTSTART;TZID=America/Vancouver:20250902T170000
DTEND;TZID=America/Vancouver:20250902T174500
DTSTAMP:20260421T132156
CREATED:20240911T172247Z
LAST-MODIFIED:20260221T003221Z
UID:10005237-1756832400-1756835100@blackrock-kadence.gotbdev.com
SUMMARY:Mezz: Kids Jiu Jitsu (6-9 Years Old)
DESCRIPTION:Enroll in Kids Jiu-Jitsu at Black Rock Martial Arts\, designed for ages 6-9! Our classes teach grappling techniques\, self-defense skills\, and body control while promoting confidence and discipline. Perfect for beginners and experienced kids in a fun\, supportive environment.
URL:https://blackrock-kadence.gotbdev.com/event/kids-no-gi-jiu-jitsu-6-11-3/2025-09-02/
CATEGORIES:Jiu Jitsu
ATTACH;FMTTYPE=image/jpeg:https://blackrock-kadence.gotbdev.com/wp-content/uploads/2025/11/JAK0049-scaled-1-scaled.jpg
END:VEVENT
BEGIN:VEVENT
DTSTART;TZID=America/Vancouver:20250902T190000
DTEND;TZID=America/Vancouver:20250902T203000
DTSTAMP:20260421T132156
CREATED:20240917T180118Z
LAST-MODIFIED:20260221T003433Z
UID:10006955-1756839600-1756845000@blackrock-kadence.gotbdev.com
SUMMARY:Adult Jiu Jitsu
DESCRIPTION:Experience Adult No-Gi Jiu-Jitsu at Black Rock Martial Arts\, where you’ll master grappling techniques\, enhance your strength\, and build confidence in a supportive\, dynamic environment. Our classes focus on real-world self-defense\, agility\, and strategy\, making them ideal for both beginners and seasoned practitioners. Under the guidance of skilled instructors\, you’ll learn to control opponents\, execute submissions\, and refine your skills through live sparring. Whether you’re aiming for competition or personal growth\, our classes provide the challenge and community you need to excel.
URL:https://blackrock-kadence.gotbdev.com/event/adult-no-gi-jiu-jitsu/2025-09-02/
CATEGORIES:Jiu Jitsu
ATTACH;FMTTYPE=image/jpeg:https://blackrock-kadence.gotbdev.com/wp-content/uploads/2025/11/JAK0198-scaled-1-scaled.jpg
END:VEVENT
BEGIN:VEVENT
DTSTART;TZID=America/Vancouver:20250903T120000
DTEND;TZID=America/Vancouver:20250903T130000
DTSTAMP:20260421T132156
CREATED:20250704T113011Z
LAST-MODIFIED:20260221T002615Z
UID:10016256-1756900800-1756904400@blackrock-kadence.gotbdev.com
SUMMARY:Adult Jiu Jitsu
DESCRIPTION:Sharpen your skills\, build strength\, and boost confidence in this dynamic noon-hour class. Whether you’re a beginner or an experienced practitioner\, our Adult Jiu Jitsu sessions focus on technique\, conditioning\, and real-world application in a supportive and high-energy environment. Join us Tuesdays\, Wednesdays\, and Thursdays from 12:00–1:00 PM on the main floor!
URL:https://blackrock-kadence.gotbdev.com/event/adult-jiu-jitsu/2025-09-03/
CATEGORIES:Jiu Jitsu
ATTACH;FMTTYPE=image/jpeg:https://blackrock-kadence.gotbdev.com/wp-content/uploads/2025/07/WPA4450-scaled-1-scaled.jpg
END:VEVENT
BEGIN:VEVENT
DTSTART;TZID=America/Vancouver:20250903T153000
DTEND;TZID=America/Vancouver:20250903T161500
DTSTAMP:20260421T132156
CREATED:20250902T163538Z
LAST-MODIFIED:20260221T002534Z
UID:10017205-1756913400-1756916100@blackrock-kadence.gotbdev.com
SUMMARY:Kids Jiu Jitsu (6–9 Years Old)
DESCRIPTION:Discover Kids Jiu-Jitsu at Black Rock Martial Arts\, designed for ages 6-9. Build strength\, confidence\, and self-defence skills through dynamic\, fun classes. Perfect for kids looking to stay active\, learn discipline\, and connect with peers in a supportive environment.
URL:https://blackrock-kadence.gotbdev.com/event/kids-jiu-jitsu-6-9-3/2025-09-03/
CATEGORIES:Jiu Jitsu
ATTACH;FMTTYPE=image/jpeg:https://blackrock-kadence.gotbdev.com/wp-content/uploads/2025/11/JAK0095-scaled-1-scaled.jpg
END:VEVENT
BEGIN:VEVENT
DTSTART;TZID=America/Vancouver:20250903T180000
DTEND;TZID=America/Vancouver:20250903T190000
DTSTAMP:20260421T132156
CREATED:20250307T004221Z
LAST-MODIFIED:20260221T002730Z
UID:10015070-1756922400-1756926000@blackrock-kadence.gotbdev.com
SUMMARY:Mezz: Jiu Jitsu Fundamentals
DESCRIPTION:Perfect for beginners and those looking to refine their technique\, our Jiu Jitsu Fundamentals class focuses on core movements\, essential positions\, and foundational strategies. Learn in a supportive environment while building strength\, flexibility\, and confidence on the mat.
URL:https://blackrock-kadence.gotbdev.com/event/jiu-jitsu-fundamentals-4-2/2025-09-03/
CATEGORIES:Jiu Jitsu
ATTACH;FMTTYPE=image/jpeg:https://blackrock-kadence.gotbdev.com/wp-content/uploads/2025/11/WPA4490-scaled-1-scaled.jpg
END:VEVENT
BEGIN:VEVENT
DTSTART;TZID=America/Vancouver:20250904T120000
DTEND;TZID=America/Vancouver:20250904T130000
DTSTAMP:20260421T132156
CREATED:20250704T113011Z
LAST-MODIFIED:20260221T002615Z
UID:10016257-1756987200-1756990800@blackrock-kadence.gotbdev.com
SUMMARY:Adult Jiu Jitsu
DESCRIPTION:Sharpen your skills\, build strength\, and boost confidence in this dynamic noon-hour class. Whether you’re a beginner or an experienced practitioner\, our Adult Jiu Jitsu sessions focus on technique\, conditioning\, and real-world application in a supportive and high-energy environment. Join us Tuesdays\, Wednesdays\, and Thursdays from 12:00–1:00 PM on the main floor!
URL:https://blackrock-kadence.gotbdev.com/event/adult-jiu-jitsu/2025-09-04/
CATEGORIES:Jiu Jitsu
ATTACH;FMTTYPE=image/jpeg:https://blackrock-kadence.gotbdev.com/wp-content/uploads/2025/07/WPA4450-scaled-1-scaled.jpg
END:VEVENT
BEGIN:VEVENT
DTSTART;TZID=America/Vancouver:20250904T170000
DTEND;TZID=America/Vancouver:20250904T174500
DTSTAMP:20260421T132156
CREATED:20240911T172247Z
LAST-MODIFIED:20260221T003221Z
UID:10005238-1757005200-1757007900@blackrock-kadence.gotbdev.com
SUMMARY:Mezz: Kids Jiu Jitsu (6-9 Years Old)
DESCRIPTION:Enroll in Kids Jiu-Jitsu at Black Rock Martial Arts\, designed for ages 6-9! Our classes teach grappling techniques\, self-defense skills\, and body control while promoting confidence and discipline. Perfect for beginners and experienced kids in a fun\, supportive environment.
URL:https://blackrock-kadence.gotbdev.com/event/kids-no-gi-jiu-jitsu-6-11-3/2025-09-04/
CATEGORIES:Jiu Jitsu
ATTACH;FMTTYPE=image/jpeg:https://blackrock-kadence.gotbdev.com/wp-content/uploads/2025/11/JAK0049-scaled-1-scaled.jpg
END:VEVENT
BEGIN:VEVENT
DTSTART;TZID=America/Vancouver:20250904T190000
DTEND;TZID=America/Vancouver:20250904T203000
DTSTAMP:20260421T132156
CREATED:20240917T180118Z
LAST-MODIFIED:20260221T003433Z
UID:10006956-1757012400-1757017800@blackrock-kadence.gotbdev.com
SUMMARY:Adult Jiu Jitsu
DESCRIPTION:Experience Adult No-Gi Jiu-Jitsu at Black Rock Martial Arts\, where you’ll master grappling techniques\, enhance your strength\, and build confidence in a supportive\, dynamic environment. Our classes focus on real-world self-defense\, agility\, and strategy\, making them ideal for both beginners and seasoned practitioners. Under the guidance of skilled instructors\, you’ll learn to control opponents\, execute submissions\, and refine your skills through live sparring. Whether you’re aiming for competition or personal growth\, our classes provide the challenge and community you need to excel.
URL:https://blackrock-kadence.gotbdev.com/event/adult-no-gi-jiu-jitsu/2025-09-04/
CATEGORIES:Jiu Jitsu
ATTACH;FMTTYPE=image/jpeg:https://blackrock-kadence.gotbdev.com/wp-content/uploads/2025/11/JAK0198-scaled-1-scaled.jpg
END:VEVENT
BEGIN:VEVENT
DTSTART;TZID=America/Vancouver:20250905T170000
DTEND;TZID=America/Vancouver:20250905T180000
DTSTAMP:20260421T132156
CREATED:20250227T172703Z
LAST-MODIFIED:20260221T003456Z
UID:10014734-1757091600-1757095200@blackrock-kadence.gotbdev.com
SUMMARY:Women’s Jiu Jitsu
DESCRIPTION:Designed for women of all skill levels\, our Women’s Jiu Jitsu class offers a supportive and empowering environment to learn self-defense\, improve technique\, and build confidence on the mat. Join us and train with a strong\, like-minded community!
URL:https://blackrock-kadence.gotbdev.com/event/womens-jiu-jitsu/2025-09-05/
CATEGORIES:Jiu Jitsu
ATTACH;FMTTYPE=image/png:https://blackrock-kadence.gotbdev.com/wp-content/uploads/2025/02/Screenshot-2025-02-27-at-9.26.32-AM.png
END:VEVENT
BEGIN:VEVENT
DTSTART;TZID=America/Vancouver:20250905T190000
DTEND;TZID=America/Vancouver:20250905T203000
DTSTAMP:20260421T132156
CREATED:20240917T180118Z
LAST-MODIFIED:20260221T003433Z
UID:10006957-1757098800-1757104200@blackrock-kadence.gotbdev.com
SUMMARY:Adult Jiu Jitsu
DESCRIPTION:Experience Adult No-Gi Jiu-Jitsu at Black Rock Martial Arts\, where you’ll master grappling techniques\, enhance your strength\, and build confidence in a supportive\, dynamic environment. Our classes focus on real-world self-defense\, agility\, and strategy\, making them ideal for both beginners and seasoned practitioners. Under the guidance of skilled instructors\, you’ll learn to control opponents\, execute submissions\, and refine your skills through live sparring. Whether you’re aiming for competition or personal growth\, our classes provide the challenge and community you need to excel.
URL:https://blackrock-kadence.gotbdev.com/event/adult-no-gi-jiu-jitsu/2025-09-05/
CATEGORIES:Jiu Jitsu
ATTACH;FMTTYPE=image/jpeg:https://blackrock-kadence.gotbdev.com/wp-content/uploads/2025/11/JAK0198-scaled-1-scaled.jpg
END:VEVENT
BEGIN:VEVENT
DTSTART;TZID=America/Vancouver:20250908T153000
DTEND;TZID=America/Vancouver:20250908T161500
DTSTAMP:20260421T132156
CREATED:20250902T163538Z
LAST-MODIFIED:20260221T002534Z
UID:10017206-1757345400-1757348100@blackrock-kadence.gotbdev.com
SUMMARY:Kids Jiu Jitsu (6–9 Years Old)
DESCRIPTION:Discover Kids Jiu-Jitsu at Black Rock Martial Arts\, designed for ages 6-9. Build strength\, confidence\, and self-defence skills through dynamic\, fun classes. Perfect for kids looking to stay active\, learn discipline\, and connect with peers in a supportive environment.
URL:https://blackrock-kadence.gotbdev.com/event/kids-jiu-jitsu-6-9-3/2025-09-08/
CATEGORIES:Jiu Jitsu
ATTACH;FMTTYPE=image/jpeg:https://blackrock-kadence.gotbdev.com/wp-content/uploads/2025/11/JAK0095-scaled-1-scaled.jpg
END:VEVENT
BEGIN:VEVENT
DTSTART;TZID=America/Vancouver:20250908T180000
DTEND;TZID=America/Vancouver:20250908T190000
DTSTAMP:20260421T132156
CREATED:20250307T004221Z
LAST-MODIFIED:20260221T002730Z
UID:10015071-1757354400-1757358000@blackrock-kadence.gotbdev.com
SUMMARY:Mezz: Jiu Jitsu Fundamentals
DESCRIPTION:Perfect for beginners and those looking to refine their technique\, our Jiu Jitsu Fundamentals class focuses on core movements\, essential positions\, and foundational strategies. Learn in a supportive environment while building strength\, flexibility\, and confidence on the mat.
URL:https://blackrock-kadence.gotbdev.com/event/jiu-jitsu-fundamentals-4-2/2025-09-08/
CATEGORIES:Jiu Jitsu
ATTACH;FMTTYPE=image/jpeg:https://blackrock-kadence.gotbdev.com/wp-content/uploads/2025/11/WPA4490-scaled-1-scaled.jpg
END:VEVENT
BEGIN:VEVENT
DTSTART;TZID=America/Vancouver:20250909T120000
DTEND;TZID=America/Vancouver:20250909T130000
DTSTAMP:20260421T132156
CREATED:20250704T113011Z
LAST-MODIFIED:20260221T002615Z
UID:10016258-1757419200-1757422800@blackrock-kadence.gotbdev.com
SUMMARY:Adult Jiu Jitsu
DESCRIPTION:Sharpen your skills\, build strength\, and boost confidence in this dynamic noon-hour class. Whether you’re a beginner or an experienced practitioner\, our Adult Jiu Jitsu sessions focus on technique\, conditioning\, and real-world application in a supportive and high-energy environment. Join us Tuesdays\, Wednesdays\, and Thursdays from 12:00–1:00 PM on the main floor!
URL:https://blackrock-kadence.gotbdev.com/event/adult-jiu-jitsu/2025-09-09/
CATEGORIES:Jiu Jitsu
ATTACH;FMTTYPE=image/jpeg:https://blackrock-kadence.gotbdev.com/wp-content/uploads/2025/07/WPA4450-scaled-1-scaled.jpg
END:VEVENT
BEGIN:VEVENT
DTSTART;TZID=America/Vancouver:20250909T150000
DTEND;TZID=America/Vancouver:20250909T153000
DTSTAMP:20260421T132156
CREATED:20241218T065427Z
LAST-MODIFIED:20260221T002815Z
UID:10011734-1757430000-1757431800@blackrock-kadence.gotbdev.com
SUMMARY:Lil Ninjas (3-5yrs)
DESCRIPTION:Enroll your child in Lil Ninjas Taekwondo at Black Rock Martial Arts\, specially designed for ages 3-5! Our fun and engaging classes introduce young children to the basics of Taekwondo\, including simple kicks\, blocks\, and stances\, while promoting important life skills like focus\, listening\, and respect. With experienced instructors creating a playful\, supportive atmosphere\, your little ones will develop coordination\, balance\, and confidence. Perfect for young beginners\, our program encourages a love for martial arts while fostering social skills\, teamwork\, and a positive attitude in a safe and nurturing environment.
URL:https://blackrock-kadence.gotbdev.com/event/lil-ninjas-2-2-2/2025-09-09/
CATEGORIES:Jiu Jitsu
ATTACH;FMTTYPE=image/jpeg:https://blackrock-kadence.gotbdev.com/wp-content/uploads/2024/09/lil-ninjas-9.jpg
END:VEVENT
BEGIN:VEVENT
DTSTART;TZID=America/Vancouver:20250909T170000
DTEND;TZID=America/Vancouver:20250909T174500
DTSTAMP:20260421T132156
CREATED:20240911T172247Z
LAST-MODIFIED:20260221T003221Z
UID:10005239-1757437200-1757439900@blackrock-kadence.gotbdev.com
SUMMARY:Mezz: Kids Jiu Jitsu (6-9 Years Old)
DESCRIPTION:Enroll in Kids Jiu-Jitsu at Black Rock Martial Arts\, designed for ages 6-9! Our classes teach grappling techniques\, self-defense skills\, and body control while promoting confidence and discipline. Perfect for beginners and experienced kids in a fun\, supportive environment.
URL:https://blackrock-kadence.gotbdev.com/event/kids-no-gi-jiu-jitsu-6-11-3/2025-09-09/
CATEGORIES:Jiu Jitsu
ATTACH;FMTTYPE=image/jpeg:https://blackrock-kadence.gotbdev.com/wp-content/uploads/2025/11/JAK0049-scaled-1-scaled.jpg
END:VEVENT
BEGIN:VEVENT
DTSTART;TZID=America/Vancouver:20250909T190000
DTEND;TZID=America/Vancouver:20250909T203000
DTSTAMP:20260421T132156
CREATED:20240917T180118Z
LAST-MODIFIED:20260221T003433Z
UID:10006958-1757444400-1757449800@blackrock-kadence.gotbdev.com
SUMMARY:Adult Jiu Jitsu
DESCRIPTION:Experience Adult No-Gi Jiu-Jitsu at Black Rock Martial Arts\, where you’ll master grappling techniques\, enhance your strength\, and build confidence in a supportive\, dynamic environment. Our classes focus on real-world self-defense\, agility\, and strategy\, making them ideal for both beginners and seasoned practitioners. Under the guidance of skilled instructors\, you’ll learn to control opponents\, execute submissions\, and refine your skills through live sparring. Whether you’re aiming for competition or personal growth\, our classes provide the challenge and community you need to excel.
URL:https://blackrock-kadence.gotbdev.com/event/adult-no-gi-jiu-jitsu/2025-09-09/
CATEGORIES:Jiu Jitsu
ATTACH;FMTTYPE=image/jpeg:https://blackrock-kadence.gotbdev.com/wp-content/uploads/2025/11/JAK0198-scaled-1-scaled.jpg
END:VEVENT
BEGIN:VEVENT
DTSTART;TZID=America/Vancouver:20250910T120000
DTEND;TZID=America/Vancouver:20250910T130000
DTSTAMP:20260421T132156
CREATED:20250704T113011Z
LAST-MODIFIED:20260221T002615Z
UID:10016259-1757505600-1757509200@blackrock-kadence.gotbdev.com
SUMMARY:Adult Jiu Jitsu
DESCRIPTION:Sharpen your skills\, build strength\, and boost confidence in this dynamic noon-hour class. Whether you’re a beginner or an experienced practitioner\, our Adult Jiu Jitsu sessions focus on technique\, conditioning\, and real-world application in a supportive and high-energy environment. Join us Tuesdays\, Wednesdays\, and Thursdays from 12:00–1:00 PM on the main floor!
URL:https://blackrock-kadence.gotbdev.com/event/adult-jiu-jitsu/2025-09-10/
CATEGORIES:Jiu Jitsu
ATTACH;FMTTYPE=image/jpeg:https://blackrock-kadence.gotbdev.com/wp-content/uploads/2025/07/WPA4450-scaled-1-scaled.jpg
END:VEVENT
BEGIN:VEVENT
DTSTART;TZID=America/Vancouver:20250910T153000
DTEND;TZID=America/Vancouver:20250910T161500
DTSTAMP:20260421T132156
CREATED:20250902T163538Z
LAST-MODIFIED:20260221T002534Z
UID:10017207-1757518200-1757520900@blackrock-kadence.gotbdev.com
SUMMARY:Kids Jiu Jitsu (6–9 Years Old)
DESCRIPTION:Discover Kids Jiu-Jitsu at Black Rock Martial Arts\, designed for ages 6-9. Build strength\, confidence\, and self-defence skills through dynamic\, fun classes. Perfect for kids looking to stay active\, learn discipline\, and connect with peers in a supportive environment.
URL:https://blackrock-kadence.gotbdev.com/event/kids-jiu-jitsu-6-9-3/2025-09-10/
CATEGORIES:Jiu Jitsu
ATTACH;FMTTYPE=image/jpeg:https://blackrock-kadence.gotbdev.com/wp-content/uploads/2025/11/JAK0095-scaled-1-scaled.jpg
END:VEVENT
BEGIN:VEVENT
DTSTART;TZID=America/Vancouver:20250910T180000
DTEND;TZID=America/Vancouver:20250910T190000
DTSTAMP:20260421T132156
CREATED:20250307T004221Z
LAST-MODIFIED:20260221T002730Z
UID:10015072-1757527200-1757530800@blackrock-kadence.gotbdev.com
SUMMARY:Mezz: Jiu Jitsu Fundamentals
DESCRIPTION:Perfect for beginners and those looking to refine their technique\, our Jiu Jitsu Fundamentals class focuses on core movements\, essential positions\, and foundational strategies. Learn in a supportive environment while building strength\, flexibility\, and confidence on the mat.
URL:https://blackrock-kadence.gotbdev.com/event/jiu-jitsu-fundamentals-4-2/2025-09-10/
CATEGORIES:Jiu Jitsu
ATTACH;FMTTYPE=image/jpeg:https://blackrock-kadence.gotbdev.com/wp-content/uploads/2025/11/WPA4490-scaled-1-scaled.jpg
END:VEVENT
BEGIN:VEVENT
DTSTART;TZID=America/Vancouver:20250911T120000
DTEND;TZID=America/Vancouver:20250911T130000
DTSTAMP:20260421T132156
CREATED:20250704T113011Z
LAST-MODIFIED:20260221T002615Z
UID:10016260-1757592000-1757595600@blackrock-kadence.gotbdev.com
SUMMARY:Adult Jiu Jitsu
DESCRIPTION:Sharpen your skills\, build strength\, and boost confidence in this dynamic noon-hour class. Whether you’re a beginner or an experienced practitioner\, our Adult Jiu Jitsu sessions focus on technique\, conditioning\, and real-world application in a supportive and high-energy environment. Join us Tuesdays\, Wednesdays\, and Thursdays from 12:00–1:00 PM on the main floor!
URL:https://blackrock-kadence.gotbdev.com/event/adult-jiu-jitsu/2025-09-11/
CATEGORIES:Jiu Jitsu
ATTACH;FMTTYPE=image/jpeg:https://blackrock-kadence.gotbdev.com/wp-content/uploads/2025/07/WPA4450-scaled-1-scaled.jpg
END:VEVENT
BEGIN:VEVENT
DTSTART;TZID=America/Vancouver:20250911T170000
DTEND;TZID=America/Vancouver:20250911T174500
DTSTAMP:20260421T132156
CREATED:20240911T172247Z
LAST-MODIFIED:20260221T003221Z
UID:10005240-1757610000-1757612700@blackrock-kadence.gotbdev.com
SUMMARY:Mezz: Kids Jiu Jitsu (6-9 Years Old)
DESCRIPTION:Enroll in Kids Jiu-Jitsu at Black Rock Martial Arts\, designed for ages 6-9! Our classes teach grappling techniques\, self-defense skills\, and body control while promoting confidence and discipline. Perfect for beginners and experienced kids in a fun\, supportive environment.
URL:https://blackrock-kadence.gotbdev.com/event/kids-no-gi-jiu-jitsu-6-11-3/2025-09-11/
CATEGORIES:Jiu Jitsu
ATTACH;FMTTYPE=image/jpeg:https://blackrock-kadence.gotbdev.com/wp-content/uploads/2025/11/JAK0049-scaled-1-scaled.jpg
END:VEVENT
BEGIN:VEVENT
DTSTART;TZID=America/Vancouver:20250911T190000
DTEND;TZID=America/Vancouver:20250911T203000
DTSTAMP:20260421T132156
CREATED:20240917T180118Z
LAST-MODIFIED:20260221T003433Z
UID:10006959-1757617200-1757622600@blackrock-kadence.gotbdev.com
SUMMARY:Adult Jiu Jitsu
DESCRIPTION:Experience Adult No-Gi Jiu-Jitsu at Black Rock Martial Arts\, where you’ll master grappling techniques\, enhance your strength\, and build confidence in a supportive\, dynamic environment. Our classes focus on real-world self-defense\, agility\, and strategy\, making them ideal for both beginners and seasoned practitioners. Under the guidance of skilled instructors\, you’ll learn to control opponents\, execute submissions\, and refine your skills through live sparring. Whether you’re aiming for competition or personal growth\, our classes provide the challenge and community you need to excel.
URL:https://blackrock-kadence.gotbdev.com/event/adult-no-gi-jiu-jitsu/2025-09-11/
CATEGORIES:Jiu Jitsu
ATTACH;FMTTYPE=image/jpeg:https://blackrock-kadence.gotbdev.com/wp-content/uploads/2025/11/JAK0198-scaled-1-scaled.jpg
END:VEVENT
BEGIN:VEVENT
DTSTART;TZID=America/Vancouver:20250912T170000
DTEND;TZID=America/Vancouver:20250912T180000
DTSTAMP:20260421T132156
CREATED:20250227T172703Z
LAST-MODIFIED:20260221T003456Z
UID:10014735-1757696400-1757700000@blackrock-kadence.gotbdev.com
SUMMARY:Women’s Jiu Jitsu
DESCRIPTION:Designed for women of all skill levels\, our Women’s Jiu Jitsu class offers a supportive and empowering environment to learn self-defense\, improve technique\, and build confidence on the mat. Join us and train with a strong\, like-minded community!
URL:https://blackrock-kadence.gotbdev.com/event/womens-jiu-jitsu/2025-09-12/
CATEGORIES:Jiu Jitsu
ATTACH;FMTTYPE=image/png:https://blackrock-kadence.gotbdev.com/wp-content/uploads/2025/02/Screenshot-2025-02-27-at-9.26.32-AM.png
END:VEVENT
BEGIN:VEVENT
DTSTART;TZID=America/Vancouver:20250912T190000
DTEND;TZID=America/Vancouver:20250912T203000
DTSTAMP:20260421T132156
CREATED:20240917T180118Z
LAST-MODIFIED:20260221T003433Z
UID:10006960-1757703600-1757709000@blackrock-kadence.gotbdev.com
SUMMARY:Adult Jiu Jitsu
DESCRIPTION:Experience Adult No-Gi Jiu-Jitsu at Black Rock Martial Arts\, where you’ll master grappling techniques\, enhance your strength\, and build confidence in a supportive\, dynamic environment. Our classes focus on real-world self-defense\, agility\, and strategy\, making them ideal for both beginners and seasoned practitioners. Under the guidance of skilled instructors\, you’ll learn to control opponents\, execute submissions\, and refine your skills through live sparring. Whether you’re aiming for competition or personal growth\, our classes provide the challenge and community you need to excel.
URL:https://blackrock-kadence.gotbdev.com/event/adult-no-gi-jiu-jitsu/2025-09-12/
CATEGORIES:Jiu Jitsu
ATTACH;FMTTYPE=image/jpeg:https://blackrock-kadence.gotbdev.com/wp-content/uploads/2025/11/JAK0198-scaled-1-scaled.jpg
END:VEVENT
BEGIN:VEVENT
DTSTART;TZID=America/Vancouver:20250915T153000
DTEND;TZID=America/Vancouver:20250915T161500
DTSTAMP:20260421T132156
CREATED:20250902T163538Z
LAST-MODIFIED:20260221T002534Z
UID:10017208-1757950200-1757952900@blackrock-kadence.gotbdev.com
SUMMARY:Kids Jiu Jitsu (6–9 Years Old)
DESCRIPTION:Discover Kids Jiu-Jitsu at Black Rock Martial Arts\, designed for ages 6-9. Build strength\, confidence\, and self-defence skills through dynamic\, fun classes. Perfect for kids looking to stay active\, learn discipline\, and connect with peers in a supportive environment.
URL:https://blackrock-kadence.gotbdev.com/event/kids-jiu-jitsu-6-9-3/2025-09-15/
CATEGORIES:Jiu Jitsu
ATTACH;FMTTYPE=image/jpeg:https://blackrock-kadence.gotbdev.com/wp-content/uploads/2025/11/JAK0095-scaled-1-scaled.jpg
END:VEVENT
BEGIN:VEVENT
DTSTART;TZID=America/Vancouver:20250915T180000
DTEND;TZID=America/Vancouver:20250915T190000
DTSTAMP:20260421T132156
CREATED:20250307T004221Z
LAST-MODIFIED:20260221T002730Z
UID:10015073-1757959200-1757962800@blackrock-kadence.gotbdev.com
SUMMARY:Mezz: Jiu Jitsu Fundamentals
DESCRIPTION:Perfect for beginners and those looking to refine their technique\, our Jiu Jitsu Fundamentals class focuses on core movements\, essential positions\, and foundational strategies. Learn in a supportive environment while building strength\, flexibility\, and confidence on the mat.
URL:https://blackrock-kadence.gotbdev.com/event/jiu-jitsu-fundamentals-4-2/2025-09-15/
CATEGORIES:Jiu Jitsu
ATTACH;FMTTYPE=image/jpeg:https://blackrock-kadence.gotbdev.com/wp-content/uploads/2025/11/WPA4490-scaled-1-scaled.jpg
END:VEVENT
BEGIN:VEVENT
DTSTART;TZID=America/Vancouver:20250916T120000
DTEND;TZID=America/Vancouver:20250916T130000
DTSTAMP:20260421T132156
CREATED:20250704T113011Z
LAST-MODIFIED:20260221T002615Z
UID:10016261-1758024000-1758027600@blackrock-kadence.gotbdev.com
SUMMARY:Adult Jiu Jitsu
DESCRIPTION:Sharpen your skills\, build strength\, and boost confidence in this dynamic noon-hour class. Whether you’re a beginner or an experienced practitioner\, our Adult Jiu Jitsu sessions focus on technique\, conditioning\, and real-world application in a supportive and high-energy environment. Join us Tuesdays\, Wednesdays\, and Thursdays from 12:00–1:00 PM on the main floor!
URL:https://blackrock-kadence.gotbdev.com/event/adult-jiu-jitsu/2025-09-16/
CATEGORIES:Jiu Jitsu
ATTACH;FMTTYPE=image/jpeg:https://blackrock-kadence.gotbdev.com/wp-content/uploads/2025/07/WPA4450-scaled-1-scaled.jpg
END:VEVENT
END:VCALENDAR