BEGIN:VCALENDAR
VERSION:2.0
PRODID:-// - ECPv6.15.20//NONSGML v1.0//EN
CALSCALE:GREGORIAN
METHOD:PUBLISH
X-ORIGINAL-URL:https://blackrock-kadence.gotbdev.com
X-WR-CALDESC:Events for 
REFRESH-INTERVAL;VALUE=DURATION:PT1H
X-Robots-Tag:noindex
X-PUBLISHED-TTL:PT1H
BEGIN:VTIMEZONE
TZID:America/Vancouver
BEGIN:DAYLIGHT
TZOFFSETFROM:-0800
TZOFFSETTO:-0700
TZNAME:PDT
DTSTART:20240310T100000
END:DAYLIGHT
BEGIN:STANDARD
TZOFFSETFROM:-0700
TZOFFSETTO:-0800
TZNAME:PST
DTSTART:20241103T090000
END:STANDARD
BEGIN:DAYLIGHT
TZOFFSETFROM:-0800
TZOFFSETTO:-0700
TZNAME:PDT
DTSTART:20250309T100000
END:DAYLIGHT
BEGIN:STANDARD
TZOFFSETFROM:-0700
TZOFFSETTO:-0800
TZNAME:PST
DTSTART:20251102T090000
END:STANDARD
BEGIN:DAYLIGHT
TZOFFSETFROM:-0800
TZOFFSETTO:-0700
TZNAME:PDT
DTSTART:20260308T100000
END:DAYLIGHT
BEGIN:STANDARD
TZOFFSETFROM:-0700
TZOFFSETTO:-0800
TZNAME:PST
DTSTART:20261101T090000
END:STANDARD
END:VTIMEZONE
BEGIN:VEVENT
DTSTART;TZID=America/Vancouver:20251009T120000
DTEND;TZID=America/Vancouver:20251009T130000
DTSTAMP:20260421T132252
CREATED:20250704T113011Z
LAST-MODIFIED:20260221T002615Z
UID:10016272-1760011200-1760014800@blackrock-kadence.gotbdev.com
SUMMARY:Adult Jiu Jitsu
DESCRIPTION:Sharpen your skills\, build strength\, and boost confidence in this dynamic noon-hour class. Whether you’re a beginner or an experienced practitioner\, our Adult Jiu Jitsu sessions focus on technique\, conditioning\, and real-world application in a supportive and high-energy environment. Join us Tuesdays\, Wednesdays\, and Thursdays from 12:00–1:00 PM on the main floor!
URL:https://blackrock-kadence.gotbdev.com/event/adult-jiu-jitsu/2025-10-09/
CATEGORIES:Jiu Jitsu
ATTACH;FMTTYPE=image/jpeg:https://blackrock-kadence.gotbdev.com/wp-content/uploads/2025/07/WPA4450-scaled-1-scaled.jpg
END:VEVENT
BEGIN:VEVENT
DTSTART;TZID=America/Vancouver:20251009T170000
DTEND;TZID=America/Vancouver:20251009T174500
DTSTAMP:20260421T132252
CREATED:20240911T172247Z
LAST-MODIFIED:20260221T003221Z
UID:10005248-1760029200-1760031900@blackrock-kadence.gotbdev.com
SUMMARY:Mezz: Kids Jiu Jitsu (6-9 Years Old)
DESCRIPTION:Enroll in Kids Jiu-Jitsu at Black Rock Martial Arts\, designed for ages 6-9! Our classes teach grappling techniques\, self-defense skills\, and body control while promoting confidence and discipline. Perfect for beginners and experienced kids in a fun\, supportive environment.
URL:https://blackrock-kadence.gotbdev.com/event/kids-no-gi-jiu-jitsu-6-11-3/2025-10-09/
CATEGORIES:Jiu Jitsu
ATTACH;FMTTYPE=image/jpeg:https://blackrock-kadence.gotbdev.com/wp-content/uploads/2025/11/JAK0049-scaled-1-scaled.jpg
END:VEVENT
BEGIN:VEVENT
DTSTART;TZID=America/Vancouver:20251009T190000
DTEND;TZID=America/Vancouver:20251009T203000
DTSTAMP:20260421T132252
CREATED:20240917T180118Z
LAST-MODIFIED:20260221T003433Z
UID:10006971-1760036400-1760041800@blackrock-kadence.gotbdev.com
SUMMARY:Adult Jiu Jitsu
DESCRIPTION:Experience Adult No-Gi Jiu-Jitsu at Black Rock Martial Arts\, where you’ll master grappling techniques\, enhance your strength\, and build confidence in a supportive\, dynamic environment. Our classes focus on real-world self-defense\, agility\, and strategy\, making them ideal for both beginners and seasoned practitioners. Under the guidance of skilled instructors\, you’ll learn to control opponents\, execute submissions\, and refine your skills through live sparring. Whether you’re aiming for competition or personal growth\, our classes provide the challenge and community you need to excel.
URL:https://blackrock-kadence.gotbdev.com/event/adult-no-gi-jiu-jitsu/2025-10-09/
CATEGORIES:Jiu Jitsu
ATTACH;FMTTYPE=image/jpeg:https://blackrock-kadence.gotbdev.com/wp-content/uploads/2025/11/JAK0198-scaled-1-scaled.jpg
END:VEVENT
END:VCALENDAR