BEGIN:VCALENDAR
VERSION:2.0
PRODID:-// - ECPv6.15.20//NONSGML v1.0//EN
CALSCALE:GREGORIAN
METHOD:PUBLISH
X-ORIGINAL-URL:https://blackrock-kadence.gotbdev.com
X-WR-CALDESC:Events for 
REFRESH-INTERVAL;VALUE=DURATION:PT1H
X-Robots-Tag:noindex
X-PUBLISHED-TTL:PT1H
BEGIN:VTIMEZONE
TZID:America/Vancouver
BEGIN:DAYLIGHT
TZOFFSETFROM:-0800
TZOFFSETTO:-0700
TZNAME:PDT
DTSTART:20250309T100000
END:DAYLIGHT
BEGIN:STANDARD
TZOFFSETFROM:-0700
TZOFFSETTO:-0800
TZNAME:PST
DTSTART:20251102T090000
END:STANDARD
BEGIN:DAYLIGHT
TZOFFSETFROM:-0800
TZOFFSETTO:-0700
TZNAME:PDT
DTSTART:20260308T100000
END:DAYLIGHT
BEGIN:STANDARD
TZOFFSETFROM:-0700
TZOFFSETTO:-0800
TZNAME:PST
DTSTART:20261101T090000
END:STANDARD
BEGIN:DAYLIGHT
TZOFFSETFROM:-0800
TZOFFSETTO:-0700
TZNAME:PDT
DTSTART:20270314T100000
END:DAYLIGHT
BEGIN:STANDARD
TZOFFSETFROM:-0700
TZOFFSETTO:-0800
TZNAME:PST
DTSTART:20271107T090000
END:STANDARD
END:VTIMEZONE
BEGIN:VEVENT
DTSTART;TZID=America/Vancouver:20260421T120000
DTEND;TZID=America/Vancouver:20260421T130000
DTSTAMP:20260420T222541
CREATED:20251105T222144Z
LAST-MODIFIED:20260221T002516Z
UID:10018424-1776772800-1776776400@blackrock-kadence.gotbdev.com
SUMMARY:Adult Jiu Jitsu
DESCRIPTION:Sharpen your skills\, build strength\, and boost confidence in this dynamic noon-hour class. Whether you’re a beginner or an experienced practitioner\, our Adult Jiu Jitsu sessions focus on technique\, conditioning\, and real-world application in a supportive and high-energy environment. Join us Mondays and Tuesdays from 12:00–1:00 PM on the main floor!
URL:https://blackrock-kadence.gotbdev.com/event/adult-jiu-jitsu-2/2026-04-21/
CATEGORIES:Jiu Jitsu
ATTACH;FMTTYPE=image/jpeg:https://blackrock-kadence.gotbdev.com/wp-content/uploads/2025/11/WPA4431-scaled-1-scaled.jpg
END:VEVENT
BEGIN:VEVENT
DTSTART;TZID=America/Vancouver:20260421T150000
DTEND;TZID=America/Vancouver:20260421T153000
DTSTAMP:20260420T222541
CREATED:20241218T065427Z
LAST-MODIFIED:20260221T002815Z
UID:10011766-1776783600-1776785400@blackrock-kadence.gotbdev.com
SUMMARY:Lil Ninjas (3-5yrs)
DESCRIPTION:Enroll your child in Lil Ninjas Taekwondo at Black Rock Martial Arts\, specially designed for ages 3-5! Our fun and engaging classes introduce young children to the basics of Taekwondo\, including simple kicks\, blocks\, and stances\, while promoting important life skills like focus\, listening\, and respect. With experienced instructors creating a playful\, supportive atmosphere\, your little ones will develop coordination\, balance\, and confidence. Perfect for young beginners\, our program encourages a love for martial arts while fostering social skills\, teamwork\, and a positive attitude in a safe and nurturing environment.
URL:https://blackrock-kadence.gotbdev.com/event/lil-ninjas-2-2-2/2026-04-21/
CATEGORIES:Jiu Jitsu
ATTACH;FMTTYPE=image/jpeg:https://blackrock-kadence.gotbdev.com/wp-content/uploads/2024/09/lil-ninjas-9.jpg
END:VEVENT
BEGIN:VEVENT
DTSTART;TZID=America/Vancouver:20260421T170000
DTEND;TZID=America/Vancouver:20260421T174500
DTSTAMP:20260420T222541
CREATED:20240911T172247Z
LAST-MODIFIED:20260221T003221Z
UID:10005303-1776790800-1776793500@blackrock-kadence.gotbdev.com
SUMMARY:Mezz: Kids Jiu Jitsu (6-9 Years Old)
DESCRIPTION:Enroll in Kids Jiu-Jitsu at Black Rock Martial Arts\, designed for ages 6-9! Our classes teach grappling techniques\, self-defense skills\, and body control while promoting confidence and discipline. Perfect for beginners and experienced kids in a fun\, supportive environment.
URL:https://blackrock-kadence.gotbdev.com/event/kids-no-gi-jiu-jitsu-6-11-3/2026-04-21/
CATEGORIES:Jiu Jitsu
ATTACH;FMTTYPE=image/jpeg:https://blackrock-kadence.gotbdev.com/wp-content/uploads/2025/11/JAK0049-scaled-1-scaled.jpg
END:VEVENT
BEGIN:VEVENT
DTSTART;TZID=America/Vancouver:20260421T190000
DTEND;TZID=America/Vancouver:20260421T203000
DTSTAMP:20260420T222541
CREATED:20240917T180118Z
LAST-MODIFIED:20260221T003433Z
UID:10007054-1776798000-1776803400@blackrock-kadence.gotbdev.com
SUMMARY:Adult Jiu Jitsu
DESCRIPTION:Experience Adult No-Gi Jiu-Jitsu at Black Rock Martial Arts\, where you’ll master grappling techniques\, enhance your strength\, and build confidence in a supportive\, dynamic environment. Our classes focus on real-world self-defense\, agility\, and strategy\, making them ideal for both beginners and seasoned practitioners. Under the guidance of skilled instructors\, you’ll learn to control opponents\, execute submissions\, and refine your skills through live sparring. Whether you’re aiming for competition or personal growth\, our classes provide the challenge and community you need to excel.
URL:https://blackrock-kadence.gotbdev.com/event/adult-no-gi-jiu-jitsu/2026-04-21/
CATEGORIES:Jiu Jitsu
ATTACH;FMTTYPE=image/jpeg:https://blackrock-kadence.gotbdev.com/wp-content/uploads/2025/11/JAK0198-scaled-1-scaled.jpg
END:VEVENT
BEGIN:VEVENT
DTSTART;TZID=America/Vancouver:20260422T153000
DTEND;TZID=America/Vancouver:20260422T161500
DTSTAMP:20260420T222541
CREATED:20250902T163538Z
LAST-MODIFIED:20260221T002534Z
UID:10017271-1776871800-1776874500@blackrock-kadence.gotbdev.com
SUMMARY:Kids Jiu Jitsu (6–9 Years Old)
DESCRIPTION:Discover Kids Jiu-Jitsu at Black Rock Martial Arts\, designed for ages 6-9. Build strength\, confidence\, and self-defence skills through dynamic\, fun classes. Perfect for kids looking to stay active\, learn discipline\, and connect with peers in a supportive environment.
URL:https://blackrock-kadence.gotbdev.com/event/kids-jiu-jitsu-6-9-3/2026-04-22/
CATEGORIES:Jiu Jitsu
ATTACH;FMTTYPE=image/jpeg:https://blackrock-kadence.gotbdev.com/wp-content/uploads/2025/11/JAK0095-scaled-1-scaled.jpg
END:VEVENT
BEGIN:VEVENT
DTSTART;TZID=America/Vancouver:20260422T180000
DTEND;TZID=America/Vancouver:20260422T190000
DTSTAMP:20260420T222541
CREATED:20250307T004221Z
LAST-MODIFIED:20260221T002730Z
UID:10015136-1776880800-1776884400@blackrock-kadence.gotbdev.com
SUMMARY:Mezz: Jiu Jitsu Fundamentals
DESCRIPTION:Perfect for beginners and those looking to refine their technique\, our Jiu Jitsu Fundamentals class focuses on core movements\, essential positions\, and foundational strategies. Learn in a supportive environment while building strength\, flexibility\, and confidence on the mat.
URL:https://blackrock-kadence.gotbdev.com/event/jiu-jitsu-fundamentals-4-2/2026-04-22/
CATEGORIES:Jiu Jitsu
ATTACH;FMTTYPE=image/jpeg:https://blackrock-kadence.gotbdev.com/wp-content/uploads/2025/11/WPA4490-scaled-1-scaled.jpg
END:VEVENT
BEGIN:VEVENT
DTSTART;TZID=America/Vancouver:20260423T170000
DTEND;TZID=America/Vancouver:20260423T174500
DTSTAMP:20260420T222541
CREATED:20240911T172247Z
LAST-MODIFIED:20260221T003221Z
UID:10005304-1776963600-1776966300@blackrock-kadence.gotbdev.com
SUMMARY:Mezz: Kids Jiu Jitsu (6-9 Years Old)
DESCRIPTION:Enroll in Kids Jiu-Jitsu at Black Rock Martial Arts\, designed for ages 6-9! Our classes teach grappling techniques\, self-defense skills\, and body control while promoting confidence and discipline. Perfect for beginners and experienced kids in a fun\, supportive environment.
URL:https://blackrock-kadence.gotbdev.com/event/kids-no-gi-jiu-jitsu-6-11-3/2026-04-23/
CATEGORIES:Jiu Jitsu
ATTACH;FMTTYPE=image/jpeg:https://blackrock-kadence.gotbdev.com/wp-content/uploads/2025/11/JAK0049-scaled-1-scaled.jpg
END:VEVENT
BEGIN:VEVENT
DTSTART;TZID=America/Vancouver:20260423T190000
DTEND;TZID=America/Vancouver:20260423T203000
DTSTAMP:20260420T222541
CREATED:20240917T180118Z
LAST-MODIFIED:20260221T003433Z
UID:10007055-1776970800-1776976200@blackrock-kadence.gotbdev.com
SUMMARY:Adult Jiu Jitsu
DESCRIPTION:Experience Adult No-Gi Jiu-Jitsu at Black Rock Martial Arts\, where you’ll master grappling techniques\, enhance your strength\, and build confidence in a supportive\, dynamic environment. Our classes focus on real-world self-defense\, agility\, and strategy\, making them ideal for both beginners and seasoned practitioners. Under the guidance of skilled instructors\, you’ll learn to control opponents\, execute submissions\, and refine your skills through live sparring. Whether you’re aiming for competition or personal growth\, our classes provide the challenge and community you need to excel.
URL:https://blackrock-kadence.gotbdev.com/event/adult-no-gi-jiu-jitsu/2026-04-23/
CATEGORIES:Jiu Jitsu
ATTACH;FMTTYPE=image/jpeg:https://blackrock-kadence.gotbdev.com/wp-content/uploads/2025/11/JAK0198-scaled-1-scaled.jpg
END:VEVENT
BEGIN:VEVENT
DTSTART;TZID=America/Vancouver:20260424T170000
DTEND;TZID=America/Vancouver:20260424T180000
DTSTAMP:20260420T222541
CREATED:20250227T172703Z
LAST-MODIFIED:20260221T003456Z
UID:10014767-1777050000-1777053600@blackrock-kadence.gotbdev.com
SUMMARY:Women’s Jiu Jitsu
DESCRIPTION:Designed for women of all skill levels\, our Women’s Jiu Jitsu class offers a supportive and empowering environment to learn self-defense\, improve technique\, and build confidence on the mat. Join us and train with a strong\, like-minded community!
URL:https://blackrock-kadence.gotbdev.com/event/womens-jiu-jitsu/2026-04-24/
CATEGORIES:Jiu Jitsu
ATTACH;FMTTYPE=image/png:https://blackrock-kadence.gotbdev.com/wp-content/uploads/2025/02/Screenshot-2025-02-27-at-9.26.32-AM.png
END:VEVENT
BEGIN:VEVENT
DTSTART;TZID=America/Vancouver:20260424T190000
DTEND;TZID=America/Vancouver:20260424T203000
DTSTAMP:20260420T222541
CREATED:20240917T180118Z
LAST-MODIFIED:20260221T003433Z
UID:10007056-1777057200-1777062600@blackrock-kadence.gotbdev.com
SUMMARY:Adult Jiu Jitsu
DESCRIPTION:Experience Adult No-Gi Jiu-Jitsu at Black Rock Martial Arts\, where you’ll master grappling techniques\, enhance your strength\, and build confidence in a supportive\, dynamic environment. Our classes focus on real-world self-defense\, agility\, and strategy\, making them ideal for both beginners and seasoned practitioners. Under the guidance of skilled instructors\, you’ll learn to control opponents\, execute submissions\, and refine your skills through live sparring. Whether you’re aiming for competition or personal growth\, our classes provide the challenge and community you need to excel.
URL:https://blackrock-kadence.gotbdev.com/event/adult-no-gi-jiu-jitsu/2026-04-24/
CATEGORIES:Jiu Jitsu
ATTACH;FMTTYPE=image/jpeg:https://blackrock-kadence.gotbdev.com/wp-content/uploads/2025/11/JAK0198-scaled-1-scaled.jpg
END:VEVENT
BEGIN:VEVENT
DTSTART;TZID=America/Vancouver:20260427T120000
DTEND;TZID=America/Vancouver:20260427T130000
DTSTAMP:20260420T222541
CREATED:20251105T222144Z
LAST-MODIFIED:20260221T002516Z
UID:10018425-1777291200-1777294800@blackrock-kadence.gotbdev.com
SUMMARY:Adult Jiu Jitsu
DESCRIPTION:Sharpen your skills\, build strength\, and boost confidence in this dynamic noon-hour class. Whether you’re a beginner or an experienced practitioner\, our Adult Jiu Jitsu sessions focus on technique\, conditioning\, and real-world application in a supportive and high-energy environment. Join us Mondays and Tuesdays from 12:00–1:00 PM on the main floor!
URL:https://blackrock-kadence.gotbdev.com/event/adult-jiu-jitsu-2/2026-04-27/
CATEGORIES:Jiu Jitsu
ATTACH;FMTTYPE=image/jpeg:https://blackrock-kadence.gotbdev.com/wp-content/uploads/2025/11/WPA4431-scaled-1-scaled.jpg
END:VEVENT
BEGIN:VEVENT
DTSTART;TZID=America/Vancouver:20260427T153000
DTEND;TZID=America/Vancouver:20260427T161500
DTSTAMP:20260420T222541
CREATED:20250902T163538Z
LAST-MODIFIED:20260221T002534Z
UID:10017272-1777303800-1777306500@blackrock-kadence.gotbdev.com
SUMMARY:Kids Jiu Jitsu (6–9 Years Old)
DESCRIPTION:Discover Kids Jiu-Jitsu at Black Rock Martial Arts\, designed for ages 6-9. Build strength\, confidence\, and self-defence skills through dynamic\, fun classes. Perfect for kids looking to stay active\, learn discipline\, and connect with peers in a supportive environment.
URL:https://blackrock-kadence.gotbdev.com/event/kids-jiu-jitsu-6-9-3/2026-04-27/
CATEGORIES:Jiu Jitsu
ATTACH;FMTTYPE=image/jpeg:https://blackrock-kadence.gotbdev.com/wp-content/uploads/2025/11/JAK0095-scaled-1-scaled.jpg
END:VEVENT
BEGIN:VEVENT
DTSTART;TZID=America/Vancouver:20260427T180000
DTEND;TZID=America/Vancouver:20260427T190000
DTSTAMP:20260420T222541
CREATED:20250307T004221Z
LAST-MODIFIED:20260221T002730Z
UID:10015137-1777312800-1777316400@blackrock-kadence.gotbdev.com
SUMMARY:Mezz: Jiu Jitsu Fundamentals
DESCRIPTION:Perfect for beginners and those looking to refine their technique\, our Jiu Jitsu Fundamentals class focuses on core movements\, essential positions\, and foundational strategies. Learn in a supportive environment while building strength\, flexibility\, and confidence on the mat.
URL:https://blackrock-kadence.gotbdev.com/event/jiu-jitsu-fundamentals-4-2/2026-04-27/
CATEGORIES:Jiu Jitsu
ATTACH;FMTTYPE=image/jpeg:https://blackrock-kadence.gotbdev.com/wp-content/uploads/2025/11/WPA4490-scaled-1-scaled.jpg
END:VEVENT
BEGIN:VEVENT
DTSTART;TZID=America/Vancouver:20260428T120000
DTEND;TZID=America/Vancouver:20260428T130000
DTSTAMP:20260420T222541
CREATED:20251105T222144Z
LAST-MODIFIED:20260221T002516Z
UID:10018426-1777377600-1777381200@blackrock-kadence.gotbdev.com
SUMMARY:Adult Jiu Jitsu
DESCRIPTION:Sharpen your skills\, build strength\, and boost confidence in this dynamic noon-hour class. Whether you’re a beginner or an experienced practitioner\, our Adult Jiu Jitsu sessions focus on technique\, conditioning\, and real-world application in a supportive and high-energy environment. Join us Mondays and Tuesdays from 12:00–1:00 PM on the main floor!
URL:https://blackrock-kadence.gotbdev.com/event/adult-jiu-jitsu-2/2026-04-28/
CATEGORIES:Jiu Jitsu
ATTACH;FMTTYPE=image/jpeg:https://blackrock-kadence.gotbdev.com/wp-content/uploads/2025/11/WPA4431-scaled-1-scaled.jpg
END:VEVENT
BEGIN:VEVENT
DTSTART;TZID=America/Vancouver:20260428T150000
DTEND;TZID=America/Vancouver:20260428T153000
DTSTAMP:20260420T222541
CREATED:20241218T065427Z
LAST-MODIFIED:20260221T002815Z
UID:10011767-1777388400-1777390200@blackrock-kadence.gotbdev.com
SUMMARY:Lil Ninjas (3-5yrs)
DESCRIPTION:Enroll your child in Lil Ninjas Taekwondo at Black Rock Martial Arts\, specially designed for ages 3-5! Our fun and engaging classes introduce young children to the basics of Taekwondo\, including simple kicks\, blocks\, and stances\, while promoting important life skills like focus\, listening\, and respect. With experienced instructors creating a playful\, supportive atmosphere\, your little ones will develop coordination\, balance\, and confidence. Perfect for young beginners\, our program encourages a love for martial arts while fostering social skills\, teamwork\, and a positive attitude in a safe and nurturing environment.
URL:https://blackrock-kadence.gotbdev.com/event/lil-ninjas-2-2-2/2026-04-28/
CATEGORIES:Jiu Jitsu
ATTACH;FMTTYPE=image/jpeg:https://blackrock-kadence.gotbdev.com/wp-content/uploads/2024/09/lil-ninjas-9.jpg
END:VEVENT
BEGIN:VEVENT
DTSTART;TZID=America/Vancouver:20260428T170000
DTEND;TZID=America/Vancouver:20260428T174500
DTSTAMP:20260420T222541
CREATED:20240911T172247Z
LAST-MODIFIED:20260221T003221Z
UID:10005305-1777395600-1777398300@blackrock-kadence.gotbdev.com
SUMMARY:Mezz: Kids Jiu Jitsu (6-9 Years Old)
DESCRIPTION:Enroll in Kids Jiu-Jitsu at Black Rock Martial Arts\, designed for ages 6-9! Our classes teach grappling techniques\, self-defense skills\, and body control while promoting confidence and discipline. Perfect for beginners and experienced kids in a fun\, supportive environment.
URL:https://blackrock-kadence.gotbdev.com/event/kids-no-gi-jiu-jitsu-6-11-3/2026-04-28/
CATEGORIES:Jiu Jitsu
ATTACH;FMTTYPE=image/jpeg:https://blackrock-kadence.gotbdev.com/wp-content/uploads/2025/11/JAK0049-scaled-1-scaled.jpg
END:VEVENT
BEGIN:VEVENT
DTSTART;TZID=America/Vancouver:20260428T190000
DTEND;TZID=America/Vancouver:20260428T203000
DTSTAMP:20260420T222541
CREATED:20240917T180118Z
LAST-MODIFIED:20260221T003433Z
UID:10007057-1777402800-1777408200@blackrock-kadence.gotbdev.com
SUMMARY:Adult Jiu Jitsu
DESCRIPTION:Experience Adult No-Gi Jiu-Jitsu at Black Rock Martial Arts\, where you’ll master grappling techniques\, enhance your strength\, and build confidence in a supportive\, dynamic environment. Our classes focus on real-world self-defense\, agility\, and strategy\, making them ideal for both beginners and seasoned practitioners. Under the guidance of skilled instructors\, you’ll learn to control opponents\, execute submissions\, and refine your skills through live sparring. Whether you’re aiming for competition or personal growth\, our classes provide the challenge and community you need to excel.
URL:https://blackrock-kadence.gotbdev.com/event/adult-no-gi-jiu-jitsu/2026-04-28/
CATEGORIES:Jiu Jitsu
ATTACH;FMTTYPE=image/jpeg:https://blackrock-kadence.gotbdev.com/wp-content/uploads/2025/11/JAK0198-scaled-1-scaled.jpg
END:VEVENT
BEGIN:VEVENT
DTSTART;TZID=America/Vancouver:20260429T153000
DTEND;TZID=America/Vancouver:20260429T161500
DTSTAMP:20260420T222541
CREATED:20250902T163538Z
LAST-MODIFIED:20260221T002534Z
UID:10017273-1777476600-1777479300@blackrock-kadence.gotbdev.com
SUMMARY:Kids Jiu Jitsu (6–9 Years Old)
DESCRIPTION:Discover Kids Jiu-Jitsu at Black Rock Martial Arts\, designed for ages 6-9. Build strength\, confidence\, and self-defence skills through dynamic\, fun classes. Perfect for kids looking to stay active\, learn discipline\, and connect with peers in a supportive environment.
URL:https://blackrock-kadence.gotbdev.com/event/kids-jiu-jitsu-6-9-3/2026-04-29/
CATEGORIES:Jiu Jitsu
ATTACH;FMTTYPE=image/jpeg:https://blackrock-kadence.gotbdev.com/wp-content/uploads/2025/11/JAK0095-scaled-1-scaled.jpg
END:VEVENT
BEGIN:VEVENT
DTSTART;TZID=America/Vancouver:20260429T180000
DTEND;TZID=America/Vancouver:20260429T190000
DTSTAMP:20260420T222541
CREATED:20250307T004221Z
LAST-MODIFIED:20260221T002730Z
UID:10015138-1777485600-1777489200@blackrock-kadence.gotbdev.com
SUMMARY:Mezz: Jiu Jitsu Fundamentals
DESCRIPTION:Perfect for beginners and those looking to refine their technique\, our Jiu Jitsu Fundamentals class focuses on core movements\, essential positions\, and foundational strategies. Learn in a supportive environment while building strength\, flexibility\, and confidence on the mat.
URL:https://blackrock-kadence.gotbdev.com/event/jiu-jitsu-fundamentals-4-2/2026-04-29/
CATEGORIES:Jiu Jitsu
ATTACH;FMTTYPE=image/jpeg:https://blackrock-kadence.gotbdev.com/wp-content/uploads/2025/11/WPA4490-scaled-1-scaled.jpg
END:VEVENT
BEGIN:VEVENT
DTSTART;TZID=America/Vancouver:20260430T170000
DTEND;TZID=America/Vancouver:20260430T174500
DTSTAMP:20260420T222541
CREATED:20240911T172247Z
LAST-MODIFIED:20260221T003221Z
UID:10005306-1777568400-1777571100@blackrock-kadence.gotbdev.com
SUMMARY:Mezz: Kids Jiu Jitsu (6-9 Years Old)
DESCRIPTION:Enroll in Kids Jiu-Jitsu at Black Rock Martial Arts\, designed for ages 6-9! Our classes teach grappling techniques\, self-defense skills\, and body control while promoting confidence and discipline. Perfect for beginners and experienced kids in a fun\, supportive environment.
URL:https://blackrock-kadence.gotbdev.com/event/kids-no-gi-jiu-jitsu-6-11-3/2026-04-30/
CATEGORIES:Jiu Jitsu
ATTACH;FMTTYPE=image/jpeg:https://blackrock-kadence.gotbdev.com/wp-content/uploads/2025/11/JAK0049-scaled-1-scaled.jpg
END:VEVENT
BEGIN:VEVENT
DTSTART;TZID=America/Vancouver:20260430T190000
DTEND;TZID=America/Vancouver:20260430T203000
DTSTAMP:20260420T222541
CREATED:20240917T180118Z
LAST-MODIFIED:20260221T003433Z
UID:10007058-1777575600-1777581000@blackrock-kadence.gotbdev.com
SUMMARY:Adult Jiu Jitsu
DESCRIPTION:Experience Adult No-Gi Jiu-Jitsu at Black Rock Martial Arts\, where you’ll master grappling techniques\, enhance your strength\, and build confidence in a supportive\, dynamic environment. Our classes focus on real-world self-defense\, agility\, and strategy\, making them ideal for both beginners and seasoned practitioners. Under the guidance of skilled instructors\, you’ll learn to control opponents\, execute submissions\, and refine your skills through live sparring. Whether you’re aiming for competition or personal growth\, our classes provide the challenge and community you need to excel.
URL:https://blackrock-kadence.gotbdev.com/event/adult-no-gi-jiu-jitsu/2026-04-30/
CATEGORIES:Jiu Jitsu
ATTACH;FMTTYPE=image/jpeg:https://blackrock-kadence.gotbdev.com/wp-content/uploads/2025/11/JAK0198-scaled-1-scaled.jpg
END:VEVENT
BEGIN:VEVENT
DTSTART;TZID=America/Vancouver:20260501T170000
DTEND;TZID=America/Vancouver:20260501T180000
DTSTAMP:20260420T222541
CREATED:20250227T172703Z
LAST-MODIFIED:20260221T003456Z
UID:10014768-1777654800-1777658400@blackrock-kadence.gotbdev.com
SUMMARY:Women’s Jiu Jitsu
DESCRIPTION:Designed for women of all skill levels\, our Women’s Jiu Jitsu class offers a supportive and empowering environment to learn self-defense\, improve technique\, and build confidence on the mat. Join us and train with a strong\, like-minded community!
URL:https://blackrock-kadence.gotbdev.com/event/womens-jiu-jitsu/2026-05-01/
CATEGORIES:Jiu Jitsu
ATTACH;FMTTYPE=image/png:https://blackrock-kadence.gotbdev.com/wp-content/uploads/2025/02/Screenshot-2025-02-27-at-9.26.32-AM.png
END:VEVENT
BEGIN:VEVENT
DTSTART;TZID=America/Vancouver:20260501T190000
DTEND;TZID=America/Vancouver:20260501T203000
DTSTAMP:20260420T222541
CREATED:20240917T180118Z
LAST-MODIFIED:20260221T003433Z
UID:10007059-1777662000-1777667400@blackrock-kadence.gotbdev.com
SUMMARY:Adult Jiu Jitsu
DESCRIPTION:Experience Adult No-Gi Jiu-Jitsu at Black Rock Martial Arts\, where you’ll master grappling techniques\, enhance your strength\, and build confidence in a supportive\, dynamic environment. Our classes focus on real-world self-defense\, agility\, and strategy\, making them ideal for both beginners and seasoned practitioners. Under the guidance of skilled instructors\, you’ll learn to control opponents\, execute submissions\, and refine your skills through live sparring. Whether you’re aiming for competition or personal growth\, our classes provide the challenge and community you need to excel.
URL:https://blackrock-kadence.gotbdev.com/event/adult-no-gi-jiu-jitsu/2026-05-01/
CATEGORIES:Jiu Jitsu
ATTACH;FMTTYPE=image/jpeg:https://blackrock-kadence.gotbdev.com/wp-content/uploads/2025/11/JAK0198-scaled-1-scaled.jpg
END:VEVENT
BEGIN:VEVENT
DTSTART;TZID=America/Vancouver:20260504T120000
DTEND;TZID=America/Vancouver:20260504T130000
DTSTAMP:20260420T222541
CREATED:20251105T222144Z
LAST-MODIFIED:20260221T002516Z
UID:10018427-1777896000-1777899600@blackrock-kadence.gotbdev.com
SUMMARY:Adult Jiu Jitsu
DESCRIPTION:Sharpen your skills\, build strength\, and boost confidence in this dynamic noon-hour class. Whether you’re a beginner or an experienced practitioner\, our Adult Jiu Jitsu sessions focus on technique\, conditioning\, and real-world application in a supportive and high-energy environment. Join us Mondays and Tuesdays from 12:00–1:00 PM on the main floor!
URL:https://blackrock-kadence.gotbdev.com/event/adult-jiu-jitsu-2/2026-05-04/
CATEGORIES:Jiu Jitsu
ATTACH;FMTTYPE=image/jpeg:https://blackrock-kadence.gotbdev.com/wp-content/uploads/2025/11/WPA4431-scaled-1-scaled.jpg
END:VEVENT
BEGIN:VEVENT
DTSTART;TZID=America/Vancouver:20260504T153000
DTEND;TZID=America/Vancouver:20260504T161500
DTSTAMP:20260420T222541
CREATED:20250902T163538Z
LAST-MODIFIED:20260221T002534Z
UID:10017274-1777908600-1777911300@blackrock-kadence.gotbdev.com
SUMMARY:Kids Jiu Jitsu (6–9 Years Old)
DESCRIPTION:Discover Kids Jiu-Jitsu at Black Rock Martial Arts\, designed for ages 6-9. Build strength\, confidence\, and self-defence skills through dynamic\, fun classes. Perfect for kids looking to stay active\, learn discipline\, and connect with peers in a supportive environment.
URL:https://blackrock-kadence.gotbdev.com/event/kids-jiu-jitsu-6-9-3/2026-05-04/
CATEGORIES:Jiu Jitsu
ATTACH;FMTTYPE=image/jpeg:https://blackrock-kadence.gotbdev.com/wp-content/uploads/2025/11/JAK0095-scaled-1-scaled.jpg
END:VEVENT
BEGIN:VEVENT
DTSTART;TZID=America/Vancouver:20260504T180000
DTEND;TZID=America/Vancouver:20260504T190000
DTSTAMP:20260420T222541
CREATED:20250307T004221Z
LAST-MODIFIED:20260221T002730Z
UID:10015139-1777917600-1777921200@blackrock-kadence.gotbdev.com
SUMMARY:Mezz: Jiu Jitsu Fundamentals
DESCRIPTION:Perfect for beginners and those looking to refine their technique\, our Jiu Jitsu Fundamentals class focuses on core movements\, essential positions\, and foundational strategies. Learn in a supportive environment while building strength\, flexibility\, and confidence on the mat.
URL:https://blackrock-kadence.gotbdev.com/event/jiu-jitsu-fundamentals-4-2/2026-05-04/
CATEGORIES:Jiu Jitsu
ATTACH;FMTTYPE=image/jpeg:https://blackrock-kadence.gotbdev.com/wp-content/uploads/2025/11/WPA4490-scaled-1-scaled.jpg
END:VEVENT
BEGIN:VEVENT
DTSTART;TZID=America/Vancouver:20260505T120000
DTEND;TZID=America/Vancouver:20260505T130000
DTSTAMP:20260420T222541
CREATED:20251105T222144Z
LAST-MODIFIED:20260221T002516Z
UID:10018428-1777982400-1777986000@blackrock-kadence.gotbdev.com
SUMMARY:Adult Jiu Jitsu
DESCRIPTION:Sharpen your skills\, build strength\, and boost confidence in this dynamic noon-hour class. Whether you’re a beginner or an experienced practitioner\, our Adult Jiu Jitsu sessions focus on technique\, conditioning\, and real-world application in a supportive and high-energy environment. Join us Mondays and Tuesdays from 12:00–1:00 PM on the main floor!
URL:https://blackrock-kadence.gotbdev.com/event/adult-jiu-jitsu-2/2026-05-05/
CATEGORIES:Jiu Jitsu
ATTACH;FMTTYPE=image/jpeg:https://blackrock-kadence.gotbdev.com/wp-content/uploads/2025/11/WPA4431-scaled-1-scaled.jpg
END:VEVENT
BEGIN:VEVENT
DTSTART;TZID=America/Vancouver:20260505T150000
DTEND;TZID=America/Vancouver:20260505T153000
DTSTAMP:20260420T222541
CREATED:20241218T065427Z
LAST-MODIFIED:20260221T002815Z
UID:10011768-1777993200-1777995000@blackrock-kadence.gotbdev.com
SUMMARY:Lil Ninjas (3-5yrs)
DESCRIPTION:Enroll your child in Lil Ninjas Taekwondo at Black Rock Martial Arts\, specially designed for ages 3-5! Our fun and engaging classes introduce young children to the basics of Taekwondo\, including simple kicks\, blocks\, and stances\, while promoting important life skills like focus\, listening\, and respect. With experienced instructors creating a playful\, supportive atmosphere\, your little ones will develop coordination\, balance\, and confidence. Perfect for young beginners\, our program encourages a love for martial arts while fostering social skills\, teamwork\, and a positive attitude in a safe and nurturing environment.
URL:https://blackrock-kadence.gotbdev.com/event/lil-ninjas-2-2-2/2026-05-05/
CATEGORIES:Jiu Jitsu
ATTACH;FMTTYPE=image/jpeg:https://blackrock-kadence.gotbdev.com/wp-content/uploads/2024/09/lil-ninjas-9.jpg
END:VEVENT
BEGIN:VEVENT
DTSTART;TZID=America/Vancouver:20260505T170000
DTEND;TZID=America/Vancouver:20260505T174500
DTSTAMP:20260420T222541
CREATED:20240911T172247Z
LAST-MODIFIED:20260221T003221Z
UID:10005307-1778000400-1778003100@blackrock-kadence.gotbdev.com
SUMMARY:Mezz: Kids Jiu Jitsu (6-9 Years Old)
DESCRIPTION:Enroll in Kids Jiu-Jitsu at Black Rock Martial Arts\, designed for ages 6-9! Our classes teach grappling techniques\, self-defense skills\, and body control while promoting confidence and discipline. Perfect for beginners and experienced kids in a fun\, supportive environment.
URL:https://blackrock-kadence.gotbdev.com/event/kids-no-gi-jiu-jitsu-6-11-3/2026-05-05/
CATEGORIES:Jiu Jitsu
ATTACH;FMTTYPE=image/jpeg:https://blackrock-kadence.gotbdev.com/wp-content/uploads/2025/11/JAK0049-scaled-1-scaled.jpg
END:VEVENT
BEGIN:VEVENT
DTSTART;TZID=America/Vancouver:20260505T190000
DTEND;TZID=America/Vancouver:20260505T203000
DTSTAMP:20260420T222541
CREATED:20240917T180118Z
LAST-MODIFIED:20260221T003433Z
UID:10007060-1778007600-1778013000@blackrock-kadence.gotbdev.com
SUMMARY:Adult Jiu Jitsu
DESCRIPTION:Experience Adult No-Gi Jiu-Jitsu at Black Rock Martial Arts\, where you’ll master grappling techniques\, enhance your strength\, and build confidence in a supportive\, dynamic environment. Our classes focus on real-world self-defense\, agility\, and strategy\, making them ideal for both beginners and seasoned practitioners. Under the guidance of skilled instructors\, you’ll learn to control opponents\, execute submissions\, and refine your skills through live sparring. Whether you’re aiming for competition or personal growth\, our classes provide the challenge and community you need to excel.
URL:https://blackrock-kadence.gotbdev.com/event/adult-no-gi-jiu-jitsu/2026-05-05/
CATEGORIES:Jiu Jitsu
ATTACH;FMTTYPE=image/jpeg:https://blackrock-kadence.gotbdev.com/wp-content/uploads/2025/11/JAK0198-scaled-1-scaled.jpg
END:VEVENT
END:VCALENDAR