BEGIN:VCALENDAR
VERSION:2.0
PRODID:-// - ECPv6.15.20//NONSGML v1.0//EN
CALSCALE:GREGORIAN
METHOD:PUBLISH
X-ORIGINAL-URL:https://blackrock-kadence.gotbdev.com
X-WR-CALDESC:Events for 
REFRESH-INTERVAL;VALUE=DURATION:PT1H
X-Robots-Tag:noindex
X-PUBLISHED-TTL:PT1H
BEGIN:VTIMEZONE
TZID:America/Vancouver
BEGIN:DAYLIGHT
TZOFFSETFROM:-0800
TZOFFSETTO:-0700
TZNAME:PDT
DTSTART:20250309T100000
END:DAYLIGHT
BEGIN:STANDARD
TZOFFSETFROM:-0700
TZOFFSETTO:-0800
TZNAME:PST
DTSTART:20251102T090000
END:STANDARD
BEGIN:DAYLIGHT
TZOFFSETFROM:-0800
TZOFFSETTO:-0700
TZNAME:PDT
DTSTART:20260308T100000
END:DAYLIGHT
BEGIN:STANDARD
TZOFFSETFROM:-0700
TZOFFSETTO:-0800
TZNAME:PST
DTSTART:20261101T090000
END:STANDARD
BEGIN:DAYLIGHT
TZOFFSETFROM:-0800
TZOFFSETTO:-0700
TZNAME:PDT
DTSTART:20270314T100000
END:DAYLIGHT
BEGIN:STANDARD
TZOFFSETFROM:-0700
TZOFFSETTO:-0800
TZNAME:PST
DTSTART:20271107T090000
END:STANDARD
END:VTIMEZONE
BEGIN:VEVENT
DTSTART;TZID=America/Vancouver:20260917T190000
DTEND;TZID=America/Vancouver:20260917T203000
DTSTAMP:20260422T154940
CREATED:20240917T180118Z
LAST-MODIFIED:20260221T003433Z
UID:10007118-1789671600-1789677000@blackrock-kadence.gotbdev.com
SUMMARY:Adult Jiu Jitsu
DESCRIPTION:Experience Adult No-Gi Jiu-Jitsu at Black Rock Martial Arts\, where you’ll master grappling techniques\, enhance your strength\, and build confidence in a supportive\, dynamic environment. Our classes focus on real-world self-defense\, agility\, and strategy\, making them ideal for both beginners and seasoned practitioners. Under the guidance of skilled instructors\, you’ll learn to control opponents\, execute submissions\, and refine your skills through live sparring. Whether you’re aiming for competition or personal growth\, our classes provide the challenge and community you need to excel.
URL:https://blackrock-kadence.gotbdev.com/event/adult-no-gi-jiu-jitsu/2026-09-17/
CATEGORIES:Jiu Jitsu
ATTACH;FMTTYPE=image/jpeg:https://blackrock-kadence.gotbdev.com/wp-content/uploads/2025/11/JAK0198-scaled-1-scaled.jpg
END:VEVENT
BEGIN:VEVENT
DTSTART;TZID=America/Vancouver:20260918T170000
DTEND;TZID=America/Vancouver:20260918T180000
DTSTAMP:20260422T154940
CREATED:20250227T172703Z
LAST-MODIFIED:20260221T003456Z
UID:10014788-1789750800-1789754400@blackrock-kadence.gotbdev.com
SUMMARY:Women’s Jiu Jitsu
DESCRIPTION:Designed for women of all skill levels\, our Women’s Jiu Jitsu class offers a supportive and empowering environment to learn self-defense\, improve technique\, and build confidence on the mat. Join us and train with a strong\, like-minded community!
URL:https://blackrock-kadence.gotbdev.com/event/womens-jiu-jitsu/2026-09-18/
CATEGORIES:Jiu Jitsu
ATTACH;FMTTYPE=image/png:https://blackrock-kadence.gotbdev.com/wp-content/uploads/2025/02/Screenshot-2025-02-27-at-9.26.32-AM.png
END:VEVENT
BEGIN:VEVENT
DTSTART;TZID=America/Vancouver:20260918T190000
DTEND;TZID=America/Vancouver:20260918T203000
DTSTAMP:20260422T154940
CREATED:20240917T180118Z
LAST-MODIFIED:20260221T003433Z
UID:10007119-1789758000-1789763400@blackrock-kadence.gotbdev.com
SUMMARY:Adult Jiu Jitsu
DESCRIPTION:Experience Adult No-Gi Jiu-Jitsu at Black Rock Martial Arts\, where you’ll master grappling techniques\, enhance your strength\, and build confidence in a supportive\, dynamic environment. Our classes focus on real-world self-defense\, agility\, and strategy\, making them ideal for both beginners and seasoned practitioners. Under the guidance of skilled instructors\, you’ll learn to control opponents\, execute submissions\, and refine your skills through live sparring. Whether you’re aiming for competition or personal growth\, our classes provide the challenge and community you need to excel.
URL:https://blackrock-kadence.gotbdev.com/event/adult-no-gi-jiu-jitsu/2026-09-18/
CATEGORIES:Jiu Jitsu
ATTACH;FMTTYPE=image/jpeg:https://blackrock-kadence.gotbdev.com/wp-content/uploads/2025/11/JAK0198-scaled-1-scaled.jpg
END:VEVENT
BEGIN:VEVENT
DTSTART;TZID=America/Vancouver:20260921T120000
DTEND;TZID=America/Vancouver:20260921T130000
DTSTAMP:20260422T154940
CREATED:20251105T222144Z
LAST-MODIFIED:20260221T002516Z
UID:10018467-1789992000-1789995600@blackrock-kadence.gotbdev.com
SUMMARY:Adult Jiu Jitsu
DESCRIPTION:Sharpen your skills\, build strength\, and boost confidence in this dynamic noon-hour class. Whether you’re a beginner or an experienced practitioner\, our Adult Jiu Jitsu sessions focus on technique\, conditioning\, and real-world application in a supportive and high-energy environment. Join us Mondays and Tuesdays from 12:00–1:00 PM on the main floor!
URL:https://blackrock-kadence.gotbdev.com/event/adult-jiu-jitsu-2/2026-09-21/
CATEGORIES:Jiu Jitsu
ATTACH;FMTTYPE=image/jpeg:https://blackrock-kadence.gotbdev.com/wp-content/uploads/2025/11/WPA4431-scaled-1-scaled.jpg
END:VEVENT
BEGIN:VEVENT
DTSTART;TZID=America/Vancouver:20260921T153000
DTEND;TZID=America/Vancouver:20260921T161500
DTSTAMP:20260422T154940
CREATED:20250902T163538Z
LAST-MODIFIED:20260221T002534Z
UID:10017314-1790004600-1790007300@blackrock-kadence.gotbdev.com
SUMMARY:Kids Jiu Jitsu (6–9 Years Old)
DESCRIPTION:Discover Kids Jiu-Jitsu at Black Rock Martial Arts\, designed for ages 6-9. Build strength\, confidence\, and self-defence skills through dynamic\, fun classes. Perfect for kids looking to stay active\, learn discipline\, and connect with peers in a supportive environment.
URL:https://blackrock-kadence.gotbdev.com/event/kids-jiu-jitsu-6-9-3/2026-09-21/
CATEGORIES:Jiu Jitsu
ATTACH;FMTTYPE=image/jpeg:https://blackrock-kadence.gotbdev.com/wp-content/uploads/2025/11/JAK0095-scaled-1-scaled.jpg
END:VEVENT
BEGIN:VEVENT
DTSTART;TZID=America/Vancouver:20260921T180000
DTEND;TZID=America/Vancouver:20260921T190000
DTSTAMP:20260422T154940
CREATED:20250307T004221Z
LAST-MODIFIED:20260221T002730Z
UID:10015179-1790013600-1790017200@blackrock-kadence.gotbdev.com
SUMMARY:Mezz: Jiu Jitsu Fundamentals
DESCRIPTION:Perfect for beginners and those looking to refine their technique\, our Jiu Jitsu Fundamentals class focuses on core movements\, essential positions\, and foundational strategies. Learn in a supportive environment while building strength\, flexibility\, and confidence on the mat.
URL:https://blackrock-kadence.gotbdev.com/event/jiu-jitsu-fundamentals-4-2/2026-09-21/
CATEGORIES:Jiu Jitsu
ATTACH;FMTTYPE=image/jpeg:https://blackrock-kadence.gotbdev.com/wp-content/uploads/2025/11/WPA4490-scaled-1-scaled.jpg
END:VEVENT
BEGIN:VEVENT
DTSTART;TZID=America/Vancouver:20260922T120000
DTEND;TZID=America/Vancouver:20260922T130000
DTSTAMP:20260422T154940
CREATED:20251105T222144Z
LAST-MODIFIED:20260221T002516Z
UID:10018468-1790078400-1790082000@blackrock-kadence.gotbdev.com
SUMMARY:Adult Jiu Jitsu
DESCRIPTION:Sharpen your skills\, build strength\, and boost confidence in this dynamic noon-hour class. Whether you’re a beginner or an experienced practitioner\, our Adult Jiu Jitsu sessions focus on technique\, conditioning\, and real-world application in a supportive and high-energy environment. Join us Mondays and Tuesdays from 12:00–1:00 PM on the main floor!
URL:https://blackrock-kadence.gotbdev.com/event/adult-jiu-jitsu-2/2026-09-22/
CATEGORIES:Jiu Jitsu
ATTACH;FMTTYPE=image/jpeg:https://blackrock-kadence.gotbdev.com/wp-content/uploads/2025/11/WPA4431-scaled-1-scaled.jpg
END:VEVENT
BEGIN:VEVENT
DTSTART;TZID=America/Vancouver:20260922T150000
DTEND;TZID=America/Vancouver:20260922T153000
DTSTAMP:20260422T154940
CREATED:20241218T065427Z
LAST-MODIFIED:20260221T002815Z
UID:10011788-1790089200-1790091000@blackrock-kadence.gotbdev.com
SUMMARY:Lil Ninjas (3-5yrs)
DESCRIPTION:Enroll your child in Lil Ninjas Taekwondo at Black Rock Martial Arts\, specially designed for ages 3-5! Our fun and engaging classes introduce young children to the basics of Taekwondo\, including simple kicks\, blocks\, and stances\, while promoting important life skills like focus\, listening\, and respect. With experienced instructors creating a playful\, supportive atmosphere\, your little ones will develop coordination\, balance\, and confidence. Perfect for young beginners\, our program encourages a love for martial arts while fostering social skills\, teamwork\, and a positive attitude in a safe and nurturing environment.
URL:https://blackrock-kadence.gotbdev.com/event/lil-ninjas-2-2-2/2026-09-22/
CATEGORIES:Jiu Jitsu
ATTACH;FMTTYPE=image/jpeg:https://blackrock-kadence.gotbdev.com/wp-content/uploads/2024/09/lil-ninjas-9.jpg
END:VEVENT
BEGIN:VEVENT
DTSTART;TZID=America/Vancouver:20260922T170000
DTEND;TZID=America/Vancouver:20260922T174500
DTSTAMP:20260422T154940
CREATED:20240911T172247Z
LAST-MODIFIED:20260221T003221Z
UID:10005347-1790096400-1790099100@blackrock-kadence.gotbdev.com
SUMMARY:Mezz: Kids Jiu Jitsu (6-9 Years Old)
DESCRIPTION:Enroll in Kids Jiu-Jitsu at Black Rock Martial Arts\, designed for ages 6-9! Our classes teach grappling techniques\, self-defense skills\, and body control while promoting confidence and discipline. Perfect for beginners and experienced kids in a fun\, supportive environment.
URL:https://blackrock-kadence.gotbdev.com/event/kids-no-gi-jiu-jitsu-6-11-3/2026-09-22/
CATEGORIES:Jiu Jitsu
ATTACH;FMTTYPE=image/jpeg:https://blackrock-kadence.gotbdev.com/wp-content/uploads/2025/11/JAK0049-scaled-1-scaled.jpg
END:VEVENT
BEGIN:VEVENT
DTSTART;TZID=America/Vancouver:20260922T190000
DTEND;TZID=America/Vancouver:20260922T203000
DTSTAMP:20260422T154940
CREATED:20240917T180118Z
LAST-MODIFIED:20260221T003433Z
UID:10007120-1790103600-1790109000@blackrock-kadence.gotbdev.com
SUMMARY:Adult Jiu Jitsu
DESCRIPTION:Experience Adult No-Gi Jiu-Jitsu at Black Rock Martial Arts\, where you’ll master grappling techniques\, enhance your strength\, and build confidence in a supportive\, dynamic environment. Our classes focus on real-world self-defense\, agility\, and strategy\, making them ideal for both beginners and seasoned practitioners. Under the guidance of skilled instructors\, you’ll learn to control opponents\, execute submissions\, and refine your skills through live sparring. Whether you’re aiming for competition or personal growth\, our classes provide the challenge and community you need to excel.
URL:https://blackrock-kadence.gotbdev.com/event/adult-no-gi-jiu-jitsu/2026-09-22/
CATEGORIES:Jiu Jitsu
ATTACH;FMTTYPE=image/jpeg:https://blackrock-kadence.gotbdev.com/wp-content/uploads/2025/11/JAK0198-scaled-1-scaled.jpg
END:VEVENT
BEGIN:VEVENT
DTSTART;TZID=America/Vancouver:20260923T153000
DTEND;TZID=America/Vancouver:20260923T161500
DTSTAMP:20260422T154940
CREATED:20250902T163538Z
LAST-MODIFIED:20260221T002534Z
UID:10017315-1790177400-1790180100@blackrock-kadence.gotbdev.com
SUMMARY:Kids Jiu Jitsu (6–9 Years Old)
DESCRIPTION:Discover Kids Jiu-Jitsu at Black Rock Martial Arts\, designed for ages 6-9. Build strength\, confidence\, and self-defence skills through dynamic\, fun classes. Perfect for kids looking to stay active\, learn discipline\, and connect with peers in a supportive environment.
URL:https://blackrock-kadence.gotbdev.com/event/kids-jiu-jitsu-6-9-3/2026-09-23/
CATEGORIES:Jiu Jitsu
ATTACH;FMTTYPE=image/jpeg:https://blackrock-kadence.gotbdev.com/wp-content/uploads/2025/11/JAK0095-scaled-1-scaled.jpg
END:VEVENT
BEGIN:VEVENT
DTSTART;TZID=America/Vancouver:20260923T180000
DTEND;TZID=America/Vancouver:20260923T190000
DTSTAMP:20260422T154940
CREATED:20250307T004221Z
LAST-MODIFIED:20260221T002730Z
UID:10015180-1790186400-1790190000@blackrock-kadence.gotbdev.com
SUMMARY:Mezz: Jiu Jitsu Fundamentals
DESCRIPTION:Perfect for beginners and those looking to refine their technique\, our Jiu Jitsu Fundamentals class focuses on core movements\, essential positions\, and foundational strategies. Learn in a supportive environment while building strength\, flexibility\, and confidence on the mat.
URL:https://blackrock-kadence.gotbdev.com/event/jiu-jitsu-fundamentals-4-2/2026-09-23/
CATEGORIES:Jiu Jitsu
ATTACH;FMTTYPE=image/jpeg:https://blackrock-kadence.gotbdev.com/wp-content/uploads/2025/11/WPA4490-scaled-1-scaled.jpg
END:VEVENT
BEGIN:VEVENT
DTSTART;TZID=America/Vancouver:20260924T170000
DTEND;TZID=America/Vancouver:20260924T174500
DTSTAMP:20260422T154940
CREATED:20240911T172247Z
LAST-MODIFIED:20260221T003221Z
UID:10005348-1790269200-1790271900@blackrock-kadence.gotbdev.com
SUMMARY:Mezz: Kids Jiu Jitsu (6-9 Years Old)
DESCRIPTION:Enroll in Kids Jiu-Jitsu at Black Rock Martial Arts\, designed for ages 6-9! Our classes teach grappling techniques\, self-defense skills\, and body control while promoting confidence and discipline. Perfect for beginners and experienced kids in a fun\, supportive environment.
URL:https://blackrock-kadence.gotbdev.com/event/kids-no-gi-jiu-jitsu-6-11-3/2026-09-24/
CATEGORIES:Jiu Jitsu
ATTACH;FMTTYPE=image/jpeg:https://blackrock-kadence.gotbdev.com/wp-content/uploads/2025/11/JAK0049-scaled-1-scaled.jpg
END:VEVENT
BEGIN:VEVENT
DTSTART;TZID=America/Vancouver:20260924T190000
DTEND;TZID=America/Vancouver:20260924T203000
DTSTAMP:20260422T154940
CREATED:20240917T180118Z
LAST-MODIFIED:20260221T003433Z
UID:10007121-1790276400-1790281800@blackrock-kadence.gotbdev.com
SUMMARY:Adult Jiu Jitsu
DESCRIPTION:Experience Adult No-Gi Jiu-Jitsu at Black Rock Martial Arts\, where you’ll master grappling techniques\, enhance your strength\, and build confidence in a supportive\, dynamic environment. Our classes focus on real-world self-defense\, agility\, and strategy\, making them ideal for both beginners and seasoned practitioners. Under the guidance of skilled instructors\, you’ll learn to control opponents\, execute submissions\, and refine your skills through live sparring. Whether you’re aiming for competition or personal growth\, our classes provide the challenge and community you need to excel.
URL:https://blackrock-kadence.gotbdev.com/event/adult-no-gi-jiu-jitsu/2026-09-24/
CATEGORIES:Jiu Jitsu
ATTACH;FMTTYPE=image/jpeg:https://blackrock-kadence.gotbdev.com/wp-content/uploads/2025/11/JAK0198-scaled-1-scaled.jpg
END:VEVENT
BEGIN:VEVENT
DTSTART;TZID=America/Vancouver:20260925T170000
DTEND;TZID=America/Vancouver:20260925T180000
DTSTAMP:20260422T154940
CREATED:20250227T172703Z
LAST-MODIFIED:20260221T003456Z
UID:10014789-1790355600-1790359200@blackrock-kadence.gotbdev.com
SUMMARY:Women’s Jiu Jitsu
DESCRIPTION:Designed for women of all skill levels\, our Women’s Jiu Jitsu class offers a supportive and empowering environment to learn self-defense\, improve technique\, and build confidence on the mat. Join us and train with a strong\, like-minded community!
URL:https://blackrock-kadence.gotbdev.com/event/womens-jiu-jitsu/2026-09-25/
CATEGORIES:Jiu Jitsu
ATTACH;FMTTYPE=image/png:https://blackrock-kadence.gotbdev.com/wp-content/uploads/2025/02/Screenshot-2025-02-27-at-9.26.32-AM.png
END:VEVENT
BEGIN:VEVENT
DTSTART;TZID=America/Vancouver:20260925T190000
DTEND;TZID=America/Vancouver:20260925T203000
DTSTAMP:20260422T154940
CREATED:20240917T180118Z
LAST-MODIFIED:20260221T003433Z
UID:10007122-1790362800-1790368200@blackrock-kadence.gotbdev.com
SUMMARY:Adult Jiu Jitsu
DESCRIPTION:Experience Adult No-Gi Jiu-Jitsu at Black Rock Martial Arts\, where you’ll master grappling techniques\, enhance your strength\, and build confidence in a supportive\, dynamic environment. Our classes focus on real-world self-defense\, agility\, and strategy\, making them ideal for both beginners and seasoned practitioners. Under the guidance of skilled instructors\, you’ll learn to control opponents\, execute submissions\, and refine your skills through live sparring. Whether you’re aiming for competition or personal growth\, our classes provide the challenge and community you need to excel.
URL:https://blackrock-kadence.gotbdev.com/event/adult-no-gi-jiu-jitsu/2026-09-25/
CATEGORIES:Jiu Jitsu
ATTACH;FMTTYPE=image/jpeg:https://blackrock-kadence.gotbdev.com/wp-content/uploads/2025/11/JAK0198-scaled-1-scaled.jpg
END:VEVENT
BEGIN:VEVENT
DTSTART;TZID=America/Vancouver:20260928T120000
DTEND;TZID=America/Vancouver:20260928T130000
DTSTAMP:20260422T154940
CREATED:20251105T222144Z
LAST-MODIFIED:20260221T002516Z
UID:10018469-1790596800-1790600400@blackrock-kadence.gotbdev.com
SUMMARY:Adult Jiu Jitsu
DESCRIPTION:Sharpen your skills\, build strength\, and boost confidence in this dynamic noon-hour class. Whether you’re a beginner or an experienced practitioner\, our Adult Jiu Jitsu sessions focus on technique\, conditioning\, and real-world application in a supportive and high-energy environment. Join us Mondays and Tuesdays from 12:00–1:00 PM on the main floor!
URL:https://blackrock-kadence.gotbdev.com/event/adult-jiu-jitsu-2/2026-09-28/
CATEGORIES:Jiu Jitsu
ATTACH;FMTTYPE=image/jpeg:https://blackrock-kadence.gotbdev.com/wp-content/uploads/2025/11/WPA4431-scaled-1-scaled.jpg
END:VEVENT
BEGIN:VEVENT
DTSTART;TZID=America/Vancouver:20260928T153000
DTEND;TZID=America/Vancouver:20260928T161500
DTSTAMP:20260422T154940
CREATED:20250902T163538Z
LAST-MODIFIED:20260221T002534Z
UID:10017316-1790609400-1790612100@blackrock-kadence.gotbdev.com
SUMMARY:Kids Jiu Jitsu (6–9 Years Old)
DESCRIPTION:Discover Kids Jiu-Jitsu at Black Rock Martial Arts\, designed for ages 6-9. Build strength\, confidence\, and self-defence skills through dynamic\, fun classes. Perfect for kids looking to stay active\, learn discipline\, and connect with peers in a supportive environment.
URL:https://blackrock-kadence.gotbdev.com/event/kids-jiu-jitsu-6-9-3/2026-09-28/
CATEGORIES:Jiu Jitsu
ATTACH;FMTTYPE=image/jpeg:https://blackrock-kadence.gotbdev.com/wp-content/uploads/2025/11/JAK0095-scaled-1-scaled.jpg
END:VEVENT
BEGIN:VEVENT
DTSTART;TZID=America/Vancouver:20260928T180000
DTEND;TZID=America/Vancouver:20260928T190000
DTSTAMP:20260422T154940
CREATED:20250307T004221Z
LAST-MODIFIED:20260221T002730Z
UID:10015181-1790618400-1790622000@blackrock-kadence.gotbdev.com
SUMMARY:Mezz: Jiu Jitsu Fundamentals
DESCRIPTION:Perfect for beginners and those looking to refine their technique\, our Jiu Jitsu Fundamentals class focuses on core movements\, essential positions\, and foundational strategies. Learn in a supportive environment while building strength\, flexibility\, and confidence on the mat.
URL:https://blackrock-kadence.gotbdev.com/event/jiu-jitsu-fundamentals-4-2/2026-09-28/
CATEGORIES:Jiu Jitsu
ATTACH;FMTTYPE=image/jpeg:https://blackrock-kadence.gotbdev.com/wp-content/uploads/2025/11/WPA4490-scaled-1-scaled.jpg
END:VEVENT
BEGIN:VEVENT
DTSTART;TZID=America/Vancouver:20260929T120000
DTEND;TZID=America/Vancouver:20260929T130000
DTSTAMP:20260422T154940
CREATED:20251105T222144Z
LAST-MODIFIED:20260221T002516Z
UID:10018470-1790683200-1790686800@blackrock-kadence.gotbdev.com
SUMMARY:Adult Jiu Jitsu
DESCRIPTION:Sharpen your skills\, build strength\, and boost confidence in this dynamic noon-hour class. Whether you’re a beginner or an experienced practitioner\, our Adult Jiu Jitsu sessions focus on technique\, conditioning\, and real-world application in a supportive and high-energy environment. Join us Mondays and Tuesdays from 12:00–1:00 PM on the main floor!
URL:https://blackrock-kadence.gotbdev.com/event/adult-jiu-jitsu-2/2026-09-29/
CATEGORIES:Jiu Jitsu
ATTACH;FMTTYPE=image/jpeg:https://blackrock-kadence.gotbdev.com/wp-content/uploads/2025/11/WPA4431-scaled-1-scaled.jpg
END:VEVENT
BEGIN:VEVENT
DTSTART;TZID=America/Vancouver:20260929T150000
DTEND;TZID=America/Vancouver:20260929T153000
DTSTAMP:20260422T154940
CREATED:20241218T065427Z
LAST-MODIFIED:20260221T002815Z
UID:10011789-1790694000-1790695800@blackrock-kadence.gotbdev.com
SUMMARY:Lil Ninjas (3-5yrs)
DESCRIPTION:Enroll your child in Lil Ninjas Taekwondo at Black Rock Martial Arts\, specially designed for ages 3-5! Our fun and engaging classes introduce young children to the basics of Taekwondo\, including simple kicks\, blocks\, and stances\, while promoting important life skills like focus\, listening\, and respect. With experienced instructors creating a playful\, supportive atmosphere\, your little ones will develop coordination\, balance\, and confidence. Perfect for young beginners\, our program encourages a love for martial arts while fostering social skills\, teamwork\, and a positive attitude in a safe and nurturing environment.
URL:https://blackrock-kadence.gotbdev.com/event/lil-ninjas-2-2-2/2026-09-29/
CATEGORIES:Jiu Jitsu
ATTACH;FMTTYPE=image/jpeg:https://blackrock-kadence.gotbdev.com/wp-content/uploads/2024/09/lil-ninjas-9.jpg
END:VEVENT
BEGIN:VEVENT
DTSTART;TZID=America/Vancouver:20260929T170000
DTEND;TZID=America/Vancouver:20260929T174500
DTSTAMP:20260422T154940
CREATED:20240911T172247Z
LAST-MODIFIED:20260221T003221Z
UID:10005349-1790701200-1790703900@blackrock-kadence.gotbdev.com
SUMMARY:Mezz: Kids Jiu Jitsu (6-9 Years Old)
DESCRIPTION:Enroll in Kids Jiu-Jitsu at Black Rock Martial Arts\, designed for ages 6-9! Our classes teach grappling techniques\, self-defense skills\, and body control while promoting confidence and discipline. Perfect for beginners and experienced kids in a fun\, supportive environment.
URL:https://blackrock-kadence.gotbdev.com/event/kids-no-gi-jiu-jitsu-6-11-3/2026-09-29/
CATEGORIES:Jiu Jitsu
ATTACH;FMTTYPE=image/jpeg:https://blackrock-kadence.gotbdev.com/wp-content/uploads/2025/11/JAK0049-scaled-1-scaled.jpg
END:VEVENT
BEGIN:VEVENT
DTSTART;TZID=America/Vancouver:20260929T190000
DTEND;TZID=America/Vancouver:20260929T203000
DTSTAMP:20260422T154940
CREATED:20240917T180118Z
LAST-MODIFIED:20260221T003433Z
UID:10007123-1790708400-1790713800@blackrock-kadence.gotbdev.com
SUMMARY:Adult Jiu Jitsu
DESCRIPTION:Experience Adult No-Gi Jiu-Jitsu at Black Rock Martial Arts\, where you’ll master grappling techniques\, enhance your strength\, and build confidence in a supportive\, dynamic environment. Our classes focus on real-world self-defense\, agility\, and strategy\, making them ideal for both beginners and seasoned practitioners. Under the guidance of skilled instructors\, you’ll learn to control opponents\, execute submissions\, and refine your skills through live sparring. Whether you’re aiming for competition or personal growth\, our classes provide the challenge and community you need to excel.
URL:https://blackrock-kadence.gotbdev.com/event/adult-no-gi-jiu-jitsu/2026-09-29/
CATEGORIES:Jiu Jitsu
ATTACH;FMTTYPE=image/jpeg:https://blackrock-kadence.gotbdev.com/wp-content/uploads/2025/11/JAK0198-scaled-1-scaled.jpg
END:VEVENT
BEGIN:VEVENT
DTSTART;TZID=America/Vancouver:20260930T153000
DTEND;TZID=America/Vancouver:20260930T161500
DTSTAMP:20260422T154940
CREATED:20250902T163538Z
LAST-MODIFIED:20260221T002534Z
UID:10017317-1790782200-1790784900@blackrock-kadence.gotbdev.com
SUMMARY:Kids Jiu Jitsu (6–9 Years Old)
DESCRIPTION:Discover Kids Jiu-Jitsu at Black Rock Martial Arts\, designed for ages 6-9. Build strength\, confidence\, and self-defence skills through dynamic\, fun classes. Perfect for kids looking to stay active\, learn discipline\, and connect with peers in a supportive environment.
URL:https://blackrock-kadence.gotbdev.com/event/kids-jiu-jitsu-6-9-3/2026-09-30/
CATEGORIES:Jiu Jitsu
ATTACH;FMTTYPE=image/jpeg:https://blackrock-kadence.gotbdev.com/wp-content/uploads/2025/11/JAK0095-scaled-1-scaled.jpg
END:VEVENT
BEGIN:VEVENT
DTSTART;TZID=America/Vancouver:20260930T180000
DTEND;TZID=America/Vancouver:20260930T190000
DTSTAMP:20260422T154940
CREATED:20250307T004221Z
LAST-MODIFIED:20260221T002730Z
UID:10015182-1790791200-1790794800@blackrock-kadence.gotbdev.com
SUMMARY:Mezz: Jiu Jitsu Fundamentals
DESCRIPTION:Perfect for beginners and those looking to refine their technique\, our Jiu Jitsu Fundamentals class focuses on core movements\, essential positions\, and foundational strategies. Learn in a supportive environment while building strength\, flexibility\, and confidence on the mat.
URL:https://blackrock-kadence.gotbdev.com/event/jiu-jitsu-fundamentals-4-2/2026-09-30/
CATEGORIES:Jiu Jitsu
ATTACH;FMTTYPE=image/jpeg:https://blackrock-kadence.gotbdev.com/wp-content/uploads/2025/11/WPA4490-scaled-1-scaled.jpg
END:VEVENT
BEGIN:VEVENT
DTSTART;TZID=America/Vancouver:20261001T170000
DTEND;TZID=America/Vancouver:20261001T174500
DTSTAMP:20260422T154940
CREATED:20240911T172247Z
LAST-MODIFIED:20260221T003221Z
UID:10005350-1790874000-1790876700@blackrock-kadence.gotbdev.com
SUMMARY:Mezz: Kids Jiu Jitsu (6-9 Years Old)
DESCRIPTION:Enroll in Kids Jiu-Jitsu at Black Rock Martial Arts\, designed for ages 6-9! Our classes teach grappling techniques\, self-defense skills\, and body control while promoting confidence and discipline. Perfect for beginners and experienced kids in a fun\, supportive environment.
URL:https://blackrock-kadence.gotbdev.com/event/kids-no-gi-jiu-jitsu-6-11-3/2026-10-01/
CATEGORIES:Jiu Jitsu
ATTACH;FMTTYPE=image/jpeg:https://blackrock-kadence.gotbdev.com/wp-content/uploads/2025/11/JAK0049-scaled-1-scaled.jpg
END:VEVENT
BEGIN:VEVENT
DTSTART;TZID=America/Vancouver:20261001T190000
DTEND;TZID=America/Vancouver:20261001T203000
DTSTAMP:20260422T154940
CREATED:20240917T180118Z
LAST-MODIFIED:20260221T003433Z
UID:10007124-1790881200-1790886600@blackrock-kadence.gotbdev.com
SUMMARY:Adult Jiu Jitsu
DESCRIPTION:Experience Adult No-Gi Jiu-Jitsu at Black Rock Martial Arts\, where you’ll master grappling techniques\, enhance your strength\, and build confidence in a supportive\, dynamic environment. Our classes focus on real-world self-defense\, agility\, and strategy\, making them ideal for both beginners and seasoned practitioners. Under the guidance of skilled instructors\, you’ll learn to control opponents\, execute submissions\, and refine your skills through live sparring. Whether you’re aiming for competition or personal growth\, our classes provide the challenge and community you need to excel.
URL:https://blackrock-kadence.gotbdev.com/event/adult-no-gi-jiu-jitsu/2026-10-01/
CATEGORIES:Jiu Jitsu
ATTACH;FMTTYPE=image/jpeg:https://blackrock-kadence.gotbdev.com/wp-content/uploads/2025/11/JAK0198-scaled-1-scaled.jpg
END:VEVENT
BEGIN:VEVENT
DTSTART;TZID=America/Vancouver:20261002T170000
DTEND;TZID=America/Vancouver:20261002T180000
DTSTAMP:20260422T154940
CREATED:20250227T172703Z
LAST-MODIFIED:20260221T003456Z
UID:10014790-1790960400-1790964000@blackrock-kadence.gotbdev.com
SUMMARY:Women’s Jiu Jitsu
DESCRIPTION:Designed for women of all skill levels\, our Women’s Jiu Jitsu class offers a supportive and empowering environment to learn self-defense\, improve technique\, and build confidence on the mat. Join us and train with a strong\, like-minded community!
URL:https://blackrock-kadence.gotbdev.com/event/womens-jiu-jitsu/2026-10-02/
CATEGORIES:Jiu Jitsu
ATTACH;FMTTYPE=image/png:https://blackrock-kadence.gotbdev.com/wp-content/uploads/2025/02/Screenshot-2025-02-27-at-9.26.32-AM.png
END:VEVENT
BEGIN:VEVENT
DTSTART;TZID=America/Vancouver:20261002T190000
DTEND;TZID=America/Vancouver:20261002T203000
DTSTAMP:20260422T154940
CREATED:20240917T180118Z
LAST-MODIFIED:20260221T003433Z
UID:10007125-1790967600-1790973000@blackrock-kadence.gotbdev.com
SUMMARY:Adult Jiu Jitsu
DESCRIPTION:Experience Adult No-Gi Jiu-Jitsu at Black Rock Martial Arts\, where you’ll master grappling techniques\, enhance your strength\, and build confidence in a supportive\, dynamic environment. Our classes focus on real-world self-defense\, agility\, and strategy\, making them ideal for both beginners and seasoned practitioners. Under the guidance of skilled instructors\, you’ll learn to control opponents\, execute submissions\, and refine your skills through live sparring. Whether you’re aiming for competition or personal growth\, our classes provide the challenge and community you need to excel.
URL:https://blackrock-kadence.gotbdev.com/event/adult-no-gi-jiu-jitsu/2026-10-02/
CATEGORIES:Jiu Jitsu
ATTACH;FMTTYPE=image/jpeg:https://blackrock-kadence.gotbdev.com/wp-content/uploads/2025/11/JAK0198-scaled-1-scaled.jpg
END:VEVENT
BEGIN:VEVENT
DTSTART;TZID=America/Vancouver:20261005T120000
DTEND;TZID=America/Vancouver:20261005T130000
DTSTAMP:20260422T154940
CREATED:20251105T222144Z
LAST-MODIFIED:20260221T002516Z
UID:10018471-1791201600-1791205200@blackrock-kadence.gotbdev.com
SUMMARY:Adult Jiu Jitsu
DESCRIPTION:Sharpen your skills\, build strength\, and boost confidence in this dynamic noon-hour class. Whether you’re a beginner or an experienced practitioner\, our Adult Jiu Jitsu sessions focus on technique\, conditioning\, and real-world application in a supportive and high-energy environment. Join us Mondays and Tuesdays from 12:00–1:00 PM on the main floor!
URL:https://blackrock-kadence.gotbdev.com/event/adult-jiu-jitsu-2/2026-10-05/
CATEGORIES:Jiu Jitsu
ATTACH;FMTTYPE=image/jpeg:https://blackrock-kadence.gotbdev.com/wp-content/uploads/2025/11/WPA4431-scaled-1-scaled.jpg
END:VEVENT
END:VCALENDAR