BEGIN:VCALENDAR
VERSION:2.0
PRODID:-// - ECPv6.15.20//NONSGML v1.0//EN
CALSCALE:GREGORIAN
METHOD:PUBLISH
X-ORIGINAL-URL:https://blackrock-kadence.gotbdev.com
X-WR-CALDESC:Events for 
REFRESH-INTERVAL;VALUE=DURATION:PT1H
X-Robots-Tag:noindex
X-PUBLISHED-TTL:PT1H
BEGIN:VTIMEZONE
TZID:America/Vancouver
BEGIN:DAYLIGHT
TZOFFSETFROM:-0800
TZOFFSETTO:-0700
TZNAME:PDT
DTSTART:20250309T100000
END:DAYLIGHT
BEGIN:STANDARD
TZOFFSETFROM:-0700
TZOFFSETTO:-0800
TZNAME:PST
DTSTART:20251102T090000
END:STANDARD
BEGIN:DAYLIGHT
TZOFFSETFROM:-0800
TZOFFSETTO:-0700
TZNAME:PDT
DTSTART:20260308T100000
END:DAYLIGHT
BEGIN:STANDARD
TZOFFSETFROM:-0700
TZOFFSETTO:-0800
TZNAME:PST
DTSTART:20261101T090000
END:STANDARD
BEGIN:DAYLIGHT
TZOFFSETFROM:-0800
TZOFFSETTO:-0700
TZNAME:PDT
DTSTART:20270314T100000
END:DAYLIGHT
BEGIN:STANDARD
TZOFFSETFROM:-0700
TZOFFSETTO:-0800
TZNAME:PST
DTSTART:20271107T090000
END:STANDARD
END:VTIMEZONE
BEGIN:VEVENT
DTSTART;TZID=America/Vancouver:20260616T090000
DTEND;TZID=America/Vancouver:20260616T100000
DTSTAMP:20260421T053147
CREATED:20241218T063936Z
LAST-MODIFIED:20260221T002821Z
UID:10011209-1781600400-1781604000@blackrock-kadence.gotbdev.com
SUMMARY:Adult Kickboxing
DESCRIPTION:Join our Adult Kickboxing classes at Black Rock Martial Arts and take your fitness to the next level! Perfect for all skill levels\, our classes combine powerful striking techniques\, dynamic drills\, and conditioning exercises to improve strength\, agility\, and self-defense skills. With experienced instructors and a supportive community\, you’ll build confidence\, enhance endurance\, and have fun in every session. Whether you’re a beginner or a seasoned athlete\, our kickboxing classes offer a high-energy workout tailored to help you achieve your personal fitness goals.
URL:https://blackrock-kadence.gotbdev.com/event/adult-kickboxing-4-2-2/2026-06-16/
CATEGORIES:Kickboxing
ATTACH;FMTTYPE=image/jpeg:https://blackrock-kadence.gotbdev.com/wp-content/uploads/2025/11/JAK00233-scaled-1-scaled.jpg
END:VEVENT
BEGIN:VEVENT
DTSTART;TZID=America/Vancouver:20260616T161500
DTEND;TZID=America/Vancouver:20260616T170000
DTSTAMP:20260421T053147
CREATED:20241218T073516Z
LAST-MODIFIED:20260221T002751Z
UID:10012173-1781626500-1781629200@blackrock-kadence.gotbdev.com
SUMMARY:Kids Kickboxing (7-11 Years Old)
DESCRIPTION:Join Kids Kickboxing at Black Rock Martial Arts\, specially designed for ages 7-11! Our high-energy classes focus on teaching essential self-defense techniques\, fitness\, and coordination skills\, all while building confidence\, discipline\, and respect. Kids will learn proper striking\, footwork\, and defensive moves in a fun\, engaging atmosphere that keeps them active and motivated. With experienced instructors and a supportive community\, children develop new skills\, make friends\, and enjoy a healthy outlet for their energy in a safe\, positive environment. Perfect for all experience levels\, our classes promote growth\, teamwork\, and a love for martial arts.
URL:https://blackrock-kadence.gotbdev.com/event/kids-kickboxing-2-2-2-2-2/2026-06-16/
CATEGORIES:Kickboxing
ATTACH;FMTTYPE=image/jpeg:https://blackrock-kadence.gotbdev.com/wp-content/uploads/2025/11/View-recent-photos.jpeg
END:VEVENT
BEGIN:VEVENT
DTSTART;TZID=America/Vancouver:20260616T170000
DTEND;TZID=America/Vancouver:20260616T180000
DTSTAMP:20260421T053147
CREATED:20240105T011440Z
LAST-MODIFIED:20260221T003227Z
UID:10004651-1781629200-1781632800@blackrock-kadence.gotbdev.com
SUMMARY:Teen Kickboxing
DESCRIPTION:Join Teen Kickboxing classes at Black Rock Martial Arts\, designed for ages 12-17! Our high-energy sessions combine kickboxing techniques with intense cardio workouts to boost fitness\, strength\, and endurance. Perfect for all skill levels\, these classes focus on improving coordination\, agility\, and confidence while having fun in a positive\, supportive environment. Led by experienced instructors\, teens will learn essential self-defense skills and enjoy a dynamic workout that keeps them motivated and engaged. Get fit\, make friends\, and feel empowered with Teen Kickboxing!
URL:https://blackrock-kadence.gotbdev.com/event/teen-kickboxing-5-6-pm/2026-06-16/
CATEGORIES:Kickboxing
ATTACH;FMTTYPE=image/jpeg:https://blackrock-kadence.gotbdev.com/wp-content/uploads/2024/09/teen-kickboxing-22.jpg
END:VEVENT
BEGIN:VEVENT
DTSTART;TZID=America/Vancouver:20260616T180000
DTEND;TZID=America/Vancouver:20260616T190000
DTSTAMP:20260421T053147
CREATED:20250701T010256Z
LAST-MODIFIED:20260221T002628Z
UID:10015741-1781632800-1781636400@blackrock-kadence.gotbdev.com
SUMMARY:Adult Kickboxing
DESCRIPTION:Join our Adult Kickboxing classes at Black Rock Martial Arts and take your fitness to the next level! Perfect for all skill levels\, our classes combine powerful striking techniques\, dynamic drills\, and conditioning exercises to improve strength\, agility\, and self-defense skills. With experienced instructors and a supportive community\, you’ll build confidence\, enhance endurance\, and have fun in every session. Whether you’re a beginner or a seasoned athlete\, our kickboxing classes offer a high-energy workout tailored to help you achieve your personal fitness goals.
URL:https://blackrock-kadence.gotbdev.com/event/adult-kickboxing-2-3/2026-06-16/
CATEGORIES:Kickboxing
ATTACH;FMTTYPE=image/jpeg:https://blackrock-kadence.gotbdev.com/wp-content/uploads/2025/11/WPA4375-scaled-1-scaled.jpg
END:VEVENT
END:VCALENDAR