BEGIN:VCALENDAR
VERSION:2.0
PRODID:-// - ECPv6.15.20//NONSGML v1.0//EN
CALSCALE:GREGORIAN
METHOD:PUBLISH
X-ORIGINAL-URL:https://blackrock-kadence.gotbdev.com
X-WR-CALDESC:Events for 
REFRESH-INTERVAL;VALUE=DURATION:PT1H
X-Robots-Tag:noindex
X-PUBLISHED-TTL:PT1H
BEGIN:VTIMEZONE
TZID:America/Vancouver
BEGIN:DAYLIGHT
TZOFFSETFROM:-0800
TZOFFSETTO:-0700
TZNAME:PDT
DTSTART:20260308T100000
END:DAYLIGHT
BEGIN:STANDARD
TZOFFSETFROM:-0700
TZOFFSETTO:-0800
TZNAME:PST
DTSTART:20261101T090000
END:STANDARD
BEGIN:DAYLIGHT
TZOFFSETFROM:-0800
TZOFFSETTO:-0700
TZNAME:PDT
DTSTART:20270314T100000
END:DAYLIGHT
BEGIN:STANDARD
TZOFFSETFROM:-0700
TZOFFSETTO:-0800
TZNAME:PST
DTSTART:20271107T090000
END:STANDARD
BEGIN:DAYLIGHT
TZOFFSETFROM:-0800
TZOFFSETTO:-0700
TZNAME:PDT
DTSTART:20280312T100000
END:DAYLIGHT
BEGIN:STANDARD
TZOFFSETFROM:-0700
TZOFFSETTO:-0800
TZNAME:PST
DTSTART:20281105T090000
END:STANDARD
BEGIN:DAYLIGHT
TZOFFSETFROM:-0800
TZOFFSETTO:-0700
TZNAME:PDT
DTSTART:20290311T100000
END:DAYLIGHT
BEGIN:STANDARD
TZOFFSETFROM:-0700
TZOFFSETTO:-0800
TZNAME:PST
DTSTART:20291104T090000
END:STANDARD
END:VTIMEZONE
BEGIN:VEVENT
DTSTART;TZID=America/Vancouver:20271007T180000
DTEND;TZID=America/Vancouver:20271007T190000
DTSTAMP:20260425T165855
CREATED:20240912T234812Z
LAST-MODIFIED:20260221T003154Z
UID:10006122-1822932000-1822935600@blackrock-kadence.gotbdev.com
SUMMARY:Mezz: Youth Jiu Jitsu (Ages 10-15)
DESCRIPTION:Discover Youth Jiu-Jitsu at Black Rock Martial Arts\, designed for ages 10-15. Build strength\, confidence\, and self-defense skills through dynamic\, fun classes. Perfect for teens looking to stay active\, learn discipline\, and connect with peers in a supportive environment.
URL:https://blackrock-kadence.gotbdev.com/event/teens-no-gi-jiu-jitsu-12-17-4/2027-10-07/
CATEGORIES:Kids Jiu Jitsu
ATTACH;FMTTYPE=image/jpeg:https://blackrock-kadence.gotbdev.com/wp-content/uploads/2025/11/JAK0147-scaled-1-scaled.jpg
END:VEVENT
BEGIN:VEVENT
DTSTART;TZID=America/Vancouver:20271012T180000
DTEND;TZID=America/Vancouver:20271012T190000
DTSTAMP:20260425T165855
CREATED:20240912T234812Z
LAST-MODIFIED:20260221T003154Z
UID:10006123-1823364000-1823367600@blackrock-kadence.gotbdev.com
SUMMARY:Mezz: Youth Jiu Jitsu (Ages 10-15)
DESCRIPTION:Discover Youth Jiu-Jitsu at Black Rock Martial Arts\, designed for ages 10-15. Build strength\, confidence\, and self-defense skills through dynamic\, fun classes. Perfect for teens looking to stay active\, learn discipline\, and connect with peers in a supportive environment.
URL:https://blackrock-kadence.gotbdev.com/event/teens-no-gi-jiu-jitsu-12-17-4/2027-10-12/
CATEGORIES:Kids Jiu Jitsu
ATTACH;FMTTYPE=image/jpeg:https://blackrock-kadence.gotbdev.com/wp-content/uploads/2025/11/JAK0147-scaled-1-scaled.jpg
END:VEVENT
BEGIN:VEVENT
DTSTART;TZID=America/Vancouver:20271014T180000
DTEND;TZID=America/Vancouver:20271014T190000
DTSTAMP:20260425T165855
CREATED:20240912T234812Z
LAST-MODIFIED:20260221T003154Z
UID:10006124-1823536800-1823540400@blackrock-kadence.gotbdev.com
SUMMARY:Mezz: Youth Jiu Jitsu (Ages 10-15)
DESCRIPTION:Discover Youth Jiu-Jitsu at Black Rock Martial Arts\, designed for ages 10-15. Build strength\, confidence\, and self-defense skills through dynamic\, fun classes. Perfect for teens looking to stay active\, learn discipline\, and connect with peers in a supportive environment.
URL:https://blackrock-kadence.gotbdev.com/event/teens-no-gi-jiu-jitsu-12-17-4/2027-10-14/
CATEGORIES:Kids Jiu Jitsu
ATTACH;FMTTYPE=image/jpeg:https://blackrock-kadence.gotbdev.com/wp-content/uploads/2025/11/JAK0147-scaled-1-scaled.jpg
END:VEVENT
BEGIN:VEVENT
DTSTART;TZID=America/Vancouver:20271019T180000
DTEND;TZID=America/Vancouver:20271019T190000
DTSTAMP:20260425T165855
CREATED:20240912T234812Z
LAST-MODIFIED:20260221T003154Z
UID:10006125-1823968800-1823972400@blackrock-kadence.gotbdev.com
SUMMARY:Mezz: Youth Jiu Jitsu (Ages 10-15)
DESCRIPTION:Discover Youth Jiu-Jitsu at Black Rock Martial Arts\, designed for ages 10-15. Build strength\, confidence\, and self-defense skills through dynamic\, fun classes. Perfect for teens looking to stay active\, learn discipline\, and connect with peers in a supportive environment.
URL:https://blackrock-kadence.gotbdev.com/event/teens-no-gi-jiu-jitsu-12-17-4/2027-10-19/
CATEGORIES:Kids Jiu Jitsu
ATTACH;FMTTYPE=image/jpeg:https://blackrock-kadence.gotbdev.com/wp-content/uploads/2025/11/JAK0147-scaled-1-scaled.jpg
END:VEVENT
BEGIN:VEVENT
DTSTART;TZID=America/Vancouver:20271021T180000
DTEND;TZID=America/Vancouver:20271021T190000
DTSTAMP:20260425T165855
CREATED:20240912T234812Z
LAST-MODIFIED:20260221T003154Z
UID:10006126-1824141600-1824145200@blackrock-kadence.gotbdev.com
SUMMARY:Mezz: Youth Jiu Jitsu (Ages 10-15)
DESCRIPTION:Discover Youth Jiu-Jitsu at Black Rock Martial Arts\, designed for ages 10-15. Build strength\, confidence\, and self-defense skills through dynamic\, fun classes. Perfect for teens looking to stay active\, learn discipline\, and connect with peers in a supportive environment.
URL:https://blackrock-kadence.gotbdev.com/event/teens-no-gi-jiu-jitsu-12-17-4/2027-10-21/
CATEGORIES:Kids Jiu Jitsu
ATTACH;FMTTYPE=image/jpeg:https://blackrock-kadence.gotbdev.com/wp-content/uploads/2025/11/JAK0147-scaled-1-scaled.jpg
END:VEVENT
BEGIN:VEVENT
DTSTART;TZID=America/Vancouver:20271026T180000
DTEND;TZID=America/Vancouver:20271026T190000
DTSTAMP:20260425T165855
CREATED:20240912T234812Z
LAST-MODIFIED:20260221T003154Z
UID:10006127-1824573600-1824577200@blackrock-kadence.gotbdev.com
SUMMARY:Mezz: Youth Jiu Jitsu (Ages 10-15)
DESCRIPTION:Discover Youth Jiu-Jitsu at Black Rock Martial Arts\, designed for ages 10-15. Build strength\, confidence\, and self-defense skills through dynamic\, fun classes. Perfect for teens looking to stay active\, learn discipline\, and connect with peers in a supportive environment.
URL:https://blackrock-kadence.gotbdev.com/event/teens-no-gi-jiu-jitsu-12-17-4/2027-10-26/
CATEGORIES:Kids Jiu Jitsu
ATTACH;FMTTYPE=image/jpeg:https://blackrock-kadence.gotbdev.com/wp-content/uploads/2025/11/JAK0147-scaled-1-scaled.jpg
END:VEVENT
BEGIN:VEVENT
DTSTART;TZID=America/Vancouver:20271028T180000
DTEND;TZID=America/Vancouver:20271028T190000
DTSTAMP:20260425T165855
CREATED:20240912T234812Z
LAST-MODIFIED:20260221T003154Z
UID:10006128-1824746400-1824750000@blackrock-kadence.gotbdev.com
SUMMARY:Mezz: Youth Jiu Jitsu (Ages 10-15)
DESCRIPTION:Discover Youth Jiu-Jitsu at Black Rock Martial Arts\, designed for ages 10-15. Build strength\, confidence\, and self-defense skills through dynamic\, fun classes. Perfect for teens looking to stay active\, learn discipline\, and connect with peers in a supportive environment.
URL:https://blackrock-kadence.gotbdev.com/event/teens-no-gi-jiu-jitsu-12-17-4/2027-10-28/
CATEGORIES:Kids Jiu Jitsu
ATTACH;FMTTYPE=image/jpeg:https://blackrock-kadence.gotbdev.com/wp-content/uploads/2025/11/JAK0147-scaled-1-scaled.jpg
END:VEVENT
BEGIN:VEVENT
DTSTART;TZID=America/Vancouver:20271102T180000
DTEND;TZID=America/Vancouver:20271102T190000
DTSTAMP:20260425T165855
CREATED:20240912T234812Z
LAST-MODIFIED:20260221T003154Z
UID:10006129-1825178400-1825182000@blackrock-kadence.gotbdev.com
SUMMARY:Mezz: Youth Jiu Jitsu (Ages 10-15)
DESCRIPTION:Discover Youth Jiu-Jitsu at Black Rock Martial Arts\, designed for ages 10-15. Build strength\, confidence\, and self-defense skills through dynamic\, fun classes. Perfect for teens looking to stay active\, learn discipline\, and connect with peers in a supportive environment.
URL:https://blackrock-kadence.gotbdev.com/event/teens-no-gi-jiu-jitsu-12-17-4/2027-11-02/
CATEGORIES:Kids Jiu Jitsu
ATTACH;FMTTYPE=image/jpeg:https://blackrock-kadence.gotbdev.com/wp-content/uploads/2025/11/JAK0147-scaled-1-scaled.jpg
END:VEVENT
BEGIN:VEVENT
DTSTART;TZID=America/Vancouver:20271104T180000
DTEND;TZID=America/Vancouver:20271104T190000
DTSTAMP:20260425T165855
CREATED:20240912T234812Z
LAST-MODIFIED:20260221T003154Z
UID:10006130-1825351200-1825354800@blackrock-kadence.gotbdev.com
SUMMARY:Mezz: Youth Jiu Jitsu (Ages 10-15)
DESCRIPTION:Discover Youth Jiu-Jitsu at Black Rock Martial Arts\, designed for ages 10-15. Build strength\, confidence\, and self-defense skills through dynamic\, fun classes. Perfect for teens looking to stay active\, learn discipline\, and connect with peers in a supportive environment.
URL:https://blackrock-kadence.gotbdev.com/event/teens-no-gi-jiu-jitsu-12-17-4/2027-11-04/
CATEGORIES:Kids Jiu Jitsu
ATTACH;FMTTYPE=image/jpeg:https://blackrock-kadence.gotbdev.com/wp-content/uploads/2025/11/JAK0147-scaled-1-scaled.jpg
END:VEVENT
BEGIN:VEVENT
DTSTART;TZID=America/Vancouver:20271109T180000
DTEND;TZID=America/Vancouver:20271109T190000
DTSTAMP:20260425T165855
CREATED:20240912T234812Z
LAST-MODIFIED:20260221T003154Z
UID:10006131-1825783200-1825786800@blackrock-kadence.gotbdev.com
SUMMARY:Mezz: Youth Jiu Jitsu (Ages 10-15)
DESCRIPTION:Discover Youth Jiu-Jitsu at Black Rock Martial Arts\, designed for ages 10-15. Build strength\, confidence\, and self-defense skills through dynamic\, fun classes. Perfect for teens looking to stay active\, learn discipline\, and connect with peers in a supportive environment.
URL:https://blackrock-kadence.gotbdev.com/event/teens-no-gi-jiu-jitsu-12-17-4/2027-11-09/
CATEGORIES:Kids Jiu Jitsu
ATTACH;FMTTYPE=image/jpeg:https://blackrock-kadence.gotbdev.com/wp-content/uploads/2025/11/JAK0147-scaled-1-scaled.jpg
END:VEVENT
BEGIN:VEVENT
DTSTART;TZID=America/Vancouver:20271111T180000
DTEND;TZID=America/Vancouver:20271111T190000
DTSTAMP:20260425T165855
CREATED:20240912T234812Z
LAST-MODIFIED:20260221T003154Z
UID:10006132-1825956000-1825959600@blackrock-kadence.gotbdev.com
SUMMARY:Mezz: Youth Jiu Jitsu (Ages 10-15)
DESCRIPTION:Discover Youth Jiu-Jitsu at Black Rock Martial Arts\, designed for ages 10-15. Build strength\, confidence\, and self-defense skills through dynamic\, fun classes. Perfect for teens looking to stay active\, learn discipline\, and connect with peers in a supportive environment.
URL:https://blackrock-kadence.gotbdev.com/event/teens-no-gi-jiu-jitsu-12-17-4/2027-11-11/
CATEGORIES:Kids Jiu Jitsu
ATTACH;FMTTYPE=image/jpeg:https://blackrock-kadence.gotbdev.com/wp-content/uploads/2025/11/JAK0147-scaled-1-scaled.jpg
END:VEVENT
BEGIN:VEVENT
DTSTART;TZID=America/Vancouver:20271116T180000
DTEND;TZID=America/Vancouver:20271116T190000
DTSTAMP:20260425T165855
CREATED:20240912T234812Z
LAST-MODIFIED:20260221T003154Z
UID:10006133-1826388000-1826391600@blackrock-kadence.gotbdev.com
SUMMARY:Mezz: Youth Jiu Jitsu (Ages 10-15)
DESCRIPTION:Discover Youth Jiu-Jitsu at Black Rock Martial Arts\, designed for ages 10-15. Build strength\, confidence\, and self-defense skills through dynamic\, fun classes. Perfect for teens looking to stay active\, learn discipline\, and connect with peers in a supportive environment.
URL:https://blackrock-kadence.gotbdev.com/event/teens-no-gi-jiu-jitsu-12-17-4/2027-11-16/
CATEGORIES:Kids Jiu Jitsu
ATTACH;FMTTYPE=image/jpeg:https://blackrock-kadence.gotbdev.com/wp-content/uploads/2025/11/JAK0147-scaled-1-scaled.jpg
END:VEVENT
BEGIN:VEVENT
DTSTART;TZID=America/Vancouver:20271118T180000
DTEND;TZID=America/Vancouver:20271118T190000
DTSTAMP:20260425T165855
CREATED:20240912T234812Z
LAST-MODIFIED:20260221T003154Z
UID:10006134-1826560800-1826564400@blackrock-kadence.gotbdev.com
SUMMARY:Mezz: Youth Jiu Jitsu (Ages 10-15)
DESCRIPTION:Discover Youth Jiu-Jitsu at Black Rock Martial Arts\, designed for ages 10-15. Build strength\, confidence\, and self-defense skills through dynamic\, fun classes. Perfect for teens looking to stay active\, learn discipline\, and connect with peers in a supportive environment.
URL:https://blackrock-kadence.gotbdev.com/event/teens-no-gi-jiu-jitsu-12-17-4/2027-11-18/
CATEGORIES:Kids Jiu Jitsu
ATTACH;FMTTYPE=image/jpeg:https://blackrock-kadence.gotbdev.com/wp-content/uploads/2025/11/JAK0147-scaled-1-scaled.jpg
END:VEVENT
BEGIN:VEVENT
DTSTART;TZID=America/Vancouver:20271123T180000
DTEND;TZID=America/Vancouver:20271123T190000
DTSTAMP:20260425T165855
CREATED:20240912T234812Z
LAST-MODIFIED:20260221T003154Z
UID:10006135-1826992800-1826996400@blackrock-kadence.gotbdev.com
SUMMARY:Mezz: Youth Jiu Jitsu (Ages 10-15)
DESCRIPTION:Discover Youth Jiu-Jitsu at Black Rock Martial Arts\, designed for ages 10-15. Build strength\, confidence\, and self-defense skills through dynamic\, fun classes. Perfect for teens looking to stay active\, learn discipline\, and connect with peers in a supportive environment.
URL:https://blackrock-kadence.gotbdev.com/event/teens-no-gi-jiu-jitsu-12-17-4/2027-11-23/
CATEGORIES:Kids Jiu Jitsu
ATTACH;FMTTYPE=image/jpeg:https://blackrock-kadence.gotbdev.com/wp-content/uploads/2025/11/JAK0147-scaled-1-scaled.jpg
END:VEVENT
BEGIN:VEVENT
DTSTART;TZID=America/Vancouver:20271125T180000
DTEND;TZID=America/Vancouver:20271125T190000
DTSTAMP:20260425T165855
CREATED:20240912T234812Z
LAST-MODIFIED:20260221T003154Z
UID:10006136-1827165600-1827169200@blackrock-kadence.gotbdev.com
SUMMARY:Mezz: Youth Jiu Jitsu (Ages 10-15)
DESCRIPTION:Discover Youth Jiu-Jitsu at Black Rock Martial Arts\, designed for ages 10-15. Build strength\, confidence\, and self-defense skills through dynamic\, fun classes. Perfect for teens looking to stay active\, learn discipline\, and connect with peers in a supportive environment.
URL:https://blackrock-kadence.gotbdev.com/event/teens-no-gi-jiu-jitsu-12-17-4/2027-11-25/
CATEGORIES:Kids Jiu Jitsu
ATTACH;FMTTYPE=image/jpeg:https://blackrock-kadence.gotbdev.com/wp-content/uploads/2025/11/JAK0147-scaled-1-scaled.jpg
END:VEVENT
BEGIN:VEVENT
DTSTART;TZID=America/Vancouver:20271130T180000
DTEND;TZID=America/Vancouver:20271130T190000
DTSTAMP:20260425T165855
CREATED:20240912T234812Z
LAST-MODIFIED:20260221T003154Z
UID:10006137-1827597600-1827601200@blackrock-kadence.gotbdev.com
SUMMARY:Mezz: Youth Jiu Jitsu (Ages 10-15)
DESCRIPTION:Discover Youth Jiu-Jitsu at Black Rock Martial Arts\, designed for ages 10-15. Build strength\, confidence\, and self-defense skills through dynamic\, fun classes. Perfect for teens looking to stay active\, learn discipline\, and connect with peers in a supportive environment.
URL:https://blackrock-kadence.gotbdev.com/event/teens-no-gi-jiu-jitsu-12-17-4/2027-11-30/
CATEGORIES:Kids Jiu Jitsu
ATTACH;FMTTYPE=image/jpeg:https://blackrock-kadence.gotbdev.com/wp-content/uploads/2025/11/JAK0147-scaled-1-scaled.jpg
END:VEVENT
BEGIN:VEVENT
DTSTART;TZID=America/Vancouver:20271202T180000
DTEND;TZID=America/Vancouver:20271202T190000
DTSTAMP:20260425T165855
CREATED:20240912T234812Z
LAST-MODIFIED:20260221T003154Z
UID:10006138-1827770400-1827774000@blackrock-kadence.gotbdev.com
SUMMARY:Mezz: Youth Jiu Jitsu (Ages 10-15)
DESCRIPTION:Discover Youth Jiu-Jitsu at Black Rock Martial Arts\, designed for ages 10-15. Build strength\, confidence\, and self-defense skills through dynamic\, fun classes. Perfect for teens looking to stay active\, learn discipline\, and connect with peers in a supportive environment.
URL:https://blackrock-kadence.gotbdev.com/event/teens-no-gi-jiu-jitsu-12-17-4/2027-12-02/
CATEGORIES:Kids Jiu Jitsu
ATTACH;FMTTYPE=image/jpeg:https://blackrock-kadence.gotbdev.com/wp-content/uploads/2025/11/JAK0147-scaled-1-scaled.jpg
END:VEVENT
BEGIN:VEVENT
DTSTART;TZID=America/Vancouver:20271207T180000
DTEND;TZID=America/Vancouver:20271207T190000
DTSTAMP:20260425T165855
CREATED:20240912T234812Z
LAST-MODIFIED:20260221T003154Z
UID:10006139-1828202400-1828206000@blackrock-kadence.gotbdev.com
SUMMARY:Mezz: Youth Jiu Jitsu (Ages 10-15)
DESCRIPTION:Discover Youth Jiu-Jitsu at Black Rock Martial Arts\, designed for ages 10-15. Build strength\, confidence\, and self-defense skills through dynamic\, fun classes. Perfect for teens looking to stay active\, learn discipline\, and connect with peers in a supportive environment.
URL:https://blackrock-kadence.gotbdev.com/event/teens-no-gi-jiu-jitsu-12-17-4/2027-12-07/
CATEGORIES:Kids Jiu Jitsu
ATTACH;FMTTYPE=image/jpeg:https://blackrock-kadence.gotbdev.com/wp-content/uploads/2025/11/JAK0147-scaled-1-scaled.jpg
END:VEVENT
BEGIN:VEVENT
DTSTART;TZID=America/Vancouver:20271209T180000
DTEND;TZID=America/Vancouver:20271209T190000
DTSTAMP:20260425T165855
CREATED:20240912T234812Z
LAST-MODIFIED:20260221T003154Z
UID:10006140-1828375200-1828378800@blackrock-kadence.gotbdev.com
SUMMARY:Mezz: Youth Jiu Jitsu (Ages 10-15)
DESCRIPTION:Discover Youth Jiu-Jitsu at Black Rock Martial Arts\, designed for ages 10-15. Build strength\, confidence\, and self-defense skills through dynamic\, fun classes. Perfect for teens looking to stay active\, learn discipline\, and connect with peers in a supportive environment.
URL:https://blackrock-kadence.gotbdev.com/event/teens-no-gi-jiu-jitsu-12-17-4/2027-12-09/
CATEGORIES:Kids Jiu Jitsu
ATTACH;FMTTYPE=image/jpeg:https://blackrock-kadence.gotbdev.com/wp-content/uploads/2025/11/JAK0147-scaled-1-scaled.jpg
END:VEVENT
BEGIN:VEVENT
DTSTART;TZID=America/Vancouver:20271214T180000
DTEND;TZID=America/Vancouver:20271214T190000
DTSTAMP:20260425T165855
CREATED:20240912T234812Z
LAST-MODIFIED:20260221T003154Z
UID:10006141-1828807200-1828810800@blackrock-kadence.gotbdev.com
SUMMARY:Mezz: Youth Jiu Jitsu (Ages 10-15)
DESCRIPTION:Discover Youth Jiu-Jitsu at Black Rock Martial Arts\, designed for ages 10-15. Build strength\, confidence\, and self-defense skills through dynamic\, fun classes. Perfect for teens looking to stay active\, learn discipline\, and connect with peers in a supportive environment.
URL:https://blackrock-kadence.gotbdev.com/event/teens-no-gi-jiu-jitsu-12-17-4/2027-12-14/
CATEGORIES:Kids Jiu Jitsu
ATTACH;FMTTYPE=image/jpeg:https://blackrock-kadence.gotbdev.com/wp-content/uploads/2025/11/JAK0147-scaled-1-scaled.jpg
END:VEVENT
BEGIN:VEVENT
DTSTART;TZID=America/Vancouver:20271216T180000
DTEND;TZID=America/Vancouver:20271216T190000
DTSTAMP:20260425T165855
CREATED:20240912T234812Z
LAST-MODIFIED:20260221T003154Z
UID:10006142-1828980000-1828983600@blackrock-kadence.gotbdev.com
SUMMARY:Mezz: Youth Jiu Jitsu (Ages 10-15)
DESCRIPTION:Discover Youth Jiu-Jitsu at Black Rock Martial Arts\, designed for ages 10-15. Build strength\, confidence\, and self-defense skills through dynamic\, fun classes. Perfect for teens looking to stay active\, learn discipline\, and connect with peers in a supportive environment.
URL:https://blackrock-kadence.gotbdev.com/event/teens-no-gi-jiu-jitsu-12-17-4/2027-12-16/
CATEGORIES:Kids Jiu Jitsu
ATTACH;FMTTYPE=image/jpeg:https://blackrock-kadence.gotbdev.com/wp-content/uploads/2025/11/JAK0147-scaled-1-scaled.jpg
END:VEVENT
BEGIN:VEVENT
DTSTART;TZID=America/Vancouver:20271221T180000
DTEND;TZID=America/Vancouver:20271221T190000
DTSTAMP:20260425T165855
CREATED:20240912T234812Z
LAST-MODIFIED:20260221T003154Z
UID:10006143-1829412000-1829415600@blackrock-kadence.gotbdev.com
SUMMARY:Mezz: Youth Jiu Jitsu (Ages 10-15)
DESCRIPTION:Discover Youth Jiu-Jitsu at Black Rock Martial Arts\, designed for ages 10-15. Build strength\, confidence\, and self-defense skills through dynamic\, fun classes. Perfect for teens looking to stay active\, learn discipline\, and connect with peers in a supportive environment.
URL:https://blackrock-kadence.gotbdev.com/event/teens-no-gi-jiu-jitsu-12-17-4/2027-12-21/
CATEGORIES:Kids Jiu Jitsu
ATTACH;FMTTYPE=image/jpeg:https://blackrock-kadence.gotbdev.com/wp-content/uploads/2025/11/JAK0147-scaled-1-scaled.jpg
END:VEVENT
BEGIN:VEVENT
DTSTART;TZID=America/Vancouver:20271223T180000
DTEND;TZID=America/Vancouver:20271223T190000
DTSTAMP:20260425T165855
CREATED:20240912T234812Z
LAST-MODIFIED:20260221T003154Z
UID:10006144-1829584800-1829588400@blackrock-kadence.gotbdev.com
SUMMARY:Mezz: Youth Jiu Jitsu (Ages 10-15)
DESCRIPTION:Discover Youth Jiu-Jitsu at Black Rock Martial Arts\, designed for ages 10-15. Build strength\, confidence\, and self-defense skills through dynamic\, fun classes. Perfect for teens looking to stay active\, learn discipline\, and connect with peers in a supportive environment.
URL:https://blackrock-kadence.gotbdev.com/event/teens-no-gi-jiu-jitsu-12-17-4/2027-12-23/
CATEGORIES:Kids Jiu Jitsu
ATTACH;FMTTYPE=image/jpeg:https://blackrock-kadence.gotbdev.com/wp-content/uploads/2025/11/JAK0147-scaled-1-scaled.jpg
END:VEVENT
BEGIN:VEVENT
DTSTART;TZID=America/Vancouver:20271228T180000
DTEND;TZID=America/Vancouver:20271228T190000
DTSTAMP:20260425T165855
CREATED:20240912T234812Z
LAST-MODIFIED:20260221T003154Z
UID:10006145-1830016800-1830020400@blackrock-kadence.gotbdev.com
SUMMARY:Mezz: Youth Jiu Jitsu (Ages 10-15)
DESCRIPTION:Discover Youth Jiu-Jitsu at Black Rock Martial Arts\, designed for ages 10-15. Build strength\, confidence\, and self-defense skills through dynamic\, fun classes. Perfect for teens looking to stay active\, learn discipline\, and connect with peers in a supportive environment.
URL:https://blackrock-kadence.gotbdev.com/event/teens-no-gi-jiu-jitsu-12-17-4/2027-12-28/
CATEGORIES:Kids Jiu Jitsu
ATTACH;FMTTYPE=image/jpeg:https://blackrock-kadence.gotbdev.com/wp-content/uploads/2025/11/JAK0147-scaled-1-scaled.jpg
END:VEVENT
BEGIN:VEVENT
DTSTART;TZID=America/Vancouver:20271230T180000
DTEND;TZID=America/Vancouver:20271230T190000
DTSTAMP:20260425T165855
CREATED:20240912T234812Z
LAST-MODIFIED:20260221T003154Z
UID:10006146-1830189600-1830193200@blackrock-kadence.gotbdev.com
SUMMARY:Mezz: Youth Jiu Jitsu (Ages 10-15)
DESCRIPTION:Discover Youth Jiu-Jitsu at Black Rock Martial Arts\, designed for ages 10-15. Build strength\, confidence\, and self-defense skills through dynamic\, fun classes. Perfect for teens looking to stay active\, learn discipline\, and connect with peers in a supportive environment.
URL:https://blackrock-kadence.gotbdev.com/event/teens-no-gi-jiu-jitsu-12-17-4/2027-12-30/
CATEGORIES:Kids Jiu Jitsu
ATTACH;FMTTYPE=image/jpeg:https://blackrock-kadence.gotbdev.com/wp-content/uploads/2025/11/JAK0147-scaled-1-scaled.jpg
END:VEVENT
BEGIN:VEVENT
DTSTART;TZID=America/Vancouver:20280104T180000
DTEND;TZID=America/Vancouver:20280104T190000
DTSTAMP:20260425T165855
CREATED:20240912T234812Z
LAST-MODIFIED:20260221T003154Z
UID:10006147-1830621600-1830625200@blackrock-kadence.gotbdev.com
SUMMARY:Mezz: Youth Jiu Jitsu (Ages 10-15)
DESCRIPTION:Discover Youth Jiu-Jitsu at Black Rock Martial Arts\, designed for ages 10-15. Build strength\, confidence\, and self-defense skills through dynamic\, fun classes. Perfect for teens looking to stay active\, learn discipline\, and connect with peers in a supportive environment.
URL:https://blackrock-kadence.gotbdev.com/event/teens-no-gi-jiu-jitsu-12-17-4/2028-01-04/
CATEGORIES:Kids Jiu Jitsu
ATTACH;FMTTYPE=image/jpeg:https://blackrock-kadence.gotbdev.com/wp-content/uploads/2025/11/JAK0147-scaled-1-scaled.jpg
END:VEVENT
BEGIN:VEVENT
DTSTART;TZID=America/Vancouver:20280106T180000
DTEND;TZID=America/Vancouver:20280106T190000
DTSTAMP:20260425T165855
CREATED:20240912T234812Z
LAST-MODIFIED:20260221T003154Z
UID:10006148-1830794400-1830798000@blackrock-kadence.gotbdev.com
SUMMARY:Mezz: Youth Jiu Jitsu (Ages 10-15)
DESCRIPTION:Discover Youth Jiu-Jitsu at Black Rock Martial Arts\, designed for ages 10-15. Build strength\, confidence\, and self-defense skills through dynamic\, fun classes. Perfect for teens looking to stay active\, learn discipline\, and connect with peers in a supportive environment.
URL:https://blackrock-kadence.gotbdev.com/event/teens-no-gi-jiu-jitsu-12-17-4/2028-01-06/
CATEGORIES:Kids Jiu Jitsu
ATTACH;FMTTYPE=image/jpeg:https://blackrock-kadence.gotbdev.com/wp-content/uploads/2025/11/JAK0147-scaled-1-scaled.jpg
END:VEVENT
BEGIN:VEVENT
DTSTART;TZID=America/Vancouver:20280111T180000
DTEND;TZID=America/Vancouver:20280111T190000
DTSTAMP:20260425T165855
CREATED:20240912T234812Z
LAST-MODIFIED:20260221T003154Z
UID:10006149-1831226400-1831230000@blackrock-kadence.gotbdev.com
SUMMARY:Mezz: Youth Jiu Jitsu (Ages 10-15)
DESCRIPTION:Discover Youth Jiu-Jitsu at Black Rock Martial Arts\, designed for ages 10-15. Build strength\, confidence\, and self-defense skills through dynamic\, fun classes. Perfect for teens looking to stay active\, learn discipline\, and connect with peers in a supportive environment.
URL:https://blackrock-kadence.gotbdev.com/event/teens-no-gi-jiu-jitsu-12-17-4/2028-01-11/
CATEGORIES:Kids Jiu Jitsu
ATTACH;FMTTYPE=image/jpeg:https://blackrock-kadence.gotbdev.com/wp-content/uploads/2025/11/JAK0147-scaled-1-scaled.jpg
END:VEVENT
BEGIN:VEVENT
DTSTART;TZID=America/Vancouver:20280113T180000
DTEND;TZID=America/Vancouver:20280113T190000
DTSTAMP:20260425T165855
CREATED:20240912T234812Z
LAST-MODIFIED:20260221T003154Z
UID:10006150-1831399200-1831402800@blackrock-kadence.gotbdev.com
SUMMARY:Mezz: Youth Jiu Jitsu (Ages 10-15)
DESCRIPTION:Discover Youth Jiu-Jitsu at Black Rock Martial Arts\, designed for ages 10-15. Build strength\, confidence\, and self-defense skills through dynamic\, fun classes. Perfect for teens looking to stay active\, learn discipline\, and connect with peers in a supportive environment.
URL:https://blackrock-kadence.gotbdev.com/event/teens-no-gi-jiu-jitsu-12-17-4/2028-01-13/
CATEGORIES:Kids Jiu Jitsu
ATTACH;FMTTYPE=image/jpeg:https://blackrock-kadence.gotbdev.com/wp-content/uploads/2025/11/JAK0147-scaled-1-scaled.jpg
END:VEVENT
BEGIN:VEVENT
DTSTART;TZID=America/Vancouver:20280118T180000
DTEND;TZID=America/Vancouver:20280118T190000
DTSTAMP:20260425T165855
CREATED:20240912T234812Z
LAST-MODIFIED:20260221T003154Z
UID:10006151-1831831200-1831834800@blackrock-kadence.gotbdev.com
SUMMARY:Mezz: Youth Jiu Jitsu (Ages 10-15)
DESCRIPTION:Discover Youth Jiu-Jitsu at Black Rock Martial Arts\, designed for ages 10-15. Build strength\, confidence\, and self-defense skills through dynamic\, fun classes. Perfect for teens looking to stay active\, learn discipline\, and connect with peers in a supportive environment.
URL:https://blackrock-kadence.gotbdev.com/event/teens-no-gi-jiu-jitsu-12-17-4/2028-01-18/
CATEGORIES:Kids Jiu Jitsu
ATTACH;FMTTYPE=image/jpeg:https://blackrock-kadence.gotbdev.com/wp-content/uploads/2025/11/JAK0147-scaled-1-scaled.jpg
END:VEVENT
END:VCALENDAR