BEGIN:VCALENDAR
VERSION:2.0
PRODID:-// - ECPv6.15.20//NONSGML v1.0//EN
CALSCALE:GREGORIAN
METHOD:PUBLISH
X-ORIGINAL-URL:https://blackrock-kadence.gotbdev.com
X-WR-CALDESC:Events for 
REFRESH-INTERVAL;VALUE=DURATION:PT1H
X-Robots-Tag:noindex
X-PUBLISHED-TTL:PT1H
BEGIN:VTIMEZONE
TZID:America/Vancouver
BEGIN:DAYLIGHT
TZOFFSETFROM:-0800
TZOFFSETTO:-0700
TZNAME:PDT
DTSTART:20250309T100000
END:DAYLIGHT
BEGIN:STANDARD
TZOFFSETFROM:-0700
TZOFFSETTO:-0800
TZNAME:PST
DTSTART:20251102T090000
END:STANDARD
BEGIN:DAYLIGHT
TZOFFSETFROM:-0800
TZOFFSETTO:-0700
TZNAME:PDT
DTSTART:20260308T100000
END:DAYLIGHT
BEGIN:STANDARD
TZOFFSETFROM:-0700
TZOFFSETTO:-0800
TZNAME:PST
DTSTART:20261101T090000
END:STANDARD
BEGIN:DAYLIGHT
TZOFFSETFROM:-0800
TZOFFSETTO:-0700
TZNAME:PDT
DTSTART:20270314T100000
END:DAYLIGHT
BEGIN:STANDARD
TZOFFSETFROM:-0700
TZOFFSETTO:-0800
TZNAME:PST
DTSTART:20271107T090000
END:STANDARD
END:VTIMEZONE
BEGIN:VEVENT
DTSTART;TZID=America/Vancouver:20260317T180000
DTEND;TZID=America/Vancouver:20260317T190000
DTSTAMP:20260421T060001
CREATED:20240912T234812Z
LAST-MODIFIED:20260221T003154Z
UID:10005959-1773770400-1773774000@blackrock-kadence.gotbdev.com
SUMMARY:Mezz: Youth Jiu Jitsu (Ages 10-15)
DESCRIPTION:Discover Youth Jiu-Jitsu at Black Rock Martial Arts\, designed for ages 10-15. Build strength\, confidence\, and self-defense skills through dynamic\, fun classes. Perfect for teens looking to stay active\, learn discipline\, and connect with peers in a supportive environment.
URL:https://blackrock-kadence.gotbdev.com/event/teens-no-gi-jiu-jitsu-12-17-4/2026-03-17/
CATEGORIES:Kids Jiu Jitsu
ATTACH;FMTTYPE=image/jpeg:https://blackrock-kadence.gotbdev.com/wp-content/uploads/2025/11/JAK0147-scaled-1-scaled.jpg
END:VEVENT
BEGIN:VEVENT
DTSTART;TZID=America/Vancouver:20260319T180000
DTEND;TZID=America/Vancouver:20260319T190000
DTSTAMP:20260421T060001
CREATED:20240912T234812Z
LAST-MODIFIED:20260221T003154Z
UID:10005960-1773943200-1773946800@blackrock-kadence.gotbdev.com
SUMMARY:Mezz: Youth Jiu Jitsu (Ages 10-15)
DESCRIPTION:Discover Youth Jiu-Jitsu at Black Rock Martial Arts\, designed for ages 10-15. Build strength\, confidence\, and self-defense skills through dynamic\, fun classes. Perfect for teens looking to stay active\, learn discipline\, and connect with peers in a supportive environment.
URL:https://blackrock-kadence.gotbdev.com/event/teens-no-gi-jiu-jitsu-12-17-4/2026-03-19/
CATEGORIES:Kids Jiu Jitsu
ATTACH;FMTTYPE=image/jpeg:https://blackrock-kadence.gotbdev.com/wp-content/uploads/2025/11/JAK0147-scaled-1-scaled.jpg
END:VEVENT
END:VCALENDAR