BEGIN:VCALENDAR
VERSION:2.0
PRODID:-// - ECPv6.15.20//NONSGML v1.0//EN
CALSCALE:GREGORIAN
METHOD:PUBLISH
X-ORIGINAL-URL:https://blackrock-kadence.gotbdev.com
X-WR-CALDESC:Events for 
REFRESH-INTERVAL;VALUE=DURATION:PT1H
X-Robots-Tag:noindex
X-PUBLISHED-TTL:PT1H
BEGIN:VTIMEZONE
TZID:America/Vancouver
BEGIN:DAYLIGHT
TZOFFSETFROM:-0800
TZOFFSETTO:-0700
TZNAME:PDT
DTSTART:20250309T100000
END:DAYLIGHT
BEGIN:STANDARD
TZOFFSETFROM:-0700
TZOFFSETTO:-0800
TZNAME:PST
DTSTART:20251102T090000
END:STANDARD
BEGIN:DAYLIGHT
TZOFFSETFROM:-0800
TZOFFSETTO:-0700
TZNAME:PDT
DTSTART:20260308T100000
END:DAYLIGHT
BEGIN:STANDARD
TZOFFSETFROM:-0700
TZOFFSETTO:-0800
TZNAME:PST
DTSTART:20261101T090000
END:STANDARD
BEGIN:DAYLIGHT
TZOFFSETFROM:-0800
TZOFFSETTO:-0700
TZNAME:PDT
DTSTART:20270314T100000
END:DAYLIGHT
BEGIN:STANDARD
TZOFFSETFROM:-0700
TZOFFSETTO:-0800
TZNAME:PST
DTSTART:20271107T090000
END:STANDARD
END:VTIMEZONE
BEGIN:VEVENT
DTSTART;TZID=America/Vancouver:20261002T060000
DTEND;TZID=America/Vancouver:20261002T070000
DTSTAMP:20260423T021415
CREATED:20260205T210122Z
LAST-MODIFIED:20260221T002510Z
UID:10019569-1790920800-1790924400@blackrock-kadence.gotbdev.com
SUMMARY:Strength and Conditioning
DESCRIPTION:Our Strength & Conditioning class is designed to help you move better\, get stronger\, and build real-world athletic performance in a supportive\, high-energy environment. Each session combines functional strength training\, conditioning circuits\, and mobility work to improve power\, endurance\, and overall fitness. Whether you’re an athlete looking to elevate your performance or someone who simply wants to feel stronger and more confident in everyday life\, our structured\, coach-led workouts are scalable to all fitness levels. At Black Rock\, we focus on proper technique\, progressive programming\, and pushing you to reach your full potential safely and effectively. Join us from 6-7am on Wednesday’s and Fridays!
URL:https://blackrock-kadence.gotbdev.com/event/strength-and-conditioning/2026-10-02/
CATEGORIES:Strength & Conditioning
END:VEVENT
BEGIN:VEVENT
DTSTART;TZID=America/Vancouver:20261007T060000
DTEND;TZID=America/Vancouver:20261007T070000
DTSTAMP:20260423T021415
CREATED:20260205T210122Z
LAST-MODIFIED:20260221T002510Z
UID:10019570-1791352800-1791356400@blackrock-kadence.gotbdev.com
SUMMARY:Strength and Conditioning
DESCRIPTION:Our Strength & Conditioning class is designed to help you move better\, get stronger\, and build real-world athletic performance in a supportive\, high-energy environment. Each session combines functional strength training\, conditioning circuits\, and mobility work to improve power\, endurance\, and overall fitness. Whether you’re an athlete looking to elevate your performance or someone who simply wants to feel stronger and more confident in everyday life\, our structured\, coach-led workouts are scalable to all fitness levels. At Black Rock\, we focus on proper technique\, progressive programming\, and pushing you to reach your full potential safely and effectively. Join us from 6-7am on Wednesday’s and Fridays!
URL:https://blackrock-kadence.gotbdev.com/event/strength-and-conditioning/2026-10-07/
CATEGORIES:Strength & Conditioning
END:VEVENT
BEGIN:VEVENT
DTSTART;TZID=America/Vancouver:20261009T060000
DTEND;TZID=America/Vancouver:20261009T070000
DTSTAMP:20260423T021415
CREATED:20260205T210122Z
LAST-MODIFIED:20260221T002510Z
UID:10019571-1791525600-1791529200@blackrock-kadence.gotbdev.com
SUMMARY:Strength and Conditioning
DESCRIPTION:Our Strength & Conditioning class is designed to help you move better\, get stronger\, and build real-world athletic performance in a supportive\, high-energy environment. Each session combines functional strength training\, conditioning circuits\, and mobility work to improve power\, endurance\, and overall fitness. Whether you’re an athlete looking to elevate your performance or someone who simply wants to feel stronger and more confident in everyday life\, our structured\, coach-led workouts are scalable to all fitness levels. At Black Rock\, we focus on proper technique\, progressive programming\, and pushing you to reach your full potential safely and effectively. Join us from 6-7am on Wednesday’s and Fridays!
URL:https://blackrock-kadence.gotbdev.com/event/strength-and-conditioning/2026-10-09/
CATEGORIES:Strength & Conditioning
END:VEVENT
BEGIN:VEVENT
DTSTART;TZID=America/Vancouver:20261014T060000
DTEND;TZID=America/Vancouver:20261014T070000
DTSTAMP:20260423T021415
CREATED:20260205T210122Z
LAST-MODIFIED:20260221T002510Z
UID:10019572-1791957600-1791961200@blackrock-kadence.gotbdev.com
SUMMARY:Strength and Conditioning
DESCRIPTION:Our Strength & Conditioning class is designed to help you move better\, get stronger\, and build real-world athletic performance in a supportive\, high-energy environment. Each session combines functional strength training\, conditioning circuits\, and mobility work to improve power\, endurance\, and overall fitness. Whether you’re an athlete looking to elevate your performance or someone who simply wants to feel stronger and more confident in everyday life\, our structured\, coach-led workouts are scalable to all fitness levels. At Black Rock\, we focus on proper technique\, progressive programming\, and pushing you to reach your full potential safely and effectively. Join us from 6-7am on Wednesday’s and Fridays!
URL:https://blackrock-kadence.gotbdev.com/event/strength-and-conditioning/2026-10-14/
CATEGORIES:Strength & Conditioning
END:VEVENT
BEGIN:VEVENT
DTSTART;TZID=America/Vancouver:20261016T060000
DTEND;TZID=America/Vancouver:20261016T070000
DTSTAMP:20260423T021415
CREATED:20260205T210122Z
LAST-MODIFIED:20260221T002510Z
UID:10019573-1792130400-1792134000@blackrock-kadence.gotbdev.com
SUMMARY:Strength and Conditioning
DESCRIPTION:Our Strength & Conditioning class is designed to help you move better\, get stronger\, and build real-world athletic performance in a supportive\, high-energy environment. Each session combines functional strength training\, conditioning circuits\, and mobility work to improve power\, endurance\, and overall fitness. Whether you’re an athlete looking to elevate your performance or someone who simply wants to feel stronger and more confident in everyday life\, our structured\, coach-led workouts are scalable to all fitness levels. At Black Rock\, we focus on proper technique\, progressive programming\, and pushing you to reach your full potential safely and effectively. Join us from 6-7am on Wednesday’s and Fridays!
URL:https://blackrock-kadence.gotbdev.com/event/strength-and-conditioning/2026-10-16/
CATEGORIES:Strength & Conditioning
END:VEVENT
BEGIN:VEVENT
DTSTART;TZID=America/Vancouver:20261021T060000
DTEND;TZID=America/Vancouver:20261021T070000
DTSTAMP:20260423T021415
CREATED:20260205T210122Z
LAST-MODIFIED:20260221T002510Z
UID:10019574-1792562400-1792566000@blackrock-kadence.gotbdev.com
SUMMARY:Strength and Conditioning
DESCRIPTION:Our Strength & Conditioning class is designed to help you move better\, get stronger\, and build real-world athletic performance in a supportive\, high-energy environment. Each session combines functional strength training\, conditioning circuits\, and mobility work to improve power\, endurance\, and overall fitness. Whether you’re an athlete looking to elevate your performance or someone who simply wants to feel stronger and more confident in everyday life\, our structured\, coach-led workouts are scalable to all fitness levels. At Black Rock\, we focus on proper technique\, progressive programming\, and pushing you to reach your full potential safely and effectively. Join us from 6-7am on Wednesday’s and Fridays!
URL:https://blackrock-kadence.gotbdev.com/event/strength-and-conditioning/2026-10-21/
CATEGORIES:Strength & Conditioning
END:VEVENT
BEGIN:VEVENT
DTSTART;TZID=America/Vancouver:20261023T060000
DTEND;TZID=America/Vancouver:20261023T070000
DTSTAMP:20260423T021415
CREATED:20260205T210122Z
LAST-MODIFIED:20260221T002510Z
UID:10019575-1792735200-1792738800@blackrock-kadence.gotbdev.com
SUMMARY:Strength and Conditioning
DESCRIPTION:Our Strength & Conditioning class is designed to help you move better\, get stronger\, and build real-world athletic performance in a supportive\, high-energy environment. Each session combines functional strength training\, conditioning circuits\, and mobility work to improve power\, endurance\, and overall fitness. Whether you’re an athlete looking to elevate your performance or someone who simply wants to feel stronger and more confident in everyday life\, our structured\, coach-led workouts are scalable to all fitness levels. At Black Rock\, we focus on proper technique\, progressive programming\, and pushing you to reach your full potential safely and effectively. Join us from 6-7am on Wednesday’s and Fridays!
URL:https://blackrock-kadence.gotbdev.com/event/strength-and-conditioning/2026-10-23/
CATEGORIES:Strength & Conditioning
END:VEVENT
BEGIN:VEVENT
DTSTART;TZID=America/Vancouver:20261028T060000
DTEND;TZID=America/Vancouver:20261028T070000
DTSTAMP:20260423T021415
CREATED:20260205T210122Z
LAST-MODIFIED:20260221T002510Z
UID:10019576-1793167200-1793170800@blackrock-kadence.gotbdev.com
SUMMARY:Strength and Conditioning
DESCRIPTION:Our Strength & Conditioning class is designed to help you move better\, get stronger\, and build real-world athletic performance in a supportive\, high-energy environment. Each session combines functional strength training\, conditioning circuits\, and mobility work to improve power\, endurance\, and overall fitness. Whether you’re an athlete looking to elevate your performance or someone who simply wants to feel stronger and more confident in everyday life\, our structured\, coach-led workouts are scalable to all fitness levels. At Black Rock\, we focus on proper technique\, progressive programming\, and pushing you to reach your full potential safely and effectively. Join us from 6-7am on Wednesday’s and Fridays!
URL:https://blackrock-kadence.gotbdev.com/event/strength-and-conditioning/2026-10-28/
CATEGORIES:Strength & Conditioning
END:VEVENT
BEGIN:VEVENT
DTSTART;TZID=America/Vancouver:20261030T060000
DTEND;TZID=America/Vancouver:20261030T070000
DTSTAMP:20260423T021415
CREATED:20260205T210122Z
LAST-MODIFIED:20260221T002510Z
UID:10019577-1793340000-1793343600@blackrock-kadence.gotbdev.com
SUMMARY:Strength and Conditioning
DESCRIPTION:Our Strength & Conditioning class is designed to help you move better\, get stronger\, and build real-world athletic performance in a supportive\, high-energy environment. Each session combines functional strength training\, conditioning circuits\, and mobility work to improve power\, endurance\, and overall fitness. Whether you’re an athlete looking to elevate your performance or someone who simply wants to feel stronger and more confident in everyday life\, our structured\, coach-led workouts are scalable to all fitness levels. At Black Rock\, we focus on proper technique\, progressive programming\, and pushing you to reach your full potential safely and effectively. Join us from 6-7am on Wednesday’s and Fridays!
URL:https://blackrock-kadence.gotbdev.com/event/strength-and-conditioning/2026-10-30/
CATEGORIES:Strength & Conditioning
END:VEVENT
END:VCALENDAR