BEGIN:VCALENDAR
VERSION:2.0
PRODID:-// - ECPv6.15.20//NONSGML v1.0//EN
CALSCALE:GREGORIAN
METHOD:PUBLISH
X-ORIGINAL-URL:https://blackrock-kadence.gotbdev.com
X-WR-CALDESC:Events for 
REFRESH-INTERVAL;VALUE=DURATION:PT1H
X-Robots-Tag:noindex
X-PUBLISHED-TTL:PT1H
BEGIN:VTIMEZONE
TZID:America/Vancouver
BEGIN:DAYLIGHT
TZOFFSETFROM:-0800
TZOFFSETTO:-0700
TZNAME:PDT
DTSTART:20250309T100000
END:DAYLIGHT
BEGIN:STANDARD
TZOFFSETFROM:-0700
TZOFFSETTO:-0800
TZNAME:PST
DTSTART:20251102T090000
END:STANDARD
BEGIN:DAYLIGHT
TZOFFSETFROM:-0800
TZOFFSETTO:-0700
TZNAME:PDT
DTSTART:20260308T100000
END:DAYLIGHT
BEGIN:STANDARD
TZOFFSETFROM:-0700
TZOFFSETTO:-0800
TZNAME:PST
DTSTART:20261101T090000
END:STANDARD
BEGIN:DAYLIGHT
TZOFFSETFROM:-0800
TZOFFSETTO:-0700
TZNAME:PDT
DTSTART:20270314T100000
END:DAYLIGHT
BEGIN:STANDARD
TZOFFSETFROM:-0700
TZOFFSETTO:-0800
TZNAME:PST
DTSTART:20271107T090000
END:STANDARD
END:VTIMEZONE
BEGIN:VEVENT
DTSTART;TZID=America/Vancouver:20260421T153000
DTEND;TZID=America/Vancouver:20260421T161500
DTSTAMP:20260420T222649
CREATED:20250122T231701Z
LAST-MODIFIED:20260221T002745Z
UID:10013882-1776785400-1776788100@blackrock-kadence.gotbdev.com
SUMMARY:Kids Taekwondo (5-7 Years Old)
DESCRIPTION:Enroll your child in Kids Taekwondo at Black Rock Martial Arts\, designed for ages 5-7! Our fun and engaging classes introduce the basics of Taekwondo\, including kicks\, blocks\, and forms\, while fostering focus\, confidence\, and discipline. With a supportive environment\, your child will learn and grow while having fun.
URL:https://blackrock-kadence.gotbdev.com/event/kids-taekwondo-5-7-years-old-2-3-2-2-2/2026-04-21/
CATEGORIES:Taekwondo
ATTACH;FMTTYPE=image/jpeg:https://blackrock-kadence.gotbdev.com/wp-content/uploads/2024/09/kids-kickboxing-1.jpg
END:VEVENT
BEGIN:VEVENT
DTSTART;TZID=America/Vancouver:20260422T161500
DTEND;TZID=America/Vancouver:20260422T170000
DTSTAMP:20260420T222649
CREATED:20241218T061033Z
LAST-MODIFIED:20260221T003420Z
UID:10009912-1776874500-1776877200@blackrock-kadence.gotbdev.com
SUMMARY:Kids Taekwondo (8-12 Years Old)
DESCRIPTION:Enroll in Kids Intermediate Taekwondo at Black Rock Martial Arts\, designed for ages 8-12! Our classes help kids refine their techniques\, build strength\, and improve focus while advancing their Taekwondo skills. Perfect for those with some experience\, these sessions offer a fun\, motivating environment for growth.
URL:https://blackrock-kadence.gotbdev.com/event/kids-taekwondo-8-12-years-old-2-2/2026-04-22/
CATEGORIES:Taekwondo
ATTACH;FMTTYPE=image/jpeg:https://blackrock-kadence.gotbdev.com/wp-content/uploads/2024/09/kids-kickboxing-2.jpg
END:VEVENT
BEGIN:VEVENT
DTSTART;TZID=America/Vancouver:20260423T153000
DTEND;TZID=America/Vancouver:20260423T161500
DTSTAMP:20260420T222649
CREATED:20250122T231701Z
LAST-MODIFIED:20260221T002745Z
UID:10013883-1776958200-1776960900@blackrock-kadence.gotbdev.com
SUMMARY:Kids Taekwondo (5-7 Years Old)
DESCRIPTION:Enroll your child in Kids Taekwondo at Black Rock Martial Arts\, designed for ages 5-7! Our fun and engaging classes introduce the basics of Taekwondo\, including kicks\, blocks\, and forms\, while fostering focus\, confidence\, and discipline. With a supportive environment\, your child will learn and grow while having fun.
URL:https://blackrock-kadence.gotbdev.com/event/kids-taekwondo-5-7-years-old-2-3-2-2-2/2026-04-23/
CATEGORIES:Taekwondo
ATTACH;FMTTYPE=image/jpeg:https://blackrock-kadence.gotbdev.com/wp-content/uploads/2024/09/kids-kickboxing-1.jpg
END:VEVENT
BEGIN:VEVENT
DTSTART;TZID=America/Vancouver:20260427T161500
DTEND;TZID=America/Vancouver:20260427T170000
DTSTAMP:20260420T222649
CREATED:20241218T061033Z
LAST-MODIFIED:20260221T003420Z
UID:10009913-1777306500-1777309200@blackrock-kadence.gotbdev.com
SUMMARY:Kids Taekwondo (8-12 Years Old)
DESCRIPTION:Enroll in Kids Intermediate Taekwondo at Black Rock Martial Arts\, designed for ages 8-12! Our classes help kids refine their techniques\, build strength\, and improve focus while advancing their Taekwondo skills. Perfect for those with some experience\, these sessions offer a fun\, motivating environment for growth.
URL:https://blackrock-kadence.gotbdev.com/event/kids-taekwondo-8-12-years-old-2-2/2026-04-27/
CATEGORIES:Taekwondo
ATTACH;FMTTYPE=image/jpeg:https://blackrock-kadence.gotbdev.com/wp-content/uploads/2024/09/kids-kickboxing-2.jpg
END:VEVENT
BEGIN:VEVENT
DTSTART;TZID=America/Vancouver:20260428T153000
DTEND;TZID=America/Vancouver:20260428T161500
DTSTAMP:20260420T222649
CREATED:20250122T231701Z
LAST-MODIFIED:20260221T002745Z
UID:10013884-1777390200-1777392900@blackrock-kadence.gotbdev.com
SUMMARY:Kids Taekwondo (5-7 Years Old)
DESCRIPTION:Enroll your child in Kids Taekwondo at Black Rock Martial Arts\, designed for ages 5-7! Our fun and engaging classes introduce the basics of Taekwondo\, including kicks\, blocks\, and forms\, while fostering focus\, confidence\, and discipline. With a supportive environment\, your child will learn and grow while having fun.
URL:https://blackrock-kadence.gotbdev.com/event/kids-taekwondo-5-7-years-old-2-3-2-2-2/2026-04-28/
CATEGORIES:Taekwondo
ATTACH;FMTTYPE=image/jpeg:https://blackrock-kadence.gotbdev.com/wp-content/uploads/2024/09/kids-kickboxing-1.jpg
END:VEVENT
BEGIN:VEVENT
DTSTART;TZID=America/Vancouver:20260429T161500
DTEND;TZID=America/Vancouver:20260429T170000
DTSTAMP:20260420T222649
CREATED:20241218T061033Z
LAST-MODIFIED:20260221T003420Z
UID:10009914-1777479300-1777482000@blackrock-kadence.gotbdev.com
SUMMARY:Kids Taekwondo (8-12 Years Old)
DESCRIPTION:Enroll in Kids Intermediate Taekwondo at Black Rock Martial Arts\, designed for ages 8-12! Our classes help kids refine their techniques\, build strength\, and improve focus while advancing their Taekwondo skills. Perfect for those with some experience\, these sessions offer a fun\, motivating environment for growth.
URL:https://blackrock-kadence.gotbdev.com/event/kids-taekwondo-8-12-years-old-2-2/2026-04-29/
CATEGORIES:Taekwondo
ATTACH;FMTTYPE=image/jpeg:https://blackrock-kadence.gotbdev.com/wp-content/uploads/2024/09/kids-kickboxing-2.jpg
END:VEVENT
BEGIN:VEVENT
DTSTART;TZID=America/Vancouver:20260430T153000
DTEND;TZID=America/Vancouver:20260430T161500
DTSTAMP:20260420T222649
CREATED:20250122T231701Z
LAST-MODIFIED:20260221T002745Z
UID:10013885-1777563000-1777565700@blackrock-kadence.gotbdev.com
SUMMARY:Kids Taekwondo (5-7 Years Old)
DESCRIPTION:Enroll your child in Kids Taekwondo at Black Rock Martial Arts\, designed for ages 5-7! Our fun and engaging classes introduce the basics of Taekwondo\, including kicks\, blocks\, and forms\, while fostering focus\, confidence\, and discipline. With a supportive environment\, your child will learn and grow while having fun.
URL:https://blackrock-kadence.gotbdev.com/event/kids-taekwondo-5-7-years-old-2-3-2-2-2/2026-04-30/
CATEGORIES:Taekwondo
ATTACH;FMTTYPE=image/jpeg:https://blackrock-kadence.gotbdev.com/wp-content/uploads/2024/09/kids-kickboxing-1.jpg
END:VEVENT
BEGIN:VEVENT
DTSTART;TZID=America/Vancouver:20260504T161500
DTEND;TZID=America/Vancouver:20260504T170000
DTSTAMP:20260420T222649
CREATED:20241218T061033Z
LAST-MODIFIED:20260221T003420Z
UID:10009915-1777911300-1777914000@blackrock-kadence.gotbdev.com
SUMMARY:Kids Taekwondo (8-12 Years Old)
DESCRIPTION:Enroll in Kids Intermediate Taekwondo at Black Rock Martial Arts\, designed for ages 8-12! Our classes help kids refine their techniques\, build strength\, and improve focus while advancing their Taekwondo skills. Perfect for those with some experience\, these sessions offer a fun\, motivating environment for growth.
URL:https://blackrock-kadence.gotbdev.com/event/kids-taekwondo-8-12-years-old-2-2/2026-05-04/
CATEGORIES:Taekwondo
ATTACH;FMTTYPE=image/jpeg:https://blackrock-kadence.gotbdev.com/wp-content/uploads/2024/09/kids-kickboxing-2.jpg
END:VEVENT
BEGIN:VEVENT
DTSTART;TZID=America/Vancouver:20260505T153000
DTEND;TZID=America/Vancouver:20260505T161500
DTSTAMP:20260420T222649
CREATED:20250122T231701Z
LAST-MODIFIED:20260221T002745Z
UID:10013886-1777995000-1777997700@blackrock-kadence.gotbdev.com
SUMMARY:Kids Taekwondo (5-7 Years Old)
DESCRIPTION:Enroll your child in Kids Taekwondo at Black Rock Martial Arts\, designed for ages 5-7! Our fun and engaging classes introduce the basics of Taekwondo\, including kicks\, blocks\, and forms\, while fostering focus\, confidence\, and discipline. With a supportive environment\, your child will learn and grow while having fun.
URL:https://blackrock-kadence.gotbdev.com/event/kids-taekwondo-5-7-years-old-2-3-2-2-2/2026-05-05/
CATEGORIES:Taekwondo
ATTACH;FMTTYPE=image/jpeg:https://blackrock-kadence.gotbdev.com/wp-content/uploads/2024/09/kids-kickboxing-1.jpg
END:VEVENT
BEGIN:VEVENT
DTSTART;TZID=America/Vancouver:20260506T161500
DTEND;TZID=America/Vancouver:20260506T170000
DTSTAMP:20260420T222649
CREATED:20241218T061033Z
LAST-MODIFIED:20260221T003420Z
UID:10009916-1778084100-1778086800@blackrock-kadence.gotbdev.com
SUMMARY:Kids Taekwondo (8-12 Years Old)
DESCRIPTION:Enroll in Kids Intermediate Taekwondo at Black Rock Martial Arts\, designed for ages 8-12! Our classes help kids refine their techniques\, build strength\, and improve focus while advancing their Taekwondo skills. Perfect for those with some experience\, these sessions offer a fun\, motivating environment for growth.
URL:https://blackrock-kadence.gotbdev.com/event/kids-taekwondo-8-12-years-old-2-2/2026-05-06/
CATEGORIES:Taekwondo
ATTACH;FMTTYPE=image/jpeg:https://blackrock-kadence.gotbdev.com/wp-content/uploads/2024/09/kids-kickboxing-2.jpg
END:VEVENT
BEGIN:VEVENT
DTSTART;TZID=America/Vancouver:20260507T153000
DTEND;TZID=America/Vancouver:20260507T161500
DTSTAMP:20260420T222649
CREATED:20250122T231701Z
LAST-MODIFIED:20260221T002745Z
UID:10013887-1778167800-1778170500@blackrock-kadence.gotbdev.com
SUMMARY:Kids Taekwondo (5-7 Years Old)
DESCRIPTION:Enroll your child in Kids Taekwondo at Black Rock Martial Arts\, designed for ages 5-7! Our fun and engaging classes introduce the basics of Taekwondo\, including kicks\, blocks\, and forms\, while fostering focus\, confidence\, and discipline. With a supportive environment\, your child will learn and grow while having fun.
URL:https://blackrock-kadence.gotbdev.com/event/kids-taekwondo-5-7-years-old-2-3-2-2-2/2026-05-07/
CATEGORIES:Taekwondo
ATTACH;FMTTYPE=image/jpeg:https://blackrock-kadence.gotbdev.com/wp-content/uploads/2024/09/kids-kickboxing-1.jpg
END:VEVENT
BEGIN:VEVENT
DTSTART;TZID=America/Vancouver:20260511T161500
DTEND;TZID=America/Vancouver:20260511T170000
DTSTAMP:20260420T222649
CREATED:20241218T061033Z
LAST-MODIFIED:20260221T003420Z
UID:10009917-1778516100-1778518800@blackrock-kadence.gotbdev.com
SUMMARY:Kids Taekwondo (8-12 Years Old)
DESCRIPTION:Enroll in Kids Intermediate Taekwondo at Black Rock Martial Arts\, designed for ages 8-12! Our classes help kids refine their techniques\, build strength\, and improve focus while advancing their Taekwondo skills. Perfect for those with some experience\, these sessions offer a fun\, motivating environment for growth.
URL:https://blackrock-kadence.gotbdev.com/event/kids-taekwondo-8-12-years-old-2-2/2026-05-11/
CATEGORIES:Taekwondo
ATTACH;FMTTYPE=image/jpeg:https://blackrock-kadence.gotbdev.com/wp-content/uploads/2024/09/kids-kickboxing-2.jpg
END:VEVENT
BEGIN:VEVENT
DTSTART;TZID=America/Vancouver:20260512T153000
DTEND;TZID=America/Vancouver:20260512T161500
DTSTAMP:20260420T222649
CREATED:20250122T231701Z
LAST-MODIFIED:20260221T002745Z
UID:10013888-1778599800-1778602500@blackrock-kadence.gotbdev.com
SUMMARY:Kids Taekwondo (5-7 Years Old)
DESCRIPTION:Enroll your child in Kids Taekwondo at Black Rock Martial Arts\, designed for ages 5-7! Our fun and engaging classes introduce the basics of Taekwondo\, including kicks\, blocks\, and forms\, while fostering focus\, confidence\, and discipline. With a supportive environment\, your child will learn and grow while having fun.
URL:https://blackrock-kadence.gotbdev.com/event/kids-taekwondo-5-7-years-old-2-3-2-2-2/2026-05-12/
CATEGORIES:Taekwondo
ATTACH;FMTTYPE=image/jpeg:https://blackrock-kadence.gotbdev.com/wp-content/uploads/2024/09/kids-kickboxing-1.jpg
END:VEVENT
BEGIN:VEVENT
DTSTART;TZID=America/Vancouver:20260513T161500
DTEND;TZID=America/Vancouver:20260513T170000
DTSTAMP:20260420T222649
CREATED:20241218T061033Z
LAST-MODIFIED:20260221T003420Z
UID:10009918-1778688900-1778691600@blackrock-kadence.gotbdev.com
SUMMARY:Kids Taekwondo (8-12 Years Old)
DESCRIPTION:Enroll in Kids Intermediate Taekwondo at Black Rock Martial Arts\, designed for ages 8-12! Our classes help kids refine their techniques\, build strength\, and improve focus while advancing their Taekwondo skills. Perfect for those with some experience\, these sessions offer a fun\, motivating environment for growth.
URL:https://blackrock-kadence.gotbdev.com/event/kids-taekwondo-8-12-years-old-2-2/2026-05-13/
CATEGORIES:Taekwondo
ATTACH;FMTTYPE=image/jpeg:https://blackrock-kadence.gotbdev.com/wp-content/uploads/2024/09/kids-kickboxing-2.jpg
END:VEVENT
BEGIN:VEVENT
DTSTART;TZID=America/Vancouver:20260514T153000
DTEND;TZID=America/Vancouver:20260514T161500
DTSTAMP:20260420T222649
CREATED:20250122T231701Z
LAST-MODIFIED:20260221T002745Z
UID:10013889-1778772600-1778775300@blackrock-kadence.gotbdev.com
SUMMARY:Kids Taekwondo (5-7 Years Old)
DESCRIPTION:Enroll your child in Kids Taekwondo at Black Rock Martial Arts\, designed for ages 5-7! Our fun and engaging classes introduce the basics of Taekwondo\, including kicks\, blocks\, and forms\, while fostering focus\, confidence\, and discipline. With a supportive environment\, your child will learn and grow while having fun.
URL:https://blackrock-kadence.gotbdev.com/event/kids-taekwondo-5-7-years-old-2-3-2-2-2/2026-05-14/
CATEGORIES:Taekwondo
ATTACH;FMTTYPE=image/jpeg:https://blackrock-kadence.gotbdev.com/wp-content/uploads/2024/09/kids-kickboxing-1.jpg
END:VEVENT
BEGIN:VEVENT
DTSTART;TZID=America/Vancouver:20260518T161500
DTEND;TZID=America/Vancouver:20260518T170000
DTSTAMP:20260420T222649
CREATED:20241218T061033Z
LAST-MODIFIED:20260221T003420Z
UID:10009919-1779120900-1779123600@blackrock-kadence.gotbdev.com
SUMMARY:Kids Taekwondo (8-12 Years Old)
DESCRIPTION:Enroll in Kids Intermediate Taekwondo at Black Rock Martial Arts\, designed for ages 8-12! Our classes help kids refine their techniques\, build strength\, and improve focus while advancing their Taekwondo skills. Perfect for those with some experience\, these sessions offer a fun\, motivating environment for growth.
URL:https://blackrock-kadence.gotbdev.com/event/kids-taekwondo-8-12-years-old-2-2/2026-05-18/
CATEGORIES:Taekwondo
ATTACH;FMTTYPE=image/jpeg:https://blackrock-kadence.gotbdev.com/wp-content/uploads/2024/09/kids-kickboxing-2.jpg
END:VEVENT
BEGIN:VEVENT
DTSTART;TZID=America/Vancouver:20260519T153000
DTEND;TZID=America/Vancouver:20260519T161500
DTSTAMP:20260420T222649
CREATED:20250122T231701Z
LAST-MODIFIED:20260221T002745Z
UID:10013890-1779204600-1779207300@blackrock-kadence.gotbdev.com
SUMMARY:Kids Taekwondo (5-7 Years Old)
DESCRIPTION:Enroll your child in Kids Taekwondo at Black Rock Martial Arts\, designed for ages 5-7! Our fun and engaging classes introduce the basics of Taekwondo\, including kicks\, blocks\, and forms\, while fostering focus\, confidence\, and discipline. With a supportive environment\, your child will learn and grow while having fun.
URL:https://blackrock-kadence.gotbdev.com/event/kids-taekwondo-5-7-years-old-2-3-2-2-2/2026-05-19/
CATEGORIES:Taekwondo
ATTACH;FMTTYPE=image/jpeg:https://blackrock-kadence.gotbdev.com/wp-content/uploads/2024/09/kids-kickboxing-1.jpg
END:VEVENT
BEGIN:VEVENT
DTSTART;TZID=America/Vancouver:20260520T161500
DTEND;TZID=America/Vancouver:20260520T170000
DTSTAMP:20260420T222649
CREATED:20241218T061033Z
LAST-MODIFIED:20260221T003420Z
UID:10009920-1779293700-1779296400@blackrock-kadence.gotbdev.com
SUMMARY:Kids Taekwondo (8-12 Years Old)
DESCRIPTION:Enroll in Kids Intermediate Taekwondo at Black Rock Martial Arts\, designed for ages 8-12! Our classes help kids refine their techniques\, build strength\, and improve focus while advancing their Taekwondo skills. Perfect for those with some experience\, these sessions offer a fun\, motivating environment for growth.
URL:https://blackrock-kadence.gotbdev.com/event/kids-taekwondo-8-12-years-old-2-2/2026-05-20/
CATEGORIES:Taekwondo
ATTACH;FMTTYPE=image/jpeg:https://blackrock-kadence.gotbdev.com/wp-content/uploads/2024/09/kids-kickboxing-2.jpg
END:VEVENT
BEGIN:VEVENT
DTSTART;TZID=America/Vancouver:20260521T153000
DTEND;TZID=America/Vancouver:20260521T161500
DTSTAMP:20260420T222649
CREATED:20250122T231701Z
LAST-MODIFIED:20260221T002745Z
UID:10013891-1779377400-1779380100@blackrock-kadence.gotbdev.com
SUMMARY:Kids Taekwondo (5-7 Years Old)
DESCRIPTION:Enroll your child in Kids Taekwondo at Black Rock Martial Arts\, designed for ages 5-7! Our fun and engaging classes introduce the basics of Taekwondo\, including kicks\, blocks\, and forms\, while fostering focus\, confidence\, and discipline. With a supportive environment\, your child will learn and grow while having fun.
URL:https://blackrock-kadence.gotbdev.com/event/kids-taekwondo-5-7-years-old-2-3-2-2-2/2026-05-21/
CATEGORIES:Taekwondo
ATTACH;FMTTYPE=image/jpeg:https://blackrock-kadence.gotbdev.com/wp-content/uploads/2024/09/kids-kickboxing-1.jpg
END:VEVENT
BEGIN:VEVENT
DTSTART;TZID=America/Vancouver:20260525T161500
DTEND;TZID=America/Vancouver:20260525T170000
DTSTAMP:20260420T222649
CREATED:20241218T061033Z
LAST-MODIFIED:20260221T003420Z
UID:10009921-1779725700-1779728400@blackrock-kadence.gotbdev.com
SUMMARY:Kids Taekwondo (8-12 Years Old)
DESCRIPTION:Enroll in Kids Intermediate Taekwondo at Black Rock Martial Arts\, designed for ages 8-12! Our classes help kids refine their techniques\, build strength\, and improve focus while advancing their Taekwondo skills. Perfect for those with some experience\, these sessions offer a fun\, motivating environment for growth.
URL:https://blackrock-kadence.gotbdev.com/event/kids-taekwondo-8-12-years-old-2-2/2026-05-25/
CATEGORIES:Taekwondo
ATTACH;FMTTYPE=image/jpeg:https://blackrock-kadence.gotbdev.com/wp-content/uploads/2024/09/kids-kickboxing-2.jpg
END:VEVENT
BEGIN:VEVENT
DTSTART;TZID=America/Vancouver:20260526T153000
DTEND;TZID=America/Vancouver:20260526T161500
DTSTAMP:20260420T222649
CREATED:20250122T231701Z
LAST-MODIFIED:20260221T002745Z
UID:10013892-1779809400-1779812100@blackrock-kadence.gotbdev.com
SUMMARY:Kids Taekwondo (5-7 Years Old)
DESCRIPTION:Enroll your child in Kids Taekwondo at Black Rock Martial Arts\, designed for ages 5-7! Our fun and engaging classes introduce the basics of Taekwondo\, including kicks\, blocks\, and forms\, while fostering focus\, confidence\, and discipline. With a supportive environment\, your child will learn and grow while having fun.
URL:https://blackrock-kadence.gotbdev.com/event/kids-taekwondo-5-7-years-old-2-3-2-2-2/2026-05-26/
CATEGORIES:Taekwondo
ATTACH;FMTTYPE=image/jpeg:https://blackrock-kadence.gotbdev.com/wp-content/uploads/2024/09/kids-kickboxing-1.jpg
END:VEVENT
BEGIN:VEVENT
DTSTART;TZID=America/Vancouver:20260527T161500
DTEND;TZID=America/Vancouver:20260527T170000
DTSTAMP:20260420T222649
CREATED:20241218T061033Z
LAST-MODIFIED:20260221T003420Z
UID:10009922-1779898500-1779901200@blackrock-kadence.gotbdev.com
SUMMARY:Kids Taekwondo (8-12 Years Old)
DESCRIPTION:Enroll in Kids Intermediate Taekwondo at Black Rock Martial Arts\, designed for ages 8-12! Our classes help kids refine their techniques\, build strength\, and improve focus while advancing their Taekwondo skills. Perfect for those with some experience\, these sessions offer a fun\, motivating environment for growth.
URL:https://blackrock-kadence.gotbdev.com/event/kids-taekwondo-8-12-years-old-2-2/2026-05-27/
CATEGORIES:Taekwondo
ATTACH;FMTTYPE=image/jpeg:https://blackrock-kadence.gotbdev.com/wp-content/uploads/2024/09/kids-kickboxing-2.jpg
END:VEVENT
BEGIN:VEVENT
DTSTART;TZID=America/Vancouver:20260528T153000
DTEND;TZID=America/Vancouver:20260528T161500
DTSTAMP:20260420T222649
CREATED:20250122T231701Z
LAST-MODIFIED:20260221T002745Z
UID:10013893-1779982200-1779984900@blackrock-kadence.gotbdev.com
SUMMARY:Kids Taekwondo (5-7 Years Old)
DESCRIPTION:Enroll your child in Kids Taekwondo at Black Rock Martial Arts\, designed for ages 5-7! Our fun and engaging classes introduce the basics of Taekwondo\, including kicks\, blocks\, and forms\, while fostering focus\, confidence\, and discipline. With a supportive environment\, your child will learn and grow while having fun.
URL:https://blackrock-kadence.gotbdev.com/event/kids-taekwondo-5-7-years-old-2-3-2-2-2/2026-05-28/
CATEGORIES:Taekwondo
ATTACH;FMTTYPE=image/jpeg:https://blackrock-kadence.gotbdev.com/wp-content/uploads/2024/09/kids-kickboxing-1.jpg
END:VEVENT
BEGIN:VEVENT
DTSTART;TZID=America/Vancouver:20260601T161500
DTEND;TZID=America/Vancouver:20260601T170000
DTSTAMP:20260420T222649
CREATED:20241218T061033Z
LAST-MODIFIED:20260221T003420Z
UID:10009923-1780330500-1780333200@blackrock-kadence.gotbdev.com
SUMMARY:Kids Taekwondo (8-12 Years Old)
DESCRIPTION:Enroll in Kids Intermediate Taekwondo at Black Rock Martial Arts\, designed for ages 8-12! Our classes help kids refine their techniques\, build strength\, and improve focus while advancing their Taekwondo skills. Perfect for those with some experience\, these sessions offer a fun\, motivating environment for growth.
URL:https://blackrock-kadence.gotbdev.com/event/kids-taekwondo-8-12-years-old-2-2/2026-06-01/
CATEGORIES:Taekwondo
ATTACH;FMTTYPE=image/jpeg:https://blackrock-kadence.gotbdev.com/wp-content/uploads/2024/09/kids-kickboxing-2.jpg
END:VEVENT
BEGIN:VEVENT
DTSTART;TZID=America/Vancouver:20260602T153000
DTEND;TZID=America/Vancouver:20260602T161500
DTSTAMP:20260420T222649
CREATED:20250122T231701Z
LAST-MODIFIED:20260221T002745Z
UID:10013894-1780414200-1780416900@blackrock-kadence.gotbdev.com
SUMMARY:Kids Taekwondo (5-7 Years Old)
DESCRIPTION:Enroll your child in Kids Taekwondo at Black Rock Martial Arts\, designed for ages 5-7! Our fun and engaging classes introduce the basics of Taekwondo\, including kicks\, blocks\, and forms\, while fostering focus\, confidence\, and discipline. With a supportive environment\, your child will learn and grow while having fun.
URL:https://blackrock-kadence.gotbdev.com/event/kids-taekwondo-5-7-years-old-2-3-2-2-2/2026-06-02/
CATEGORIES:Taekwondo
ATTACH;FMTTYPE=image/jpeg:https://blackrock-kadence.gotbdev.com/wp-content/uploads/2024/09/kids-kickboxing-1.jpg
END:VEVENT
BEGIN:VEVENT
DTSTART;TZID=America/Vancouver:20260603T161500
DTEND;TZID=America/Vancouver:20260603T170000
DTSTAMP:20260420T222649
CREATED:20241218T061033Z
LAST-MODIFIED:20260221T003420Z
UID:10009924-1780503300-1780506000@blackrock-kadence.gotbdev.com
SUMMARY:Kids Taekwondo (8-12 Years Old)
DESCRIPTION:Enroll in Kids Intermediate Taekwondo at Black Rock Martial Arts\, designed for ages 8-12! Our classes help kids refine their techniques\, build strength\, and improve focus while advancing their Taekwondo skills. Perfect for those with some experience\, these sessions offer a fun\, motivating environment for growth.
URL:https://blackrock-kadence.gotbdev.com/event/kids-taekwondo-8-12-years-old-2-2/2026-06-03/
CATEGORIES:Taekwondo
ATTACH;FMTTYPE=image/jpeg:https://blackrock-kadence.gotbdev.com/wp-content/uploads/2024/09/kids-kickboxing-2.jpg
END:VEVENT
BEGIN:VEVENT
DTSTART;TZID=America/Vancouver:20260604T153000
DTEND;TZID=America/Vancouver:20260604T161500
DTSTAMP:20260420T222649
CREATED:20250122T231701Z
LAST-MODIFIED:20260221T002745Z
UID:10013895-1780587000-1780589700@blackrock-kadence.gotbdev.com
SUMMARY:Kids Taekwondo (5-7 Years Old)
DESCRIPTION:Enroll your child in Kids Taekwondo at Black Rock Martial Arts\, designed for ages 5-7! Our fun and engaging classes introduce the basics of Taekwondo\, including kicks\, blocks\, and forms\, while fostering focus\, confidence\, and discipline. With a supportive environment\, your child will learn and grow while having fun.
URL:https://blackrock-kadence.gotbdev.com/event/kids-taekwondo-5-7-years-old-2-3-2-2-2/2026-06-04/
CATEGORIES:Taekwondo
ATTACH;FMTTYPE=image/jpeg:https://blackrock-kadence.gotbdev.com/wp-content/uploads/2024/09/kids-kickboxing-1.jpg
END:VEVENT
BEGIN:VEVENT
DTSTART;TZID=America/Vancouver:20260608T161500
DTEND;TZID=America/Vancouver:20260608T170000
DTSTAMP:20260420T222649
CREATED:20241218T061033Z
LAST-MODIFIED:20260221T003420Z
UID:10009925-1780935300-1780938000@blackrock-kadence.gotbdev.com
SUMMARY:Kids Taekwondo (8-12 Years Old)
DESCRIPTION:Enroll in Kids Intermediate Taekwondo at Black Rock Martial Arts\, designed for ages 8-12! Our classes help kids refine their techniques\, build strength\, and improve focus while advancing their Taekwondo skills. Perfect for those with some experience\, these sessions offer a fun\, motivating environment for growth.
URL:https://blackrock-kadence.gotbdev.com/event/kids-taekwondo-8-12-years-old-2-2/2026-06-08/
CATEGORIES:Taekwondo
ATTACH;FMTTYPE=image/jpeg:https://blackrock-kadence.gotbdev.com/wp-content/uploads/2024/09/kids-kickboxing-2.jpg
END:VEVENT
BEGIN:VEVENT
DTSTART;TZID=America/Vancouver:20260609T153000
DTEND;TZID=America/Vancouver:20260609T161500
DTSTAMP:20260420T222649
CREATED:20250122T231701Z
LAST-MODIFIED:20260221T002745Z
UID:10013896-1781019000-1781021700@blackrock-kadence.gotbdev.com
SUMMARY:Kids Taekwondo (5-7 Years Old)
DESCRIPTION:Enroll your child in Kids Taekwondo at Black Rock Martial Arts\, designed for ages 5-7! Our fun and engaging classes introduce the basics of Taekwondo\, including kicks\, blocks\, and forms\, while fostering focus\, confidence\, and discipline. With a supportive environment\, your child will learn and grow while having fun.
URL:https://blackrock-kadence.gotbdev.com/event/kids-taekwondo-5-7-years-old-2-3-2-2-2/2026-06-09/
CATEGORIES:Taekwondo
ATTACH;FMTTYPE=image/jpeg:https://blackrock-kadence.gotbdev.com/wp-content/uploads/2024/09/kids-kickboxing-1.jpg
END:VEVENT
BEGIN:VEVENT
DTSTART;TZID=America/Vancouver:20260610T161500
DTEND;TZID=America/Vancouver:20260610T170000
DTSTAMP:20260420T222649
CREATED:20241218T061033Z
LAST-MODIFIED:20260221T003420Z
UID:10009926-1781108100-1781110800@blackrock-kadence.gotbdev.com
SUMMARY:Kids Taekwondo (8-12 Years Old)
DESCRIPTION:Enroll in Kids Intermediate Taekwondo at Black Rock Martial Arts\, designed for ages 8-12! Our classes help kids refine their techniques\, build strength\, and improve focus while advancing their Taekwondo skills. Perfect for those with some experience\, these sessions offer a fun\, motivating environment for growth.
URL:https://blackrock-kadence.gotbdev.com/event/kids-taekwondo-8-12-years-old-2-2/2026-06-10/
CATEGORIES:Taekwondo
ATTACH;FMTTYPE=image/jpeg:https://blackrock-kadence.gotbdev.com/wp-content/uploads/2024/09/kids-kickboxing-2.jpg
END:VEVENT
END:VCALENDAR