BEGIN:VCALENDAR
VERSION:2.0
PRODID:-// - ECPv6.15.20//NONSGML v1.0//EN
CALSCALE:GREGORIAN
METHOD:PUBLISH
X-ORIGINAL-URL:https://blackrock-kadence.gotbdev.com
X-WR-CALDESC:Events for 
REFRESH-INTERVAL;VALUE=DURATION:PT1H
X-Robots-Tag:noindex
X-PUBLISHED-TTL:PT1H
BEGIN:VTIMEZONE
TZID:America/Vancouver
BEGIN:DAYLIGHT
TZOFFSETFROM:-0800
TZOFFSETTO:-0700
TZNAME:PDT
DTSTART:20250309T100000
END:DAYLIGHT
BEGIN:STANDARD
TZOFFSETFROM:-0700
TZOFFSETTO:-0800
TZNAME:PST
DTSTART:20251102T090000
END:STANDARD
BEGIN:DAYLIGHT
TZOFFSETFROM:-0800
TZOFFSETTO:-0700
TZNAME:PDT
DTSTART:20260308T100000
END:DAYLIGHT
BEGIN:STANDARD
TZOFFSETFROM:-0700
TZOFFSETTO:-0800
TZNAME:PST
DTSTART:20261101T090000
END:STANDARD
BEGIN:DAYLIGHT
TZOFFSETFROM:-0800
TZOFFSETTO:-0700
TZNAME:PDT
DTSTART:20270314T100000
END:DAYLIGHT
BEGIN:STANDARD
TZOFFSETFROM:-0700
TZOFFSETTO:-0800
TZNAME:PST
DTSTART:20271107T090000
END:STANDARD
END:VTIMEZONE
BEGIN:VEVENT
DTSTART;TZID=America/Vancouver:20260323T161500
DTEND;TZID=America/Vancouver:20260323T170000
DTSTAMP:20260421T090505
CREATED:20241218T061033Z
LAST-MODIFIED:20260221T003420Z
UID:10009903-1774282500-1774285200@blackrock-kadence.gotbdev.com
SUMMARY:Kids Taekwondo (8-12 Years Old)
DESCRIPTION:Enroll in Kids Intermediate Taekwondo at Black Rock Martial Arts\, designed for ages 8-12! Our classes help kids refine their techniques\, build strength\, and improve focus while advancing their Taekwondo skills. Perfect for those with some experience\, these sessions offer a fun\, motivating environment for growth.
URL:https://blackrock-kadence.gotbdev.com/event/kids-taekwondo-8-12-years-old-2-2/2026-03-23/
CATEGORIES:Taekwondo
ATTACH;FMTTYPE=image/jpeg:https://blackrock-kadence.gotbdev.com/wp-content/uploads/2024/09/kids-kickboxing-2.jpg
END:VEVENT
BEGIN:VEVENT
DTSTART;TZID=America/Vancouver:20260324T153000
DTEND;TZID=America/Vancouver:20260324T161500
DTSTAMP:20260421T090505
CREATED:20250122T231701Z
LAST-MODIFIED:20260221T002745Z
UID:10013874-1774366200-1774368900@blackrock-kadence.gotbdev.com
SUMMARY:Kids Taekwondo (5-7 Years Old)
DESCRIPTION:Enroll your child in Kids Taekwondo at Black Rock Martial Arts\, designed for ages 5-7! Our fun and engaging classes introduce the basics of Taekwondo\, including kicks\, blocks\, and forms\, while fostering focus\, confidence\, and discipline. With a supportive environment\, your child will learn and grow while having fun.
URL:https://blackrock-kadence.gotbdev.com/event/kids-taekwondo-5-7-years-old-2-3-2-2-2/2026-03-24/
CATEGORIES:Taekwondo
ATTACH;FMTTYPE=image/jpeg:https://blackrock-kadence.gotbdev.com/wp-content/uploads/2024/09/kids-kickboxing-1.jpg
END:VEVENT
BEGIN:VEVENT
DTSTART;TZID=America/Vancouver:20260325T161500
DTEND;TZID=America/Vancouver:20260325T170000
DTSTAMP:20260421T090505
CREATED:20241218T061033Z
LAST-MODIFIED:20260221T003420Z
UID:10009904-1774455300-1774458000@blackrock-kadence.gotbdev.com
SUMMARY:Kids Taekwondo (8-12 Years Old)
DESCRIPTION:Enroll in Kids Intermediate Taekwondo at Black Rock Martial Arts\, designed for ages 8-12! Our classes help kids refine their techniques\, build strength\, and improve focus while advancing their Taekwondo skills. Perfect for those with some experience\, these sessions offer a fun\, motivating environment for growth.
URL:https://blackrock-kadence.gotbdev.com/event/kids-taekwondo-8-12-years-old-2-2/2026-03-25/
CATEGORIES:Taekwondo
ATTACH;FMTTYPE=image/jpeg:https://blackrock-kadence.gotbdev.com/wp-content/uploads/2024/09/kids-kickboxing-2.jpg
END:VEVENT
BEGIN:VEVENT
DTSTART;TZID=America/Vancouver:20260326T153000
DTEND;TZID=America/Vancouver:20260326T161500
DTSTAMP:20260421T090505
CREATED:20250122T231701Z
LAST-MODIFIED:20260221T002745Z
UID:10013875-1774539000-1774541700@blackrock-kadence.gotbdev.com
SUMMARY:Kids Taekwondo (5-7 Years Old)
DESCRIPTION:Enroll your child in Kids Taekwondo at Black Rock Martial Arts\, designed for ages 5-7! Our fun and engaging classes introduce the basics of Taekwondo\, including kicks\, blocks\, and forms\, while fostering focus\, confidence\, and discipline. With a supportive environment\, your child will learn and grow while having fun.
URL:https://blackrock-kadence.gotbdev.com/event/kids-taekwondo-5-7-years-old-2-3-2-2-2/2026-03-26/
CATEGORIES:Taekwondo
ATTACH;FMTTYPE=image/jpeg:https://blackrock-kadence.gotbdev.com/wp-content/uploads/2024/09/kids-kickboxing-1.jpg
END:VEVENT
BEGIN:VEVENT
DTSTART;TZID=America/Vancouver:20260330T161500
DTEND;TZID=America/Vancouver:20260330T170000
DTSTAMP:20260421T090505
CREATED:20241218T061033Z
LAST-MODIFIED:20260221T003420Z
UID:10009905-1774887300-1774890000@blackrock-kadence.gotbdev.com
SUMMARY:Kids Taekwondo (8-12 Years Old)
DESCRIPTION:Enroll in Kids Intermediate Taekwondo at Black Rock Martial Arts\, designed for ages 8-12! Our classes help kids refine their techniques\, build strength\, and improve focus while advancing their Taekwondo skills. Perfect for those with some experience\, these sessions offer a fun\, motivating environment for growth.
URL:https://blackrock-kadence.gotbdev.com/event/kids-taekwondo-8-12-years-old-2-2/2026-03-30/
CATEGORIES:Taekwondo
ATTACH;FMTTYPE=image/jpeg:https://blackrock-kadence.gotbdev.com/wp-content/uploads/2024/09/kids-kickboxing-2.jpg
END:VEVENT
BEGIN:VEVENT
DTSTART;TZID=America/Vancouver:20260331T153000
DTEND;TZID=America/Vancouver:20260331T161500
DTSTAMP:20260421T090505
CREATED:20250122T231701Z
LAST-MODIFIED:20260221T002745Z
UID:10013876-1774971000-1774973700@blackrock-kadence.gotbdev.com
SUMMARY:Kids Taekwondo (5-7 Years Old)
DESCRIPTION:Enroll your child in Kids Taekwondo at Black Rock Martial Arts\, designed for ages 5-7! Our fun and engaging classes introduce the basics of Taekwondo\, including kicks\, blocks\, and forms\, while fostering focus\, confidence\, and discipline. With a supportive environment\, your child will learn and grow while having fun.
URL:https://blackrock-kadence.gotbdev.com/event/kids-taekwondo-5-7-years-old-2-3-2-2-2/2026-03-31/
CATEGORIES:Taekwondo
ATTACH;FMTTYPE=image/jpeg:https://blackrock-kadence.gotbdev.com/wp-content/uploads/2024/09/kids-kickboxing-1.jpg
END:VEVENT
BEGIN:VEVENT
DTSTART;TZID=America/Vancouver:20260401T161500
DTEND;TZID=America/Vancouver:20260401T170000
DTSTAMP:20260421T090505
CREATED:20241218T061033Z
LAST-MODIFIED:20260221T003420Z
UID:10009906-1775060100-1775062800@blackrock-kadence.gotbdev.com
SUMMARY:Kids Taekwondo (8-12 Years Old)
DESCRIPTION:Enroll in Kids Intermediate Taekwondo at Black Rock Martial Arts\, designed for ages 8-12! Our classes help kids refine their techniques\, build strength\, and improve focus while advancing their Taekwondo skills. Perfect for those with some experience\, these sessions offer a fun\, motivating environment for growth.
URL:https://blackrock-kadence.gotbdev.com/event/kids-taekwondo-8-12-years-old-2-2/2026-04-01/
CATEGORIES:Taekwondo
ATTACH;FMTTYPE=image/jpeg:https://blackrock-kadence.gotbdev.com/wp-content/uploads/2024/09/kids-kickboxing-2.jpg
END:VEVENT
BEGIN:VEVENT
DTSTART;TZID=America/Vancouver:20260402T153000
DTEND;TZID=America/Vancouver:20260402T161500
DTSTAMP:20260421T090505
CREATED:20250122T231701Z
LAST-MODIFIED:20260221T002745Z
UID:10013877-1775143800-1775146500@blackrock-kadence.gotbdev.com
SUMMARY:Kids Taekwondo (5-7 Years Old)
DESCRIPTION:Enroll your child in Kids Taekwondo at Black Rock Martial Arts\, designed for ages 5-7! Our fun and engaging classes introduce the basics of Taekwondo\, including kicks\, blocks\, and forms\, while fostering focus\, confidence\, and discipline. With a supportive environment\, your child will learn and grow while having fun.
URL:https://blackrock-kadence.gotbdev.com/event/kids-taekwondo-5-7-years-old-2-3-2-2-2/2026-04-02/
CATEGORIES:Taekwondo
ATTACH;FMTTYPE=image/jpeg:https://blackrock-kadence.gotbdev.com/wp-content/uploads/2024/09/kids-kickboxing-1.jpg
END:VEVENT
BEGIN:VEVENT
DTSTART;TZID=America/Vancouver:20260406T161500
DTEND;TZID=America/Vancouver:20260406T170000
DTSTAMP:20260421T090505
CREATED:20241218T061033Z
LAST-MODIFIED:20260221T003420Z
UID:10009907-1775492100-1775494800@blackrock-kadence.gotbdev.com
SUMMARY:Kids Taekwondo (8-12 Years Old)
DESCRIPTION:Enroll in Kids Intermediate Taekwondo at Black Rock Martial Arts\, designed for ages 8-12! Our classes help kids refine their techniques\, build strength\, and improve focus while advancing their Taekwondo skills. Perfect for those with some experience\, these sessions offer a fun\, motivating environment for growth.
URL:https://blackrock-kadence.gotbdev.com/event/kids-taekwondo-8-12-years-old-2-2/2026-04-06/
CATEGORIES:Taekwondo
ATTACH;FMTTYPE=image/jpeg:https://blackrock-kadence.gotbdev.com/wp-content/uploads/2024/09/kids-kickboxing-2.jpg
END:VEVENT
BEGIN:VEVENT
DTSTART;TZID=America/Vancouver:20260407T153000
DTEND;TZID=America/Vancouver:20260407T161500
DTSTAMP:20260421T090505
CREATED:20250122T231701Z
LAST-MODIFIED:20260221T002745Z
UID:10013878-1775575800-1775578500@blackrock-kadence.gotbdev.com
SUMMARY:Kids Taekwondo (5-7 Years Old)
DESCRIPTION:Enroll your child in Kids Taekwondo at Black Rock Martial Arts\, designed for ages 5-7! Our fun and engaging classes introduce the basics of Taekwondo\, including kicks\, blocks\, and forms\, while fostering focus\, confidence\, and discipline. With a supportive environment\, your child will learn and grow while having fun.
URL:https://blackrock-kadence.gotbdev.com/event/kids-taekwondo-5-7-years-old-2-3-2-2-2/2026-04-07/
CATEGORIES:Taekwondo
ATTACH;FMTTYPE=image/jpeg:https://blackrock-kadence.gotbdev.com/wp-content/uploads/2024/09/kids-kickboxing-1.jpg
END:VEVENT
BEGIN:VEVENT
DTSTART;TZID=America/Vancouver:20260408T161500
DTEND;TZID=America/Vancouver:20260408T170000
DTSTAMP:20260421T090505
CREATED:20241218T061033Z
LAST-MODIFIED:20260221T003420Z
UID:10009908-1775664900-1775667600@blackrock-kadence.gotbdev.com
SUMMARY:Kids Taekwondo (8-12 Years Old)
DESCRIPTION:Enroll in Kids Intermediate Taekwondo at Black Rock Martial Arts\, designed for ages 8-12! Our classes help kids refine their techniques\, build strength\, and improve focus while advancing their Taekwondo skills. Perfect for those with some experience\, these sessions offer a fun\, motivating environment for growth.
URL:https://blackrock-kadence.gotbdev.com/event/kids-taekwondo-8-12-years-old-2-2/2026-04-08/
CATEGORIES:Taekwondo
ATTACH;FMTTYPE=image/jpeg:https://blackrock-kadence.gotbdev.com/wp-content/uploads/2024/09/kids-kickboxing-2.jpg
END:VEVENT
BEGIN:VEVENT
DTSTART;TZID=America/Vancouver:20260409T153000
DTEND;TZID=America/Vancouver:20260409T161500
DTSTAMP:20260421T090505
CREATED:20250122T231701Z
LAST-MODIFIED:20260221T002745Z
UID:10013879-1775748600-1775751300@blackrock-kadence.gotbdev.com
SUMMARY:Kids Taekwondo (5-7 Years Old)
DESCRIPTION:Enroll your child in Kids Taekwondo at Black Rock Martial Arts\, designed for ages 5-7! Our fun and engaging classes introduce the basics of Taekwondo\, including kicks\, blocks\, and forms\, while fostering focus\, confidence\, and discipline. With a supportive environment\, your child will learn and grow while having fun.
URL:https://blackrock-kadence.gotbdev.com/event/kids-taekwondo-5-7-years-old-2-3-2-2-2/2026-04-09/
CATEGORIES:Taekwondo
ATTACH;FMTTYPE=image/jpeg:https://blackrock-kadence.gotbdev.com/wp-content/uploads/2024/09/kids-kickboxing-1.jpg
END:VEVENT
BEGIN:VEVENT
DTSTART;TZID=America/Vancouver:20260413T161500
DTEND;TZID=America/Vancouver:20260413T170000
DTSTAMP:20260421T090505
CREATED:20241218T061033Z
LAST-MODIFIED:20260221T003420Z
UID:10009909-1776096900-1776099600@blackrock-kadence.gotbdev.com
SUMMARY:Kids Taekwondo (8-12 Years Old)
DESCRIPTION:Enroll in Kids Intermediate Taekwondo at Black Rock Martial Arts\, designed for ages 8-12! Our classes help kids refine their techniques\, build strength\, and improve focus while advancing their Taekwondo skills. Perfect for those with some experience\, these sessions offer a fun\, motivating environment for growth.
URL:https://blackrock-kadence.gotbdev.com/event/kids-taekwondo-8-12-years-old-2-2/2026-04-13/
CATEGORIES:Taekwondo
ATTACH;FMTTYPE=image/jpeg:https://blackrock-kadence.gotbdev.com/wp-content/uploads/2024/09/kids-kickboxing-2.jpg
END:VEVENT
BEGIN:VEVENT
DTSTART;TZID=America/Vancouver:20260414T153000
DTEND;TZID=America/Vancouver:20260414T161500
DTSTAMP:20260421T090505
CREATED:20250122T231701Z
LAST-MODIFIED:20260221T002745Z
UID:10013880-1776180600-1776183300@blackrock-kadence.gotbdev.com
SUMMARY:Kids Taekwondo (5-7 Years Old)
DESCRIPTION:Enroll your child in Kids Taekwondo at Black Rock Martial Arts\, designed for ages 5-7! Our fun and engaging classes introduce the basics of Taekwondo\, including kicks\, blocks\, and forms\, while fostering focus\, confidence\, and discipline. With a supportive environment\, your child will learn and grow while having fun.
URL:https://blackrock-kadence.gotbdev.com/event/kids-taekwondo-5-7-years-old-2-3-2-2-2/2026-04-14/
CATEGORIES:Taekwondo
ATTACH;FMTTYPE=image/jpeg:https://blackrock-kadence.gotbdev.com/wp-content/uploads/2024/09/kids-kickboxing-1.jpg
END:VEVENT
BEGIN:VEVENT
DTSTART;TZID=America/Vancouver:20260415T161500
DTEND;TZID=America/Vancouver:20260415T170000
DTSTAMP:20260421T090505
CREATED:20241218T061033Z
LAST-MODIFIED:20260221T003420Z
UID:10009910-1776269700-1776272400@blackrock-kadence.gotbdev.com
SUMMARY:Kids Taekwondo (8-12 Years Old)
DESCRIPTION:Enroll in Kids Intermediate Taekwondo at Black Rock Martial Arts\, designed for ages 8-12! Our classes help kids refine their techniques\, build strength\, and improve focus while advancing their Taekwondo skills. Perfect for those with some experience\, these sessions offer a fun\, motivating environment for growth.
URL:https://blackrock-kadence.gotbdev.com/event/kids-taekwondo-8-12-years-old-2-2/2026-04-15/
CATEGORIES:Taekwondo
ATTACH;FMTTYPE=image/jpeg:https://blackrock-kadence.gotbdev.com/wp-content/uploads/2024/09/kids-kickboxing-2.jpg
END:VEVENT
BEGIN:VEVENT
DTSTART;TZID=America/Vancouver:20260416T153000
DTEND;TZID=America/Vancouver:20260416T161500
DTSTAMP:20260421T090505
CREATED:20250122T231701Z
LAST-MODIFIED:20260221T002745Z
UID:10013881-1776353400-1776356100@blackrock-kadence.gotbdev.com
SUMMARY:Kids Taekwondo (5-7 Years Old)
DESCRIPTION:Enroll your child in Kids Taekwondo at Black Rock Martial Arts\, designed for ages 5-7! Our fun and engaging classes introduce the basics of Taekwondo\, including kicks\, blocks\, and forms\, while fostering focus\, confidence\, and discipline. With a supportive environment\, your child will learn and grow while having fun.
URL:https://blackrock-kadence.gotbdev.com/event/kids-taekwondo-5-7-years-old-2-3-2-2-2/2026-04-16/
CATEGORIES:Taekwondo
ATTACH;FMTTYPE=image/jpeg:https://blackrock-kadence.gotbdev.com/wp-content/uploads/2024/09/kids-kickboxing-1.jpg
END:VEVENT
BEGIN:VEVENT
DTSTART;TZID=America/Vancouver:20260420T161500
DTEND;TZID=America/Vancouver:20260420T170000
DTSTAMP:20260421T090505
CREATED:20241218T061033Z
LAST-MODIFIED:20260221T003420Z
UID:10009911-1776701700-1776704400@blackrock-kadence.gotbdev.com
SUMMARY:Kids Taekwondo (8-12 Years Old)
DESCRIPTION:Enroll in Kids Intermediate Taekwondo at Black Rock Martial Arts\, designed for ages 8-12! Our classes help kids refine their techniques\, build strength\, and improve focus while advancing their Taekwondo skills. Perfect for those with some experience\, these sessions offer a fun\, motivating environment for growth.
URL:https://blackrock-kadence.gotbdev.com/event/kids-taekwondo-8-12-years-old-2-2/2026-04-20/
CATEGORIES:Taekwondo
ATTACH;FMTTYPE=image/jpeg:https://blackrock-kadence.gotbdev.com/wp-content/uploads/2024/09/kids-kickboxing-2.jpg
END:VEVENT
BEGIN:VEVENT
DTSTART;TZID=America/Vancouver:20260421T153000
DTEND;TZID=America/Vancouver:20260421T161500
DTSTAMP:20260421T090505
CREATED:20250122T231701Z
LAST-MODIFIED:20260221T002745Z
UID:10013882-1776785400-1776788100@blackrock-kadence.gotbdev.com
SUMMARY:Kids Taekwondo (5-7 Years Old)
DESCRIPTION:Enroll your child in Kids Taekwondo at Black Rock Martial Arts\, designed for ages 5-7! Our fun and engaging classes introduce the basics of Taekwondo\, including kicks\, blocks\, and forms\, while fostering focus\, confidence\, and discipline. With a supportive environment\, your child will learn and grow while having fun.
URL:https://blackrock-kadence.gotbdev.com/event/kids-taekwondo-5-7-years-old-2-3-2-2-2/2026-04-21/
CATEGORIES:Taekwondo
ATTACH;FMTTYPE=image/jpeg:https://blackrock-kadence.gotbdev.com/wp-content/uploads/2024/09/kids-kickboxing-1.jpg
END:VEVENT
BEGIN:VEVENT
DTSTART;TZID=America/Vancouver:20260422T161500
DTEND;TZID=America/Vancouver:20260422T170000
DTSTAMP:20260421T090505
CREATED:20241218T061033Z
LAST-MODIFIED:20260221T003420Z
UID:10009912-1776874500-1776877200@blackrock-kadence.gotbdev.com
SUMMARY:Kids Taekwondo (8-12 Years Old)
DESCRIPTION:Enroll in Kids Intermediate Taekwondo at Black Rock Martial Arts\, designed for ages 8-12! Our classes help kids refine their techniques\, build strength\, and improve focus while advancing their Taekwondo skills. Perfect for those with some experience\, these sessions offer a fun\, motivating environment for growth.
URL:https://blackrock-kadence.gotbdev.com/event/kids-taekwondo-8-12-years-old-2-2/2026-04-22/
CATEGORIES:Taekwondo
ATTACH;FMTTYPE=image/jpeg:https://blackrock-kadence.gotbdev.com/wp-content/uploads/2024/09/kids-kickboxing-2.jpg
END:VEVENT
BEGIN:VEVENT
DTSTART;TZID=America/Vancouver:20260423T153000
DTEND;TZID=America/Vancouver:20260423T161500
DTSTAMP:20260421T090505
CREATED:20250122T231701Z
LAST-MODIFIED:20260221T002745Z
UID:10013883-1776958200-1776960900@blackrock-kadence.gotbdev.com
SUMMARY:Kids Taekwondo (5-7 Years Old)
DESCRIPTION:Enroll your child in Kids Taekwondo at Black Rock Martial Arts\, designed for ages 5-7! Our fun and engaging classes introduce the basics of Taekwondo\, including kicks\, blocks\, and forms\, while fostering focus\, confidence\, and discipline. With a supportive environment\, your child will learn and grow while having fun.
URL:https://blackrock-kadence.gotbdev.com/event/kids-taekwondo-5-7-years-old-2-3-2-2-2/2026-04-23/
CATEGORIES:Taekwondo
ATTACH;FMTTYPE=image/jpeg:https://blackrock-kadence.gotbdev.com/wp-content/uploads/2024/09/kids-kickboxing-1.jpg
END:VEVENT
BEGIN:VEVENT
DTSTART;TZID=America/Vancouver:20260427T161500
DTEND;TZID=America/Vancouver:20260427T170000
DTSTAMP:20260421T090505
CREATED:20241218T061033Z
LAST-MODIFIED:20260221T003420Z
UID:10009913-1777306500-1777309200@blackrock-kadence.gotbdev.com
SUMMARY:Kids Taekwondo (8-12 Years Old)
DESCRIPTION:Enroll in Kids Intermediate Taekwondo at Black Rock Martial Arts\, designed for ages 8-12! Our classes help kids refine their techniques\, build strength\, and improve focus while advancing their Taekwondo skills. Perfect for those with some experience\, these sessions offer a fun\, motivating environment for growth.
URL:https://blackrock-kadence.gotbdev.com/event/kids-taekwondo-8-12-years-old-2-2/2026-04-27/
CATEGORIES:Taekwondo
ATTACH;FMTTYPE=image/jpeg:https://blackrock-kadence.gotbdev.com/wp-content/uploads/2024/09/kids-kickboxing-2.jpg
END:VEVENT
BEGIN:VEVENT
DTSTART;TZID=America/Vancouver:20260428T153000
DTEND;TZID=America/Vancouver:20260428T161500
DTSTAMP:20260421T090505
CREATED:20250122T231701Z
LAST-MODIFIED:20260221T002745Z
UID:10013884-1777390200-1777392900@blackrock-kadence.gotbdev.com
SUMMARY:Kids Taekwondo (5-7 Years Old)
DESCRIPTION:Enroll your child in Kids Taekwondo at Black Rock Martial Arts\, designed for ages 5-7! Our fun and engaging classes introduce the basics of Taekwondo\, including kicks\, blocks\, and forms\, while fostering focus\, confidence\, and discipline. With a supportive environment\, your child will learn and grow while having fun.
URL:https://blackrock-kadence.gotbdev.com/event/kids-taekwondo-5-7-years-old-2-3-2-2-2/2026-04-28/
CATEGORIES:Taekwondo
ATTACH;FMTTYPE=image/jpeg:https://blackrock-kadence.gotbdev.com/wp-content/uploads/2024/09/kids-kickboxing-1.jpg
END:VEVENT
BEGIN:VEVENT
DTSTART;TZID=America/Vancouver:20260429T161500
DTEND;TZID=America/Vancouver:20260429T170000
DTSTAMP:20260421T090505
CREATED:20241218T061033Z
LAST-MODIFIED:20260221T003420Z
UID:10009914-1777479300-1777482000@blackrock-kadence.gotbdev.com
SUMMARY:Kids Taekwondo (8-12 Years Old)
DESCRIPTION:Enroll in Kids Intermediate Taekwondo at Black Rock Martial Arts\, designed for ages 8-12! Our classes help kids refine their techniques\, build strength\, and improve focus while advancing their Taekwondo skills. Perfect for those with some experience\, these sessions offer a fun\, motivating environment for growth.
URL:https://blackrock-kadence.gotbdev.com/event/kids-taekwondo-8-12-years-old-2-2/2026-04-29/
CATEGORIES:Taekwondo
ATTACH;FMTTYPE=image/jpeg:https://blackrock-kadence.gotbdev.com/wp-content/uploads/2024/09/kids-kickboxing-2.jpg
END:VEVENT
BEGIN:VEVENT
DTSTART;TZID=America/Vancouver:20260430T153000
DTEND;TZID=America/Vancouver:20260430T161500
DTSTAMP:20260421T090505
CREATED:20250122T231701Z
LAST-MODIFIED:20260221T002745Z
UID:10013885-1777563000-1777565700@blackrock-kadence.gotbdev.com
SUMMARY:Kids Taekwondo (5-7 Years Old)
DESCRIPTION:Enroll your child in Kids Taekwondo at Black Rock Martial Arts\, designed for ages 5-7! Our fun and engaging classes introduce the basics of Taekwondo\, including kicks\, blocks\, and forms\, while fostering focus\, confidence\, and discipline. With a supportive environment\, your child will learn and grow while having fun.
URL:https://blackrock-kadence.gotbdev.com/event/kids-taekwondo-5-7-years-old-2-3-2-2-2/2026-04-30/
CATEGORIES:Taekwondo
ATTACH;FMTTYPE=image/jpeg:https://blackrock-kadence.gotbdev.com/wp-content/uploads/2024/09/kids-kickboxing-1.jpg
END:VEVENT
BEGIN:VEVENT
DTSTART;TZID=America/Vancouver:20260504T161500
DTEND;TZID=America/Vancouver:20260504T170000
DTSTAMP:20260421T090505
CREATED:20241218T061033Z
LAST-MODIFIED:20260221T003420Z
UID:10009915-1777911300-1777914000@blackrock-kadence.gotbdev.com
SUMMARY:Kids Taekwondo (8-12 Years Old)
DESCRIPTION:Enroll in Kids Intermediate Taekwondo at Black Rock Martial Arts\, designed for ages 8-12! Our classes help kids refine their techniques\, build strength\, and improve focus while advancing their Taekwondo skills. Perfect for those with some experience\, these sessions offer a fun\, motivating environment for growth.
URL:https://blackrock-kadence.gotbdev.com/event/kids-taekwondo-8-12-years-old-2-2/2026-05-04/
CATEGORIES:Taekwondo
ATTACH;FMTTYPE=image/jpeg:https://blackrock-kadence.gotbdev.com/wp-content/uploads/2024/09/kids-kickboxing-2.jpg
END:VEVENT
BEGIN:VEVENT
DTSTART;TZID=America/Vancouver:20260505T153000
DTEND;TZID=America/Vancouver:20260505T161500
DTSTAMP:20260421T090505
CREATED:20250122T231701Z
LAST-MODIFIED:20260221T002745Z
UID:10013886-1777995000-1777997700@blackrock-kadence.gotbdev.com
SUMMARY:Kids Taekwondo (5-7 Years Old)
DESCRIPTION:Enroll your child in Kids Taekwondo at Black Rock Martial Arts\, designed for ages 5-7! Our fun and engaging classes introduce the basics of Taekwondo\, including kicks\, blocks\, and forms\, while fostering focus\, confidence\, and discipline. With a supportive environment\, your child will learn and grow while having fun.
URL:https://blackrock-kadence.gotbdev.com/event/kids-taekwondo-5-7-years-old-2-3-2-2-2/2026-05-05/
CATEGORIES:Taekwondo
ATTACH;FMTTYPE=image/jpeg:https://blackrock-kadence.gotbdev.com/wp-content/uploads/2024/09/kids-kickboxing-1.jpg
END:VEVENT
BEGIN:VEVENT
DTSTART;TZID=America/Vancouver:20260506T161500
DTEND;TZID=America/Vancouver:20260506T170000
DTSTAMP:20260421T090505
CREATED:20241218T061033Z
LAST-MODIFIED:20260221T003420Z
UID:10009916-1778084100-1778086800@blackrock-kadence.gotbdev.com
SUMMARY:Kids Taekwondo (8-12 Years Old)
DESCRIPTION:Enroll in Kids Intermediate Taekwondo at Black Rock Martial Arts\, designed for ages 8-12! Our classes help kids refine their techniques\, build strength\, and improve focus while advancing their Taekwondo skills. Perfect for those with some experience\, these sessions offer a fun\, motivating environment for growth.
URL:https://blackrock-kadence.gotbdev.com/event/kids-taekwondo-8-12-years-old-2-2/2026-05-06/
CATEGORIES:Taekwondo
ATTACH;FMTTYPE=image/jpeg:https://blackrock-kadence.gotbdev.com/wp-content/uploads/2024/09/kids-kickboxing-2.jpg
END:VEVENT
BEGIN:VEVENT
DTSTART;TZID=America/Vancouver:20260507T153000
DTEND;TZID=America/Vancouver:20260507T161500
DTSTAMP:20260421T090505
CREATED:20250122T231701Z
LAST-MODIFIED:20260221T002745Z
UID:10013887-1778167800-1778170500@blackrock-kadence.gotbdev.com
SUMMARY:Kids Taekwondo (5-7 Years Old)
DESCRIPTION:Enroll your child in Kids Taekwondo at Black Rock Martial Arts\, designed for ages 5-7! Our fun and engaging classes introduce the basics of Taekwondo\, including kicks\, blocks\, and forms\, while fostering focus\, confidence\, and discipline. With a supportive environment\, your child will learn and grow while having fun.
URL:https://blackrock-kadence.gotbdev.com/event/kids-taekwondo-5-7-years-old-2-3-2-2-2/2026-05-07/
CATEGORIES:Taekwondo
ATTACH;FMTTYPE=image/jpeg:https://blackrock-kadence.gotbdev.com/wp-content/uploads/2024/09/kids-kickboxing-1.jpg
END:VEVENT
BEGIN:VEVENT
DTSTART;TZID=America/Vancouver:20260511T161500
DTEND;TZID=America/Vancouver:20260511T170000
DTSTAMP:20260421T090505
CREATED:20241218T061033Z
LAST-MODIFIED:20260221T003420Z
UID:10009917-1778516100-1778518800@blackrock-kadence.gotbdev.com
SUMMARY:Kids Taekwondo (8-12 Years Old)
DESCRIPTION:Enroll in Kids Intermediate Taekwondo at Black Rock Martial Arts\, designed for ages 8-12! Our classes help kids refine their techniques\, build strength\, and improve focus while advancing their Taekwondo skills. Perfect for those with some experience\, these sessions offer a fun\, motivating environment for growth.
URL:https://blackrock-kadence.gotbdev.com/event/kids-taekwondo-8-12-years-old-2-2/2026-05-11/
CATEGORIES:Taekwondo
ATTACH;FMTTYPE=image/jpeg:https://blackrock-kadence.gotbdev.com/wp-content/uploads/2024/09/kids-kickboxing-2.jpg
END:VEVENT
BEGIN:VEVENT
DTSTART;TZID=America/Vancouver:20260512T153000
DTEND;TZID=America/Vancouver:20260512T161500
DTSTAMP:20260421T090505
CREATED:20250122T231701Z
LAST-MODIFIED:20260221T002745Z
UID:10013888-1778599800-1778602500@blackrock-kadence.gotbdev.com
SUMMARY:Kids Taekwondo (5-7 Years Old)
DESCRIPTION:Enroll your child in Kids Taekwondo at Black Rock Martial Arts\, designed for ages 5-7! Our fun and engaging classes introduce the basics of Taekwondo\, including kicks\, blocks\, and forms\, while fostering focus\, confidence\, and discipline. With a supportive environment\, your child will learn and grow while having fun.
URL:https://blackrock-kadence.gotbdev.com/event/kids-taekwondo-5-7-years-old-2-3-2-2-2/2026-05-12/
CATEGORIES:Taekwondo
ATTACH;FMTTYPE=image/jpeg:https://blackrock-kadence.gotbdev.com/wp-content/uploads/2024/09/kids-kickboxing-1.jpg
END:VEVENT
END:VCALENDAR