BEGIN:VCALENDAR
VERSION:2.0
PRODID:-// - ECPv6.15.20//NONSGML v1.0//EN
CALSCALE:GREGORIAN
METHOD:PUBLISH
X-ORIGINAL-URL:https://blackrock-kadence.gotbdev.com
X-WR-CALDESC:Events for 
REFRESH-INTERVAL;VALUE=DURATION:PT1H
X-Robots-Tag:noindex
X-PUBLISHED-TTL:PT1H
BEGIN:VTIMEZONE
TZID:America/Vancouver
BEGIN:DAYLIGHT
TZOFFSETFROM:-0800
TZOFFSETTO:-0700
TZNAME:PDT
DTSTART:20250309T100000
END:DAYLIGHT
BEGIN:STANDARD
TZOFFSETFROM:-0700
TZOFFSETTO:-0800
TZNAME:PST
DTSTART:20251102T090000
END:STANDARD
BEGIN:DAYLIGHT
TZOFFSETFROM:-0800
TZOFFSETTO:-0700
TZNAME:PDT
DTSTART:20260308T100000
END:DAYLIGHT
BEGIN:STANDARD
TZOFFSETFROM:-0700
TZOFFSETTO:-0800
TZNAME:PST
DTSTART:20261101T090000
END:STANDARD
BEGIN:DAYLIGHT
TZOFFSETFROM:-0800
TZOFFSETTO:-0700
TZNAME:PDT
DTSTART:20270314T100000
END:DAYLIGHT
BEGIN:STANDARD
TZOFFSETFROM:-0700
TZOFFSETTO:-0800
TZNAME:PST
DTSTART:20271107T090000
END:STANDARD
END:VTIMEZONE
BEGIN:VEVENT
DTSTART;TZID=America/Vancouver:20260928T161500
DTEND;TZID=America/Vancouver:20260928T170000
DTSTAMP:20260422T154920
CREATED:20241218T061033Z
LAST-MODIFIED:20260221T003420Z
UID:10009957-1790612100-1790614800@blackrock-kadence.gotbdev.com
SUMMARY:Kids Taekwondo (8-12 Years Old)
DESCRIPTION:Enroll in Kids Intermediate Taekwondo at Black Rock Martial Arts\, designed for ages 8-12! Our classes help kids refine their techniques\, build strength\, and improve focus while advancing their Taekwondo skills. Perfect for those with some experience\, these sessions offer a fun\, motivating environment for growth.
URL:https://blackrock-kadence.gotbdev.com/event/kids-taekwondo-8-12-years-old-2-2/2026-09-28/
CATEGORIES:Taekwondo
ATTACH;FMTTYPE=image/jpeg:https://blackrock-kadence.gotbdev.com/wp-content/uploads/2024/09/kids-kickboxing-2.jpg
END:VEVENT
BEGIN:VEVENT
DTSTART;TZID=America/Vancouver:20260929T153000
DTEND;TZID=America/Vancouver:20260929T161500
DTSTAMP:20260422T154920
CREATED:20250122T231701Z
LAST-MODIFIED:20260221T002745Z
UID:10013928-1790695800-1790698500@blackrock-kadence.gotbdev.com
SUMMARY:Kids Taekwondo (5-7 Years Old)
DESCRIPTION:Enroll your child in Kids Taekwondo at Black Rock Martial Arts\, designed for ages 5-7! Our fun and engaging classes introduce the basics of Taekwondo\, including kicks\, blocks\, and forms\, while fostering focus\, confidence\, and discipline. With a supportive environment\, your child will learn and grow while having fun.
URL:https://blackrock-kadence.gotbdev.com/event/kids-taekwondo-5-7-years-old-2-3-2-2-2/2026-09-29/
CATEGORIES:Taekwondo
ATTACH;FMTTYPE=image/jpeg:https://blackrock-kadence.gotbdev.com/wp-content/uploads/2024/09/kids-kickboxing-1.jpg
END:VEVENT
BEGIN:VEVENT
DTSTART;TZID=America/Vancouver:20260930T161500
DTEND;TZID=America/Vancouver:20260930T170000
DTSTAMP:20260422T154920
CREATED:20241218T061033Z
LAST-MODIFIED:20260221T003420Z
UID:10009958-1790784900-1790787600@blackrock-kadence.gotbdev.com
SUMMARY:Kids Taekwondo (8-12 Years Old)
DESCRIPTION:Enroll in Kids Intermediate Taekwondo at Black Rock Martial Arts\, designed for ages 8-12! Our classes help kids refine their techniques\, build strength\, and improve focus while advancing their Taekwondo skills. Perfect for those with some experience\, these sessions offer a fun\, motivating environment for growth.
URL:https://blackrock-kadence.gotbdev.com/event/kids-taekwondo-8-12-years-old-2-2/2026-09-30/
CATEGORIES:Taekwondo
ATTACH;FMTTYPE=image/jpeg:https://blackrock-kadence.gotbdev.com/wp-content/uploads/2024/09/kids-kickboxing-2.jpg
END:VEVENT
BEGIN:VEVENT
DTSTART;TZID=America/Vancouver:20261001T153000
DTEND;TZID=America/Vancouver:20261001T161500
DTSTAMP:20260422T154920
CREATED:20250122T231701Z
LAST-MODIFIED:20260221T002745Z
UID:10013929-1790868600-1790871300@blackrock-kadence.gotbdev.com
SUMMARY:Kids Taekwondo (5-7 Years Old)
DESCRIPTION:Enroll your child in Kids Taekwondo at Black Rock Martial Arts\, designed for ages 5-7! Our fun and engaging classes introduce the basics of Taekwondo\, including kicks\, blocks\, and forms\, while fostering focus\, confidence\, and discipline. With a supportive environment\, your child will learn and grow while having fun.
URL:https://blackrock-kadence.gotbdev.com/event/kids-taekwondo-5-7-years-old-2-3-2-2-2/2026-10-01/
CATEGORIES:Taekwondo
ATTACH;FMTTYPE=image/jpeg:https://blackrock-kadence.gotbdev.com/wp-content/uploads/2024/09/kids-kickboxing-1.jpg
END:VEVENT
BEGIN:VEVENT
DTSTART;TZID=America/Vancouver:20261005T161500
DTEND;TZID=America/Vancouver:20261005T170000
DTSTAMP:20260422T154920
CREATED:20241218T061033Z
LAST-MODIFIED:20260221T003420Z
UID:10009959-1791216900-1791219600@blackrock-kadence.gotbdev.com
SUMMARY:Kids Taekwondo (8-12 Years Old)
DESCRIPTION:Enroll in Kids Intermediate Taekwondo at Black Rock Martial Arts\, designed for ages 8-12! Our classes help kids refine their techniques\, build strength\, and improve focus while advancing their Taekwondo skills. Perfect for those with some experience\, these sessions offer a fun\, motivating environment for growth.
URL:https://blackrock-kadence.gotbdev.com/event/kids-taekwondo-8-12-years-old-2-2/2026-10-05/
CATEGORIES:Taekwondo
ATTACH;FMTTYPE=image/jpeg:https://blackrock-kadence.gotbdev.com/wp-content/uploads/2024/09/kids-kickboxing-2.jpg
END:VEVENT
BEGIN:VEVENT
DTSTART;TZID=America/Vancouver:20261006T153000
DTEND;TZID=America/Vancouver:20261006T161500
DTSTAMP:20260422T154920
CREATED:20250122T231701Z
LAST-MODIFIED:20260221T002745Z
UID:10013930-1791300600-1791303300@blackrock-kadence.gotbdev.com
SUMMARY:Kids Taekwondo (5-7 Years Old)
DESCRIPTION:Enroll your child in Kids Taekwondo at Black Rock Martial Arts\, designed for ages 5-7! Our fun and engaging classes introduce the basics of Taekwondo\, including kicks\, blocks\, and forms\, while fostering focus\, confidence\, and discipline. With a supportive environment\, your child will learn and grow while having fun.
URL:https://blackrock-kadence.gotbdev.com/event/kids-taekwondo-5-7-years-old-2-3-2-2-2/2026-10-06/
CATEGORIES:Taekwondo
ATTACH;FMTTYPE=image/jpeg:https://blackrock-kadence.gotbdev.com/wp-content/uploads/2024/09/kids-kickboxing-1.jpg
END:VEVENT
BEGIN:VEVENT
DTSTART;TZID=America/Vancouver:20261007T161500
DTEND;TZID=America/Vancouver:20261007T170000
DTSTAMP:20260422T154920
CREATED:20241218T061033Z
LAST-MODIFIED:20260221T003420Z
UID:10009960-1791389700-1791392400@blackrock-kadence.gotbdev.com
SUMMARY:Kids Taekwondo (8-12 Years Old)
DESCRIPTION:Enroll in Kids Intermediate Taekwondo at Black Rock Martial Arts\, designed for ages 8-12! Our classes help kids refine their techniques\, build strength\, and improve focus while advancing their Taekwondo skills. Perfect for those with some experience\, these sessions offer a fun\, motivating environment for growth.
URL:https://blackrock-kadence.gotbdev.com/event/kids-taekwondo-8-12-years-old-2-2/2026-10-07/
CATEGORIES:Taekwondo
ATTACH;FMTTYPE=image/jpeg:https://blackrock-kadence.gotbdev.com/wp-content/uploads/2024/09/kids-kickboxing-2.jpg
END:VEVENT
BEGIN:VEVENT
DTSTART;TZID=America/Vancouver:20261008T153000
DTEND;TZID=America/Vancouver:20261008T161500
DTSTAMP:20260422T154920
CREATED:20250122T231701Z
LAST-MODIFIED:20260221T002745Z
UID:10013931-1791473400-1791476100@blackrock-kadence.gotbdev.com
SUMMARY:Kids Taekwondo (5-7 Years Old)
DESCRIPTION:Enroll your child in Kids Taekwondo at Black Rock Martial Arts\, designed for ages 5-7! Our fun and engaging classes introduce the basics of Taekwondo\, including kicks\, blocks\, and forms\, while fostering focus\, confidence\, and discipline. With a supportive environment\, your child will learn and grow while having fun.
URL:https://blackrock-kadence.gotbdev.com/event/kids-taekwondo-5-7-years-old-2-3-2-2-2/2026-10-08/
CATEGORIES:Taekwondo
ATTACH;FMTTYPE=image/jpeg:https://blackrock-kadence.gotbdev.com/wp-content/uploads/2024/09/kids-kickboxing-1.jpg
END:VEVENT
BEGIN:VEVENT
DTSTART;TZID=America/Vancouver:20261012T161500
DTEND;TZID=America/Vancouver:20261012T170000
DTSTAMP:20260422T154920
CREATED:20241218T061033Z
LAST-MODIFIED:20260221T003420Z
UID:10009961-1791821700-1791824400@blackrock-kadence.gotbdev.com
SUMMARY:Kids Taekwondo (8-12 Years Old)
DESCRIPTION:Enroll in Kids Intermediate Taekwondo at Black Rock Martial Arts\, designed for ages 8-12! Our classes help kids refine their techniques\, build strength\, and improve focus while advancing their Taekwondo skills. Perfect for those with some experience\, these sessions offer a fun\, motivating environment for growth.
URL:https://blackrock-kadence.gotbdev.com/event/kids-taekwondo-8-12-years-old-2-2/2026-10-12/
CATEGORIES:Taekwondo
ATTACH;FMTTYPE=image/jpeg:https://blackrock-kadence.gotbdev.com/wp-content/uploads/2024/09/kids-kickboxing-2.jpg
END:VEVENT
BEGIN:VEVENT
DTSTART;TZID=America/Vancouver:20261013T153000
DTEND;TZID=America/Vancouver:20261013T161500
DTSTAMP:20260422T154920
CREATED:20250122T231701Z
LAST-MODIFIED:20260221T002745Z
UID:10013932-1791905400-1791908100@blackrock-kadence.gotbdev.com
SUMMARY:Kids Taekwondo (5-7 Years Old)
DESCRIPTION:Enroll your child in Kids Taekwondo at Black Rock Martial Arts\, designed for ages 5-7! Our fun and engaging classes introduce the basics of Taekwondo\, including kicks\, blocks\, and forms\, while fostering focus\, confidence\, and discipline. With a supportive environment\, your child will learn and grow while having fun.
URL:https://blackrock-kadence.gotbdev.com/event/kids-taekwondo-5-7-years-old-2-3-2-2-2/2026-10-13/
CATEGORIES:Taekwondo
ATTACH;FMTTYPE=image/jpeg:https://blackrock-kadence.gotbdev.com/wp-content/uploads/2024/09/kids-kickboxing-1.jpg
END:VEVENT
BEGIN:VEVENT
DTSTART;TZID=America/Vancouver:20261014T161500
DTEND;TZID=America/Vancouver:20261014T170000
DTSTAMP:20260422T154920
CREATED:20241218T061033Z
LAST-MODIFIED:20260221T003420Z
UID:10009962-1791994500-1791997200@blackrock-kadence.gotbdev.com
SUMMARY:Kids Taekwondo (8-12 Years Old)
DESCRIPTION:Enroll in Kids Intermediate Taekwondo at Black Rock Martial Arts\, designed for ages 8-12! Our classes help kids refine their techniques\, build strength\, and improve focus while advancing their Taekwondo skills. Perfect for those with some experience\, these sessions offer a fun\, motivating environment for growth.
URL:https://blackrock-kadence.gotbdev.com/event/kids-taekwondo-8-12-years-old-2-2/2026-10-14/
CATEGORIES:Taekwondo
ATTACH;FMTTYPE=image/jpeg:https://blackrock-kadence.gotbdev.com/wp-content/uploads/2024/09/kids-kickboxing-2.jpg
END:VEVENT
BEGIN:VEVENT
DTSTART;TZID=America/Vancouver:20261015T153000
DTEND;TZID=America/Vancouver:20261015T161500
DTSTAMP:20260422T154920
CREATED:20250122T231701Z
LAST-MODIFIED:20260221T002745Z
UID:10013933-1792078200-1792080900@blackrock-kadence.gotbdev.com
SUMMARY:Kids Taekwondo (5-7 Years Old)
DESCRIPTION:Enroll your child in Kids Taekwondo at Black Rock Martial Arts\, designed for ages 5-7! Our fun and engaging classes introduce the basics of Taekwondo\, including kicks\, blocks\, and forms\, while fostering focus\, confidence\, and discipline. With a supportive environment\, your child will learn and grow while having fun.
URL:https://blackrock-kadence.gotbdev.com/event/kids-taekwondo-5-7-years-old-2-3-2-2-2/2026-10-15/
CATEGORIES:Taekwondo
ATTACH;FMTTYPE=image/jpeg:https://blackrock-kadence.gotbdev.com/wp-content/uploads/2024/09/kids-kickboxing-1.jpg
END:VEVENT
BEGIN:VEVENT
DTSTART;TZID=America/Vancouver:20261019T161500
DTEND;TZID=America/Vancouver:20261019T170000
DTSTAMP:20260422T154920
CREATED:20241218T061033Z
LAST-MODIFIED:20260221T003420Z
UID:10009963-1792426500-1792429200@blackrock-kadence.gotbdev.com
SUMMARY:Kids Taekwondo (8-12 Years Old)
DESCRIPTION:Enroll in Kids Intermediate Taekwondo at Black Rock Martial Arts\, designed for ages 8-12! Our classes help kids refine their techniques\, build strength\, and improve focus while advancing their Taekwondo skills. Perfect for those with some experience\, these sessions offer a fun\, motivating environment for growth.
URL:https://blackrock-kadence.gotbdev.com/event/kids-taekwondo-8-12-years-old-2-2/2026-10-19/
CATEGORIES:Taekwondo
ATTACH;FMTTYPE=image/jpeg:https://blackrock-kadence.gotbdev.com/wp-content/uploads/2024/09/kids-kickboxing-2.jpg
END:VEVENT
BEGIN:VEVENT
DTSTART;TZID=America/Vancouver:20261020T153000
DTEND;TZID=America/Vancouver:20261020T161500
DTSTAMP:20260422T154920
CREATED:20250122T231701Z
LAST-MODIFIED:20260221T002745Z
UID:10013934-1792510200-1792512900@blackrock-kadence.gotbdev.com
SUMMARY:Kids Taekwondo (5-7 Years Old)
DESCRIPTION:Enroll your child in Kids Taekwondo at Black Rock Martial Arts\, designed for ages 5-7! Our fun and engaging classes introduce the basics of Taekwondo\, including kicks\, blocks\, and forms\, while fostering focus\, confidence\, and discipline. With a supportive environment\, your child will learn and grow while having fun.
URL:https://blackrock-kadence.gotbdev.com/event/kids-taekwondo-5-7-years-old-2-3-2-2-2/2026-10-20/
CATEGORIES:Taekwondo
ATTACH;FMTTYPE=image/jpeg:https://blackrock-kadence.gotbdev.com/wp-content/uploads/2024/09/kids-kickboxing-1.jpg
END:VEVENT
BEGIN:VEVENT
DTSTART;TZID=America/Vancouver:20261021T161500
DTEND;TZID=America/Vancouver:20261021T170000
DTSTAMP:20260422T154920
CREATED:20241218T061033Z
LAST-MODIFIED:20260221T003420Z
UID:10009964-1792599300-1792602000@blackrock-kadence.gotbdev.com
SUMMARY:Kids Taekwondo (8-12 Years Old)
DESCRIPTION:Enroll in Kids Intermediate Taekwondo at Black Rock Martial Arts\, designed for ages 8-12! Our classes help kids refine their techniques\, build strength\, and improve focus while advancing their Taekwondo skills. Perfect for those with some experience\, these sessions offer a fun\, motivating environment for growth.
URL:https://blackrock-kadence.gotbdev.com/event/kids-taekwondo-8-12-years-old-2-2/2026-10-21/
CATEGORIES:Taekwondo
ATTACH;FMTTYPE=image/jpeg:https://blackrock-kadence.gotbdev.com/wp-content/uploads/2024/09/kids-kickboxing-2.jpg
END:VEVENT
BEGIN:VEVENT
DTSTART;TZID=America/Vancouver:20261022T153000
DTEND;TZID=America/Vancouver:20261022T161500
DTSTAMP:20260422T154920
CREATED:20250122T231701Z
LAST-MODIFIED:20260221T002745Z
UID:10013935-1792683000-1792685700@blackrock-kadence.gotbdev.com
SUMMARY:Kids Taekwondo (5-7 Years Old)
DESCRIPTION:Enroll your child in Kids Taekwondo at Black Rock Martial Arts\, designed for ages 5-7! Our fun and engaging classes introduce the basics of Taekwondo\, including kicks\, blocks\, and forms\, while fostering focus\, confidence\, and discipline. With a supportive environment\, your child will learn and grow while having fun.
URL:https://blackrock-kadence.gotbdev.com/event/kids-taekwondo-5-7-years-old-2-3-2-2-2/2026-10-22/
CATEGORIES:Taekwondo
ATTACH;FMTTYPE=image/jpeg:https://blackrock-kadence.gotbdev.com/wp-content/uploads/2024/09/kids-kickboxing-1.jpg
END:VEVENT
BEGIN:VEVENT
DTSTART;TZID=America/Vancouver:20261026T161500
DTEND;TZID=America/Vancouver:20261026T170000
DTSTAMP:20260422T154920
CREATED:20241218T061033Z
LAST-MODIFIED:20260221T003420Z
UID:10009965-1793031300-1793034000@blackrock-kadence.gotbdev.com
SUMMARY:Kids Taekwondo (8-12 Years Old)
DESCRIPTION:Enroll in Kids Intermediate Taekwondo at Black Rock Martial Arts\, designed for ages 8-12! Our classes help kids refine their techniques\, build strength\, and improve focus while advancing their Taekwondo skills. Perfect for those with some experience\, these sessions offer a fun\, motivating environment for growth.
URL:https://blackrock-kadence.gotbdev.com/event/kids-taekwondo-8-12-years-old-2-2/2026-10-26/
CATEGORIES:Taekwondo
ATTACH;FMTTYPE=image/jpeg:https://blackrock-kadence.gotbdev.com/wp-content/uploads/2024/09/kids-kickboxing-2.jpg
END:VEVENT
BEGIN:VEVENT
DTSTART;TZID=America/Vancouver:20261027T153000
DTEND;TZID=America/Vancouver:20261027T161500
DTSTAMP:20260422T154920
CREATED:20250122T231701Z
LAST-MODIFIED:20260221T002745Z
UID:10013936-1793115000-1793117700@blackrock-kadence.gotbdev.com
SUMMARY:Kids Taekwondo (5-7 Years Old)
DESCRIPTION:Enroll your child in Kids Taekwondo at Black Rock Martial Arts\, designed for ages 5-7! Our fun and engaging classes introduce the basics of Taekwondo\, including kicks\, blocks\, and forms\, while fostering focus\, confidence\, and discipline. With a supportive environment\, your child will learn and grow while having fun.
URL:https://blackrock-kadence.gotbdev.com/event/kids-taekwondo-5-7-years-old-2-3-2-2-2/2026-10-27/
CATEGORIES:Taekwondo
ATTACH;FMTTYPE=image/jpeg:https://blackrock-kadence.gotbdev.com/wp-content/uploads/2024/09/kids-kickboxing-1.jpg
END:VEVENT
BEGIN:VEVENT
DTSTART;TZID=America/Vancouver:20261028T161500
DTEND;TZID=America/Vancouver:20261028T170000
DTSTAMP:20260422T154920
CREATED:20241218T061033Z
LAST-MODIFIED:20260221T003420Z
UID:10009966-1793204100-1793206800@blackrock-kadence.gotbdev.com
SUMMARY:Kids Taekwondo (8-12 Years Old)
DESCRIPTION:Enroll in Kids Intermediate Taekwondo at Black Rock Martial Arts\, designed for ages 8-12! Our classes help kids refine their techniques\, build strength\, and improve focus while advancing their Taekwondo skills. Perfect for those with some experience\, these sessions offer a fun\, motivating environment for growth.
URL:https://blackrock-kadence.gotbdev.com/event/kids-taekwondo-8-12-years-old-2-2/2026-10-28/
CATEGORIES:Taekwondo
ATTACH;FMTTYPE=image/jpeg:https://blackrock-kadence.gotbdev.com/wp-content/uploads/2024/09/kids-kickboxing-2.jpg
END:VEVENT
BEGIN:VEVENT
DTSTART;TZID=America/Vancouver:20261029T153000
DTEND;TZID=America/Vancouver:20261029T161500
DTSTAMP:20260422T154920
CREATED:20250122T231701Z
LAST-MODIFIED:20260221T002745Z
UID:10013937-1793287800-1793290500@blackrock-kadence.gotbdev.com
SUMMARY:Kids Taekwondo (5-7 Years Old)
DESCRIPTION:Enroll your child in Kids Taekwondo at Black Rock Martial Arts\, designed for ages 5-7! Our fun and engaging classes introduce the basics of Taekwondo\, including kicks\, blocks\, and forms\, while fostering focus\, confidence\, and discipline. With a supportive environment\, your child will learn and grow while having fun.
URL:https://blackrock-kadence.gotbdev.com/event/kids-taekwondo-5-7-years-old-2-3-2-2-2/2026-10-29/
CATEGORIES:Taekwondo
ATTACH;FMTTYPE=image/jpeg:https://blackrock-kadence.gotbdev.com/wp-content/uploads/2024/09/kids-kickboxing-1.jpg
END:VEVENT
BEGIN:VEVENT
DTSTART;TZID=America/Vancouver:20261102T161500
DTEND;TZID=America/Vancouver:20261102T170000
DTSTAMP:20260422T154920
CREATED:20241218T061033Z
LAST-MODIFIED:20260221T003420Z
UID:10009967-1793636100-1793638800@blackrock-kadence.gotbdev.com
SUMMARY:Kids Taekwondo (8-12 Years Old)
DESCRIPTION:Enroll in Kids Intermediate Taekwondo at Black Rock Martial Arts\, designed for ages 8-12! Our classes help kids refine their techniques\, build strength\, and improve focus while advancing their Taekwondo skills. Perfect for those with some experience\, these sessions offer a fun\, motivating environment for growth.
URL:https://blackrock-kadence.gotbdev.com/event/kids-taekwondo-8-12-years-old-2-2/2026-11-02/
CATEGORIES:Taekwondo
ATTACH;FMTTYPE=image/jpeg:https://blackrock-kadence.gotbdev.com/wp-content/uploads/2024/09/kids-kickboxing-2.jpg
END:VEVENT
BEGIN:VEVENT
DTSTART;TZID=America/Vancouver:20261103T153000
DTEND;TZID=America/Vancouver:20261103T161500
DTSTAMP:20260422T154920
CREATED:20250122T231701Z
LAST-MODIFIED:20260221T002745Z
UID:10013938-1793719800-1793722500@blackrock-kadence.gotbdev.com
SUMMARY:Kids Taekwondo (5-7 Years Old)
DESCRIPTION:Enroll your child in Kids Taekwondo at Black Rock Martial Arts\, designed for ages 5-7! Our fun and engaging classes introduce the basics of Taekwondo\, including kicks\, blocks\, and forms\, while fostering focus\, confidence\, and discipline. With a supportive environment\, your child will learn and grow while having fun.
URL:https://blackrock-kadence.gotbdev.com/event/kids-taekwondo-5-7-years-old-2-3-2-2-2/2026-11-03/
CATEGORIES:Taekwondo
ATTACH;FMTTYPE=image/jpeg:https://blackrock-kadence.gotbdev.com/wp-content/uploads/2024/09/kids-kickboxing-1.jpg
END:VEVENT
BEGIN:VEVENT
DTSTART;TZID=America/Vancouver:20261104T161500
DTEND;TZID=America/Vancouver:20261104T170000
DTSTAMP:20260422T154920
CREATED:20241218T061033Z
LAST-MODIFIED:20260221T003420Z
UID:10009968-1793808900-1793811600@blackrock-kadence.gotbdev.com
SUMMARY:Kids Taekwondo (8-12 Years Old)
DESCRIPTION:Enroll in Kids Intermediate Taekwondo at Black Rock Martial Arts\, designed for ages 8-12! Our classes help kids refine their techniques\, build strength\, and improve focus while advancing their Taekwondo skills. Perfect for those with some experience\, these sessions offer a fun\, motivating environment for growth.
URL:https://blackrock-kadence.gotbdev.com/event/kids-taekwondo-8-12-years-old-2-2/2026-11-04/
CATEGORIES:Taekwondo
ATTACH;FMTTYPE=image/jpeg:https://blackrock-kadence.gotbdev.com/wp-content/uploads/2024/09/kids-kickboxing-2.jpg
END:VEVENT
BEGIN:VEVENT
DTSTART;TZID=America/Vancouver:20261105T153000
DTEND;TZID=America/Vancouver:20261105T161500
DTSTAMP:20260422T154920
CREATED:20250122T231701Z
LAST-MODIFIED:20260221T002745Z
UID:10013939-1793892600-1793895300@blackrock-kadence.gotbdev.com
SUMMARY:Kids Taekwondo (5-7 Years Old)
DESCRIPTION:Enroll your child in Kids Taekwondo at Black Rock Martial Arts\, designed for ages 5-7! Our fun and engaging classes introduce the basics of Taekwondo\, including kicks\, blocks\, and forms\, while fostering focus\, confidence\, and discipline. With a supportive environment\, your child will learn and grow while having fun.
URL:https://blackrock-kadence.gotbdev.com/event/kids-taekwondo-5-7-years-old-2-3-2-2-2/2026-11-05/
CATEGORIES:Taekwondo
ATTACH;FMTTYPE=image/jpeg:https://blackrock-kadence.gotbdev.com/wp-content/uploads/2024/09/kids-kickboxing-1.jpg
END:VEVENT
BEGIN:VEVENT
DTSTART;TZID=America/Vancouver:20261109T161500
DTEND;TZID=America/Vancouver:20261109T170000
DTSTAMP:20260422T154920
CREATED:20241218T061033Z
LAST-MODIFIED:20260221T003420Z
UID:10009969-1794240900-1794243600@blackrock-kadence.gotbdev.com
SUMMARY:Kids Taekwondo (8-12 Years Old)
DESCRIPTION:Enroll in Kids Intermediate Taekwondo at Black Rock Martial Arts\, designed for ages 8-12! Our classes help kids refine their techniques\, build strength\, and improve focus while advancing their Taekwondo skills. Perfect for those with some experience\, these sessions offer a fun\, motivating environment for growth.
URL:https://blackrock-kadence.gotbdev.com/event/kids-taekwondo-8-12-years-old-2-2/2026-11-09/
CATEGORIES:Taekwondo
ATTACH;FMTTYPE=image/jpeg:https://blackrock-kadence.gotbdev.com/wp-content/uploads/2024/09/kids-kickboxing-2.jpg
END:VEVENT
BEGIN:VEVENT
DTSTART;TZID=America/Vancouver:20261110T153000
DTEND;TZID=America/Vancouver:20261110T161500
DTSTAMP:20260422T154920
CREATED:20250122T231701Z
LAST-MODIFIED:20260221T002745Z
UID:10013940-1794324600-1794327300@blackrock-kadence.gotbdev.com
SUMMARY:Kids Taekwondo (5-7 Years Old)
DESCRIPTION:Enroll your child in Kids Taekwondo at Black Rock Martial Arts\, designed for ages 5-7! Our fun and engaging classes introduce the basics of Taekwondo\, including kicks\, blocks\, and forms\, while fostering focus\, confidence\, and discipline. With a supportive environment\, your child will learn and grow while having fun.
URL:https://blackrock-kadence.gotbdev.com/event/kids-taekwondo-5-7-years-old-2-3-2-2-2/2026-11-10/
CATEGORIES:Taekwondo
ATTACH;FMTTYPE=image/jpeg:https://blackrock-kadence.gotbdev.com/wp-content/uploads/2024/09/kids-kickboxing-1.jpg
END:VEVENT
BEGIN:VEVENT
DTSTART;TZID=America/Vancouver:20261111T161500
DTEND;TZID=America/Vancouver:20261111T170000
DTSTAMP:20260422T154920
CREATED:20241218T061033Z
LAST-MODIFIED:20260221T003420Z
UID:10009970-1794413700-1794416400@blackrock-kadence.gotbdev.com
SUMMARY:Kids Taekwondo (8-12 Years Old)
DESCRIPTION:Enroll in Kids Intermediate Taekwondo at Black Rock Martial Arts\, designed for ages 8-12! Our classes help kids refine their techniques\, build strength\, and improve focus while advancing their Taekwondo skills. Perfect for those with some experience\, these sessions offer a fun\, motivating environment for growth.
URL:https://blackrock-kadence.gotbdev.com/event/kids-taekwondo-8-12-years-old-2-2/2026-11-11/
CATEGORIES:Taekwondo
ATTACH;FMTTYPE=image/jpeg:https://blackrock-kadence.gotbdev.com/wp-content/uploads/2024/09/kids-kickboxing-2.jpg
END:VEVENT
BEGIN:VEVENT
DTSTART;TZID=America/Vancouver:20261112T153000
DTEND;TZID=America/Vancouver:20261112T161500
DTSTAMP:20260422T154920
CREATED:20250122T231701Z
LAST-MODIFIED:20260221T002745Z
UID:10013941-1794497400-1794500100@blackrock-kadence.gotbdev.com
SUMMARY:Kids Taekwondo (5-7 Years Old)
DESCRIPTION:Enroll your child in Kids Taekwondo at Black Rock Martial Arts\, designed for ages 5-7! Our fun and engaging classes introduce the basics of Taekwondo\, including kicks\, blocks\, and forms\, while fostering focus\, confidence\, and discipline. With a supportive environment\, your child will learn and grow while having fun.
URL:https://blackrock-kadence.gotbdev.com/event/kids-taekwondo-5-7-years-old-2-3-2-2-2/2026-11-12/
CATEGORIES:Taekwondo
ATTACH;FMTTYPE=image/jpeg:https://blackrock-kadence.gotbdev.com/wp-content/uploads/2024/09/kids-kickboxing-1.jpg
END:VEVENT
BEGIN:VEVENT
DTSTART;TZID=America/Vancouver:20261116T161500
DTEND;TZID=America/Vancouver:20261116T170000
DTSTAMP:20260422T154920
CREATED:20241218T061033Z
LAST-MODIFIED:20260221T003420Z
UID:10009971-1794845700-1794848400@blackrock-kadence.gotbdev.com
SUMMARY:Kids Taekwondo (8-12 Years Old)
DESCRIPTION:Enroll in Kids Intermediate Taekwondo at Black Rock Martial Arts\, designed for ages 8-12! Our classes help kids refine their techniques\, build strength\, and improve focus while advancing their Taekwondo skills. Perfect for those with some experience\, these sessions offer a fun\, motivating environment for growth.
URL:https://blackrock-kadence.gotbdev.com/event/kids-taekwondo-8-12-years-old-2-2/2026-11-16/
CATEGORIES:Taekwondo
ATTACH;FMTTYPE=image/jpeg:https://blackrock-kadence.gotbdev.com/wp-content/uploads/2024/09/kids-kickboxing-2.jpg
END:VEVENT
BEGIN:VEVENT
DTSTART;TZID=America/Vancouver:20261117T153000
DTEND;TZID=America/Vancouver:20261117T161500
DTSTAMP:20260422T154920
CREATED:20250122T231701Z
LAST-MODIFIED:20260221T002745Z
UID:10013942-1794929400-1794932100@blackrock-kadence.gotbdev.com
SUMMARY:Kids Taekwondo (5-7 Years Old)
DESCRIPTION:Enroll your child in Kids Taekwondo at Black Rock Martial Arts\, designed for ages 5-7! Our fun and engaging classes introduce the basics of Taekwondo\, including kicks\, blocks\, and forms\, while fostering focus\, confidence\, and discipline. With a supportive environment\, your child will learn and grow while having fun.
URL:https://blackrock-kadence.gotbdev.com/event/kids-taekwondo-5-7-years-old-2-3-2-2-2/2026-11-17/
CATEGORIES:Taekwondo
ATTACH;FMTTYPE=image/jpeg:https://blackrock-kadence.gotbdev.com/wp-content/uploads/2024/09/kids-kickboxing-1.jpg
END:VEVENT
END:VCALENDAR