BEGIN:VCALENDAR
VERSION:2.0
PRODID:-// - ECPv6.15.20//NONSGML v1.0//EN
CALSCALE:GREGORIAN
METHOD:PUBLISH
X-ORIGINAL-URL:https://blackrock-kadence.gotbdev.com
X-WR-CALDESC:Events for 
REFRESH-INTERVAL;VALUE=DURATION:PT1H
X-Robots-Tag:noindex
X-PUBLISHED-TTL:PT1H
BEGIN:VTIMEZONE
TZID:America/Vancouver
BEGIN:DAYLIGHT
TZOFFSETFROM:-0800
TZOFFSETTO:-0700
TZNAME:PDT
DTSTART:20260308T100000
END:DAYLIGHT
BEGIN:STANDARD
TZOFFSETFROM:-0700
TZOFFSETTO:-0800
TZNAME:PST
DTSTART:20261101T090000
END:STANDARD
BEGIN:DAYLIGHT
TZOFFSETFROM:-0800
TZOFFSETTO:-0700
TZNAME:PDT
DTSTART:20270314T100000
END:DAYLIGHT
BEGIN:STANDARD
TZOFFSETFROM:-0700
TZOFFSETTO:-0800
TZNAME:PST
DTSTART:20271107T090000
END:STANDARD
BEGIN:DAYLIGHT
TZOFFSETFROM:-0800
TZOFFSETTO:-0700
TZNAME:PDT
DTSTART:20280312T100000
END:DAYLIGHT
BEGIN:STANDARD
TZOFFSETFROM:-0700
TZOFFSETTO:-0800
TZNAME:PST
DTSTART:20281105T090000
END:STANDARD
END:VTIMEZONE
BEGIN:VEVENT
DTSTART;TZID=America/Vancouver:20270506T153000
DTEND;TZID=America/Vancouver:20270506T161500
DTSTAMP:20260421T164838
CREATED:20250122T231701Z
LAST-MODIFIED:20260221T002745Z
UID:10013991-1809617400-1809620100@blackrock-kadence.gotbdev.com
SUMMARY:Kids Taekwondo (5-7 Years Old)
DESCRIPTION:Enroll your child in Kids Taekwondo at Black Rock Martial Arts\, designed for ages 5-7! Our fun and engaging classes introduce the basics of Taekwondo\, including kicks\, blocks\, and forms\, while fostering focus\, confidence\, and discipline. With a supportive environment\, your child will learn and grow while having fun.
URL:https://blackrock-kadence.gotbdev.com/event/kids-taekwondo-5-7-years-old-2-3-2-2-2/2027-05-06/
CATEGORIES:Taekwondo
ATTACH;FMTTYPE=image/jpeg:https://blackrock-kadence.gotbdev.com/wp-content/uploads/2024/09/kids-kickboxing-1.jpg
END:VEVENT
BEGIN:VEVENT
DTSTART;TZID=America/Vancouver:20270511T153000
DTEND;TZID=America/Vancouver:20270511T161500
DTSTAMP:20260421T164838
CREATED:20250122T231701Z
LAST-MODIFIED:20260221T002745Z
UID:10013992-1810049400-1810052100@blackrock-kadence.gotbdev.com
SUMMARY:Kids Taekwondo (5-7 Years Old)
DESCRIPTION:Enroll your child in Kids Taekwondo at Black Rock Martial Arts\, designed for ages 5-7! Our fun and engaging classes introduce the basics of Taekwondo\, including kicks\, blocks\, and forms\, while fostering focus\, confidence\, and discipline. With a supportive environment\, your child will learn and grow while having fun.
URL:https://blackrock-kadence.gotbdev.com/event/kids-taekwondo-5-7-years-old-2-3-2-2-2/2027-05-11/
CATEGORIES:Taekwondo
ATTACH;FMTTYPE=image/jpeg:https://blackrock-kadence.gotbdev.com/wp-content/uploads/2024/09/kids-kickboxing-1.jpg
END:VEVENT
BEGIN:VEVENT
DTSTART;TZID=America/Vancouver:20270513T153000
DTEND;TZID=America/Vancouver:20270513T161500
DTSTAMP:20260421T164838
CREATED:20250122T231701Z
LAST-MODIFIED:20260221T002745Z
UID:10013993-1810222200-1810224900@blackrock-kadence.gotbdev.com
SUMMARY:Kids Taekwondo (5-7 Years Old)
DESCRIPTION:Enroll your child in Kids Taekwondo at Black Rock Martial Arts\, designed for ages 5-7! Our fun and engaging classes introduce the basics of Taekwondo\, including kicks\, blocks\, and forms\, while fostering focus\, confidence\, and discipline. With a supportive environment\, your child will learn and grow while having fun.
URL:https://blackrock-kadence.gotbdev.com/event/kids-taekwondo-5-7-years-old-2-3-2-2-2/2027-05-13/
CATEGORIES:Taekwondo
ATTACH;FMTTYPE=image/jpeg:https://blackrock-kadence.gotbdev.com/wp-content/uploads/2024/09/kids-kickboxing-1.jpg
END:VEVENT
BEGIN:VEVENT
DTSTART;TZID=America/Vancouver:20270518T153000
DTEND;TZID=America/Vancouver:20270518T161500
DTSTAMP:20260421T164838
CREATED:20250122T231701Z
LAST-MODIFIED:20260221T002745Z
UID:10013994-1810654200-1810656900@blackrock-kadence.gotbdev.com
SUMMARY:Kids Taekwondo (5-7 Years Old)
DESCRIPTION:Enroll your child in Kids Taekwondo at Black Rock Martial Arts\, designed for ages 5-7! Our fun and engaging classes introduce the basics of Taekwondo\, including kicks\, blocks\, and forms\, while fostering focus\, confidence\, and discipline. With a supportive environment\, your child will learn and grow while having fun.
URL:https://blackrock-kadence.gotbdev.com/event/kids-taekwondo-5-7-years-old-2-3-2-2-2/2027-05-18/
CATEGORIES:Taekwondo
ATTACH;FMTTYPE=image/jpeg:https://blackrock-kadence.gotbdev.com/wp-content/uploads/2024/09/kids-kickboxing-1.jpg
END:VEVENT
BEGIN:VEVENT
DTSTART;TZID=America/Vancouver:20270520T153000
DTEND;TZID=America/Vancouver:20270520T161500
DTSTAMP:20260421T164838
CREATED:20250122T231701Z
LAST-MODIFIED:20260221T002745Z
UID:10013995-1810827000-1810829700@blackrock-kadence.gotbdev.com
SUMMARY:Kids Taekwondo (5-7 Years Old)
DESCRIPTION:Enroll your child in Kids Taekwondo at Black Rock Martial Arts\, designed for ages 5-7! Our fun and engaging classes introduce the basics of Taekwondo\, including kicks\, blocks\, and forms\, while fostering focus\, confidence\, and discipline. With a supportive environment\, your child will learn and grow while having fun.
URL:https://blackrock-kadence.gotbdev.com/event/kids-taekwondo-5-7-years-old-2-3-2-2-2/2027-05-20/
CATEGORIES:Taekwondo
ATTACH;FMTTYPE=image/jpeg:https://blackrock-kadence.gotbdev.com/wp-content/uploads/2024/09/kids-kickboxing-1.jpg
END:VEVENT
BEGIN:VEVENT
DTSTART;TZID=America/Vancouver:20270525T153000
DTEND;TZID=America/Vancouver:20270525T161500
DTSTAMP:20260421T164838
CREATED:20250122T231701Z
LAST-MODIFIED:20260221T002745Z
UID:10013996-1811259000-1811261700@blackrock-kadence.gotbdev.com
SUMMARY:Kids Taekwondo (5-7 Years Old)
DESCRIPTION:Enroll your child in Kids Taekwondo at Black Rock Martial Arts\, designed for ages 5-7! Our fun and engaging classes introduce the basics of Taekwondo\, including kicks\, blocks\, and forms\, while fostering focus\, confidence\, and discipline. With a supportive environment\, your child will learn and grow while having fun.
URL:https://blackrock-kadence.gotbdev.com/event/kids-taekwondo-5-7-years-old-2-3-2-2-2/2027-05-25/
CATEGORIES:Taekwondo
ATTACH;FMTTYPE=image/jpeg:https://blackrock-kadence.gotbdev.com/wp-content/uploads/2024/09/kids-kickboxing-1.jpg
END:VEVENT
BEGIN:VEVENT
DTSTART;TZID=America/Vancouver:20270527T153000
DTEND;TZID=America/Vancouver:20270527T161500
DTSTAMP:20260421T164838
CREATED:20250122T231701Z
LAST-MODIFIED:20260221T002745Z
UID:10013997-1811431800-1811434500@blackrock-kadence.gotbdev.com
SUMMARY:Kids Taekwondo (5-7 Years Old)
DESCRIPTION:Enroll your child in Kids Taekwondo at Black Rock Martial Arts\, designed for ages 5-7! Our fun and engaging classes introduce the basics of Taekwondo\, including kicks\, blocks\, and forms\, while fostering focus\, confidence\, and discipline. With a supportive environment\, your child will learn and grow while having fun.
URL:https://blackrock-kadence.gotbdev.com/event/kids-taekwondo-5-7-years-old-2-3-2-2-2/2027-05-27/
CATEGORIES:Taekwondo
ATTACH;FMTTYPE=image/jpeg:https://blackrock-kadence.gotbdev.com/wp-content/uploads/2024/09/kids-kickboxing-1.jpg
END:VEVENT
BEGIN:VEVENT
DTSTART;TZID=America/Vancouver:20270601T153000
DTEND;TZID=America/Vancouver:20270601T161500
DTSTAMP:20260421T164838
CREATED:20250122T231701Z
LAST-MODIFIED:20260221T002745Z
UID:10013998-1811863800-1811866500@blackrock-kadence.gotbdev.com
SUMMARY:Kids Taekwondo (5-7 Years Old)
DESCRIPTION:Enroll your child in Kids Taekwondo at Black Rock Martial Arts\, designed for ages 5-7! Our fun and engaging classes introduce the basics of Taekwondo\, including kicks\, blocks\, and forms\, while fostering focus\, confidence\, and discipline. With a supportive environment\, your child will learn and grow while having fun.
URL:https://blackrock-kadence.gotbdev.com/event/kids-taekwondo-5-7-years-old-2-3-2-2-2/2027-06-01/
CATEGORIES:Taekwondo
ATTACH;FMTTYPE=image/jpeg:https://blackrock-kadence.gotbdev.com/wp-content/uploads/2024/09/kids-kickboxing-1.jpg
END:VEVENT
BEGIN:VEVENT
DTSTART;TZID=America/Vancouver:20270603T153000
DTEND;TZID=America/Vancouver:20270603T161500
DTSTAMP:20260421T164838
CREATED:20250122T231701Z
LAST-MODIFIED:20260221T002745Z
UID:10013999-1812036600-1812039300@blackrock-kadence.gotbdev.com
SUMMARY:Kids Taekwondo (5-7 Years Old)
DESCRIPTION:Enroll your child in Kids Taekwondo at Black Rock Martial Arts\, designed for ages 5-7! Our fun and engaging classes introduce the basics of Taekwondo\, including kicks\, blocks\, and forms\, while fostering focus\, confidence\, and discipline. With a supportive environment\, your child will learn and grow while having fun.
URL:https://blackrock-kadence.gotbdev.com/event/kids-taekwondo-5-7-years-old-2-3-2-2-2/2027-06-03/
CATEGORIES:Taekwondo
ATTACH;FMTTYPE=image/jpeg:https://blackrock-kadence.gotbdev.com/wp-content/uploads/2024/09/kids-kickboxing-1.jpg
END:VEVENT
BEGIN:VEVENT
DTSTART;TZID=America/Vancouver:20270608T153000
DTEND;TZID=America/Vancouver:20270608T161500
DTSTAMP:20260421T164838
CREATED:20250122T231701Z
LAST-MODIFIED:20260221T002745Z
UID:10014000-1812468600-1812471300@blackrock-kadence.gotbdev.com
SUMMARY:Kids Taekwondo (5-7 Years Old)
DESCRIPTION:Enroll your child in Kids Taekwondo at Black Rock Martial Arts\, designed for ages 5-7! Our fun and engaging classes introduce the basics of Taekwondo\, including kicks\, blocks\, and forms\, while fostering focus\, confidence\, and discipline. With a supportive environment\, your child will learn and grow while having fun.
URL:https://blackrock-kadence.gotbdev.com/event/kids-taekwondo-5-7-years-old-2-3-2-2-2/2027-06-08/
CATEGORIES:Taekwondo
ATTACH;FMTTYPE=image/jpeg:https://blackrock-kadence.gotbdev.com/wp-content/uploads/2024/09/kids-kickboxing-1.jpg
END:VEVENT
BEGIN:VEVENT
DTSTART;TZID=America/Vancouver:20270610T153000
DTEND;TZID=America/Vancouver:20270610T161500
DTSTAMP:20260421T164838
CREATED:20250122T231701Z
LAST-MODIFIED:20260221T002745Z
UID:10014001-1812641400-1812644100@blackrock-kadence.gotbdev.com
SUMMARY:Kids Taekwondo (5-7 Years Old)
DESCRIPTION:Enroll your child in Kids Taekwondo at Black Rock Martial Arts\, designed for ages 5-7! Our fun and engaging classes introduce the basics of Taekwondo\, including kicks\, blocks\, and forms\, while fostering focus\, confidence\, and discipline. With a supportive environment\, your child will learn and grow while having fun.
URL:https://blackrock-kadence.gotbdev.com/event/kids-taekwondo-5-7-years-old-2-3-2-2-2/2027-06-10/
CATEGORIES:Taekwondo
ATTACH;FMTTYPE=image/jpeg:https://blackrock-kadence.gotbdev.com/wp-content/uploads/2024/09/kids-kickboxing-1.jpg
END:VEVENT
BEGIN:VEVENT
DTSTART;TZID=America/Vancouver:20270615T153000
DTEND;TZID=America/Vancouver:20270615T161500
DTSTAMP:20260421T164838
CREATED:20250122T231701Z
LAST-MODIFIED:20260221T002745Z
UID:10014002-1813073400-1813076100@blackrock-kadence.gotbdev.com
SUMMARY:Kids Taekwondo (5-7 Years Old)
DESCRIPTION:Enroll your child in Kids Taekwondo at Black Rock Martial Arts\, designed for ages 5-7! Our fun and engaging classes introduce the basics of Taekwondo\, including kicks\, blocks\, and forms\, while fostering focus\, confidence\, and discipline. With a supportive environment\, your child will learn and grow while having fun.
URL:https://blackrock-kadence.gotbdev.com/event/kids-taekwondo-5-7-years-old-2-3-2-2-2/2027-06-15/
CATEGORIES:Taekwondo
ATTACH;FMTTYPE=image/jpeg:https://blackrock-kadence.gotbdev.com/wp-content/uploads/2024/09/kids-kickboxing-1.jpg
END:VEVENT
BEGIN:VEVENT
DTSTART;TZID=America/Vancouver:20270617T153000
DTEND;TZID=America/Vancouver:20270617T161500
DTSTAMP:20260421T164838
CREATED:20250122T231701Z
LAST-MODIFIED:20260221T002745Z
UID:10014003-1813246200-1813248900@blackrock-kadence.gotbdev.com
SUMMARY:Kids Taekwondo (5-7 Years Old)
DESCRIPTION:Enroll your child in Kids Taekwondo at Black Rock Martial Arts\, designed for ages 5-7! Our fun and engaging classes introduce the basics of Taekwondo\, including kicks\, blocks\, and forms\, while fostering focus\, confidence\, and discipline. With a supportive environment\, your child will learn and grow while having fun.
URL:https://blackrock-kadence.gotbdev.com/event/kids-taekwondo-5-7-years-old-2-3-2-2-2/2027-06-17/
CATEGORIES:Taekwondo
ATTACH;FMTTYPE=image/jpeg:https://blackrock-kadence.gotbdev.com/wp-content/uploads/2024/09/kids-kickboxing-1.jpg
END:VEVENT
BEGIN:VEVENT
DTSTART;TZID=America/Vancouver:20270622T153000
DTEND;TZID=America/Vancouver:20270622T161500
DTSTAMP:20260421T164838
CREATED:20250122T231701Z
LAST-MODIFIED:20260221T002745Z
UID:10014004-1813678200-1813680900@blackrock-kadence.gotbdev.com
SUMMARY:Kids Taekwondo (5-7 Years Old)
DESCRIPTION:Enroll your child in Kids Taekwondo at Black Rock Martial Arts\, designed for ages 5-7! Our fun and engaging classes introduce the basics of Taekwondo\, including kicks\, blocks\, and forms\, while fostering focus\, confidence\, and discipline. With a supportive environment\, your child will learn and grow while having fun.
URL:https://blackrock-kadence.gotbdev.com/event/kids-taekwondo-5-7-years-old-2-3-2-2-2/2027-06-22/
CATEGORIES:Taekwondo
ATTACH;FMTTYPE=image/jpeg:https://blackrock-kadence.gotbdev.com/wp-content/uploads/2024/09/kids-kickboxing-1.jpg
END:VEVENT
BEGIN:VEVENT
DTSTART;TZID=America/Vancouver:20270624T153000
DTEND;TZID=America/Vancouver:20270624T161500
DTSTAMP:20260421T164838
CREATED:20250122T231701Z
LAST-MODIFIED:20260221T002745Z
UID:10014005-1813851000-1813853700@blackrock-kadence.gotbdev.com
SUMMARY:Kids Taekwondo (5-7 Years Old)
DESCRIPTION:Enroll your child in Kids Taekwondo at Black Rock Martial Arts\, designed for ages 5-7! Our fun and engaging classes introduce the basics of Taekwondo\, including kicks\, blocks\, and forms\, while fostering focus\, confidence\, and discipline. With a supportive environment\, your child will learn and grow while having fun.
URL:https://blackrock-kadence.gotbdev.com/event/kids-taekwondo-5-7-years-old-2-3-2-2-2/2027-06-24/
CATEGORIES:Taekwondo
ATTACH;FMTTYPE=image/jpeg:https://blackrock-kadence.gotbdev.com/wp-content/uploads/2024/09/kids-kickboxing-1.jpg
END:VEVENT
BEGIN:VEVENT
DTSTART;TZID=America/Vancouver:20270629T153000
DTEND;TZID=America/Vancouver:20270629T161500
DTSTAMP:20260421T164838
CREATED:20250122T231701Z
LAST-MODIFIED:20260221T002745Z
UID:10014006-1814283000-1814285700@blackrock-kadence.gotbdev.com
SUMMARY:Kids Taekwondo (5-7 Years Old)
DESCRIPTION:Enroll your child in Kids Taekwondo at Black Rock Martial Arts\, designed for ages 5-7! Our fun and engaging classes introduce the basics of Taekwondo\, including kicks\, blocks\, and forms\, while fostering focus\, confidence\, and discipline. With a supportive environment\, your child will learn and grow while having fun.
URL:https://blackrock-kadence.gotbdev.com/event/kids-taekwondo-5-7-years-old-2-3-2-2-2/2027-06-29/
CATEGORIES:Taekwondo
ATTACH;FMTTYPE=image/jpeg:https://blackrock-kadence.gotbdev.com/wp-content/uploads/2024/09/kids-kickboxing-1.jpg
END:VEVENT
BEGIN:VEVENT
DTSTART;TZID=America/Vancouver:20270701T153000
DTEND;TZID=America/Vancouver:20270701T161500
DTSTAMP:20260421T164838
CREATED:20250122T231701Z
LAST-MODIFIED:20260221T002745Z
UID:10014007-1814455800-1814458500@blackrock-kadence.gotbdev.com
SUMMARY:Kids Taekwondo (5-7 Years Old)
DESCRIPTION:Enroll your child in Kids Taekwondo at Black Rock Martial Arts\, designed for ages 5-7! Our fun and engaging classes introduce the basics of Taekwondo\, including kicks\, blocks\, and forms\, while fostering focus\, confidence\, and discipline. With a supportive environment\, your child will learn and grow while having fun.
URL:https://blackrock-kadence.gotbdev.com/event/kids-taekwondo-5-7-years-old-2-3-2-2-2/2027-07-01/
CATEGORIES:Taekwondo
ATTACH;FMTTYPE=image/jpeg:https://blackrock-kadence.gotbdev.com/wp-content/uploads/2024/09/kids-kickboxing-1.jpg
END:VEVENT
BEGIN:VEVENT
DTSTART;TZID=America/Vancouver:20270706T153000
DTEND;TZID=America/Vancouver:20270706T161500
DTSTAMP:20260421T164838
CREATED:20250122T231701Z
LAST-MODIFIED:20260221T002745Z
UID:10014008-1814887800-1814890500@blackrock-kadence.gotbdev.com
SUMMARY:Kids Taekwondo (5-7 Years Old)
DESCRIPTION:Enroll your child in Kids Taekwondo at Black Rock Martial Arts\, designed for ages 5-7! Our fun and engaging classes introduce the basics of Taekwondo\, including kicks\, blocks\, and forms\, while fostering focus\, confidence\, and discipline. With a supportive environment\, your child will learn and grow while having fun.
URL:https://blackrock-kadence.gotbdev.com/event/kids-taekwondo-5-7-years-old-2-3-2-2-2/2027-07-06/
CATEGORIES:Taekwondo
ATTACH;FMTTYPE=image/jpeg:https://blackrock-kadence.gotbdev.com/wp-content/uploads/2024/09/kids-kickboxing-1.jpg
END:VEVENT
BEGIN:VEVENT
DTSTART;TZID=America/Vancouver:20270708T153000
DTEND;TZID=America/Vancouver:20270708T161500
DTSTAMP:20260421T164838
CREATED:20250122T231701Z
LAST-MODIFIED:20260221T002745Z
UID:10014009-1815060600-1815063300@blackrock-kadence.gotbdev.com
SUMMARY:Kids Taekwondo (5-7 Years Old)
DESCRIPTION:Enroll your child in Kids Taekwondo at Black Rock Martial Arts\, designed for ages 5-7! Our fun and engaging classes introduce the basics of Taekwondo\, including kicks\, blocks\, and forms\, while fostering focus\, confidence\, and discipline. With a supportive environment\, your child will learn and grow while having fun.
URL:https://blackrock-kadence.gotbdev.com/event/kids-taekwondo-5-7-years-old-2-3-2-2-2/2027-07-08/
CATEGORIES:Taekwondo
ATTACH;FMTTYPE=image/jpeg:https://blackrock-kadence.gotbdev.com/wp-content/uploads/2024/09/kids-kickboxing-1.jpg
END:VEVENT
BEGIN:VEVENT
DTSTART;TZID=America/Vancouver:20270713T153000
DTEND;TZID=America/Vancouver:20270713T161500
DTSTAMP:20260421T164838
CREATED:20250122T231701Z
LAST-MODIFIED:20260221T002745Z
UID:10014010-1815492600-1815495300@blackrock-kadence.gotbdev.com
SUMMARY:Kids Taekwondo (5-7 Years Old)
DESCRIPTION:Enroll your child in Kids Taekwondo at Black Rock Martial Arts\, designed for ages 5-7! Our fun and engaging classes introduce the basics of Taekwondo\, including kicks\, blocks\, and forms\, while fostering focus\, confidence\, and discipline. With a supportive environment\, your child will learn and grow while having fun.
URL:https://blackrock-kadence.gotbdev.com/event/kids-taekwondo-5-7-years-old-2-3-2-2-2/2027-07-13/
CATEGORIES:Taekwondo
ATTACH;FMTTYPE=image/jpeg:https://blackrock-kadence.gotbdev.com/wp-content/uploads/2024/09/kids-kickboxing-1.jpg
END:VEVENT
BEGIN:VEVENT
DTSTART;TZID=America/Vancouver:20270715T153000
DTEND;TZID=America/Vancouver:20270715T161500
DTSTAMP:20260421T164838
CREATED:20250122T231701Z
LAST-MODIFIED:20260221T002745Z
UID:10014011-1815665400-1815668100@blackrock-kadence.gotbdev.com
SUMMARY:Kids Taekwondo (5-7 Years Old)
DESCRIPTION:Enroll your child in Kids Taekwondo at Black Rock Martial Arts\, designed for ages 5-7! Our fun and engaging classes introduce the basics of Taekwondo\, including kicks\, blocks\, and forms\, while fostering focus\, confidence\, and discipline. With a supportive environment\, your child will learn and grow while having fun.
URL:https://blackrock-kadence.gotbdev.com/event/kids-taekwondo-5-7-years-old-2-3-2-2-2/2027-07-15/
CATEGORIES:Taekwondo
ATTACH;FMTTYPE=image/jpeg:https://blackrock-kadence.gotbdev.com/wp-content/uploads/2024/09/kids-kickboxing-1.jpg
END:VEVENT
BEGIN:VEVENT
DTSTART;TZID=America/Vancouver:20270720T153000
DTEND;TZID=America/Vancouver:20270720T161500
DTSTAMP:20260421T164838
CREATED:20250122T231701Z
LAST-MODIFIED:20260221T002745Z
UID:10014012-1816097400-1816100100@blackrock-kadence.gotbdev.com
SUMMARY:Kids Taekwondo (5-7 Years Old)
DESCRIPTION:Enroll your child in Kids Taekwondo at Black Rock Martial Arts\, designed for ages 5-7! Our fun and engaging classes introduce the basics of Taekwondo\, including kicks\, blocks\, and forms\, while fostering focus\, confidence\, and discipline. With a supportive environment\, your child will learn and grow while having fun.
URL:https://blackrock-kadence.gotbdev.com/event/kids-taekwondo-5-7-years-old-2-3-2-2-2/2027-07-20/
CATEGORIES:Taekwondo
ATTACH;FMTTYPE=image/jpeg:https://blackrock-kadence.gotbdev.com/wp-content/uploads/2024/09/kids-kickboxing-1.jpg
END:VEVENT
BEGIN:VEVENT
DTSTART;TZID=America/Vancouver:20270722T153000
DTEND;TZID=America/Vancouver:20270722T161500
DTSTAMP:20260421T164838
CREATED:20250122T231701Z
LAST-MODIFIED:20260221T002745Z
UID:10014013-1816270200-1816272900@blackrock-kadence.gotbdev.com
SUMMARY:Kids Taekwondo (5-7 Years Old)
DESCRIPTION:Enroll your child in Kids Taekwondo at Black Rock Martial Arts\, designed for ages 5-7! Our fun and engaging classes introduce the basics of Taekwondo\, including kicks\, blocks\, and forms\, while fostering focus\, confidence\, and discipline. With a supportive environment\, your child will learn and grow while having fun.
URL:https://blackrock-kadence.gotbdev.com/event/kids-taekwondo-5-7-years-old-2-3-2-2-2/2027-07-22/
CATEGORIES:Taekwondo
ATTACH;FMTTYPE=image/jpeg:https://blackrock-kadence.gotbdev.com/wp-content/uploads/2024/09/kids-kickboxing-1.jpg
END:VEVENT
BEGIN:VEVENT
DTSTART;TZID=America/Vancouver:20270727T153000
DTEND;TZID=America/Vancouver:20270727T161500
DTSTAMP:20260421T164838
CREATED:20250122T231701Z
LAST-MODIFIED:20260221T002745Z
UID:10014014-1816702200-1816704900@blackrock-kadence.gotbdev.com
SUMMARY:Kids Taekwondo (5-7 Years Old)
DESCRIPTION:Enroll your child in Kids Taekwondo at Black Rock Martial Arts\, designed for ages 5-7! Our fun and engaging classes introduce the basics of Taekwondo\, including kicks\, blocks\, and forms\, while fostering focus\, confidence\, and discipline. With a supportive environment\, your child will learn and grow while having fun.
URL:https://blackrock-kadence.gotbdev.com/event/kids-taekwondo-5-7-years-old-2-3-2-2-2/2027-07-27/
CATEGORIES:Taekwondo
ATTACH;FMTTYPE=image/jpeg:https://blackrock-kadence.gotbdev.com/wp-content/uploads/2024/09/kids-kickboxing-1.jpg
END:VEVENT
BEGIN:VEVENT
DTSTART;TZID=America/Vancouver:20270729T153000
DTEND;TZID=America/Vancouver:20270729T161500
DTSTAMP:20260421T164838
CREATED:20250122T231701Z
LAST-MODIFIED:20260221T002745Z
UID:10014015-1816875000-1816877700@blackrock-kadence.gotbdev.com
SUMMARY:Kids Taekwondo (5-7 Years Old)
DESCRIPTION:Enroll your child in Kids Taekwondo at Black Rock Martial Arts\, designed for ages 5-7! Our fun and engaging classes introduce the basics of Taekwondo\, including kicks\, blocks\, and forms\, while fostering focus\, confidence\, and discipline. With a supportive environment\, your child will learn and grow while having fun.
URL:https://blackrock-kadence.gotbdev.com/event/kids-taekwondo-5-7-years-old-2-3-2-2-2/2027-07-29/
CATEGORIES:Taekwondo
ATTACH;FMTTYPE=image/jpeg:https://blackrock-kadence.gotbdev.com/wp-content/uploads/2024/09/kids-kickboxing-1.jpg
END:VEVENT
BEGIN:VEVENT
DTSTART;TZID=America/Vancouver:20270803T153000
DTEND;TZID=America/Vancouver:20270803T161500
DTSTAMP:20260421T164838
CREATED:20250122T231701Z
LAST-MODIFIED:20260221T002745Z
UID:10014016-1817307000-1817309700@blackrock-kadence.gotbdev.com
SUMMARY:Kids Taekwondo (5-7 Years Old)
DESCRIPTION:Enroll your child in Kids Taekwondo at Black Rock Martial Arts\, designed for ages 5-7! Our fun and engaging classes introduce the basics of Taekwondo\, including kicks\, blocks\, and forms\, while fostering focus\, confidence\, and discipline. With a supportive environment\, your child will learn and grow while having fun.
URL:https://blackrock-kadence.gotbdev.com/event/kids-taekwondo-5-7-years-old-2-3-2-2-2/2027-08-03/
CATEGORIES:Taekwondo
ATTACH;FMTTYPE=image/jpeg:https://blackrock-kadence.gotbdev.com/wp-content/uploads/2024/09/kids-kickboxing-1.jpg
END:VEVENT
BEGIN:VEVENT
DTSTART;TZID=America/Vancouver:20270805T153000
DTEND;TZID=America/Vancouver:20270805T161500
DTSTAMP:20260421T164838
CREATED:20250122T231701Z
LAST-MODIFIED:20260221T002745Z
UID:10014017-1817479800-1817482500@blackrock-kadence.gotbdev.com
SUMMARY:Kids Taekwondo (5-7 Years Old)
DESCRIPTION:Enroll your child in Kids Taekwondo at Black Rock Martial Arts\, designed for ages 5-7! Our fun and engaging classes introduce the basics of Taekwondo\, including kicks\, blocks\, and forms\, while fostering focus\, confidence\, and discipline. With a supportive environment\, your child will learn and grow while having fun.
URL:https://blackrock-kadence.gotbdev.com/event/kids-taekwondo-5-7-years-old-2-3-2-2-2/2027-08-05/
CATEGORIES:Taekwondo
ATTACH;FMTTYPE=image/jpeg:https://blackrock-kadence.gotbdev.com/wp-content/uploads/2024/09/kids-kickboxing-1.jpg
END:VEVENT
BEGIN:VEVENT
DTSTART;TZID=America/Vancouver:20270810T153000
DTEND;TZID=America/Vancouver:20270810T161500
DTSTAMP:20260421T164838
CREATED:20250122T231701Z
LAST-MODIFIED:20260221T002745Z
UID:10014018-1817911800-1817914500@blackrock-kadence.gotbdev.com
SUMMARY:Kids Taekwondo (5-7 Years Old)
DESCRIPTION:Enroll your child in Kids Taekwondo at Black Rock Martial Arts\, designed for ages 5-7! Our fun and engaging classes introduce the basics of Taekwondo\, including kicks\, blocks\, and forms\, while fostering focus\, confidence\, and discipline. With a supportive environment\, your child will learn and grow while having fun.
URL:https://blackrock-kadence.gotbdev.com/event/kids-taekwondo-5-7-years-old-2-3-2-2-2/2027-08-10/
CATEGORIES:Taekwondo
ATTACH;FMTTYPE=image/jpeg:https://blackrock-kadence.gotbdev.com/wp-content/uploads/2024/09/kids-kickboxing-1.jpg
END:VEVENT
BEGIN:VEVENT
DTSTART;TZID=America/Vancouver:20270812T153000
DTEND;TZID=America/Vancouver:20270812T161500
DTSTAMP:20260421T164838
CREATED:20250122T231701Z
LAST-MODIFIED:20260221T002745Z
UID:10014019-1818084600-1818087300@blackrock-kadence.gotbdev.com
SUMMARY:Kids Taekwondo (5-7 Years Old)
DESCRIPTION:Enroll your child in Kids Taekwondo at Black Rock Martial Arts\, designed for ages 5-7! Our fun and engaging classes introduce the basics of Taekwondo\, including kicks\, blocks\, and forms\, while fostering focus\, confidence\, and discipline. With a supportive environment\, your child will learn and grow while having fun.
URL:https://blackrock-kadence.gotbdev.com/event/kids-taekwondo-5-7-years-old-2-3-2-2-2/2027-08-12/
CATEGORIES:Taekwondo
ATTACH;FMTTYPE=image/jpeg:https://blackrock-kadence.gotbdev.com/wp-content/uploads/2024/09/kids-kickboxing-1.jpg
END:VEVENT
BEGIN:VEVENT
DTSTART;TZID=America/Vancouver:20270817T153000
DTEND;TZID=America/Vancouver:20270817T161500
DTSTAMP:20260421T164838
CREATED:20250122T231701Z
LAST-MODIFIED:20260221T002745Z
UID:10014020-1818516600-1818519300@blackrock-kadence.gotbdev.com
SUMMARY:Kids Taekwondo (5-7 Years Old)
DESCRIPTION:Enroll your child in Kids Taekwondo at Black Rock Martial Arts\, designed for ages 5-7! Our fun and engaging classes introduce the basics of Taekwondo\, including kicks\, blocks\, and forms\, while fostering focus\, confidence\, and discipline. With a supportive environment\, your child will learn and grow while having fun.
URL:https://blackrock-kadence.gotbdev.com/event/kids-taekwondo-5-7-years-old-2-3-2-2-2/2027-08-17/
CATEGORIES:Taekwondo
ATTACH;FMTTYPE=image/jpeg:https://blackrock-kadence.gotbdev.com/wp-content/uploads/2024/09/kids-kickboxing-1.jpg
END:VEVENT
END:VCALENDAR