BEGIN:VCALENDAR
VERSION:2.0
PRODID:-// - ECPv6.15.20//NONSGML v1.0//EN
CALSCALE:GREGORIAN
METHOD:PUBLISH
X-ORIGINAL-URL:https://blackrock-kadence.gotbdev.com
X-WR-CALDESC:Events for 
REFRESH-INTERVAL;VALUE=DURATION:PT1H
X-Robots-Tag:noindex
X-PUBLISHED-TTL:PT1H
BEGIN:VTIMEZONE
TZID:America/Vancouver
BEGIN:DAYLIGHT
TZOFFSETFROM:-0800
TZOFFSETTO:-0700
TZNAME:PDT
DTSTART:20270314T100000
END:DAYLIGHT
BEGIN:STANDARD
TZOFFSETFROM:-0700
TZOFFSETTO:-0800
TZNAME:PST
DTSTART:20271107T090000
END:STANDARD
BEGIN:DAYLIGHT
TZOFFSETFROM:-0800
TZOFFSETTO:-0700
TZNAME:PDT
DTSTART:20280312T100000
END:DAYLIGHT
BEGIN:STANDARD
TZOFFSETFROM:-0700
TZOFFSETTO:-0800
TZNAME:PST
DTSTART:20281105T090000
END:STANDARD
BEGIN:DAYLIGHT
TZOFFSETFROM:-0800
TZOFFSETTO:-0700
TZNAME:PDT
DTSTART:20290311T100000
END:DAYLIGHT
BEGIN:STANDARD
TZOFFSETFROM:-0700
TZOFFSETTO:-0800
TZNAME:PST
DTSTART:20291104T090000
END:STANDARD
END:VTIMEZONE
BEGIN:VEVENT
DTSTART;TZID=America/Vancouver:20280406T153000
DTEND;TZID=America/Vancouver:20280406T161500
DTSTAMP:20260422T221858
CREATED:20250122T231701Z
LAST-MODIFIED:20260221T002745Z
UID:10014087-1838647800-1838650500@blackrock-kadence.gotbdev.com
SUMMARY:Kids Taekwondo (5-7 Years Old)
DESCRIPTION:Enroll your child in Kids Taekwondo at Black Rock Martial Arts\, designed for ages 5-7! Our fun and engaging classes introduce the basics of Taekwondo\, including kicks\, blocks\, and forms\, while fostering focus\, confidence\, and discipline. With a supportive environment\, your child will learn and grow while having fun.
URL:https://blackrock-kadence.gotbdev.com/event/kids-taekwondo-5-7-years-old-2-3-2-2-2/2028-04-06/
CATEGORIES:Taekwondo
ATTACH;FMTTYPE=image/jpeg:https://blackrock-kadence.gotbdev.com/wp-content/uploads/2024/09/kids-kickboxing-1.jpg
END:VEVENT
BEGIN:VEVENT
DTSTART;TZID=America/Vancouver:20280411T153000
DTEND;TZID=America/Vancouver:20280411T161500
DTSTAMP:20260422T221858
CREATED:20250122T231701Z
LAST-MODIFIED:20260221T002745Z
UID:10014088-1839079800-1839082500@blackrock-kadence.gotbdev.com
SUMMARY:Kids Taekwondo (5-7 Years Old)
DESCRIPTION:Enroll your child in Kids Taekwondo at Black Rock Martial Arts\, designed for ages 5-7! Our fun and engaging classes introduce the basics of Taekwondo\, including kicks\, blocks\, and forms\, while fostering focus\, confidence\, and discipline. With a supportive environment\, your child will learn and grow while having fun.
URL:https://blackrock-kadence.gotbdev.com/event/kids-taekwondo-5-7-years-old-2-3-2-2-2/2028-04-11/
CATEGORIES:Taekwondo
ATTACH;FMTTYPE=image/jpeg:https://blackrock-kadence.gotbdev.com/wp-content/uploads/2024/09/kids-kickboxing-1.jpg
END:VEVENT
BEGIN:VEVENT
DTSTART;TZID=America/Vancouver:20280413T153000
DTEND;TZID=America/Vancouver:20280413T161500
DTSTAMP:20260422T221858
CREATED:20250122T231701Z
LAST-MODIFIED:20260221T002745Z
UID:10014089-1839252600-1839255300@blackrock-kadence.gotbdev.com
SUMMARY:Kids Taekwondo (5-7 Years Old)
DESCRIPTION:Enroll your child in Kids Taekwondo at Black Rock Martial Arts\, designed for ages 5-7! Our fun and engaging classes introduce the basics of Taekwondo\, including kicks\, blocks\, and forms\, while fostering focus\, confidence\, and discipline. With a supportive environment\, your child will learn and grow while having fun.
URL:https://blackrock-kadence.gotbdev.com/event/kids-taekwondo-5-7-years-old-2-3-2-2-2/2028-04-13/
CATEGORIES:Taekwondo
ATTACH;FMTTYPE=image/jpeg:https://blackrock-kadence.gotbdev.com/wp-content/uploads/2024/09/kids-kickboxing-1.jpg
END:VEVENT
BEGIN:VEVENT
DTSTART;TZID=America/Vancouver:20280418T153000
DTEND;TZID=America/Vancouver:20280418T161500
DTSTAMP:20260422T221858
CREATED:20250122T231701Z
LAST-MODIFIED:20260221T002745Z
UID:10014090-1839684600-1839687300@blackrock-kadence.gotbdev.com
SUMMARY:Kids Taekwondo (5-7 Years Old)
DESCRIPTION:Enroll your child in Kids Taekwondo at Black Rock Martial Arts\, designed for ages 5-7! Our fun and engaging classes introduce the basics of Taekwondo\, including kicks\, blocks\, and forms\, while fostering focus\, confidence\, and discipline. With a supportive environment\, your child will learn and grow while having fun.
URL:https://blackrock-kadence.gotbdev.com/event/kids-taekwondo-5-7-years-old-2-3-2-2-2/2028-04-18/
CATEGORIES:Taekwondo
ATTACH;FMTTYPE=image/jpeg:https://blackrock-kadence.gotbdev.com/wp-content/uploads/2024/09/kids-kickboxing-1.jpg
END:VEVENT
BEGIN:VEVENT
DTSTART;TZID=America/Vancouver:20280420T153000
DTEND;TZID=America/Vancouver:20280420T161500
DTSTAMP:20260422T221858
CREATED:20250122T231701Z
LAST-MODIFIED:20260221T002745Z
UID:10014091-1839857400-1839860100@blackrock-kadence.gotbdev.com
SUMMARY:Kids Taekwondo (5-7 Years Old)
DESCRIPTION:Enroll your child in Kids Taekwondo at Black Rock Martial Arts\, designed for ages 5-7! Our fun and engaging classes introduce the basics of Taekwondo\, including kicks\, blocks\, and forms\, while fostering focus\, confidence\, and discipline. With a supportive environment\, your child will learn and grow while having fun.
URL:https://blackrock-kadence.gotbdev.com/event/kids-taekwondo-5-7-years-old-2-3-2-2-2/2028-04-20/
CATEGORIES:Taekwondo
ATTACH;FMTTYPE=image/jpeg:https://blackrock-kadence.gotbdev.com/wp-content/uploads/2024/09/kids-kickboxing-1.jpg
END:VEVENT
BEGIN:VEVENT
DTSTART;TZID=America/Vancouver:20280425T153000
DTEND;TZID=America/Vancouver:20280425T161500
DTSTAMP:20260422T221858
CREATED:20250122T231701Z
LAST-MODIFIED:20260221T002745Z
UID:10014092-1840289400-1840292100@blackrock-kadence.gotbdev.com
SUMMARY:Kids Taekwondo (5-7 Years Old)
DESCRIPTION:Enroll your child in Kids Taekwondo at Black Rock Martial Arts\, designed for ages 5-7! Our fun and engaging classes introduce the basics of Taekwondo\, including kicks\, blocks\, and forms\, while fostering focus\, confidence\, and discipline. With a supportive environment\, your child will learn and grow while having fun.
URL:https://blackrock-kadence.gotbdev.com/event/kids-taekwondo-5-7-years-old-2-3-2-2-2/2028-04-25/
CATEGORIES:Taekwondo
ATTACH;FMTTYPE=image/jpeg:https://blackrock-kadence.gotbdev.com/wp-content/uploads/2024/09/kids-kickboxing-1.jpg
END:VEVENT
BEGIN:VEVENT
DTSTART;TZID=America/Vancouver:20280427T153000
DTEND;TZID=America/Vancouver:20280427T161500
DTSTAMP:20260422T221858
CREATED:20250122T231701Z
LAST-MODIFIED:20260221T002745Z
UID:10014093-1840462200-1840464900@blackrock-kadence.gotbdev.com
SUMMARY:Kids Taekwondo (5-7 Years Old)
DESCRIPTION:Enroll your child in Kids Taekwondo at Black Rock Martial Arts\, designed for ages 5-7! Our fun and engaging classes introduce the basics of Taekwondo\, including kicks\, blocks\, and forms\, while fostering focus\, confidence\, and discipline. With a supportive environment\, your child will learn and grow while having fun.
URL:https://blackrock-kadence.gotbdev.com/event/kids-taekwondo-5-7-years-old-2-3-2-2-2/2028-04-27/
CATEGORIES:Taekwondo
ATTACH;FMTTYPE=image/jpeg:https://blackrock-kadence.gotbdev.com/wp-content/uploads/2024/09/kids-kickboxing-1.jpg
END:VEVENT
BEGIN:VEVENT
DTSTART;TZID=America/Vancouver:20280502T153000
DTEND;TZID=America/Vancouver:20280502T161500
DTSTAMP:20260422T221858
CREATED:20250122T231701Z
LAST-MODIFIED:20260221T002745Z
UID:10014094-1840894200-1840896900@blackrock-kadence.gotbdev.com
SUMMARY:Kids Taekwondo (5-7 Years Old)
DESCRIPTION:Enroll your child in Kids Taekwondo at Black Rock Martial Arts\, designed for ages 5-7! Our fun and engaging classes introduce the basics of Taekwondo\, including kicks\, blocks\, and forms\, while fostering focus\, confidence\, and discipline. With a supportive environment\, your child will learn and grow while having fun.
URL:https://blackrock-kadence.gotbdev.com/event/kids-taekwondo-5-7-years-old-2-3-2-2-2/2028-05-02/
CATEGORIES:Taekwondo
ATTACH;FMTTYPE=image/jpeg:https://blackrock-kadence.gotbdev.com/wp-content/uploads/2024/09/kids-kickboxing-1.jpg
END:VEVENT
BEGIN:VEVENT
DTSTART;TZID=America/Vancouver:20280504T153000
DTEND;TZID=America/Vancouver:20280504T161500
DTSTAMP:20260422T221858
CREATED:20250122T231701Z
LAST-MODIFIED:20260221T002745Z
UID:10014095-1841067000-1841069700@blackrock-kadence.gotbdev.com
SUMMARY:Kids Taekwondo (5-7 Years Old)
DESCRIPTION:Enroll your child in Kids Taekwondo at Black Rock Martial Arts\, designed for ages 5-7! Our fun and engaging classes introduce the basics of Taekwondo\, including kicks\, blocks\, and forms\, while fostering focus\, confidence\, and discipline. With a supportive environment\, your child will learn and grow while having fun.
URL:https://blackrock-kadence.gotbdev.com/event/kids-taekwondo-5-7-years-old-2-3-2-2-2/2028-05-04/
CATEGORIES:Taekwondo
ATTACH;FMTTYPE=image/jpeg:https://blackrock-kadence.gotbdev.com/wp-content/uploads/2024/09/kids-kickboxing-1.jpg
END:VEVENT
BEGIN:VEVENT
DTSTART;TZID=America/Vancouver:20280509T153000
DTEND;TZID=America/Vancouver:20280509T161500
DTSTAMP:20260422T221858
CREATED:20250122T231701Z
LAST-MODIFIED:20260221T002745Z
UID:10014096-1841499000-1841501700@blackrock-kadence.gotbdev.com
SUMMARY:Kids Taekwondo (5-7 Years Old)
DESCRIPTION:Enroll your child in Kids Taekwondo at Black Rock Martial Arts\, designed for ages 5-7! Our fun and engaging classes introduce the basics of Taekwondo\, including kicks\, blocks\, and forms\, while fostering focus\, confidence\, and discipline. With a supportive environment\, your child will learn and grow while having fun.
URL:https://blackrock-kadence.gotbdev.com/event/kids-taekwondo-5-7-years-old-2-3-2-2-2/2028-05-09/
CATEGORIES:Taekwondo
ATTACH;FMTTYPE=image/jpeg:https://blackrock-kadence.gotbdev.com/wp-content/uploads/2024/09/kids-kickboxing-1.jpg
END:VEVENT
BEGIN:VEVENT
DTSTART;TZID=America/Vancouver:20280511T153000
DTEND;TZID=America/Vancouver:20280511T161500
DTSTAMP:20260422T221858
CREATED:20250122T231701Z
LAST-MODIFIED:20260221T002745Z
UID:10014097-1841671800-1841674500@blackrock-kadence.gotbdev.com
SUMMARY:Kids Taekwondo (5-7 Years Old)
DESCRIPTION:Enroll your child in Kids Taekwondo at Black Rock Martial Arts\, designed for ages 5-7! Our fun and engaging classes introduce the basics of Taekwondo\, including kicks\, blocks\, and forms\, while fostering focus\, confidence\, and discipline. With a supportive environment\, your child will learn and grow while having fun.
URL:https://blackrock-kadence.gotbdev.com/event/kids-taekwondo-5-7-years-old-2-3-2-2-2/2028-05-11/
CATEGORIES:Taekwondo
ATTACH;FMTTYPE=image/jpeg:https://blackrock-kadence.gotbdev.com/wp-content/uploads/2024/09/kids-kickboxing-1.jpg
END:VEVENT
BEGIN:VEVENT
DTSTART;TZID=America/Vancouver:20280516T153000
DTEND;TZID=America/Vancouver:20280516T161500
DTSTAMP:20260422T221858
CREATED:20250122T231701Z
LAST-MODIFIED:20260221T002745Z
UID:10014098-1842103800-1842106500@blackrock-kadence.gotbdev.com
SUMMARY:Kids Taekwondo (5-7 Years Old)
DESCRIPTION:Enroll your child in Kids Taekwondo at Black Rock Martial Arts\, designed for ages 5-7! Our fun and engaging classes introduce the basics of Taekwondo\, including kicks\, blocks\, and forms\, while fostering focus\, confidence\, and discipline. With a supportive environment\, your child will learn and grow while having fun.
URL:https://blackrock-kadence.gotbdev.com/event/kids-taekwondo-5-7-years-old-2-3-2-2-2/2028-05-16/
CATEGORIES:Taekwondo
ATTACH;FMTTYPE=image/jpeg:https://blackrock-kadence.gotbdev.com/wp-content/uploads/2024/09/kids-kickboxing-1.jpg
END:VEVENT
BEGIN:VEVENT
DTSTART;TZID=America/Vancouver:20280518T153000
DTEND;TZID=America/Vancouver:20280518T161500
DTSTAMP:20260422T221858
CREATED:20250122T231701Z
LAST-MODIFIED:20260221T002745Z
UID:10014099-1842276600-1842279300@blackrock-kadence.gotbdev.com
SUMMARY:Kids Taekwondo (5-7 Years Old)
DESCRIPTION:Enroll your child in Kids Taekwondo at Black Rock Martial Arts\, designed for ages 5-7! Our fun and engaging classes introduce the basics of Taekwondo\, including kicks\, blocks\, and forms\, while fostering focus\, confidence\, and discipline. With a supportive environment\, your child will learn and grow while having fun.
URL:https://blackrock-kadence.gotbdev.com/event/kids-taekwondo-5-7-years-old-2-3-2-2-2/2028-05-18/
CATEGORIES:Taekwondo
ATTACH;FMTTYPE=image/jpeg:https://blackrock-kadence.gotbdev.com/wp-content/uploads/2024/09/kids-kickboxing-1.jpg
END:VEVENT
BEGIN:VEVENT
DTSTART;TZID=America/Vancouver:20280523T153000
DTEND;TZID=America/Vancouver:20280523T161500
DTSTAMP:20260422T221858
CREATED:20250122T231701Z
LAST-MODIFIED:20260221T002745Z
UID:10014100-1842708600-1842711300@blackrock-kadence.gotbdev.com
SUMMARY:Kids Taekwondo (5-7 Years Old)
DESCRIPTION:Enroll your child in Kids Taekwondo at Black Rock Martial Arts\, designed for ages 5-7! Our fun and engaging classes introduce the basics of Taekwondo\, including kicks\, blocks\, and forms\, while fostering focus\, confidence\, and discipline. With a supportive environment\, your child will learn and grow while having fun.
URL:https://blackrock-kadence.gotbdev.com/event/kids-taekwondo-5-7-years-old-2-3-2-2-2/2028-05-23/
CATEGORIES:Taekwondo
ATTACH;FMTTYPE=image/jpeg:https://blackrock-kadence.gotbdev.com/wp-content/uploads/2024/09/kids-kickboxing-1.jpg
END:VEVENT
BEGIN:VEVENT
DTSTART;TZID=America/Vancouver:20280525T153000
DTEND;TZID=America/Vancouver:20280525T161500
DTSTAMP:20260422T221858
CREATED:20250122T231701Z
LAST-MODIFIED:20260221T002745Z
UID:10014101-1842881400-1842884100@blackrock-kadence.gotbdev.com
SUMMARY:Kids Taekwondo (5-7 Years Old)
DESCRIPTION:Enroll your child in Kids Taekwondo at Black Rock Martial Arts\, designed for ages 5-7! Our fun and engaging classes introduce the basics of Taekwondo\, including kicks\, blocks\, and forms\, while fostering focus\, confidence\, and discipline. With a supportive environment\, your child will learn and grow while having fun.
URL:https://blackrock-kadence.gotbdev.com/event/kids-taekwondo-5-7-years-old-2-3-2-2-2/2028-05-25/
CATEGORIES:Taekwondo
ATTACH;FMTTYPE=image/jpeg:https://blackrock-kadence.gotbdev.com/wp-content/uploads/2024/09/kids-kickboxing-1.jpg
END:VEVENT
BEGIN:VEVENT
DTSTART;TZID=America/Vancouver:20280530T153000
DTEND;TZID=America/Vancouver:20280530T161500
DTSTAMP:20260422T221858
CREATED:20250122T231701Z
LAST-MODIFIED:20260221T002745Z
UID:10014102-1843313400-1843316100@blackrock-kadence.gotbdev.com
SUMMARY:Kids Taekwondo (5-7 Years Old)
DESCRIPTION:Enroll your child in Kids Taekwondo at Black Rock Martial Arts\, designed for ages 5-7! Our fun and engaging classes introduce the basics of Taekwondo\, including kicks\, blocks\, and forms\, while fostering focus\, confidence\, and discipline. With a supportive environment\, your child will learn and grow while having fun.
URL:https://blackrock-kadence.gotbdev.com/event/kids-taekwondo-5-7-years-old-2-3-2-2-2/2028-05-30/
CATEGORIES:Taekwondo
ATTACH;FMTTYPE=image/jpeg:https://blackrock-kadence.gotbdev.com/wp-content/uploads/2024/09/kids-kickboxing-1.jpg
END:VEVENT
BEGIN:VEVENT
DTSTART;TZID=America/Vancouver:20280601T153000
DTEND;TZID=America/Vancouver:20280601T161500
DTSTAMP:20260422T221858
CREATED:20250122T231701Z
LAST-MODIFIED:20260221T002745Z
UID:10014103-1843486200-1843488900@blackrock-kadence.gotbdev.com
SUMMARY:Kids Taekwondo (5-7 Years Old)
DESCRIPTION:Enroll your child in Kids Taekwondo at Black Rock Martial Arts\, designed for ages 5-7! Our fun and engaging classes introduce the basics of Taekwondo\, including kicks\, blocks\, and forms\, while fostering focus\, confidence\, and discipline. With a supportive environment\, your child will learn and grow while having fun.
URL:https://blackrock-kadence.gotbdev.com/event/kids-taekwondo-5-7-years-old-2-3-2-2-2/2028-06-01/
CATEGORIES:Taekwondo
ATTACH;FMTTYPE=image/jpeg:https://blackrock-kadence.gotbdev.com/wp-content/uploads/2024/09/kids-kickboxing-1.jpg
END:VEVENT
BEGIN:VEVENT
DTSTART;TZID=America/Vancouver:20280606T153000
DTEND;TZID=America/Vancouver:20280606T161500
DTSTAMP:20260422T221858
CREATED:20250122T231701Z
LAST-MODIFIED:20260221T002745Z
UID:10014104-1843918200-1843920900@blackrock-kadence.gotbdev.com
SUMMARY:Kids Taekwondo (5-7 Years Old)
DESCRIPTION:Enroll your child in Kids Taekwondo at Black Rock Martial Arts\, designed for ages 5-7! Our fun and engaging classes introduce the basics of Taekwondo\, including kicks\, blocks\, and forms\, while fostering focus\, confidence\, and discipline. With a supportive environment\, your child will learn and grow while having fun.
URL:https://blackrock-kadence.gotbdev.com/event/kids-taekwondo-5-7-years-old-2-3-2-2-2/2028-06-06/
CATEGORIES:Taekwondo
ATTACH;FMTTYPE=image/jpeg:https://blackrock-kadence.gotbdev.com/wp-content/uploads/2024/09/kids-kickboxing-1.jpg
END:VEVENT
BEGIN:VEVENT
DTSTART;TZID=America/Vancouver:20280608T153000
DTEND;TZID=America/Vancouver:20280608T161500
DTSTAMP:20260422T221858
CREATED:20250122T231701Z
LAST-MODIFIED:20260221T002745Z
UID:10014105-1844091000-1844093700@blackrock-kadence.gotbdev.com
SUMMARY:Kids Taekwondo (5-7 Years Old)
DESCRIPTION:Enroll your child in Kids Taekwondo at Black Rock Martial Arts\, designed for ages 5-7! Our fun and engaging classes introduce the basics of Taekwondo\, including kicks\, blocks\, and forms\, while fostering focus\, confidence\, and discipline. With a supportive environment\, your child will learn and grow while having fun.
URL:https://blackrock-kadence.gotbdev.com/event/kids-taekwondo-5-7-years-old-2-3-2-2-2/2028-06-08/
CATEGORIES:Taekwondo
ATTACH;FMTTYPE=image/jpeg:https://blackrock-kadence.gotbdev.com/wp-content/uploads/2024/09/kids-kickboxing-1.jpg
END:VEVENT
BEGIN:VEVENT
DTSTART;TZID=America/Vancouver:20280613T153000
DTEND;TZID=America/Vancouver:20280613T161500
DTSTAMP:20260422T221858
CREATED:20250122T231701Z
LAST-MODIFIED:20260221T002745Z
UID:10014106-1844523000-1844525700@blackrock-kadence.gotbdev.com
SUMMARY:Kids Taekwondo (5-7 Years Old)
DESCRIPTION:Enroll your child in Kids Taekwondo at Black Rock Martial Arts\, designed for ages 5-7! Our fun and engaging classes introduce the basics of Taekwondo\, including kicks\, blocks\, and forms\, while fostering focus\, confidence\, and discipline. With a supportive environment\, your child will learn and grow while having fun.
URL:https://blackrock-kadence.gotbdev.com/event/kids-taekwondo-5-7-years-old-2-3-2-2-2/2028-06-13/
CATEGORIES:Taekwondo
ATTACH;FMTTYPE=image/jpeg:https://blackrock-kadence.gotbdev.com/wp-content/uploads/2024/09/kids-kickboxing-1.jpg
END:VEVENT
BEGIN:VEVENT
DTSTART;TZID=America/Vancouver:20280615T153000
DTEND;TZID=America/Vancouver:20280615T161500
DTSTAMP:20260422T221858
CREATED:20250122T231701Z
LAST-MODIFIED:20260221T002745Z
UID:10014107-1844695800-1844698500@blackrock-kadence.gotbdev.com
SUMMARY:Kids Taekwondo (5-7 Years Old)
DESCRIPTION:Enroll your child in Kids Taekwondo at Black Rock Martial Arts\, designed for ages 5-7! Our fun and engaging classes introduce the basics of Taekwondo\, including kicks\, blocks\, and forms\, while fostering focus\, confidence\, and discipline. With a supportive environment\, your child will learn and grow while having fun.
URL:https://blackrock-kadence.gotbdev.com/event/kids-taekwondo-5-7-years-old-2-3-2-2-2/2028-06-15/
CATEGORIES:Taekwondo
ATTACH;FMTTYPE=image/jpeg:https://blackrock-kadence.gotbdev.com/wp-content/uploads/2024/09/kids-kickboxing-1.jpg
END:VEVENT
BEGIN:VEVENT
DTSTART;TZID=America/Vancouver:20280620T153000
DTEND;TZID=America/Vancouver:20280620T161500
DTSTAMP:20260422T221858
CREATED:20250122T231701Z
LAST-MODIFIED:20260221T002745Z
UID:10014108-1845127800-1845130500@blackrock-kadence.gotbdev.com
SUMMARY:Kids Taekwondo (5-7 Years Old)
DESCRIPTION:Enroll your child in Kids Taekwondo at Black Rock Martial Arts\, designed for ages 5-7! Our fun and engaging classes introduce the basics of Taekwondo\, including kicks\, blocks\, and forms\, while fostering focus\, confidence\, and discipline. With a supportive environment\, your child will learn and grow while having fun.
URL:https://blackrock-kadence.gotbdev.com/event/kids-taekwondo-5-7-years-old-2-3-2-2-2/2028-06-20/
CATEGORIES:Taekwondo
ATTACH;FMTTYPE=image/jpeg:https://blackrock-kadence.gotbdev.com/wp-content/uploads/2024/09/kids-kickboxing-1.jpg
END:VEVENT
BEGIN:VEVENT
DTSTART;TZID=America/Vancouver:20280622T153000
DTEND;TZID=America/Vancouver:20280622T161500
DTSTAMP:20260422T221858
CREATED:20250122T231701Z
LAST-MODIFIED:20260221T002745Z
UID:10014109-1845300600-1845303300@blackrock-kadence.gotbdev.com
SUMMARY:Kids Taekwondo (5-7 Years Old)
DESCRIPTION:Enroll your child in Kids Taekwondo at Black Rock Martial Arts\, designed for ages 5-7! Our fun and engaging classes introduce the basics of Taekwondo\, including kicks\, blocks\, and forms\, while fostering focus\, confidence\, and discipline. With a supportive environment\, your child will learn and grow while having fun.
URL:https://blackrock-kadence.gotbdev.com/event/kids-taekwondo-5-7-years-old-2-3-2-2-2/2028-06-22/
CATEGORIES:Taekwondo
ATTACH;FMTTYPE=image/jpeg:https://blackrock-kadence.gotbdev.com/wp-content/uploads/2024/09/kids-kickboxing-1.jpg
END:VEVENT
BEGIN:VEVENT
DTSTART;TZID=America/Vancouver:20280627T153000
DTEND;TZID=America/Vancouver:20280627T161500
DTSTAMP:20260422T221858
CREATED:20250122T231701Z
LAST-MODIFIED:20260221T002745Z
UID:10014110-1845732600-1845735300@blackrock-kadence.gotbdev.com
SUMMARY:Kids Taekwondo (5-7 Years Old)
DESCRIPTION:Enroll your child in Kids Taekwondo at Black Rock Martial Arts\, designed for ages 5-7! Our fun and engaging classes introduce the basics of Taekwondo\, including kicks\, blocks\, and forms\, while fostering focus\, confidence\, and discipline. With a supportive environment\, your child will learn and grow while having fun.
URL:https://blackrock-kadence.gotbdev.com/event/kids-taekwondo-5-7-years-old-2-3-2-2-2/2028-06-27/
CATEGORIES:Taekwondo
ATTACH;FMTTYPE=image/jpeg:https://blackrock-kadence.gotbdev.com/wp-content/uploads/2024/09/kids-kickboxing-1.jpg
END:VEVENT
BEGIN:VEVENT
DTSTART;TZID=America/Vancouver:20280629T153000
DTEND;TZID=America/Vancouver:20280629T161500
DTSTAMP:20260422T221858
CREATED:20250122T231701Z
LAST-MODIFIED:20260221T002745Z
UID:10014111-1845905400-1845908100@blackrock-kadence.gotbdev.com
SUMMARY:Kids Taekwondo (5-7 Years Old)
DESCRIPTION:Enroll your child in Kids Taekwondo at Black Rock Martial Arts\, designed for ages 5-7! Our fun and engaging classes introduce the basics of Taekwondo\, including kicks\, blocks\, and forms\, while fostering focus\, confidence\, and discipline. With a supportive environment\, your child will learn and grow while having fun.
URL:https://blackrock-kadence.gotbdev.com/event/kids-taekwondo-5-7-years-old-2-3-2-2-2/2028-06-29/
CATEGORIES:Taekwondo
ATTACH;FMTTYPE=image/jpeg:https://blackrock-kadence.gotbdev.com/wp-content/uploads/2024/09/kids-kickboxing-1.jpg
END:VEVENT
BEGIN:VEVENT
DTSTART;TZID=America/Vancouver:20280704T153000
DTEND;TZID=America/Vancouver:20280704T161500
DTSTAMP:20260422T221858
CREATED:20250122T231701Z
LAST-MODIFIED:20260221T002745Z
UID:10014112-1846337400-1846340100@blackrock-kadence.gotbdev.com
SUMMARY:Kids Taekwondo (5-7 Years Old)
DESCRIPTION:Enroll your child in Kids Taekwondo at Black Rock Martial Arts\, designed for ages 5-7! Our fun and engaging classes introduce the basics of Taekwondo\, including kicks\, blocks\, and forms\, while fostering focus\, confidence\, and discipline. With a supportive environment\, your child will learn and grow while having fun.
URL:https://blackrock-kadence.gotbdev.com/event/kids-taekwondo-5-7-years-old-2-3-2-2-2/2028-07-04/
CATEGORIES:Taekwondo
ATTACH;FMTTYPE=image/jpeg:https://blackrock-kadence.gotbdev.com/wp-content/uploads/2024/09/kids-kickboxing-1.jpg
END:VEVENT
BEGIN:VEVENT
DTSTART;TZID=America/Vancouver:20280706T153000
DTEND;TZID=America/Vancouver:20280706T161500
DTSTAMP:20260422T221858
CREATED:20250122T231701Z
LAST-MODIFIED:20260221T002745Z
UID:10014113-1846510200-1846512900@blackrock-kadence.gotbdev.com
SUMMARY:Kids Taekwondo (5-7 Years Old)
DESCRIPTION:Enroll your child in Kids Taekwondo at Black Rock Martial Arts\, designed for ages 5-7! Our fun and engaging classes introduce the basics of Taekwondo\, including kicks\, blocks\, and forms\, while fostering focus\, confidence\, and discipline. With a supportive environment\, your child will learn and grow while having fun.
URL:https://blackrock-kadence.gotbdev.com/event/kids-taekwondo-5-7-years-old-2-3-2-2-2/2028-07-06/
CATEGORIES:Taekwondo
ATTACH;FMTTYPE=image/jpeg:https://blackrock-kadence.gotbdev.com/wp-content/uploads/2024/09/kids-kickboxing-1.jpg
END:VEVENT
BEGIN:VEVENT
DTSTART;TZID=America/Vancouver:20280711T153000
DTEND;TZID=America/Vancouver:20280711T161500
DTSTAMP:20260422T221858
CREATED:20250122T231701Z
LAST-MODIFIED:20260221T002745Z
UID:10014114-1846942200-1846944900@blackrock-kadence.gotbdev.com
SUMMARY:Kids Taekwondo (5-7 Years Old)
DESCRIPTION:Enroll your child in Kids Taekwondo at Black Rock Martial Arts\, designed for ages 5-7! Our fun and engaging classes introduce the basics of Taekwondo\, including kicks\, blocks\, and forms\, while fostering focus\, confidence\, and discipline. With a supportive environment\, your child will learn and grow while having fun.
URL:https://blackrock-kadence.gotbdev.com/event/kids-taekwondo-5-7-years-old-2-3-2-2-2/2028-07-11/
CATEGORIES:Taekwondo
ATTACH;FMTTYPE=image/jpeg:https://blackrock-kadence.gotbdev.com/wp-content/uploads/2024/09/kids-kickboxing-1.jpg
END:VEVENT
BEGIN:VEVENT
DTSTART;TZID=America/Vancouver:20280713T153000
DTEND;TZID=America/Vancouver:20280713T161500
DTSTAMP:20260422T221858
CREATED:20250122T231701Z
LAST-MODIFIED:20260221T002745Z
UID:10014115-1847115000-1847117700@blackrock-kadence.gotbdev.com
SUMMARY:Kids Taekwondo (5-7 Years Old)
DESCRIPTION:Enroll your child in Kids Taekwondo at Black Rock Martial Arts\, designed for ages 5-7! Our fun and engaging classes introduce the basics of Taekwondo\, including kicks\, blocks\, and forms\, while fostering focus\, confidence\, and discipline. With a supportive environment\, your child will learn and grow while having fun.
URL:https://blackrock-kadence.gotbdev.com/event/kids-taekwondo-5-7-years-old-2-3-2-2-2/2028-07-13/
CATEGORIES:Taekwondo
ATTACH;FMTTYPE=image/jpeg:https://blackrock-kadence.gotbdev.com/wp-content/uploads/2024/09/kids-kickboxing-1.jpg
END:VEVENT
BEGIN:VEVENT
DTSTART;TZID=America/Vancouver:20280718T153000
DTEND;TZID=America/Vancouver:20280718T161500
DTSTAMP:20260422T221858
CREATED:20250122T231701Z
LAST-MODIFIED:20260221T002745Z
UID:10014116-1847547000-1847549700@blackrock-kadence.gotbdev.com
SUMMARY:Kids Taekwondo (5-7 Years Old)
DESCRIPTION:Enroll your child in Kids Taekwondo at Black Rock Martial Arts\, designed for ages 5-7! Our fun and engaging classes introduce the basics of Taekwondo\, including kicks\, blocks\, and forms\, while fostering focus\, confidence\, and discipline. With a supportive environment\, your child will learn and grow while having fun.
URL:https://blackrock-kadence.gotbdev.com/event/kids-taekwondo-5-7-years-old-2-3-2-2-2/2028-07-18/
CATEGORIES:Taekwondo
ATTACH;FMTTYPE=image/jpeg:https://blackrock-kadence.gotbdev.com/wp-content/uploads/2024/09/kids-kickboxing-1.jpg
END:VEVENT
END:VCALENDAR