BEGIN:VCALENDAR
VERSION:2.0
PRODID:-// - ECPv6.15.20//NONSGML v1.0//EN
CALSCALE:GREGORIAN
METHOD:PUBLISH
X-ORIGINAL-URL:https://blackrock-kadence.gotbdev.com
X-WR-CALDESC:Events for 
REFRESH-INTERVAL;VALUE=DURATION:PT1H
X-Robots-Tag:noindex
X-PUBLISHED-TTL:PT1H
BEGIN:VTIMEZONE
TZID:America/Vancouver
BEGIN:DAYLIGHT
TZOFFSETFROM:-0800
TZOFFSETTO:-0700
TZNAME:PDT
DTSTART:20250309T100000
END:DAYLIGHT
BEGIN:STANDARD
TZOFFSETFROM:-0700
TZOFFSETTO:-0800
TZNAME:PST
DTSTART:20251102T090000
END:STANDARD
BEGIN:DAYLIGHT
TZOFFSETFROM:-0800
TZOFFSETTO:-0700
TZNAME:PDT
DTSTART:20260308T100000
END:DAYLIGHT
BEGIN:STANDARD
TZOFFSETFROM:-0700
TZOFFSETTO:-0800
TZNAME:PST
DTSTART:20261101T090000
END:STANDARD
BEGIN:DAYLIGHT
TZOFFSETFROM:-0800
TZOFFSETTO:-0700
TZNAME:PDT
DTSTART:20270314T100000
END:DAYLIGHT
BEGIN:STANDARD
TZOFFSETFROM:-0700
TZOFFSETTO:-0800
TZNAME:PST
DTSTART:20271107T090000
END:STANDARD
END:VTIMEZONE
BEGIN:VEVENT
DTSTART;TZID=America/Vancouver:20260101T161500
DTEND;TZID=America/Vancouver:20260101T170000
DTSTAMP:20260421T084211
CREATED:20241218T073516Z
LAST-MODIFIED:20260221T002751Z
UID:10012126-1767284100-1767286800@blackrock-kadence.gotbdev.com
SUMMARY:Kids Kickboxing (7-11 Years Old)
DESCRIPTION:Join Kids Kickboxing at Black Rock Martial Arts\, specially designed for ages 7-11! Our high-energy classes focus on teaching essential self-defense techniques\, fitness\, and coordination skills\, all while building confidence\, discipline\, and respect. Kids will learn proper striking\, footwork\, and defensive moves in a fun\, engaging atmosphere that keeps them active and motivated. With experienced instructors and a supportive community\, children develop new skills\, make friends\, and enjoy a healthy outlet for their energy in a safe\, positive environment. Perfect for all experience levels\, our classes promote growth\, teamwork\, and a love for martial arts.
URL:https://blackrock-kadence.gotbdev.com/event/kids-kickboxing-2-2-2-2-2/2026-01-01/
CATEGORIES:Kickboxing
ATTACH;FMTTYPE=image/jpeg:https://blackrock-kadence.gotbdev.com/wp-content/uploads/2025/11/View-recent-photos.jpeg
END:VEVENT
BEGIN:VEVENT
DTSTART;TZID=America/Vancouver:20260106T161500
DTEND;TZID=America/Vancouver:20260106T170000
DTSTAMP:20260421T084211
CREATED:20241218T073516Z
LAST-MODIFIED:20260221T002751Z
UID:10012127-1767716100-1767718800@blackrock-kadence.gotbdev.com
SUMMARY:Kids Kickboxing (7-11 Years Old)
DESCRIPTION:Join Kids Kickboxing at Black Rock Martial Arts\, specially designed for ages 7-11! Our high-energy classes focus on teaching essential self-defense techniques\, fitness\, and coordination skills\, all while building confidence\, discipline\, and respect. Kids will learn proper striking\, footwork\, and defensive moves in a fun\, engaging atmosphere that keeps them active and motivated. With experienced instructors and a supportive community\, children develop new skills\, make friends\, and enjoy a healthy outlet for their energy in a safe\, positive environment. Perfect for all experience levels\, our classes promote growth\, teamwork\, and a love for martial arts.
URL:https://blackrock-kadence.gotbdev.com/event/kids-kickboxing-2-2-2-2-2/2026-01-06/
CATEGORIES:Kickboxing
ATTACH;FMTTYPE=image/jpeg:https://blackrock-kadence.gotbdev.com/wp-content/uploads/2025/11/View-recent-photos.jpeg
END:VEVENT
BEGIN:VEVENT
DTSTART;TZID=America/Vancouver:20260108T161500
DTEND;TZID=America/Vancouver:20260108T170000
DTSTAMP:20260421T084211
CREATED:20241218T073516Z
LAST-MODIFIED:20260221T002751Z
UID:10012128-1767888900-1767891600@blackrock-kadence.gotbdev.com
SUMMARY:Kids Kickboxing (7-11 Years Old)
DESCRIPTION:Join Kids Kickboxing at Black Rock Martial Arts\, specially designed for ages 7-11! Our high-energy classes focus on teaching essential self-defense techniques\, fitness\, and coordination skills\, all while building confidence\, discipline\, and respect. Kids will learn proper striking\, footwork\, and defensive moves in a fun\, engaging atmosphere that keeps them active and motivated. With experienced instructors and a supportive community\, children develop new skills\, make friends\, and enjoy a healthy outlet for their energy in a safe\, positive environment. Perfect for all experience levels\, our classes promote growth\, teamwork\, and a love for martial arts.
URL:https://blackrock-kadence.gotbdev.com/event/kids-kickboxing-2-2-2-2-2/2026-01-08/
CATEGORIES:Kickboxing
ATTACH;FMTTYPE=image/jpeg:https://blackrock-kadence.gotbdev.com/wp-content/uploads/2025/11/View-recent-photos.jpeg
END:VEVENT
BEGIN:VEVENT
DTSTART;TZID=America/Vancouver:20260113T161500
DTEND;TZID=America/Vancouver:20260113T170000
DTSTAMP:20260421T084211
CREATED:20241218T073516Z
LAST-MODIFIED:20260221T002751Z
UID:10012129-1768320900-1768323600@blackrock-kadence.gotbdev.com
SUMMARY:Kids Kickboxing (7-11 Years Old)
DESCRIPTION:Join Kids Kickboxing at Black Rock Martial Arts\, specially designed for ages 7-11! Our high-energy classes focus on teaching essential self-defense techniques\, fitness\, and coordination skills\, all while building confidence\, discipline\, and respect. Kids will learn proper striking\, footwork\, and defensive moves in a fun\, engaging atmosphere that keeps them active and motivated. With experienced instructors and a supportive community\, children develop new skills\, make friends\, and enjoy a healthy outlet for their energy in a safe\, positive environment. Perfect for all experience levels\, our classes promote growth\, teamwork\, and a love for martial arts.
URL:https://blackrock-kadence.gotbdev.com/event/kids-kickboxing-2-2-2-2-2/2026-01-13/
CATEGORIES:Kickboxing
ATTACH;FMTTYPE=image/jpeg:https://blackrock-kadence.gotbdev.com/wp-content/uploads/2025/11/View-recent-photos.jpeg
END:VEVENT
BEGIN:VEVENT
DTSTART;TZID=America/Vancouver:20260115T161500
DTEND;TZID=America/Vancouver:20260115T170000
DTSTAMP:20260421T084211
CREATED:20241218T073516Z
LAST-MODIFIED:20260221T002751Z
UID:10012130-1768493700-1768496400@blackrock-kadence.gotbdev.com
SUMMARY:Kids Kickboxing (7-11 Years Old)
DESCRIPTION:Join Kids Kickboxing at Black Rock Martial Arts\, specially designed for ages 7-11! Our high-energy classes focus on teaching essential self-defense techniques\, fitness\, and coordination skills\, all while building confidence\, discipline\, and respect. Kids will learn proper striking\, footwork\, and defensive moves in a fun\, engaging atmosphere that keeps them active and motivated. With experienced instructors and a supportive community\, children develop new skills\, make friends\, and enjoy a healthy outlet for their energy in a safe\, positive environment. Perfect for all experience levels\, our classes promote growth\, teamwork\, and a love for martial arts.
URL:https://blackrock-kadence.gotbdev.com/event/kids-kickboxing-2-2-2-2-2/2026-01-15/
CATEGORIES:Kickboxing
ATTACH;FMTTYPE=image/jpeg:https://blackrock-kadence.gotbdev.com/wp-content/uploads/2025/11/View-recent-photos.jpeg
END:VEVENT
BEGIN:VEVENT
DTSTART;TZID=America/Vancouver:20260120T161500
DTEND;TZID=America/Vancouver:20260120T170000
DTSTAMP:20260421T084211
CREATED:20241218T073516Z
LAST-MODIFIED:20260221T002751Z
UID:10012131-1768925700-1768928400@blackrock-kadence.gotbdev.com
SUMMARY:Kids Kickboxing (7-11 Years Old)
DESCRIPTION:Join Kids Kickboxing at Black Rock Martial Arts\, specially designed for ages 7-11! Our high-energy classes focus on teaching essential self-defense techniques\, fitness\, and coordination skills\, all while building confidence\, discipline\, and respect. Kids will learn proper striking\, footwork\, and defensive moves in a fun\, engaging atmosphere that keeps them active and motivated. With experienced instructors and a supportive community\, children develop new skills\, make friends\, and enjoy a healthy outlet for their energy in a safe\, positive environment. Perfect for all experience levels\, our classes promote growth\, teamwork\, and a love for martial arts.
URL:https://blackrock-kadence.gotbdev.com/event/kids-kickboxing-2-2-2-2-2/2026-01-20/
CATEGORIES:Kickboxing
ATTACH;FMTTYPE=image/jpeg:https://blackrock-kadence.gotbdev.com/wp-content/uploads/2025/11/View-recent-photos.jpeg
END:VEVENT
BEGIN:VEVENT
DTSTART;TZID=America/Vancouver:20260122T161500
DTEND;TZID=America/Vancouver:20260122T170000
DTSTAMP:20260421T084211
CREATED:20241218T073516Z
LAST-MODIFIED:20260221T002751Z
UID:10012132-1769098500-1769101200@blackrock-kadence.gotbdev.com
SUMMARY:Kids Kickboxing (7-11 Years Old)
DESCRIPTION:Join Kids Kickboxing at Black Rock Martial Arts\, specially designed for ages 7-11! Our high-energy classes focus on teaching essential self-defense techniques\, fitness\, and coordination skills\, all while building confidence\, discipline\, and respect. Kids will learn proper striking\, footwork\, and defensive moves in a fun\, engaging atmosphere that keeps them active and motivated. With experienced instructors and a supportive community\, children develop new skills\, make friends\, and enjoy a healthy outlet for their energy in a safe\, positive environment. Perfect for all experience levels\, our classes promote growth\, teamwork\, and a love for martial arts.
URL:https://blackrock-kadence.gotbdev.com/event/kids-kickboxing-2-2-2-2-2/2026-01-22/
CATEGORIES:Kickboxing
ATTACH;FMTTYPE=image/jpeg:https://blackrock-kadence.gotbdev.com/wp-content/uploads/2025/11/View-recent-photos.jpeg
END:VEVENT
BEGIN:VEVENT
DTSTART;TZID=America/Vancouver:20260127T161500
DTEND;TZID=America/Vancouver:20260127T170000
DTSTAMP:20260421T084211
CREATED:20241218T073516Z
LAST-MODIFIED:20260221T002751Z
UID:10012133-1769530500-1769533200@blackrock-kadence.gotbdev.com
SUMMARY:Kids Kickboxing (7-11 Years Old)
DESCRIPTION:Join Kids Kickboxing at Black Rock Martial Arts\, specially designed for ages 7-11! Our high-energy classes focus on teaching essential self-defense techniques\, fitness\, and coordination skills\, all while building confidence\, discipline\, and respect. Kids will learn proper striking\, footwork\, and defensive moves in a fun\, engaging atmosphere that keeps them active and motivated. With experienced instructors and a supportive community\, children develop new skills\, make friends\, and enjoy a healthy outlet for their energy in a safe\, positive environment. Perfect for all experience levels\, our classes promote growth\, teamwork\, and a love for martial arts.
URL:https://blackrock-kadence.gotbdev.com/event/kids-kickboxing-2-2-2-2-2/2026-01-27/
CATEGORIES:Kickboxing
ATTACH;FMTTYPE=image/jpeg:https://blackrock-kadence.gotbdev.com/wp-content/uploads/2025/11/View-recent-photos.jpeg
END:VEVENT
BEGIN:VEVENT
DTSTART;TZID=America/Vancouver:20260129T161500
DTEND;TZID=America/Vancouver:20260129T170000
DTSTAMP:20260421T084211
CREATED:20241218T073516Z
LAST-MODIFIED:20260221T002751Z
UID:10012134-1769703300-1769706000@blackrock-kadence.gotbdev.com
SUMMARY:Kids Kickboxing (7-11 Years Old)
DESCRIPTION:Join Kids Kickboxing at Black Rock Martial Arts\, specially designed for ages 7-11! Our high-energy classes focus on teaching essential self-defense techniques\, fitness\, and coordination skills\, all while building confidence\, discipline\, and respect. Kids will learn proper striking\, footwork\, and defensive moves in a fun\, engaging atmosphere that keeps them active and motivated. With experienced instructors and a supportive community\, children develop new skills\, make friends\, and enjoy a healthy outlet for their energy in a safe\, positive environment. Perfect for all experience levels\, our classes promote growth\, teamwork\, and a love for martial arts.
URL:https://blackrock-kadence.gotbdev.com/event/kids-kickboxing-2-2-2-2-2/2026-01-29/
CATEGORIES:Kickboxing
ATTACH;FMTTYPE=image/jpeg:https://blackrock-kadence.gotbdev.com/wp-content/uploads/2025/11/View-recent-photos.jpeg
END:VEVENT
END:VCALENDAR