BEGIN:VCALENDAR
VERSION:2.0
PRODID:-// - ECPv6.15.20//NONSGML v1.0//EN
CALSCALE:GREGORIAN
METHOD:PUBLISH
X-ORIGINAL-URL:https://blackrock-kadence.gotbdev.com
X-WR-CALDESC:Events for 
REFRESH-INTERVAL;VALUE=DURATION:PT1H
X-Robots-Tag:noindex
X-PUBLISHED-TTL:PT1H
BEGIN:VTIMEZONE
TZID:America/Vancouver
BEGIN:DAYLIGHT
TZOFFSETFROM:-0800
TZOFFSETTO:-0700
TZNAME:PDT
DTSTART:20250309T100000
END:DAYLIGHT
BEGIN:STANDARD
TZOFFSETFROM:-0700
TZOFFSETTO:-0800
TZNAME:PST
DTSTART:20251102T090000
END:STANDARD
BEGIN:DAYLIGHT
TZOFFSETFROM:-0800
TZOFFSETTO:-0700
TZNAME:PDT
DTSTART:20260308T100000
END:DAYLIGHT
BEGIN:STANDARD
TZOFFSETFROM:-0700
TZOFFSETTO:-0800
TZNAME:PST
DTSTART:20261101T090000
END:STANDARD
BEGIN:DAYLIGHT
TZOFFSETFROM:-0800
TZOFFSETTO:-0700
TZNAME:PDT
DTSTART:20270314T100000
END:DAYLIGHT
BEGIN:STANDARD
TZOFFSETFROM:-0700
TZOFFSETTO:-0800
TZNAME:PST
DTSTART:20271107T090000
END:STANDARD
END:VTIMEZONE
BEGIN:VEVENT
DTSTART;TZID=America/Vancouver:20261201T161500
DTEND;TZID=America/Vancouver:20261201T170000
DTSTAMP:20260421T164356
CREATED:20241218T073516Z
LAST-MODIFIED:20260221T002751Z
UID:10012221-1796141700-1796144400@blackrock-kadence.gotbdev.com
SUMMARY:Kids Kickboxing (7-11 Years Old)
DESCRIPTION:Join Kids Kickboxing at Black Rock Martial Arts\, specially designed for ages 7-11! Our high-energy classes focus on teaching essential self-defense techniques\, fitness\, and coordination skills\, all while building confidence\, discipline\, and respect. Kids will learn proper striking\, footwork\, and defensive moves in a fun\, engaging atmosphere that keeps them active and motivated. With experienced instructors and a supportive community\, children develop new skills\, make friends\, and enjoy a healthy outlet for their energy in a safe\, positive environment. Perfect for all experience levels\, our classes promote growth\, teamwork\, and a love for martial arts.
URL:https://blackrock-kadence.gotbdev.com/event/kids-kickboxing-2-2-2-2-2/2026-12-01/
CATEGORIES:Kickboxing
ATTACH;FMTTYPE=image/jpeg:https://blackrock-kadence.gotbdev.com/wp-content/uploads/2025/11/View-recent-photos.jpeg
END:VEVENT
BEGIN:VEVENT
DTSTART;TZID=America/Vancouver:20261203T161500
DTEND;TZID=America/Vancouver:20261203T170000
DTSTAMP:20260421T164356
CREATED:20241218T073516Z
LAST-MODIFIED:20260221T002751Z
UID:10012222-1796314500-1796317200@blackrock-kadence.gotbdev.com
SUMMARY:Kids Kickboxing (7-11 Years Old)
DESCRIPTION:Join Kids Kickboxing at Black Rock Martial Arts\, specially designed for ages 7-11! Our high-energy classes focus on teaching essential self-defense techniques\, fitness\, and coordination skills\, all while building confidence\, discipline\, and respect. Kids will learn proper striking\, footwork\, and defensive moves in a fun\, engaging atmosphere that keeps them active and motivated. With experienced instructors and a supportive community\, children develop new skills\, make friends\, and enjoy a healthy outlet for their energy in a safe\, positive environment. Perfect for all experience levels\, our classes promote growth\, teamwork\, and a love for martial arts.
URL:https://blackrock-kadence.gotbdev.com/event/kids-kickboxing-2-2-2-2-2/2026-12-03/
CATEGORIES:Kickboxing
ATTACH;FMTTYPE=image/jpeg:https://blackrock-kadence.gotbdev.com/wp-content/uploads/2025/11/View-recent-photos.jpeg
END:VEVENT
BEGIN:VEVENT
DTSTART;TZID=America/Vancouver:20261208T161500
DTEND;TZID=America/Vancouver:20261208T170000
DTSTAMP:20260421T164356
CREATED:20241218T073516Z
LAST-MODIFIED:20260221T002751Z
UID:10012223-1796746500-1796749200@blackrock-kadence.gotbdev.com
SUMMARY:Kids Kickboxing (7-11 Years Old)
DESCRIPTION:Join Kids Kickboxing at Black Rock Martial Arts\, specially designed for ages 7-11! Our high-energy classes focus on teaching essential self-defense techniques\, fitness\, and coordination skills\, all while building confidence\, discipline\, and respect. Kids will learn proper striking\, footwork\, and defensive moves in a fun\, engaging atmosphere that keeps them active and motivated. With experienced instructors and a supportive community\, children develop new skills\, make friends\, and enjoy a healthy outlet for their energy in a safe\, positive environment. Perfect for all experience levels\, our classes promote growth\, teamwork\, and a love for martial arts.
URL:https://blackrock-kadence.gotbdev.com/event/kids-kickboxing-2-2-2-2-2/2026-12-08/
CATEGORIES:Kickboxing
ATTACH;FMTTYPE=image/jpeg:https://blackrock-kadence.gotbdev.com/wp-content/uploads/2025/11/View-recent-photos.jpeg
END:VEVENT
BEGIN:VEVENT
DTSTART;TZID=America/Vancouver:20261210T161500
DTEND;TZID=America/Vancouver:20261210T170000
DTSTAMP:20260421T164356
CREATED:20241218T073516Z
LAST-MODIFIED:20260221T002751Z
UID:10012224-1796919300-1796922000@blackrock-kadence.gotbdev.com
SUMMARY:Kids Kickboxing (7-11 Years Old)
DESCRIPTION:Join Kids Kickboxing at Black Rock Martial Arts\, specially designed for ages 7-11! Our high-energy classes focus on teaching essential self-defense techniques\, fitness\, and coordination skills\, all while building confidence\, discipline\, and respect. Kids will learn proper striking\, footwork\, and defensive moves in a fun\, engaging atmosphere that keeps them active and motivated. With experienced instructors and a supportive community\, children develop new skills\, make friends\, and enjoy a healthy outlet for their energy in a safe\, positive environment. Perfect for all experience levels\, our classes promote growth\, teamwork\, and a love for martial arts.
URL:https://blackrock-kadence.gotbdev.com/event/kids-kickboxing-2-2-2-2-2/2026-12-10/
CATEGORIES:Kickboxing
ATTACH;FMTTYPE=image/jpeg:https://blackrock-kadence.gotbdev.com/wp-content/uploads/2025/11/View-recent-photos.jpeg
END:VEVENT
BEGIN:VEVENT
DTSTART;TZID=America/Vancouver:20261215T161500
DTEND;TZID=America/Vancouver:20261215T170000
DTSTAMP:20260421T164356
CREATED:20241218T073516Z
LAST-MODIFIED:20260221T002751Z
UID:10012225-1797351300-1797354000@blackrock-kadence.gotbdev.com
SUMMARY:Kids Kickboxing (7-11 Years Old)
DESCRIPTION:Join Kids Kickboxing at Black Rock Martial Arts\, specially designed for ages 7-11! Our high-energy classes focus on teaching essential self-defense techniques\, fitness\, and coordination skills\, all while building confidence\, discipline\, and respect. Kids will learn proper striking\, footwork\, and defensive moves in a fun\, engaging atmosphere that keeps them active and motivated. With experienced instructors and a supportive community\, children develop new skills\, make friends\, and enjoy a healthy outlet for their energy in a safe\, positive environment. Perfect for all experience levels\, our classes promote growth\, teamwork\, and a love for martial arts.
URL:https://blackrock-kadence.gotbdev.com/event/kids-kickboxing-2-2-2-2-2/2026-12-15/
CATEGORIES:Kickboxing
ATTACH;FMTTYPE=image/jpeg:https://blackrock-kadence.gotbdev.com/wp-content/uploads/2025/11/View-recent-photos.jpeg
END:VEVENT
BEGIN:VEVENT
DTSTART;TZID=America/Vancouver:20261217T161500
DTEND;TZID=America/Vancouver:20261217T170000
DTSTAMP:20260421T164356
CREATED:20241218T073516Z
LAST-MODIFIED:20260221T002751Z
UID:10012226-1797524100-1797526800@blackrock-kadence.gotbdev.com
SUMMARY:Kids Kickboxing (7-11 Years Old)
DESCRIPTION:Join Kids Kickboxing at Black Rock Martial Arts\, specially designed for ages 7-11! Our high-energy classes focus on teaching essential self-defense techniques\, fitness\, and coordination skills\, all while building confidence\, discipline\, and respect. Kids will learn proper striking\, footwork\, and defensive moves in a fun\, engaging atmosphere that keeps them active and motivated. With experienced instructors and a supportive community\, children develop new skills\, make friends\, and enjoy a healthy outlet for their energy in a safe\, positive environment. Perfect for all experience levels\, our classes promote growth\, teamwork\, and a love for martial arts.
URL:https://blackrock-kadence.gotbdev.com/event/kids-kickboxing-2-2-2-2-2/2026-12-17/
CATEGORIES:Kickboxing
ATTACH;FMTTYPE=image/jpeg:https://blackrock-kadence.gotbdev.com/wp-content/uploads/2025/11/View-recent-photos.jpeg
END:VEVENT
BEGIN:VEVENT
DTSTART;TZID=America/Vancouver:20261222T161500
DTEND;TZID=America/Vancouver:20261222T170000
DTSTAMP:20260421T164356
CREATED:20241218T073516Z
LAST-MODIFIED:20260221T002751Z
UID:10012227-1797956100-1797958800@blackrock-kadence.gotbdev.com
SUMMARY:Kids Kickboxing (7-11 Years Old)
DESCRIPTION:Join Kids Kickboxing at Black Rock Martial Arts\, specially designed for ages 7-11! Our high-energy classes focus on teaching essential self-defense techniques\, fitness\, and coordination skills\, all while building confidence\, discipline\, and respect. Kids will learn proper striking\, footwork\, and defensive moves in a fun\, engaging atmosphere that keeps them active and motivated. With experienced instructors and a supportive community\, children develop new skills\, make friends\, and enjoy a healthy outlet for their energy in a safe\, positive environment. Perfect for all experience levels\, our classes promote growth\, teamwork\, and a love for martial arts.
URL:https://blackrock-kadence.gotbdev.com/event/kids-kickboxing-2-2-2-2-2/2026-12-22/
CATEGORIES:Kickboxing
ATTACH;FMTTYPE=image/jpeg:https://blackrock-kadence.gotbdev.com/wp-content/uploads/2025/11/View-recent-photos.jpeg
END:VEVENT
BEGIN:VEVENT
DTSTART;TZID=America/Vancouver:20261224T161500
DTEND;TZID=America/Vancouver:20261224T170000
DTSTAMP:20260421T164356
CREATED:20241218T073516Z
LAST-MODIFIED:20260221T002751Z
UID:10012228-1798128900-1798131600@blackrock-kadence.gotbdev.com
SUMMARY:Kids Kickboxing (7-11 Years Old)
DESCRIPTION:Join Kids Kickboxing at Black Rock Martial Arts\, specially designed for ages 7-11! Our high-energy classes focus on teaching essential self-defense techniques\, fitness\, and coordination skills\, all while building confidence\, discipline\, and respect. Kids will learn proper striking\, footwork\, and defensive moves in a fun\, engaging atmosphere that keeps them active and motivated. With experienced instructors and a supportive community\, children develop new skills\, make friends\, and enjoy a healthy outlet for their energy in a safe\, positive environment. Perfect for all experience levels\, our classes promote growth\, teamwork\, and a love for martial arts.
URL:https://blackrock-kadence.gotbdev.com/event/kids-kickboxing-2-2-2-2-2/2026-12-24/
CATEGORIES:Kickboxing
ATTACH;FMTTYPE=image/jpeg:https://blackrock-kadence.gotbdev.com/wp-content/uploads/2025/11/View-recent-photos.jpeg
END:VEVENT
BEGIN:VEVENT
DTSTART;TZID=America/Vancouver:20261229T161500
DTEND;TZID=America/Vancouver:20261229T170000
DTSTAMP:20260421T164356
CREATED:20241218T073516Z
LAST-MODIFIED:20260221T002751Z
UID:10012229-1798560900-1798563600@blackrock-kadence.gotbdev.com
SUMMARY:Kids Kickboxing (7-11 Years Old)
DESCRIPTION:Join Kids Kickboxing at Black Rock Martial Arts\, specially designed for ages 7-11! Our high-energy classes focus on teaching essential self-defense techniques\, fitness\, and coordination skills\, all while building confidence\, discipline\, and respect. Kids will learn proper striking\, footwork\, and defensive moves in a fun\, engaging atmosphere that keeps them active and motivated. With experienced instructors and a supportive community\, children develop new skills\, make friends\, and enjoy a healthy outlet for their energy in a safe\, positive environment. Perfect for all experience levels\, our classes promote growth\, teamwork\, and a love for martial arts.
URL:https://blackrock-kadence.gotbdev.com/event/kids-kickboxing-2-2-2-2-2/2026-12-29/
CATEGORIES:Kickboxing
ATTACH;FMTTYPE=image/jpeg:https://blackrock-kadence.gotbdev.com/wp-content/uploads/2025/11/View-recent-photos.jpeg
END:VEVENT
BEGIN:VEVENT
DTSTART;TZID=America/Vancouver:20261231T161500
DTEND;TZID=America/Vancouver:20261231T170000
DTSTAMP:20260421T164356
CREATED:20241218T073516Z
LAST-MODIFIED:20260221T002751Z
UID:10012230-1798733700-1798736400@blackrock-kadence.gotbdev.com
SUMMARY:Kids Kickboxing (7-11 Years Old)
DESCRIPTION:Join Kids Kickboxing at Black Rock Martial Arts\, specially designed for ages 7-11! Our high-energy classes focus on teaching essential self-defense techniques\, fitness\, and coordination skills\, all while building confidence\, discipline\, and respect. Kids will learn proper striking\, footwork\, and defensive moves in a fun\, engaging atmosphere that keeps them active and motivated. With experienced instructors and a supportive community\, children develop new skills\, make friends\, and enjoy a healthy outlet for their energy in a safe\, positive environment. Perfect for all experience levels\, our classes promote growth\, teamwork\, and a love for martial arts.
URL:https://blackrock-kadence.gotbdev.com/event/kids-kickboxing-2-2-2-2-2/2026-12-31/
CATEGORIES:Kickboxing
ATTACH;FMTTYPE=image/jpeg:https://blackrock-kadence.gotbdev.com/wp-content/uploads/2025/11/View-recent-photos.jpeg
END:VEVENT
END:VCALENDAR