BEGIN:VCALENDAR
VERSION:2.0
PRODID:-// - ECPv6.15.20//NONSGML v1.0//EN
CALSCALE:GREGORIAN
METHOD:PUBLISH
X-ORIGINAL-URL:https://blackrock-kadence.gotbdev.com
X-WR-CALDESC:Events for 
REFRESH-INTERVAL;VALUE=DURATION:PT1H
X-Robots-Tag:noindex
X-PUBLISHED-TTL:PT1H
BEGIN:VTIMEZONE
TZID:America/Vancouver
BEGIN:DAYLIGHT
TZOFFSETFROM:-0800
TZOFFSETTO:-0700
TZNAME:PDT
DTSTART:20240310T100000
END:DAYLIGHT
BEGIN:STANDARD
TZOFFSETFROM:-0700
TZOFFSETTO:-0800
TZNAME:PST
DTSTART:20241103T090000
END:STANDARD
BEGIN:DAYLIGHT
TZOFFSETFROM:-0800
TZOFFSETTO:-0700
TZNAME:PDT
DTSTART:20250309T100000
END:DAYLIGHT
BEGIN:STANDARD
TZOFFSETFROM:-0700
TZOFFSETTO:-0800
TZNAME:PST
DTSTART:20251102T090000
END:STANDARD
BEGIN:DAYLIGHT
TZOFFSETFROM:-0800
TZOFFSETTO:-0700
TZNAME:PDT
DTSTART:20260308T100000
END:DAYLIGHT
BEGIN:STANDARD
TZOFFSETFROM:-0700
TZOFFSETTO:-0800
TZNAME:PST
DTSTART:20261101T090000
END:STANDARD
END:VTIMEZONE
BEGIN:VEVENT
DTSTART;TZID=America/Vancouver:20250804T170000
DTEND;TZID=America/Vancouver:20250804T180000
DTSTAMP:20260421T164718
CREATED:20241102T184457Z
LAST-MODIFIED:20260221T004152Z
UID:10008178-1754326800-1754330400@blackrock-kadence.gotbdev.com
SUMMARY:Teen Kickboxing
DESCRIPTION:Join Teen Kickboxing classes at Black Rock Martial Arts\, tailored for ages 12-17! Bring your gloves and join our high-energy workouts combine kickboxing techniques with cardio exercises to enhance fitness\, strength\, and endurance. Suitable for all skill levels\, these classes focus on building coordination\, agility\, and confidence in a fun and supportive environment. Led by experienced instructors\, teens learn essential self-defense skills and enjoy a dynamic\, engaging workout. It’s a great way to stay active\, make friends\, and feel empowered\, while having fun and reaching fitness goals.
URL:https://blackrock-kadence.gotbdev.com/event/teen-kickboxing-dutch-drilling-2/2025-08-04/
CATEGORIES:Kickboxing
ATTACH;FMTTYPE=image/jpeg:https://blackrock-kadence.gotbdev.com/wp-content/uploads/2025/11/WPA4369-scaled-1-scaled.jpg
END:VEVENT
BEGIN:VEVENT
DTSTART;TZID=America/Vancouver:20250805T170000
DTEND;TZID=America/Vancouver:20250805T180000
DTSTAMP:20260421T164718
CREATED:20240105T011440Z
LAST-MODIFIED:20260221T003227Z
UID:10004561-1754413200-1754416800@blackrock-kadence.gotbdev.com
SUMMARY:Teen Kickboxing
DESCRIPTION:Join Teen Kickboxing classes at Black Rock Martial Arts\, designed for ages 12-17! Our high-energy sessions combine kickboxing techniques with intense cardio workouts to boost fitness\, strength\, and endurance. Perfect for all skill levels\, these classes focus on improving coordination\, agility\, and confidence while having fun in a positive\, supportive environment. Led by experienced instructors\, teens will learn essential self-defense skills and enjoy a dynamic workout that keeps them motivated and engaged. Get fit\, make friends\, and feel empowered with Teen Kickboxing!
URL:https://blackrock-kadence.gotbdev.com/event/teen-kickboxing-5-6-pm/2025-08-05/
CATEGORIES:Kickboxing
ATTACH;FMTTYPE=image/jpeg:https://blackrock-kadence.gotbdev.com/wp-content/uploads/2024/09/teen-kickboxing-22.jpg
END:VEVENT
BEGIN:VEVENT
DTSTART;TZID=America/Vancouver:20250806T170000
DTEND;TZID=America/Vancouver:20250806T180000
DTSTAMP:20260421T164718
CREATED:20241218T061524Z
LAST-MODIFIED:20260221T003029Z
UID:10010448-1754499600-1754503200@blackrock-kadence.gotbdev.com
SUMMARY:Teen Kickboxing (12-17 Years Old)
DESCRIPTION:Join Teen Kickboxing classes at Black Rock Martial Arts\, tailored for ages 12-17! Our high-energy workouts combine kickboxing techniques with cardio exercises to enhance fitness\, strength\, and endurance. Suitable for all skill levels\, these classes focus on building coordination\, agility\, and confidence in a fun and supportive environment. Led by experienced instructors\, teens learn essential self-defense skills and enjoy a dynamic\, engaging workout. It’s a great way to stay active\, make friends\, and feel empowered\, while having fun and reaching fitness goals.
URL:https://blackrock-kadence.gotbdev.com/event/teen-kickboxing-2-2-2/2025-08-06/
CATEGORIES:Kickboxing
ATTACH;FMTTYPE=image/jpeg:https://blackrock-kadence.gotbdev.com/wp-content/uploads/2025/11/IMG_30250FC53716-1.jpeg
END:VEVENT
BEGIN:VEVENT
DTSTART;TZID=America/Vancouver:20250807T170000
DTEND;TZID=America/Vancouver:20250807T180000
DTSTAMP:20260421T164718
CREATED:20240105T011440Z
LAST-MODIFIED:20260221T003227Z
UID:10004562-1754586000-1754589600@blackrock-kadence.gotbdev.com
SUMMARY:Teen Kickboxing
DESCRIPTION:Join Teen Kickboxing classes at Black Rock Martial Arts\, designed for ages 12-17! Our high-energy sessions combine kickboxing techniques with intense cardio workouts to boost fitness\, strength\, and endurance. Perfect for all skill levels\, these classes focus on improving coordination\, agility\, and confidence while having fun in a positive\, supportive environment. Led by experienced instructors\, teens will learn essential self-defense skills and enjoy a dynamic workout that keeps them motivated and engaged. Get fit\, make friends\, and feel empowered with Teen Kickboxing!
URL:https://blackrock-kadence.gotbdev.com/event/teen-kickboxing-5-6-pm/2025-08-07/
CATEGORIES:Kickboxing
ATTACH;FMTTYPE=image/jpeg:https://blackrock-kadence.gotbdev.com/wp-content/uploads/2024/09/teen-kickboxing-22.jpg
END:VEVENT
BEGIN:VEVENT
DTSTART;TZID=America/Vancouver:20250811T170000
DTEND;TZID=America/Vancouver:20250811T180000
DTSTAMP:20260421T164718
CREATED:20241102T184457Z
LAST-MODIFIED:20260221T004152Z
UID:10008179-1754931600-1754935200@blackrock-kadence.gotbdev.com
SUMMARY:Teen Kickboxing
DESCRIPTION:Join Teen Kickboxing classes at Black Rock Martial Arts\, tailored for ages 12-17! Bring your gloves and join our high-energy workouts combine kickboxing techniques with cardio exercises to enhance fitness\, strength\, and endurance. Suitable for all skill levels\, these classes focus on building coordination\, agility\, and confidence in a fun and supportive environment. Led by experienced instructors\, teens learn essential self-defense skills and enjoy a dynamic\, engaging workout. It’s a great way to stay active\, make friends\, and feel empowered\, while having fun and reaching fitness goals.
URL:https://blackrock-kadence.gotbdev.com/event/teen-kickboxing-dutch-drilling-2/2025-08-11/
CATEGORIES:Kickboxing
ATTACH;FMTTYPE=image/jpeg:https://blackrock-kadence.gotbdev.com/wp-content/uploads/2025/11/WPA4369-scaled-1-scaled.jpg
END:VEVENT
BEGIN:VEVENT
DTSTART;TZID=America/Vancouver:20250812T170000
DTEND;TZID=America/Vancouver:20250812T180000
DTSTAMP:20260421T164718
CREATED:20240105T011440Z
LAST-MODIFIED:20260221T003227Z
UID:10004563-1755018000-1755021600@blackrock-kadence.gotbdev.com
SUMMARY:Teen Kickboxing
DESCRIPTION:Join Teen Kickboxing classes at Black Rock Martial Arts\, designed for ages 12-17! Our high-energy sessions combine kickboxing techniques with intense cardio workouts to boost fitness\, strength\, and endurance. Perfect for all skill levels\, these classes focus on improving coordination\, agility\, and confidence while having fun in a positive\, supportive environment. Led by experienced instructors\, teens will learn essential self-defense skills and enjoy a dynamic workout that keeps them motivated and engaged. Get fit\, make friends\, and feel empowered with Teen Kickboxing!
URL:https://blackrock-kadence.gotbdev.com/event/teen-kickboxing-5-6-pm/2025-08-12/
CATEGORIES:Kickboxing
ATTACH;FMTTYPE=image/jpeg:https://blackrock-kadence.gotbdev.com/wp-content/uploads/2024/09/teen-kickboxing-22.jpg
END:VEVENT
BEGIN:VEVENT
DTSTART;TZID=America/Vancouver:20250813T170000
DTEND;TZID=America/Vancouver:20250813T180000
DTSTAMP:20260421T164718
CREATED:20241218T061524Z
LAST-MODIFIED:20260221T003029Z
UID:10010449-1755104400-1755108000@blackrock-kadence.gotbdev.com
SUMMARY:Teen Kickboxing (12-17 Years Old)
DESCRIPTION:Join Teen Kickboxing classes at Black Rock Martial Arts\, tailored for ages 12-17! Our high-energy workouts combine kickboxing techniques with cardio exercises to enhance fitness\, strength\, and endurance. Suitable for all skill levels\, these classes focus on building coordination\, agility\, and confidence in a fun and supportive environment. Led by experienced instructors\, teens learn essential self-defense skills and enjoy a dynamic\, engaging workout. It’s a great way to stay active\, make friends\, and feel empowered\, while having fun and reaching fitness goals.
URL:https://blackrock-kadence.gotbdev.com/event/teen-kickboxing-2-2-2/2025-08-13/
CATEGORIES:Kickboxing
ATTACH;FMTTYPE=image/jpeg:https://blackrock-kadence.gotbdev.com/wp-content/uploads/2025/11/IMG_30250FC53716-1.jpeg
END:VEVENT
BEGIN:VEVENT
DTSTART;TZID=America/Vancouver:20250814T170000
DTEND;TZID=America/Vancouver:20250814T180000
DTSTAMP:20260421T164718
CREATED:20240105T011440Z
LAST-MODIFIED:20260221T003227Z
UID:10004564-1755190800-1755194400@blackrock-kadence.gotbdev.com
SUMMARY:Teen Kickboxing
DESCRIPTION:Join Teen Kickboxing classes at Black Rock Martial Arts\, designed for ages 12-17! Our high-energy sessions combine kickboxing techniques with intense cardio workouts to boost fitness\, strength\, and endurance. Perfect for all skill levels\, these classes focus on improving coordination\, agility\, and confidence while having fun in a positive\, supportive environment. Led by experienced instructors\, teens will learn essential self-defense skills and enjoy a dynamic workout that keeps them motivated and engaged. Get fit\, make friends\, and feel empowered with Teen Kickboxing!
URL:https://blackrock-kadence.gotbdev.com/event/teen-kickboxing-5-6-pm/2025-08-14/
CATEGORIES:Kickboxing
ATTACH;FMTTYPE=image/jpeg:https://blackrock-kadence.gotbdev.com/wp-content/uploads/2024/09/teen-kickboxing-22.jpg
END:VEVENT
BEGIN:VEVENT
DTSTART;TZID=America/Vancouver:20250818T170000
DTEND;TZID=America/Vancouver:20250818T180000
DTSTAMP:20260421T164718
CREATED:20241102T184457Z
LAST-MODIFIED:20260221T004152Z
UID:10008180-1755536400-1755540000@blackrock-kadence.gotbdev.com
SUMMARY:Teen Kickboxing
DESCRIPTION:Join Teen Kickboxing classes at Black Rock Martial Arts\, tailored for ages 12-17! Bring your gloves and join our high-energy workouts combine kickboxing techniques with cardio exercises to enhance fitness\, strength\, and endurance. Suitable for all skill levels\, these classes focus on building coordination\, agility\, and confidence in a fun and supportive environment. Led by experienced instructors\, teens learn essential self-defense skills and enjoy a dynamic\, engaging workout. It’s a great way to stay active\, make friends\, and feel empowered\, while having fun and reaching fitness goals.
URL:https://blackrock-kadence.gotbdev.com/event/teen-kickboxing-dutch-drilling-2/2025-08-18/
CATEGORIES:Kickboxing
ATTACH;FMTTYPE=image/jpeg:https://blackrock-kadence.gotbdev.com/wp-content/uploads/2025/11/WPA4369-scaled-1-scaled.jpg
END:VEVENT
BEGIN:VEVENT
DTSTART;TZID=America/Vancouver:20250819T170000
DTEND;TZID=America/Vancouver:20250819T180000
DTSTAMP:20260421T164718
CREATED:20240105T011440Z
LAST-MODIFIED:20260221T003227Z
UID:10004565-1755622800-1755626400@blackrock-kadence.gotbdev.com
SUMMARY:Teen Kickboxing
DESCRIPTION:Join Teen Kickboxing classes at Black Rock Martial Arts\, designed for ages 12-17! Our high-energy sessions combine kickboxing techniques with intense cardio workouts to boost fitness\, strength\, and endurance. Perfect for all skill levels\, these classes focus on improving coordination\, agility\, and confidence while having fun in a positive\, supportive environment. Led by experienced instructors\, teens will learn essential self-defense skills and enjoy a dynamic workout that keeps them motivated and engaged. Get fit\, make friends\, and feel empowered with Teen Kickboxing!
URL:https://blackrock-kadence.gotbdev.com/event/teen-kickboxing-5-6-pm/2025-08-19/
CATEGORIES:Kickboxing
ATTACH;FMTTYPE=image/jpeg:https://blackrock-kadence.gotbdev.com/wp-content/uploads/2024/09/teen-kickboxing-22.jpg
END:VEVENT
BEGIN:VEVENT
DTSTART;TZID=America/Vancouver:20250820T170000
DTEND;TZID=America/Vancouver:20250820T180000
DTSTAMP:20260421T164718
CREATED:20241218T061524Z
LAST-MODIFIED:20260221T003029Z
UID:10010450-1755709200-1755712800@blackrock-kadence.gotbdev.com
SUMMARY:Teen Kickboxing (12-17 Years Old)
DESCRIPTION:Join Teen Kickboxing classes at Black Rock Martial Arts\, tailored for ages 12-17! Our high-energy workouts combine kickboxing techniques with cardio exercises to enhance fitness\, strength\, and endurance. Suitable for all skill levels\, these classes focus on building coordination\, agility\, and confidence in a fun and supportive environment. Led by experienced instructors\, teens learn essential self-defense skills and enjoy a dynamic\, engaging workout. It’s a great way to stay active\, make friends\, and feel empowered\, while having fun and reaching fitness goals.
URL:https://blackrock-kadence.gotbdev.com/event/teen-kickboxing-2-2-2/2025-08-20/
CATEGORIES:Kickboxing
ATTACH;FMTTYPE=image/jpeg:https://blackrock-kadence.gotbdev.com/wp-content/uploads/2025/11/IMG_30250FC53716-1.jpeg
END:VEVENT
BEGIN:VEVENT
DTSTART;TZID=America/Vancouver:20250821T170000
DTEND;TZID=America/Vancouver:20250821T180000
DTSTAMP:20260421T164718
CREATED:20240105T011440Z
LAST-MODIFIED:20260221T003227Z
UID:10004566-1755795600-1755799200@blackrock-kadence.gotbdev.com
SUMMARY:Teen Kickboxing
DESCRIPTION:Join Teen Kickboxing classes at Black Rock Martial Arts\, designed for ages 12-17! Our high-energy sessions combine kickboxing techniques with intense cardio workouts to boost fitness\, strength\, and endurance. Perfect for all skill levels\, these classes focus on improving coordination\, agility\, and confidence while having fun in a positive\, supportive environment. Led by experienced instructors\, teens will learn essential self-defense skills and enjoy a dynamic workout that keeps them motivated and engaged. Get fit\, make friends\, and feel empowered with Teen Kickboxing!
URL:https://blackrock-kadence.gotbdev.com/event/teen-kickboxing-5-6-pm/2025-08-21/
CATEGORIES:Kickboxing
ATTACH;FMTTYPE=image/jpeg:https://blackrock-kadence.gotbdev.com/wp-content/uploads/2024/09/teen-kickboxing-22.jpg
END:VEVENT
BEGIN:VEVENT
DTSTART;TZID=America/Vancouver:20250825T170000
DTEND;TZID=America/Vancouver:20250825T180000
DTSTAMP:20260421T164718
CREATED:20241102T184457Z
LAST-MODIFIED:20260221T004152Z
UID:10008181-1756141200-1756144800@blackrock-kadence.gotbdev.com
SUMMARY:Teen Kickboxing
DESCRIPTION:Join Teen Kickboxing classes at Black Rock Martial Arts\, tailored for ages 12-17! Bring your gloves and join our high-energy workouts combine kickboxing techniques with cardio exercises to enhance fitness\, strength\, and endurance. Suitable for all skill levels\, these classes focus on building coordination\, agility\, and confidence in a fun and supportive environment. Led by experienced instructors\, teens learn essential self-defense skills and enjoy a dynamic\, engaging workout. It’s a great way to stay active\, make friends\, and feel empowered\, while having fun and reaching fitness goals.
URL:https://blackrock-kadence.gotbdev.com/event/teen-kickboxing-dutch-drilling-2/2025-08-25/
CATEGORIES:Kickboxing
ATTACH;FMTTYPE=image/jpeg:https://blackrock-kadence.gotbdev.com/wp-content/uploads/2025/11/WPA4369-scaled-1-scaled.jpg
END:VEVENT
BEGIN:VEVENT
DTSTART;TZID=America/Vancouver:20250826T170000
DTEND;TZID=America/Vancouver:20250826T180000
DTSTAMP:20260421T164718
CREATED:20240105T011440Z
LAST-MODIFIED:20260221T003227Z
UID:10004567-1756227600-1756231200@blackrock-kadence.gotbdev.com
SUMMARY:Teen Kickboxing
DESCRIPTION:Join Teen Kickboxing classes at Black Rock Martial Arts\, designed for ages 12-17! Our high-energy sessions combine kickboxing techniques with intense cardio workouts to boost fitness\, strength\, and endurance. Perfect for all skill levels\, these classes focus on improving coordination\, agility\, and confidence while having fun in a positive\, supportive environment. Led by experienced instructors\, teens will learn essential self-defense skills and enjoy a dynamic workout that keeps them motivated and engaged. Get fit\, make friends\, and feel empowered with Teen Kickboxing!
URL:https://blackrock-kadence.gotbdev.com/event/teen-kickboxing-5-6-pm/2025-08-26/
CATEGORIES:Kickboxing
ATTACH;FMTTYPE=image/jpeg:https://blackrock-kadence.gotbdev.com/wp-content/uploads/2024/09/teen-kickboxing-22.jpg
END:VEVENT
BEGIN:VEVENT
DTSTART;TZID=America/Vancouver:20250827T170000
DTEND;TZID=America/Vancouver:20250827T180000
DTSTAMP:20260421T164718
CREATED:20241218T061524Z
LAST-MODIFIED:20260221T003029Z
UID:10010451-1756314000-1756317600@blackrock-kadence.gotbdev.com
SUMMARY:Teen Kickboxing (12-17 Years Old)
DESCRIPTION:Join Teen Kickboxing classes at Black Rock Martial Arts\, tailored for ages 12-17! Our high-energy workouts combine kickboxing techniques with cardio exercises to enhance fitness\, strength\, and endurance. Suitable for all skill levels\, these classes focus on building coordination\, agility\, and confidence in a fun and supportive environment. Led by experienced instructors\, teens learn essential self-defense skills and enjoy a dynamic\, engaging workout. It’s a great way to stay active\, make friends\, and feel empowered\, while having fun and reaching fitness goals.
URL:https://blackrock-kadence.gotbdev.com/event/teen-kickboxing-2-2-2/2025-08-27/
CATEGORIES:Kickboxing
ATTACH;FMTTYPE=image/jpeg:https://blackrock-kadence.gotbdev.com/wp-content/uploads/2025/11/IMG_30250FC53716-1.jpeg
END:VEVENT
BEGIN:VEVENT
DTSTART;TZID=America/Vancouver:20250828T170000
DTEND;TZID=America/Vancouver:20250828T180000
DTSTAMP:20260421T164718
CREATED:20240105T011440Z
LAST-MODIFIED:20260221T003227Z
UID:10004568-1756400400-1756404000@blackrock-kadence.gotbdev.com
SUMMARY:Teen Kickboxing
DESCRIPTION:Join Teen Kickboxing classes at Black Rock Martial Arts\, designed for ages 12-17! Our high-energy sessions combine kickboxing techniques with intense cardio workouts to boost fitness\, strength\, and endurance. Perfect for all skill levels\, these classes focus on improving coordination\, agility\, and confidence while having fun in a positive\, supportive environment. Led by experienced instructors\, teens will learn essential self-defense skills and enjoy a dynamic workout that keeps them motivated and engaged. Get fit\, make friends\, and feel empowered with Teen Kickboxing!
URL:https://blackrock-kadence.gotbdev.com/event/teen-kickboxing-5-6-pm/2025-08-28/
CATEGORIES:Kickboxing
ATTACH;FMTTYPE=image/jpeg:https://blackrock-kadence.gotbdev.com/wp-content/uploads/2024/09/teen-kickboxing-22.jpg
END:VEVENT
END:VCALENDAR