BEGIN:VCALENDAR
VERSION:2.0
PRODID:-// - ECPv6.15.20//NONSGML v1.0//EN
CALSCALE:GREGORIAN
METHOD:PUBLISH
X-ORIGINAL-URL:https://blackrock-kadence.gotbdev.com
X-WR-CALDESC:Events for 
REFRESH-INTERVAL;VALUE=DURATION:PT1H
X-Robots-Tag:noindex
X-PUBLISHED-TTL:PT1H
BEGIN:VTIMEZONE
TZID:America/Vancouver
BEGIN:DAYLIGHT
TZOFFSETFROM:-0800
TZOFFSETTO:-0700
TZNAME:PDT
DTSTART:20250309T100000
END:DAYLIGHT
BEGIN:STANDARD
TZOFFSETFROM:-0700
TZOFFSETTO:-0800
TZNAME:PST
DTSTART:20251102T090000
END:STANDARD
BEGIN:DAYLIGHT
TZOFFSETFROM:-0800
TZOFFSETTO:-0700
TZNAME:PDT
DTSTART:20260308T100000
END:DAYLIGHT
BEGIN:STANDARD
TZOFFSETFROM:-0700
TZOFFSETTO:-0800
TZNAME:PST
DTSTART:20261101T090000
END:STANDARD
BEGIN:DAYLIGHT
TZOFFSETFROM:-0800
TZOFFSETTO:-0700
TZNAME:PDT
DTSTART:20270314T100000
END:DAYLIGHT
BEGIN:STANDARD
TZOFFSETFROM:-0700
TZOFFSETTO:-0800
TZNAME:PST
DTSTART:20271107T090000
END:STANDARD
END:VTIMEZONE
BEGIN:VEVENT
DTSTART;TZID=America/Vancouver:20261201T170000
DTEND;TZID=America/Vancouver:20261201T180000
DTSTAMP:20260421T164846
CREATED:20240105T011440Z
LAST-MODIFIED:20260221T003227Z
UID:10004699-1796144400-1796148000@blackrock-kadence.gotbdev.com
SUMMARY:Teen Kickboxing
DESCRIPTION:Join Teen Kickboxing classes at Black Rock Martial Arts\, designed for ages 12-17! Our high-energy sessions combine kickboxing techniques with intense cardio workouts to boost fitness\, strength\, and endurance. Perfect for all skill levels\, these classes focus on improving coordination\, agility\, and confidence while having fun in a positive\, supportive environment. Led by experienced instructors\, teens will learn essential self-defense skills and enjoy a dynamic workout that keeps them motivated and engaged. Get fit\, make friends\, and feel empowered with Teen Kickboxing!
URL:https://blackrock-kadence.gotbdev.com/event/teen-kickboxing-5-6-pm/2026-12-01/
CATEGORIES:Kickboxing
ATTACH;FMTTYPE=image/jpeg:https://blackrock-kadence.gotbdev.com/wp-content/uploads/2024/09/teen-kickboxing-22.jpg
END:VEVENT
BEGIN:VEVENT
DTSTART;TZID=America/Vancouver:20261202T170000
DTEND;TZID=America/Vancouver:20261202T180000
DTSTAMP:20260421T164846
CREATED:20241218T061524Z
LAST-MODIFIED:20260221T003029Z
UID:10010517-1796230800-1796234400@blackrock-kadence.gotbdev.com
SUMMARY:Teen Kickboxing (12-17 Years Old)
DESCRIPTION:Join Teen Kickboxing classes at Black Rock Martial Arts\, tailored for ages 12-17! Our high-energy workouts combine kickboxing techniques with cardio exercises to enhance fitness\, strength\, and endurance. Suitable for all skill levels\, these classes focus on building coordination\, agility\, and confidence in a fun and supportive environment. Led by experienced instructors\, teens learn essential self-defense skills and enjoy a dynamic\, engaging workout. It’s a great way to stay active\, make friends\, and feel empowered\, while having fun and reaching fitness goals.
URL:https://blackrock-kadence.gotbdev.com/event/teen-kickboxing-2-2-2/2026-12-02/
CATEGORIES:Kickboxing
ATTACH;FMTTYPE=image/jpeg:https://blackrock-kadence.gotbdev.com/wp-content/uploads/2025/11/IMG_30250FC53716-1.jpeg
END:VEVENT
BEGIN:VEVENT
DTSTART;TZID=America/Vancouver:20261203T170000
DTEND;TZID=America/Vancouver:20261203T180000
DTSTAMP:20260421T164846
CREATED:20240105T011440Z
LAST-MODIFIED:20260221T003227Z
UID:10004700-1796317200-1796320800@blackrock-kadence.gotbdev.com
SUMMARY:Teen Kickboxing
DESCRIPTION:Join Teen Kickboxing classes at Black Rock Martial Arts\, designed for ages 12-17! Our high-energy sessions combine kickboxing techniques with intense cardio workouts to boost fitness\, strength\, and endurance. Perfect for all skill levels\, these classes focus on improving coordination\, agility\, and confidence while having fun in a positive\, supportive environment. Led by experienced instructors\, teens will learn essential self-defense skills and enjoy a dynamic workout that keeps them motivated and engaged. Get fit\, make friends\, and feel empowered with Teen Kickboxing!
URL:https://blackrock-kadence.gotbdev.com/event/teen-kickboxing-5-6-pm/2026-12-03/
CATEGORIES:Kickboxing
ATTACH;FMTTYPE=image/jpeg:https://blackrock-kadence.gotbdev.com/wp-content/uploads/2024/09/teen-kickboxing-22.jpg
END:VEVENT
BEGIN:VEVENT
DTSTART;TZID=America/Vancouver:20261207T170000
DTEND;TZID=America/Vancouver:20261207T180000
DTSTAMP:20260421T164846
CREATED:20241102T184457Z
LAST-MODIFIED:20260221T004152Z
UID:10008248-1796662800-1796666400@blackrock-kadence.gotbdev.com
SUMMARY:Teen Kickboxing
DESCRIPTION:Join Teen Kickboxing classes at Black Rock Martial Arts\, tailored for ages 12-17! Bring your gloves and join our high-energy workouts combine kickboxing techniques with cardio exercises to enhance fitness\, strength\, and endurance. Suitable for all skill levels\, these classes focus on building coordination\, agility\, and confidence in a fun and supportive environment. Led by experienced instructors\, teens learn essential self-defense skills and enjoy a dynamic\, engaging workout. It’s a great way to stay active\, make friends\, and feel empowered\, while having fun and reaching fitness goals.
URL:https://blackrock-kadence.gotbdev.com/event/teen-kickboxing-dutch-drilling-2/2026-12-07/
CATEGORIES:Kickboxing
ATTACH;FMTTYPE=image/jpeg:https://blackrock-kadence.gotbdev.com/wp-content/uploads/2025/11/WPA4369-scaled-1-scaled.jpg
END:VEVENT
BEGIN:VEVENT
DTSTART;TZID=America/Vancouver:20261208T170000
DTEND;TZID=America/Vancouver:20261208T180000
DTSTAMP:20260421T164846
CREATED:20240105T011440Z
LAST-MODIFIED:20260221T003227Z
UID:10004701-1796749200-1796752800@blackrock-kadence.gotbdev.com
SUMMARY:Teen Kickboxing
DESCRIPTION:Join Teen Kickboxing classes at Black Rock Martial Arts\, designed for ages 12-17! Our high-energy sessions combine kickboxing techniques with intense cardio workouts to boost fitness\, strength\, and endurance. Perfect for all skill levels\, these classes focus on improving coordination\, agility\, and confidence while having fun in a positive\, supportive environment. Led by experienced instructors\, teens will learn essential self-defense skills and enjoy a dynamic workout that keeps them motivated and engaged. Get fit\, make friends\, and feel empowered with Teen Kickboxing!
URL:https://blackrock-kadence.gotbdev.com/event/teen-kickboxing-5-6-pm/2026-12-08/
CATEGORIES:Kickboxing
ATTACH;FMTTYPE=image/jpeg:https://blackrock-kadence.gotbdev.com/wp-content/uploads/2024/09/teen-kickboxing-22.jpg
END:VEVENT
BEGIN:VEVENT
DTSTART;TZID=America/Vancouver:20261209T170000
DTEND;TZID=America/Vancouver:20261209T180000
DTSTAMP:20260421T164846
CREATED:20241218T061524Z
LAST-MODIFIED:20260221T003029Z
UID:10010518-1796835600-1796839200@blackrock-kadence.gotbdev.com
SUMMARY:Teen Kickboxing (12-17 Years Old)
DESCRIPTION:Join Teen Kickboxing classes at Black Rock Martial Arts\, tailored for ages 12-17! Our high-energy workouts combine kickboxing techniques with cardio exercises to enhance fitness\, strength\, and endurance. Suitable for all skill levels\, these classes focus on building coordination\, agility\, and confidence in a fun and supportive environment. Led by experienced instructors\, teens learn essential self-defense skills and enjoy a dynamic\, engaging workout. It’s a great way to stay active\, make friends\, and feel empowered\, while having fun and reaching fitness goals.
URL:https://blackrock-kadence.gotbdev.com/event/teen-kickboxing-2-2-2/2026-12-09/
CATEGORIES:Kickboxing
ATTACH;FMTTYPE=image/jpeg:https://blackrock-kadence.gotbdev.com/wp-content/uploads/2025/11/IMG_30250FC53716-1.jpeg
END:VEVENT
BEGIN:VEVENT
DTSTART;TZID=America/Vancouver:20261210T170000
DTEND;TZID=America/Vancouver:20261210T180000
DTSTAMP:20260421T164846
CREATED:20240105T011440Z
LAST-MODIFIED:20260221T003227Z
UID:10004702-1796922000-1796925600@blackrock-kadence.gotbdev.com
SUMMARY:Teen Kickboxing
DESCRIPTION:Join Teen Kickboxing classes at Black Rock Martial Arts\, designed for ages 12-17! Our high-energy sessions combine kickboxing techniques with intense cardio workouts to boost fitness\, strength\, and endurance. Perfect for all skill levels\, these classes focus on improving coordination\, agility\, and confidence while having fun in a positive\, supportive environment. Led by experienced instructors\, teens will learn essential self-defense skills and enjoy a dynamic workout that keeps them motivated and engaged. Get fit\, make friends\, and feel empowered with Teen Kickboxing!
URL:https://blackrock-kadence.gotbdev.com/event/teen-kickboxing-5-6-pm/2026-12-10/
CATEGORIES:Kickboxing
ATTACH;FMTTYPE=image/jpeg:https://blackrock-kadence.gotbdev.com/wp-content/uploads/2024/09/teen-kickboxing-22.jpg
END:VEVENT
BEGIN:VEVENT
DTSTART;TZID=America/Vancouver:20261214T170000
DTEND;TZID=America/Vancouver:20261214T180000
DTSTAMP:20260421T164846
CREATED:20241102T184457Z
LAST-MODIFIED:20260221T004152Z
UID:10008249-1797267600-1797271200@blackrock-kadence.gotbdev.com
SUMMARY:Teen Kickboxing
DESCRIPTION:Join Teen Kickboxing classes at Black Rock Martial Arts\, tailored for ages 12-17! Bring your gloves and join our high-energy workouts combine kickboxing techniques with cardio exercises to enhance fitness\, strength\, and endurance. Suitable for all skill levels\, these classes focus on building coordination\, agility\, and confidence in a fun and supportive environment. Led by experienced instructors\, teens learn essential self-defense skills and enjoy a dynamic\, engaging workout. It’s a great way to stay active\, make friends\, and feel empowered\, while having fun and reaching fitness goals.
URL:https://blackrock-kadence.gotbdev.com/event/teen-kickboxing-dutch-drilling-2/2026-12-14/
CATEGORIES:Kickboxing
ATTACH;FMTTYPE=image/jpeg:https://blackrock-kadence.gotbdev.com/wp-content/uploads/2025/11/WPA4369-scaled-1-scaled.jpg
END:VEVENT
BEGIN:VEVENT
DTSTART;TZID=America/Vancouver:20261215T170000
DTEND;TZID=America/Vancouver:20261215T180000
DTSTAMP:20260421T164846
CREATED:20240105T011440Z
LAST-MODIFIED:20260221T003227Z
UID:10004703-1797354000-1797357600@blackrock-kadence.gotbdev.com
SUMMARY:Teen Kickboxing
DESCRIPTION:Join Teen Kickboxing classes at Black Rock Martial Arts\, designed for ages 12-17! Our high-energy sessions combine kickboxing techniques with intense cardio workouts to boost fitness\, strength\, and endurance. Perfect for all skill levels\, these classes focus on improving coordination\, agility\, and confidence while having fun in a positive\, supportive environment. Led by experienced instructors\, teens will learn essential self-defense skills and enjoy a dynamic workout that keeps them motivated and engaged. Get fit\, make friends\, and feel empowered with Teen Kickboxing!
URL:https://blackrock-kadence.gotbdev.com/event/teen-kickboxing-5-6-pm/2026-12-15/
CATEGORIES:Kickboxing
ATTACH;FMTTYPE=image/jpeg:https://blackrock-kadence.gotbdev.com/wp-content/uploads/2024/09/teen-kickboxing-22.jpg
END:VEVENT
BEGIN:VEVENT
DTSTART;TZID=America/Vancouver:20261216T170000
DTEND;TZID=America/Vancouver:20261216T180000
DTSTAMP:20260421T164846
CREATED:20241218T061524Z
LAST-MODIFIED:20260221T003029Z
UID:10010519-1797440400-1797444000@blackrock-kadence.gotbdev.com
SUMMARY:Teen Kickboxing (12-17 Years Old)
DESCRIPTION:Join Teen Kickboxing classes at Black Rock Martial Arts\, tailored for ages 12-17! Our high-energy workouts combine kickboxing techniques with cardio exercises to enhance fitness\, strength\, and endurance. Suitable for all skill levels\, these classes focus on building coordination\, agility\, and confidence in a fun and supportive environment. Led by experienced instructors\, teens learn essential self-defense skills and enjoy a dynamic\, engaging workout. It’s a great way to stay active\, make friends\, and feel empowered\, while having fun and reaching fitness goals.
URL:https://blackrock-kadence.gotbdev.com/event/teen-kickboxing-2-2-2/2026-12-16/
CATEGORIES:Kickboxing
ATTACH;FMTTYPE=image/jpeg:https://blackrock-kadence.gotbdev.com/wp-content/uploads/2025/11/IMG_30250FC53716-1.jpeg
END:VEVENT
BEGIN:VEVENT
DTSTART;TZID=America/Vancouver:20261217T170000
DTEND;TZID=America/Vancouver:20261217T180000
DTSTAMP:20260421T164846
CREATED:20240105T011440Z
LAST-MODIFIED:20260221T003227Z
UID:10004704-1797526800-1797530400@blackrock-kadence.gotbdev.com
SUMMARY:Teen Kickboxing
DESCRIPTION:Join Teen Kickboxing classes at Black Rock Martial Arts\, designed for ages 12-17! Our high-energy sessions combine kickboxing techniques with intense cardio workouts to boost fitness\, strength\, and endurance. Perfect for all skill levels\, these classes focus on improving coordination\, agility\, and confidence while having fun in a positive\, supportive environment. Led by experienced instructors\, teens will learn essential self-defense skills and enjoy a dynamic workout that keeps them motivated and engaged. Get fit\, make friends\, and feel empowered with Teen Kickboxing!
URL:https://blackrock-kadence.gotbdev.com/event/teen-kickboxing-5-6-pm/2026-12-17/
CATEGORIES:Kickboxing
ATTACH;FMTTYPE=image/jpeg:https://blackrock-kadence.gotbdev.com/wp-content/uploads/2024/09/teen-kickboxing-22.jpg
END:VEVENT
BEGIN:VEVENT
DTSTART;TZID=America/Vancouver:20261221T170000
DTEND;TZID=America/Vancouver:20261221T180000
DTSTAMP:20260421T164846
CREATED:20241102T184457Z
LAST-MODIFIED:20260221T004152Z
UID:10008250-1797872400-1797876000@blackrock-kadence.gotbdev.com
SUMMARY:Teen Kickboxing
DESCRIPTION:Join Teen Kickboxing classes at Black Rock Martial Arts\, tailored for ages 12-17! Bring your gloves and join our high-energy workouts combine kickboxing techniques with cardio exercises to enhance fitness\, strength\, and endurance. Suitable for all skill levels\, these classes focus on building coordination\, agility\, and confidence in a fun and supportive environment. Led by experienced instructors\, teens learn essential self-defense skills and enjoy a dynamic\, engaging workout. It’s a great way to stay active\, make friends\, and feel empowered\, while having fun and reaching fitness goals.
URL:https://blackrock-kadence.gotbdev.com/event/teen-kickboxing-dutch-drilling-2/2026-12-21/
CATEGORIES:Kickboxing
ATTACH;FMTTYPE=image/jpeg:https://blackrock-kadence.gotbdev.com/wp-content/uploads/2025/11/WPA4369-scaled-1-scaled.jpg
END:VEVENT
BEGIN:VEVENT
DTSTART;TZID=America/Vancouver:20261222T170000
DTEND;TZID=America/Vancouver:20261222T180000
DTSTAMP:20260421T164846
CREATED:20240105T011440Z
LAST-MODIFIED:20260221T003227Z
UID:10004705-1797958800-1797962400@blackrock-kadence.gotbdev.com
SUMMARY:Teen Kickboxing
DESCRIPTION:Join Teen Kickboxing classes at Black Rock Martial Arts\, designed for ages 12-17! Our high-energy sessions combine kickboxing techniques with intense cardio workouts to boost fitness\, strength\, and endurance. Perfect for all skill levels\, these classes focus on improving coordination\, agility\, and confidence while having fun in a positive\, supportive environment. Led by experienced instructors\, teens will learn essential self-defense skills and enjoy a dynamic workout that keeps them motivated and engaged. Get fit\, make friends\, and feel empowered with Teen Kickboxing!
URL:https://blackrock-kadence.gotbdev.com/event/teen-kickboxing-5-6-pm/2026-12-22/
CATEGORIES:Kickboxing
ATTACH;FMTTYPE=image/jpeg:https://blackrock-kadence.gotbdev.com/wp-content/uploads/2024/09/teen-kickboxing-22.jpg
END:VEVENT
BEGIN:VEVENT
DTSTART;TZID=America/Vancouver:20261223T170000
DTEND;TZID=America/Vancouver:20261223T180000
DTSTAMP:20260421T164846
CREATED:20241218T061524Z
LAST-MODIFIED:20260221T003029Z
UID:10010520-1798045200-1798048800@blackrock-kadence.gotbdev.com
SUMMARY:Teen Kickboxing (12-17 Years Old)
DESCRIPTION:Join Teen Kickboxing classes at Black Rock Martial Arts\, tailored for ages 12-17! Our high-energy workouts combine kickboxing techniques with cardio exercises to enhance fitness\, strength\, and endurance. Suitable for all skill levels\, these classes focus on building coordination\, agility\, and confidence in a fun and supportive environment. Led by experienced instructors\, teens learn essential self-defense skills and enjoy a dynamic\, engaging workout. It’s a great way to stay active\, make friends\, and feel empowered\, while having fun and reaching fitness goals.
URL:https://blackrock-kadence.gotbdev.com/event/teen-kickboxing-2-2-2/2026-12-23/
CATEGORIES:Kickboxing
ATTACH;FMTTYPE=image/jpeg:https://blackrock-kadence.gotbdev.com/wp-content/uploads/2025/11/IMG_30250FC53716-1.jpeg
END:VEVENT
BEGIN:VEVENT
DTSTART;TZID=America/Vancouver:20261224T170000
DTEND;TZID=America/Vancouver:20261224T180000
DTSTAMP:20260421T164846
CREATED:20240105T011440Z
LAST-MODIFIED:20260221T003227Z
UID:10004706-1798131600-1798135200@blackrock-kadence.gotbdev.com
SUMMARY:Teen Kickboxing
DESCRIPTION:Join Teen Kickboxing classes at Black Rock Martial Arts\, designed for ages 12-17! Our high-energy sessions combine kickboxing techniques with intense cardio workouts to boost fitness\, strength\, and endurance. Perfect for all skill levels\, these classes focus on improving coordination\, agility\, and confidence while having fun in a positive\, supportive environment. Led by experienced instructors\, teens will learn essential self-defense skills and enjoy a dynamic workout that keeps them motivated and engaged. Get fit\, make friends\, and feel empowered with Teen Kickboxing!
URL:https://blackrock-kadence.gotbdev.com/event/teen-kickboxing-5-6-pm/2026-12-24/
CATEGORIES:Kickboxing
ATTACH;FMTTYPE=image/jpeg:https://blackrock-kadence.gotbdev.com/wp-content/uploads/2024/09/teen-kickboxing-22.jpg
END:VEVENT
BEGIN:VEVENT
DTSTART;TZID=America/Vancouver:20261228T170000
DTEND;TZID=America/Vancouver:20261228T180000
DTSTAMP:20260421T164846
CREATED:20241102T184457Z
LAST-MODIFIED:20260221T004152Z
UID:10008251-1798477200-1798480800@blackrock-kadence.gotbdev.com
SUMMARY:Teen Kickboxing
DESCRIPTION:Join Teen Kickboxing classes at Black Rock Martial Arts\, tailored for ages 12-17! Bring your gloves and join our high-energy workouts combine kickboxing techniques with cardio exercises to enhance fitness\, strength\, and endurance. Suitable for all skill levels\, these classes focus on building coordination\, agility\, and confidence in a fun and supportive environment. Led by experienced instructors\, teens learn essential self-defense skills and enjoy a dynamic\, engaging workout. It’s a great way to stay active\, make friends\, and feel empowered\, while having fun and reaching fitness goals.
URL:https://blackrock-kadence.gotbdev.com/event/teen-kickboxing-dutch-drilling-2/2026-12-28/
CATEGORIES:Kickboxing
ATTACH;FMTTYPE=image/jpeg:https://blackrock-kadence.gotbdev.com/wp-content/uploads/2025/11/WPA4369-scaled-1-scaled.jpg
END:VEVENT
BEGIN:VEVENT
DTSTART;TZID=America/Vancouver:20261229T170000
DTEND;TZID=America/Vancouver:20261229T180000
DTSTAMP:20260421T164846
CREATED:20240105T011440Z
LAST-MODIFIED:20260221T003227Z
UID:10004707-1798563600-1798567200@blackrock-kadence.gotbdev.com
SUMMARY:Teen Kickboxing
DESCRIPTION:Join Teen Kickboxing classes at Black Rock Martial Arts\, designed for ages 12-17! Our high-energy sessions combine kickboxing techniques with intense cardio workouts to boost fitness\, strength\, and endurance. Perfect for all skill levels\, these classes focus on improving coordination\, agility\, and confidence while having fun in a positive\, supportive environment. Led by experienced instructors\, teens will learn essential self-defense skills and enjoy a dynamic workout that keeps them motivated and engaged. Get fit\, make friends\, and feel empowered with Teen Kickboxing!
URL:https://blackrock-kadence.gotbdev.com/event/teen-kickboxing-5-6-pm/2026-12-29/
CATEGORIES:Kickboxing
ATTACH;FMTTYPE=image/jpeg:https://blackrock-kadence.gotbdev.com/wp-content/uploads/2024/09/teen-kickboxing-22.jpg
END:VEVENT
BEGIN:VEVENT
DTSTART;TZID=America/Vancouver:20261230T170000
DTEND;TZID=America/Vancouver:20261230T180000
DTSTAMP:20260421T164846
CREATED:20241218T061524Z
LAST-MODIFIED:20260221T003029Z
UID:10010521-1798650000-1798653600@blackrock-kadence.gotbdev.com
SUMMARY:Teen Kickboxing (12-17 Years Old)
DESCRIPTION:Join Teen Kickboxing classes at Black Rock Martial Arts\, tailored for ages 12-17! Our high-energy workouts combine kickboxing techniques with cardio exercises to enhance fitness\, strength\, and endurance. Suitable for all skill levels\, these classes focus on building coordination\, agility\, and confidence in a fun and supportive environment. Led by experienced instructors\, teens learn essential self-defense skills and enjoy a dynamic\, engaging workout. It’s a great way to stay active\, make friends\, and feel empowered\, while having fun and reaching fitness goals.
URL:https://blackrock-kadence.gotbdev.com/event/teen-kickboxing-2-2-2/2026-12-30/
CATEGORIES:Kickboxing
ATTACH;FMTTYPE=image/jpeg:https://blackrock-kadence.gotbdev.com/wp-content/uploads/2025/11/IMG_30250FC53716-1.jpeg
END:VEVENT
BEGIN:VEVENT
DTSTART;TZID=America/Vancouver:20261231T170000
DTEND;TZID=America/Vancouver:20261231T180000
DTSTAMP:20260421T164846
CREATED:20240105T011440Z
LAST-MODIFIED:20260221T003227Z
UID:10004708-1798736400-1798740000@blackrock-kadence.gotbdev.com
SUMMARY:Teen Kickboxing
DESCRIPTION:Join Teen Kickboxing classes at Black Rock Martial Arts\, designed for ages 12-17! Our high-energy sessions combine kickboxing techniques with intense cardio workouts to boost fitness\, strength\, and endurance. Perfect for all skill levels\, these classes focus on improving coordination\, agility\, and confidence while having fun in a positive\, supportive environment. Led by experienced instructors\, teens will learn essential self-defense skills and enjoy a dynamic workout that keeps them motivated and engaged. Get fit\, make friends\, and feel empowered with Teen Kickboxing!
URL:https://blackrock-kadence.gotbdev.com/event/teen-kickboxing-5-6-pm/2026-12-31/
CATEGORIES:Kickboxing
ATTACH;FMTTYPE=image/jpeg:https://blackrock-kadence.gotbdev.com/wp-content/uploads/2024/09/teen-kickboxing-22.jpg
END:VEVENT
END:VCALENDAR