BEGIN:VCALENDAR
VERSION:2.0
PRODID:-// - ECPv6.15.20//NONSGML v1.0//EN
CALSCALE:GREGORIAN
METHOD:PUBLISH
X-ORIGINAL-URL:https://blackrock-kadence.gotbdev.com
X-WR-CALDESC:Events for 
REFRESH-INTERVAL;VALUE=DURATION:PT1H
X-Robots-Tag:noindex
X-PUBLISHED-TTL:PT1H
BEGIN:VTIMEZONE
TZID:America/Vancouver
BEGIN:DAYLIGHT
TZOFFSETFROM:-0800
TZOFFSETTO:-0700
TZNAME:PDT
DTSTART:20270314T100000
END:DAYLIGHT
BEGIN:STANDARD
TZOFFSETFROM:-0700
TZOFFSETTO:-0800
TZNAME:PST
DTSTART:20271107T090000
END:STANDARD
BEGIN:DAYLIGHT
TZOFFSETFROM:-0800
TZOFFSETTO:-0700
TZNAME:PDT
DTSTART:20280312T100000
END:DAYLIGHT
BEGIN:STANDARD
TZOFFSETFROM:-0700
TZOFFSETTO:-0800
TZNAME:PST
DTSTART:20281105T090000
END:STANDARD
BEGIN:DAYLIGHT
TZOFFSETFROM:-0800
TZOFFSETTO:-0700
TZNAME:PDT
DTSTART:20290311T100000
END:DAYLIGHT
BEGIN:STANDARD
TZOFFSETFROM:-0700
TZOFFSETTO:-0800
TZNAME:PST
DTSTART:20291104T090000
END:STANDARD
BEGIN:DAYLIGHT
TZOFFSETFROM:-0800
TZOFFSETTO:-0700
TZNAME:PDT
DTSTART:20300310T100000
END:DAYLIGHT
BEGIN:STANDARD
TZOFFSETFROM:-0700
TZOFFSETTO:-0800
TZNAME:PST
DTSTART:20301103T090000
END:STANDARD
END:VTIMEZONE
BEGIN:VEVENT
DTSTART;TZID=America/Vancouver:20280811T170000
DTEND;TZID=America/Vancouver:20280811T174500
DTSTAMP:20260421T183151
CREATED:20241102T203622Z
LAST-MODIFIED:20260221T003046Z
UID:10009316-1849626000-1849628700@blackrock-kadence.gotbdev.com
SUMMARY:Mezz: Kids Kickboxing (Sparring)
DESCRIPTION:Get your kids moving with Kickboxing (Optional Sparring) at Black Rock for ages 7-11! This fun and engaging class builds confidence\, fitness\, and kickboxing skills in a safe\, controlled environment. With a focus on technique and controlled sparring\, kids will learn discipline while having a blast. Perfect for all levels!
URL:https://blackrock-kadence.gotbdev.com/event/kids-kickboxing-sparring-2/2028-08-11/
CATEGORIES:Kickboxing
ATTACH;FMTTYPE=image/jpeg:https://blackrock-kadence.gotbdev.com/wp-content/uploads/2024/09/kids-kickboxing-13.jpg
END:VEVENT
BEGIN:VEVENT
DTSTART;TZID=America/Vancouver:20280818T170000
DTEND;TZID=America/Vancouver:20280818T174500
DTSTAMP:20260421T183151
CREATED:20241102T203622Z
LAST-MODIFIED:20260221T003046Z
UID:10009317-1850230800-1850233500@blackrock-kadence.gotbdev.com
SUMMARY:Mezz: Kids Kickboxing (Sparring)
DESCRIPTION:Get your kids moving with Kickboxing (Optional Sparring) at Black Rock for ages 7-11! This fun and engaging class builds confidence\, fitness\, and kickboxing skills in a safe\, controlled environment. With a focus on technique and controlled sparring\, kids will learn discipline while having a blast. Perfect for all levels!
URL:https://blackrock-kadence.gotbdev.com/event/kids-kickboxing-sparring-2/2028-08-18/
CATEGORIES:Kickboxing
ATTACH;FMTTYPE=image/jpeg:https://blackrock-kadence.gotbdev.com/wp-content/uploads/2024/09/kids-kickboxing-13.jpg
END:VEVENT
BEGIN:VEVENT
DTSTART;TZID=America/Vancouver:20280825T170000
DTEND;TZID=America/Vancouver:20280825T174500
DTSTAMP:20260421T183151
CREATED:20241102T203622Z
LAST-MODIFIED:20260221T003046Z
UID:10009318-1850835600-1850838300@blackrock-kadence.gotbdev.com
SUMMARY:Mezz: Kids Kickboxing (Sparring)
DESCRIPTION:Get your kids moving with Kickboxing (Optional Sparring) at Black Rock for ages 7-11! This fun and engaging class builds confidence\, fitness\, and kickboxing skills in a safe\, controlled environment. With a focus on technique and controlled sparring\, kids will learn discipline while having a blast. Perfect for all levels!
URL:https://blackrock-kadence.gotbdev.com/event/kids-kickboxing-sparring-2/2028-08-25/
CATEGORIES:Kickboxing
ATTACH;FMTTYPE=image/jpeg:https://blackrock-kadence.gotbdev.com/wp-content/uploads/2024/09/kids-kickboxing-13.jpg
END:VEVENT
BEGIN:VEVENT
DTSTART;TZID=America/Vancouver:20280901T170000
DTEND;TZID=America/Vancouver:20280901T174500
DTSTAMP:20260421T183152
CREATED:20241102T203622Z
LAST-MODIFIED:20260221T003046Z
UID:10009319-1851440400-1851443100@blackrock-kadence.gotbdev.com
SUMMARY:Mezz: Kids Kickboxing (Sparring)
DESCRIPTION:Get your kids moving with Kickboxing (Optional Sparring) at Black Rock for ages 7-11! This fun and engaging class builds confidence\, fitness\, and kickboxing skills in a safe\, controlled environment. With a focus on technique and controlled sparring\, kids will learn discipline while having a blast. Perfect for all levels!
URL:https://blackrock-kadence.gotbdev.com/event/kids-kickboxing-sparring-2/2028-09-01/
CATEGORIES:Kickboxing
ATTACH;FMTTYPE=image/jpeg:https://blackrock-kadence.gotbdev.com/wp-content/uploads/2024/09/kids-kickboxing-13.jpg
END:VEVENT
BEGIN:VEVENT
DTSTART;TZID=America/Vancouver:20280908T170000
DTEND;TZID=America/Vancouver:20280908T174500
DTSTAMP:20260421T183152
CREATED:20241102T203622Z
LAST-MODIFIED:20260221T003046Z
UID:10009320-1852045200-1852047900@blackrock-kadence.gotbdev.com
SUMMARY:Mezz: Kids Kickboxing (Sparring)
DESCRIPTION:Get your kids moving with Kickboxing (Optional Sparring) at Black Rock for ages 7-11! This fun and engaging class builds confidence\, fitness\, and kickboxing skills in a safe\, controlled environment. With a focus on technique and controlled sparring\, kids will learn discipline while having a blast. Perfect for all levels!
URL:https://blackrock-kadence.gotbdev.com/event/kids-kickboxing-sparring-2/2028-09-08/
CATEGORIES:Kickboxing
ATTACH;FMTTYPE=image/jpeg:https://blackrock-kadence.gotbdev.com/wp-content/uploads/2024/09/kids-kickboxing-13.jpg
END:VEVENT
BEGIN:VEVENT
DTSTART;TZID=America/Vancouver:20280915T170000
DTEND;TZID=America/Vancouver:20280915T174500
DTSTAMP:20260421T183152
CREATED:20241102T203622Z
LAST-MODIFIED:20260221T003046Z
UID:10009321-1852650000-1852652700@blackrock-kadence.gotbdev.com
SUMMARY:Mezz: Kids Kickboxing (Sparring)
DESCRIPTION:Get your kids moving with Kickboxing (Optional Sparring) at Black Rock for ages 7-11! This fun and engaging class builds confidence\, fitness\, and kickboxing skills in a safe\, controlled environment. With a focus on technique and controlled sparring\, kids will learn discipline while having a blast. Perfect for all levels!
URL:https://blackrock-kadence.gotbdev.com/event/kids-kickboxing-sparring-2/2028-09-15/
CATEGORIES:Kickboxing
ATTACH;FMTTYPE=image/jpeg:https://blackrock-kadence.gotbdev.com/wp-content/uploads/2024/09/kids-kickboxing-13.jpg
END:VEVENT
BEGIN:VEVENT
DTSTART;TZID=America/Vancouver:20280922T170000
DTEND;TZID=America/Vancouver:20280922T174500
DTSTAMP:20260421T183152
CREATED:20241102T203622Z
LAST-MODIFIED:20260221T003046Z
UID:10009322-1853254800-1853257500@blackrock-kadence.gotbdev.com
SUMMARY:Mezz: Kids Kickboxing (Sparring)
DESCRIPTION:Get your kids moving with Kickboxing (Optional Sparring) at Black Rock for ages 7-11! This fun and engaging class builds confidence\, fitness\, and kickboxing skills in a safe\, controlled environment. With a focus on technique and controlled sparring\, kids will learn discipline while having a blast. Perfect for all levels!
URL:https://blackrock-kadence.gotbdev.com/event/kids-kickboxing-sparring-2/2028-09-22/
CATEGORIES:Kickboxing
ATTACH;FMTTYPE=image/jpeg:https://blackrock-kadence.gotbdev.com/wp-content/uploads/2024/09/kids-kickboxing-13.jpg
END:VEVENT
BEGIN:VEVENT
DTSTART;TZID=America/Vancouver:20280929T170000
DTEND;TZID=America/Vancouver:20280929T174500
DTSTAMP:20260421T183152
CREATED:20241102T203622Z
LAST-MODIFIED:20260221T003046Z
UID:10009323-1853859600-1853862300@blackrock-kadence.gotbdev.com
SUMMARY:Mezz: Kids Kickboxing (Sparring)
DESCRIPTION:Get your kids moving with Kickboxing (Optional Sparring) at Black Rock for ages 7-11! This fun and engaging class builds confidence\, fitness\, and kickboxing skills in a safe\, controlled environment. With a focus on technique and controlled sparring\, kids will learn discipline while having a blast. Perfect for all levels!
URL:https://blackrock-kadence.gotbdev.com/event/kids-kickboxing-sparring-2/2028-09-29/
CATEGORIES:Kickboxing
ATTACH;FMTTYPE=image/jpeg:https://blackrock-kadence.gotbdev.com/wp-content/uploads/2024/09/kids-kickboxing-13.jpg
END:VEVENT
BEGIN:VEVENT
DTSTART;TZID=America/Vancouver:20281006T170000
DTEND;TZID=America/Vancouver:20281006T174500
DTSTAMP:20260421T183152
CREATED:20241102T203622Z
LAST-MODIFIED:20260221T003046Z
UID:10009324-1854464400-1854467100@blackrock-kadence.gotbdev.com
SUMMARY:Mezz: Kids Kickboxing (Sparring)
DESCRIPTION:Get your kids moving with Kickboxing (Optional Sparring) at Black Rock for ages 7-11! This fun and engaging class builds confidence\, fitness\, and kickboxing skills in a safe\, controlled environment. With a focus on technique and controlled sparring\, kids will learn discipline while having a blast. Perfect for all levels!
URL:https://blackrock-kadence.gotbdev.com/event/kids-kickboxing-sparring-2/2028-10-06/
CATEGORIES:Kickboxing
ATTACH;FMTTYPE=image/jpeg:https://blackrock-kadence.gotbdev.com/wp-content/uploads/2024/09/kids-kickboxing-13.jpg
END:VEVENT
BEGIN:VEVENT
DTSTART;TZID=America/Vancouver:20281013T170000
DTEND;TZID=America/Vancouver:20281013T174500
DTSTAMP:20260421T183152
CREATED:20241102T203622Z
LAST-MODIFIED:20260221T003046Z
UID:10009325-1855069200-1855071900@blackrock-kadence.gotbdev.com
SUMMARY:Mezz: Kids Kickboxing (Sparring)
DESCRIPTION:Get your kids moving with Kickboxing (Optional Sparring) at Black Rock for ages 7-11! This fun and engaging class builds confidence\, fitness\, and kickboxing skills in a safe\, controlled environment. With a focus on technique and controlled sparring\, kids will learn discipline while having a blast. Perfect for all levels!
URL:https://blackrock-kadence.gotbdev.com/event/kids-kickboxing-sparring-2/2028-10-13/
CATEGORIES:Kickboxing
ATTACH;FMTTYPE=image/jpeg:https://blackrock-kadence.gotbdev.com/wp-content/uploads/2024/09/kids-kickboxing-13.jpg
END:VEVENT
BEGIN:VEVENT
DTSTART;TZID=America/Vancouver:20281020T170000
DTEND;TZID=America/Vancouver:20281020T174500
DTSTAMP:20260421T183152
CREATED:20241102T203622Z
LAST-MODIFIED:20260221T003046Z
UID:10009326-1855674000-1855676700@blackrock-kadence.gotbdev.com
SUMMARY:Mezz: Kids Kickboxing (Sparring)
DESCRIPTION:Get your kids moving with Kickboxing (Optional Sparring) at Black Rock for ages 7-11! This fun and engaging class builds confidence\, fitness\, and kickboxing skills in a safe\, controlled environment. With a focus on technique and controlled sparring\, kids will learn discipline while having a blast. Perfect for all levels!
URL:https://blackrock-kadence.gotbdev.com/event/kids-kickboxing-sparring-2/2028-10-20/
CATEGORIES:Kickboxing
ATTACH;FMTTYPE=image/jpeg:https://blackrock-kadence.gotbdev.com/wp-content/uploads/2024/09/kids-kickboxing-13.jpg
END:VEVENT
BEGIN:VEVENT
DTSTART;TZID=America/Vancouver:20281027T170000
DTEND;TZID=America/Vancouver:20281027T174500
DTSTAMP:20260421T183152
CREATED:20241102T203622Z
LAST-MODIFIED:20260221T003046Z
UID:10009327-1856278800-1856281500@blackrock-kadence.gotbdev.com
SUMMARY:Mezz: Kids Kickboxing (Sparring)
DESCRIPTION:Get your kids moving with Kickboxing (Optional Sparring) at Black Rock for ages 7-11! This fun and engaging class builds confidence\, fitness\, and kickboxing skills in a safe\, controlled environment. With a focus on technique and controlled sparring\, kids will learn discipline while having a blast. Perfect for all levels!
URL:https://blackrock-kadence.gotbdev.com/event/kids-kickboxing-sparring-2/2028-10-27/
CATEGORIES:Kickboxing
ATTACH;FMTTYPE=image/jpeg:https://blackrock-kadence.gotbdev.com/wp-content/uploads/2024/09/kids-kickboxing-13.jpg
END:VEVENT
BEGIN:VEVENT
DTSTART;TZID=America/Vancouver:20281103T170000
DTEND;TZID=America/Vancouver:20281103T174500
DTSTAMP:20260421T183152
CREATED:20241102T203622Z
LAST-MODIFIED:20260221T003046Z
UID:10009328-1856883600-1856886300@blackrock-kadence.gotbdev.com
SUMMARY:Mezz: Kids Kickboxing (Sparring)
DESCRIPTION:Get your kids moving with Kickboxing (Optional Sparring) at Black Rock for ages 7-11! This fun and engaging class builds confidence\, fitness\, and kickboxing skills in a safe\, controlled environment. With a focus on technique and controlled sparring\, kids will learn discipline while having a blast. Perfect for all levels!
URL:https://blackrock-kadence.gotbdev.com/event/kids-kickboxing-sparring-2/2028-11-03/
CATEGORIES:Kickboxing
ATTACH;FMTTYPE=image/jpeg:https://blackrock-kadence.gotbdev.com/wp-content/uploads/2024/09/kids-kickboxing-13.jpg
END:VEVENT
BEGIN:VEVENT
DTSTART;TZID=America/Vancouver:20281110T170000
DTEND;TZID=America/Vancouver:20281110T174500
DTSTAMP:20260421T183152
CREATED:20241102T203622Z
LAST-MODIFIED:20260221T003046Z
UID:10009329-1857488400-1857491100@blackrock-kadence.gotbdev.com
SUMMARY:Mezz: Kids Kickboxing (Sparring)
DESCRIPTION:Get your kids moving with Kickboxing (Optional Sparring) at Black Rock for ages 7-11! This fun and engaging class builds confidence\, fitness\, and kickboxing skills in a safe\, controlled environment. With a focus on technique and controlled sparring\, kids will learn discipline while having a blast. Perfect for all levels!
URL:https://blackrock-kadence.gotbdev.com/event/kids-kickboxing-sparring-2/2028-11-10/
CATEGORIES:Kickboxing
ATTACH;FMTTYPE=image/jpeg:https://blackrock-kadence.gotbdev.com/wp-content/uploads/2024/09/kids-kickboxing-13.jpg
END:VEVENT
BEGIN:VEVENT
DTSTART;TZID=America/Vancouver:20281117T170000
DTEND;TZID=America/Vancouver:20281117T174500
DTSTAMP:20260421T183152
CREATED:20241102T203622Z
LAST-MODIFIED:20260221T003046Z
UID:10009330-1858093200-1858095900@blackrock-kadence.gotbdev.com
SUMMARY:Mezz: Kids Kickboxing (Sparring)
DESCRIPTION:Get your kids moving with Kickboxing (Optional Sparring) at Black Rock for ages 7-11! This fun and engaging class builds confidence\, fitness\, and kickboxing skills in a safe\, controlled environment. With a focus on technique and controlled sparring\, kids will learn discipline while having a blast. Perfect for all levels!
URL:https://blackrock-kadence.gotbdev.com/event/kids-kickboxing-sparring-2/2028-11-17/
CATEGORIES:Kickboxing
ATTACH;FMTTYPE=image/jpeg:https://blackrock-kadence.gotbdev.com/wp-content/uploads/2024/09/kids-kickboxing-13.jpg
END:VEVENT
BEGIN:VEVENT
DTSTART;TZID=America/Vancouver:20281124T170000
DTEND;TZID=America/Vancouver:20281124T174500
DTSTAMP:20260421T183152
CREATED:20241102T203622Z
LAST-MODIFIED:20260221T003046Z
UID:10009331-1858698000-1858700700@blackrock-kadence.gotbdev.com
SUMMARY:Mezz: Kids Kickboxing (Sparring)
DESCRIPTION:Get your kids moving with Kickboxing (Optional Sparring) at Black Rock for ages 7-11! This fun and engaging class builds confidence\, fitness\, and kickboxing skills in a safe\, controlled environment. With a focus on technique and controlled sparring\, kids will learn discipline while having a blast. Perfect for all levels!
URL:https://blackrock-kadence.gotbdev.com/event/kids-kickboxing-sparring-2/2028-11-24/
CATEGORIES:Kickboxing
ATTACH;FMTTYPE=image/jpeg:https://blackrock-kadence.gotbdev.com/wp-content/uploads/2024/09/kids-kickboxing-13.jpg
END:VEVENT
BEGIN:VEVENT
DTSTART;TZID=America/Vancouver:20281201T170000
DTEND;TZID=America/Vancouver:20281201T174500
DTSTAMP:20260421T183152
CREATED:20241102T203622Z
LAST-MODIFIED:20260221T003046Z
UID:10009332-1859302800-1859305500@blackrock-kadence.gotbdev.com
SUMMARY:Mezz: Kids Kickboxing (Sparring)
DESCRIPTION:Get your kids moving with Kickboxing (Optional Sparring) at Black Rock for ages 7-11! This fun and engaging class builds confidence\, fitness\, and kickboxing skills in a safe\, controlled environment. With a focus on technique and controlled sparring\, kids will learn discipline while having a blast. Perfect for all levels!
URL:https://blackrock-kadence.gotbdev.com/event/kids-kickboxing-sparring-2/2028-12-01/
CATEGORIES:Kickboxing
ATTACH;FMTTYPE=image/jpeg:https://blackrock-kadence.gotbdev.com/wp-content/uploads/2024/09/kids-kickboxing-13.jpg
END:VEVENT
BEGIN:VEVENT
DTSTART;TZID=America/Vancouver:20281208T170000
DTEND;TZID=America/Vancouver:20281208T174500
DTSTAMP:20260421T183152
CREATED:20241102T203622Z
LAST-MODIFIED:20260221T003046Z
UID:10009333-1859907600-1859910300@blackrock-kadence.gotbdev.com
SUMMARY:Mezz: Kids Kickboxing (Sparring)
DESCRIPTION:Get your kids moving with Kickboxing (Optional Sparring) at Black Rock for ages 7-11! This fun and engaging class builds confidence\, fitness\, and kickboxing skills in a safe\, controlled environment. With a focus on technique and controlled sparring\, kids will learn discipline while having a blast. Perfect for all levels!
URL:https://blackrock-kadence.gotbdev.com/event/kids-kickboxing-sparring-2/2028-12-08/
CATEGORIES:Kickboxing
ATTACH;FMTTYPE=image/jpeg:https://blackrock-kadence.gotbdev.com/wp-content/uploads/2024/09/kids-kickboxing-13.jpg
END:VEVENT
BEGIN:VEVENT
DTSTART;TZID=America/Vancouver:20281215T170000
DTEND;TZID=America/Vancouver:20281215T174500
DTSTAMP:20260421T183152
CREATED:20241102T203622Z
LAST-MODIFIED:20260221T003046Z
UID:10009334-1860512400-1860515100@blackrock-kadence.gotbdev.com
SUMMARY:Mezz: Kids Kickboxing (Sparring)
DESCRIPTION:Get your kids moving with Kickboxing (Optional Sparring) at Black Rock for ages 7-11! This fun and engaging class builds confidence\, fitness\, and kickboxing skills in a safe\, controlled environment. With a focus on technique and controlled sparring\, kids will learn discipline while having a blast. Perfect for all levels!
URL:https://blackrock-kadence.gotbdev.com/event/kids-kickboxing-sparring-2/2028-12-15/
CATEGORIES:Kickboxing
ATTACH;FMTTYPE=image/jpeg:https://blackrock-kadence.gotbdev.com/wp-content/uploads/2024/09/kids-kickboxing-13.jpg
END:VEVENT
BEGIN:VEVENT
DTSTART;TZID=America/Vancouver:20281222T170000
DTEND;TZID=America/Vancouver:20281222T174500
DTSTAMP:20260421T183152
CREATED:20241102T203622Z
LAST-MODIFIED:20260221T003046Z
UID:10009335-1861117200-1861119900@blackrock-kadence.gotbdev.com
SUMMARY:Mezz: Kids Kickboxing (Sparring)
DESCRIPTION:Get your kids moving with Kickboxing (Optional Sparring) at Black Rock for ages 7-11! This fun and engaging class builds confidence\, fitness\, and kickboxing skills in a safe\, controlled environment. With a focus on technique and controlled sparring\, kids will learn discipline while having a blast. Perfect for all levels!
URL:https://blackrock-kadence.gotbdev.com/event/kids-kickboxing-sparring-2/2028-12-22/
CATEGORIES:Kickboxing
ATTACH;FMTTYPE=image/jpeg:https://blackrock-kadence.gotbdev.com/wp-content/uploads/2024/09/kids-kickboxing-13.jpg
END:VEVENT
BEGIN:VEVENT
DTSTART;TZID=America/Vancouver:20281229T170000
DTEND;TZID=America/Vancouver:20281229T174500
DTSTAMP:20260421T183152
CREATED:20241102T203622Z
LAST-MODIFIED:20260221T003046Z
UID:10009336-1861722000-1861724700@blackrock-kadence.gotbdev.com
SUMMARY:Mezz: Kids Kickboxing (Sparring)
DESCRIPTION:Get your kids moving with Kickboxing (Optional Sparring) at Black Rock for ages 7-11! This fun and engaging class builds confidence\, fitness\, and kickboxing skills in a safe\, controlled environment. With a focus on technique and controlled sparring\, kids will learn discipline while having a blast. Perfect for all levels!
URL:https://blackrock-kadence.gotbdev.com/event/kids-kickboxing-sparring-2/2028-12-29/
CATEGORIES:Kickboxing
ATTACH;FMTTYPE=image/jpeg:https://blackrock-kadence.gotbdev.com/wp-content/uploads/2024/09/kids-kickboxing-13.jpg
END:VEVENT
BEGIN:VEVENT
DTSTART;TZID=America/Vancouver:20290105T170000
DTEND;TZID=America/Vancouver:20290105T174500
DTSTAMP:20260421T183152
CREATED:20241102T203622Z
LAST-MODIFIED:20260221T003046Z
UID:10009337-1862326800-1862329500@blackrock-kadence.gotbdev.com
SUMMARY:Mezz: Kids Kickboxing (Sparring)
DESCRIPTION:Get your kids moving with Kickboxing (Optional Sparring) at Black Rock for ages 7-11! This fun and engaging class builds confidence\, fitness\, and kickboxing skills in a safe\, controlled environment. With a focus on technique and controlled sparring\, kids will learn discipline while having a blast. Perfect for all levels!
URL:https://blackrock-kadence.gotbdev.com/event/kids-kickboxing-sparring-2/2029-01-05/
CATEGORIES:Kickboxing
ATTACH;FMTTYPE=image/jpeg:https://blackrock-kadence.gotbdev.com/wp-content/uploads/2024/09/kids-kickboxing-13.jpg
END:VEVENT
BEGIN:VEVENT
DTSTART;TZID=America/Vancouver:20290112T170000
DTEND;TZID=America/Vancouver:20290112T174500
DTSTAMP:20260421T183152
CREATED:20241102T203622Z
LAST-MODIFIED:20260221T003046Z
UID:10009338-1862931600-1862934300@blackrock-kadence.gotbdev.com
SUMMARY:Mezz: Kids Kickboxing (Sparring)
DESCRIPTION:Get your kids moving with Kickboxing (Optional Sparring) at Black Rock for ages 7-11! This fun and engaging class builds confidence\, fitness\, and kickboxing skills in a safe\, controlled environment. With a focus on technique and controlled sparring\, kids will learn discipline while having a blast. Perfect for all levels!
URL:https://blackrock-kadence.gotbdev.com/event/kids-kickboxing-sparring-2/2029-01-12/
CATEGORIES:Kickboxing
ATTACH;FMTTYPE=image/jpeg:https://blackrock-kadence.gotbdev.com/wp-content/uploads/2024/09/kids-kickboxing-13.jpg
END:VEVENT
BEGIN:VEVENT
DTSTART;TZID=America/Vancouver:20290119T170000
DTEND;TZID=America/Vancouver:20290119T174500
DTSTAMP:20260421T183152
CREATED:20241102T203622Z
LAST-MODIFIED:20260221T003046Z
UID:10009339-1863536400-1863539100@blackrock-kadence.gotbdev.com
SUMMARY:Mezz: Kids Kickboxing (Sparring)
DESCRIPTION:Get your kids moving with Kickboxing (Optional Sparring) at Black Rock for ages 7-11! This fun and engaging class builds confidence\, fitness\, and kickboxing skills in a safe\, controlled environment. With a focus on technique and controlled sparring\, kids will learn discipline while having a blast. Perfect for all levels!
URL:https://blackrock-kadence.gotbdev.com/event/kids-kickboxing-sparring-2/2029-01-19/
CATEGORIES:Kickboxing
ATTACH;FMTTYPE=image/jpeg:https://blackrock-kadence.gotbdev.com/wp-content/uploads/2024/09/kids-kickboxing-13.jpg
END:VEVENT
BEGIN:VEVENT
DTSTART;TZID=America/Vancouver:20290126T170000
DTEND;TZID=America/Vancouver:20290126T174500
DTSTAMP:20260421T183152
CREATED:20241102T203622Z
LAST-MODIFIED:20260221T003046Z
UID:10009340-1864141200-1864143900@blackrock-kadence.gotbdev.com
SUMMARY:Mezz: Kids Kickboxing (Sparring)
DESCRIPTION:Get your kids moving with Kickboxing (Optional Sparring) at Black Rock for ages 7-11! This fun and engaging class builds confidence\, fitness\, and kickboxing skills in a safe\, controlled environment. With a focus on technique and controlled sparring\, kids will learn discipline while having a blast. Perfect for all levels!
URL:https://blackrock-kadence.gotbdev.com/event/kids-kickboxing-sparring-2/2029-01-26/
CATEGORIES:Kickboxing
ATTACH;FMTTYPE=image/jpeg:https://blackrock-kadence.gotbdev.com/wp-content/uploads/2024/09/kids-kickboxing-13.jpg
END:VEVENT
BEGIN:VEVENT
DTSTART;TZID=America/Vancouver:20290202T170000
DTEND;TZID=America/Vancouver:20290202T174500
DTSTAMP:20260421T183152
CREATED:20241102T203622Z
LAST-MODIFIED:20260221T003046Z
UID:10009341-1864746000-1864748700@blackrock-kadence.gotbdev.com
SUMMARY:Mezz: Kids Kickboxing (Sparring)
DESCRIPTION:Get your kids moving with Kickboxing (Optional Sparring) at Black Rock for ages 7-11! This fun and engaging class builds confidence\, fitness\, and kickboxing skills in a safe\, controlled environment. With a focus on technique and controlled sparring\, kids will learn discipline while having a blast. Perfect for all levels!
URL:https://blackrock-kadence.gotbdev.com/event/kids-kickboxing-sparring-2/2029-02-02/
CATEGORIES:Kickboxing
ATTACH;FMTTYPE=image/jpeg:https://blackrock-kadence.gotbdev.com/wp-content/uploads/2024/09/kids-kickboxing-13.jpg
END:VEVENT
BEGIN:VEVENT
DTSTART;TZID=America/Vancouver:20290209T170000
DTEND;TZID=America/Vancouver:20290209T174500
DTSTAMP:20260421T183152
CREATED:20241102T203622Z
LAST-MODIFIED:20260221T003046Z
UID:10009342-1865350800-1865353500@blackrock-kadence.gotbdev.com
SUMMARY:Mezz: Kids Kickboxing (Sparring)
DESCRIPTION:Get your kids moving with Kickboxing (Optional Sparring) at Black Rock for ages 7-11! This fun and engaging class builds confidence\, fitness\, and kickboxing skills in a safe\, controlled environment. With a focus on technique and controlled sparring\, kids will learn discipline while having a blast. Perfect for all levels!
URL:https://blackrock-kadence.gotbdev.com/event/kids-kickboxing-sparring-2/2029-02-09/
CATEGORIES:Kickboxing
ATTACH;FMTTYPE=image/jpeg:https://blackrock-kadence.gotbdev.com/wp-content/uploads/2024/09/kids-kickboxing-13.jpg
END:VEVENT
BEGIN:VEVENT
DTSTART;TZID=America/Vancouver:20290216T170000
DTEND;TZID=America/Vancouver:20290216T174500
DTSTAMP:20260421T183152
CREATED:20241102T203622Z
LAST-MODIFIED:20260221T003046Z
UID:10009343-1865955600-1865958300@blackrock-kadence.gotbdev.com
SUMMARY:Mezz: Kids Kickboxing (Sparring)
DESCRIPTION:Get your kids moving with Kickboxing (Optional Sparring) at Black Rock for ages 7-11! This fun and engaging class builds confidence\, fitness\, and kickboxing skills in a safe\, controlled environment. With a focus on technique and controlled sparring\, kids will learn discipline while having a blast. Perfect for all levels!
URL:https://blackrock-kadence.gotbdev.com/event/kids-kickboxing-sparring-2/2029-02-16/
CATEGORIES:Kickboxing
ATTACH;FMTTYPE=image/jpeg:https://blackrock-kadence.gotbdev.com/wp-content/uploads/2024/09/kids-kickboxing-13.jpg
END:VEVENT
BEGIN:VEVENT
DTSTART;TZID=America/Vancouver:20290223T170000
DTEND;TZID=America/Vancouver:20290223T174500
DTSTAMP:20260421T183152
CREATED:20241102T203622Z
LAST-MODIFIED:20260221T003046Z
UID:10009344-1866560400-1866563100@blackrock-kadence.gotbdev.com
SUMMARY:Mezz: Kids Kickboxing (Sparring)
DESCRIPTION:Get your kids moving with Kickboxing (Optional Sparring) at Black Rock for ages 7-11! This fun and engaging class builds confidence\, fitness\, and kickboxing skills in a safe\, controlled environment. With a focus on technique and controlled sparring\, kids will learn discipline while having a blast. Perfect for all levels!
URL:https://blackrock-kadence.gotbdev.com/event/kids-kickboxing-sparring-2/2029-02-23/
CATEGORIES:Kickboxing
ATTACH;FMTTYPE=image/jpeg:https://blackrock-kadence.gotbdev.com/wp-content/uploads/2024/09/kids-kickboxing-13.jpg
END:VEVENT
BEGIN:VEVENT
DTSTART;TZID=America/Vancouver:20290302T170000
DTEND;TZID=America/Vancouver:20290302T174500
DTSTAMP:20260421T183152
CREATED:20241102T203622Z
LAST-MODIFIED:20260221T003046Z
UID:10009345-1867165200-1867167900@blackrock-kadence.gotbdev.com
SUMMARY:Mezz: Kids Kickboxing (Sparring)
DESCRIPTION:Get your kids moving with Kickboxing (Optional Sparring) at Black Rock for ages 7-11! This fun and engaging class builds confidence\, fitness\, and kickboxing skills in a safe\, controlled environment. With a focus on technique and controlled sparring\, kids will learn discipline while having a blast. Perfect for all levels!
URL:https://blackrock-kadence.gotbdev.com/event/kids-kickboxing-sparring-2/2029-03-02/
CATEGORIES:Kickboxing
ATTACH;FMTTYPE=image/jpeg:https://blackrock-kadence.gotbdev.com/wp-content/uploads/2024/09/kids-kickboxing-13.jpg
END:VEVENT
END:VCALENDAR