BEGIN:VCALENDAR
VERSION:2.0
PRODID:-// - ECPv6.15.20//NONSGML v1.0//EN
CALSCALE:GREGORIAN
METHOD:PUBLISH
X-ORIGINAL-URL:https://blackrock-kadence.gotbdev.com
X-WR-CALDESC:Events for 
REFRESH-INTERVAL;VALUE=DURATION:PT1H
X-Robots-Tag:noindex
X-PUBLISHED-TTL:PT1H
BEGIN:VTIMEZONE
TZID:America/Vancouver
BEGIN:DAYLIGHT
TZOFFSETFROM:-0800
TZOFFSETTO:-0700
TZNAME:PDT
DTSTART:20260308T100000
END:DAYLIGHT
BEGIN:STANDARD
TZOFFSETFROM:-0700
TZOFFSETTO:-0800
TZNAME:PST
DTSTART:20261101T090000
END:STANDARD
BEGIN:DAYLIGHT
TZOFFSETFROM:-0800
TZOFFSETTO:-0700
TZNAME:PDT
DTSTART:20270314T100000
END:DAYLIGHT
BEGIN:STANDARD
TZOFFSETFROM:-0700
TZOFFSETTO:-0800
TZNAME:PST
DTSTART:20271107T090000
END:STANDARD
BEGIN:DAYLIGHT
TZOFFSETFROM:-0800
TZOFFSETTO:-0700
TZNAME:PDT
DTSTART:20280312T100000
END:DAYLIGHT
BEGIN:STANDARD
TZOFFSETFROM:-0700
TZOFFSETTO:-0800
TZNAME:PST
DTSTART:20281105T090000
END:STANDARD
END:VTIMEZONE
BEGIN:VEVENT
DTSTART;TZID=America/Vancouver:20270326T170000
DTEND;TZID=America/Vancouver:20270326T174500
DTSTAMP:20260421T082908
CREATED:20241102T203622Z
LAST-MODIFIED:20260221T003046Z
UID:10009244-1806080400-1806083100@blackrock-kadence.gotbdev.com
SUMMARY:Mezz: Kids Kickboxing (Sparring)
DESCRIPTION:Get your kids moving with Kickboxing (Optional Sparring) at Black Rock for ages 7-11! This fun and engaging class builds confidence\, fitness\, and kickboxing skills in a safe\, controlled environment. With a focus on technique and controlled sparring\, kids will learn discipline while having a blast. Perfect for all levels!
URL:https://blackrock-kadence.gotbdev.com/event/kids-kickboxing-sparring-2/2027-03-26/
CATEGORIES:Kickboxing
ATTACH;FMTTYPE=image/jpeg:https://blackrock-kadence.gotbdev.com/wp-content/uploads/2024/09/kids-kickboxing-13.jpg
END:VEVENT
BEGIN:VEVENT
DTSTART;TZID=America/Vancouver:20270402T170000
DTEND;TZID=America/Vancouver:20270402T174500
DTSTAMP:20260421T082908
CREATED:20241102T203622Z
LAST-MODIFIED:20260221T003046Z
UID:10009245-1806685200-1806687900@blackrock-kadence.gotbdev.com
SUMMARY:Mezz: Kids Kickboxing (Sparring)
DESCRIPTION:Get your kids moving with Kickboxing (Optional Sparring) at Black Rock for ages 7-11! This fun and engaging class builds confidence\, fitness\, and kickboxing skills in a safe\, controlled environment. With a focus on technique and controlled sparring\, kids will learn discipline while having a blast. Perfect for all levels!
URL:https://blackrock-kadence.gotbdev.com/event/kids-kickboxing-sparring-2/2027-04-02/
CATEGORIES:Kickboxing
ATTACH;FMTTYPE=image/jpeg:https://blackrock-kadence.gotbdev.com/wp-content/uploads/2024/09/kids-kickboxing-13.jpg
END:VEVENT
BEGIN:VEVENT
DTSTART;TZID=America/Vancouver:20270409T170000
DTEND;TZID=America/Vancouver:20270409T174500
DTSTAMP:20260421T082908
CREATED:20241102T203622Z
LAST-MODIFIED:20260221T003046Z
UID:10009246-1807290000-1807292700@blackrock-kadence.gotbdev.com
SUMMARY:Mezz: Kids Kickboxing (Sparring)
DESCRIPTION:Get your kids moving with Kickboxing (Optional Sparring) at Black Rock for ages 7-11! This fun and engaging class builds confidence\, fitness\, and kickboxing skills in a safe\, controlled environment. With a focus on technique and controlled sparring\, kids will learn discipline while having a blast. Perfect for all levels!
URL:https://blackrock-kadence.gotbdev.com/event/kids-kickboxing-sparring-2/2027-04-09/
CATEGORIES:Kickboxing
ATTACH;FMTTYPE=image/jpeg:https://blackrock-kadence.gotbdev.com/wp-content/uploads/2024/09/kids-kickboxing-13.jpg
END:VEVENT
BEGIN:VEVENT
DTSTART;TZID=America/Vancouver:20270416T170000
DTEND;TZID=America/Vancouver:20270416T174500
DTSTAMP:20260421T082908
CREATED:20241102T203622Z
LAST-MODIFIED:20260221T003046Z
UID:10009247-1807894800-1807897500@blackrock-kadence.gotbdev.com
SUMMARY:Mezz: Kids Kickboxing (Sparring)
DESCRIPTION:Get your kids moving with Kickboxing (Optional Sparring) at Black Rock for ages 7-11! This fun and engaging class builds confidence\, fitness\, and kickboxing skills in a safe\, controlled environment. With a focus on technique and controlled sparring\, kids will learn discipline while having a blast. Perfect for all levels!
URL:https://blackrock-kadence.gotbdev.com/event/kids-kickboxing-sparring-2/2027-04-16/
CATEGORIES:Kickboxing
ATTACH;FMTTYPE=image/jpeg:https://blackrock-kadence.gotbdev.com/wp-content/uploads/2024/09/kids-kickboxing-13.jpg
END:VEVENT
BEGIN:VEVENT
DTSTART;TZID=America/Vancouver:20270423T170000
DTEND;TZID=America/Vancouver:20270423T174500
DTSTAMP:20260421T082908
CREATED:20241102T203622Z
LAST-MODIFIED:20260221T003046Z
UID:10009248-1808499600-1808502300@blackrock-kadence.gotbdev.com
SUMMARY:Mezz: Kids Kickboxing (Sparring)
DESCRIPTION:Get your kids moving with Kickboxing (Optional Sparring) at Black Rock for ages 7-11! This fun and engaging class builds confidence\, fitness\, and kickboxing skills in a safe\, controlled environment. With a focus on technique and controlled sparring\, kids will learn discipline while having a blast. Perfect for all levels!
URL:https://blackrock-kadence.gotbdev.com/event/kids-kickboxing-sparring-2/2027-04-23/
CATEGORIES:Kickboxing
ATTACH;FMTTYPE=image/jpeg:https://blackrock-kadence.gotbdev.com/wp-content/uploads/2024/09/kids-kickboxing-13.jpg
END:VEVENT
BEGIN:VEVENT
DTSTART;TZID=America/Vancouver:20270430T170000
DTEND;TZID=America/Vancouver:20270430T174500
DTSTAMP:20260421T082908
CREATED:20241102T203622Z
LAST-MODIFIED:20260221T003046Z
UID:10009249-1809104400-1809107100@blackrock-kadence.gotbdev.com
SUMMARY:Mezz: Kids Kickboxing (Sparring)
DESCRIPTION:Get your kids moving with Kickboxing (Optional Sparring) at Black Rock for ages 7-11! This fun and engaging class builds confidence\, fitness\, and kickboxing skills in a safe\, controlled environment. With a focus on technique and controlled sparring\, kids will learn discipline while having a blast. Perfect for all levels!
URL:https://blackrock-kadence.gotbdev.com/event/kids-kickboxing-sparring-2/2027-04-30/
CATEGORIES:Kickboxing
ATTACH;FMTTYPE=image/jpeg:https://blackrock-kadence.gotbdev.com/wp-content/uploads/2024/09/kids-kickboxing-13.jpg
END:VEVENT
BEGIN:VEVENT
DTSTART;TZID=America/Vancouver:20270507T170000
DTEND;TZID=America/Vancouver:20270507T174500
DTSTAMP:20260421T082908
CREATED:20241102T203622Z
LAST-MODIFIED:20260221T003046Z
UID:10009250-1809709200-1809711900@blackrock-kadence.gotbdev.com
SUMMARY:Mezz: Kids Kickboxing (Sparring)
DESCRIPTION:Get your kids moving with Kickboxing (Optional Sparring) at Black Rock for ages 7-11! This fun and engaging class builds confidence\, fitness\, and kickboxing skills in a safe\, controlled environment. With a focus on technique and controlled sparring\, kids will learn discipline while having a blast. Perfect for all levels!
URL:https://blackrock-kadence.gotbdev.com/event/kids-kickboxing-sparring-2/2027-05-07/
CATEGORIES:Kickboxing
ATTACH;FMTTYPE=image/jpeg:https://blackrock-kadence.gotbdev.com/wp-content/uploads/2024/09/kids-kickboxing-13.jpg
END:VEVENT
BEGIN:VEVENT
DTSTART;TZID=America/Vancouver:20270514T170000
DTEND;TZID=America/Vancouver:20270514T174500
DTSTAMP:20260421T082908
CREATED:20241102T203622Z
LAST-MODIFIED:20260221T003046Z
UID:10009251-1810314000-1810316700@blackrock-kadence.gotbdev.com
SUMMARY:Mezz: Kids Kickboxing (Sparring)
DESCRIPTION:Get your kids moving with Kickboxing (Optional Sparring) at Black Rock for ages 7-11! This fun and engaging class builds confidence\, fitness\, and kickboxing skills in a safe\, controlled environment. With a focus on technique and controlled sparring\, kids will learn discipline while having a blast. Perfect for all levels!
URL:https://blackrock-kadence.gotbdev.com/event/kids-kickboxing-sparring-2/2027-05-14/
CATEGORIES:Kickboxing
ATTACH;FMTTYPE=image/jpeg:https://blackrock-kadence.gotbdev.com/wp-content/uploads/2024/09/kids-kickboxing-13.jpg
END:VEVENT
BEGIN:VEVENT
DTSTART;TZID=America/Vancouver:20270521T170000
DTEND;TZID=America/Vancouver:20270521T174500
DTSTAMP:20260421T082908
CREATED:20241102T203622Z
LAST-MODIFIED:20260221T003046Z
UID:10009252-1810918800-1810921500@blackrock-kadence.gotbdev.com
SUMMARY:Mezz: Kids Kickboxing (Sparring)
DESCRIPTION:Get your kids moving with Kickboxing (Optional Sparring) at Black Rock for ages 7-11! This fun and engaging class builds confidence\, fitness\, and kickboxing skills in a safe\, controlled environment. With a focus on technique and controlled sparring\, kids will learn discipline while having a blast. Perfect for all levels!
URL:https://blackrock-kadence.gotbdev.com/event/kids-kickboxing-sparring-2/2027-05-21/
CATEGORIES:Kickboxing
ATTACH;FMTTYPE=image/jpeg:https://blackrock-kadence.gotbdev.com/wp-content/uploads/2024/09/kids-kickboxing-13.jpg
END:VEVENT
BEGIN:VEVENT
DTSTART;TZID=America/Vancouver:20270528T170000
DTEND;TZID=America/Vancouver:20270528T174500
DTSTAMP:20260421T082908
CREATED:20241102T203622Z
LAST-MODIFIED:20260221T003046Z
UID:10009253-1811523600-1811526300@blackrock-kadence.gotbdev.com
SUMMARY:Mezz: Kids Kickboxing (Sparring)
DESCRIPTION:Get your kids moving with Kickboxing (Optional Sparring) at Black Rock for ages 7-11! This fun and engaging class builds confidence\, fitness\, and kickboxing skills in a safe\, controlled environment. With a focus on technique and controlled sparring\, kids will learn discipline while having a blast. Perfect for all levels!
URL:https://blackrock-kadence.gotbdev.com/event/kids-kickboxing-sparring-2/2027-05-28/
CATEGORIES:Kickboxing
ATTACH;FMTTYPE=image/jpeg:https://blackrock-kadence.gotbdev.com/wp-content/uploads/2024/09/kids-kickboxing-13.jpg
END:VEVENT
BEGIN:VEVENT
DTSTART;TZID=America/Vancouver:20270604T170000
DTEND;TZID=America/Vancouver:20270604T174500
DTSTAMP:20260421T082908
CREATED:20241102T203622Z
LAST-MODIFIED:20260221T003046Z
UID:10009254-1812128400-1812131100@blackrock-kadence.gotbdev.com
SUMMARY:Mezz: Kids Kickboxing (Sparring)
DESCRIPTION:Get your kids moving with Kickboxing (Optional Sparring) at Black Rock for ages 7-11! This fun and engaging class builds confidence\, fitness\, and kickboxing skills in a safe\, controlled environment. With a focus on technique and controlled sparring\, kids will learn discipline while having a blast. Perfect for all levels!
URL:https://blackrock-kadence.gotbdev.com/event/kids-kickboxing-sparring-2/2027-06-04/
CATEGORIES:Kickboxing
ATTACH;FMTTYPE=image/jpeg:https://blackrock-kadence.gotbdev.com/wp-content/uploads/2024/09/kids-kickboxing-13.jpg
END:VEVENT
BEGIN:VEVENT
DTSTART;TZID=America/Vancouver:20270611T170000
DTEND;TZID=America/Vancouver:20270611T174500
DTSTAMP:20260421T082908
CREATED:20241102T203622Z
LAST-MODIFIED:20260221T003046Z
UID:10009255-1812733200-1812735900@blackrock-kadence.gotbdev.com
SUMMARY:Mezz: Kids Kickboxing (Sparring)
DESCRIPTION:Get your kids moving with Kickboxing (Optional Sparring) at Black Rock for ages 7-11! This fun and engaging class builds confidence\, fitness\, and kickboxing skills in a safe\, controlled environment. With a focus on technique and controlled sparring\, kids will learn discipline while having a blast. Perfect for all levels!
URL:https://blackrock-kadence.gotbdev.com/event/kids-kickboxing-sparring-2/2027-06-11/
CATEGORIES:Kickboxing
ATTACH;FMTTYPE=image/jpeg:https://blackrock-kadence.gotbdev.com/wp-content/uploads/2024/09/kids-kickboxing-13.jpg
END:VEVENT
BEGIN:VEVENT
DTSTART;TZID=America/Vancouver:20270618T170000
DTEND;TZID=America/Vancouver:20270618T174500
DTSTAMP:20260421T082908
CREATED:20241102T203622Z
LAST-MODIFIED:20260221T003046Z
UID:10009256-1813338000-1813340700@blackrock-kadence.gotbdev.com
SUMMARY:Mezz: Kids Kickboxing (Sparring)
DESCRIPTION:Get your kids moving with Kickboxing (Optional Sparring) at Black Rock for ages 7-11! This fun and engaging class builds confidence\, fitness\, and kickboxing skills in a safe\, controlled environment. With a focus on technique and controlled sparring\, kids will learn discipline while having a blast. Perfect for all levels!
URL:https://blackrock-kadence.gotbdev.com/event/kids-kickboxing-sparring-2/2027-06-18/
CATEGORIES:Kickboxing
ATTACH;FMTTYPE=image/jpeg:https://blackrock-kadence.gotbdev.com/wp-content/uploads/2024/09/kids-kickboxing-13.jpg
END:VEVENT
BEGIN:VEVENT
DTSTART;TZID=America/Vancouver:20270625T170000
DTEND;TZID=America/Vancouver:20270625T174500
DTSTAMP:20260421T082908
CREATED:20241102T203622Z
LAST-MODIFIED:20260221T003046Z
UID:10009257-1813942800-1813945500@blackrock-kadence.gotbdev.com
SUMMARY:Mezz: Kids Kickboxing (Sparring)
DESCRIPTION:Get your kids moving with Kickboxing (Optional Sparring) at Black Rock for ages 7-11! This fun and engaging class builds confidence\, fitness\, and kickboxing skills in a safe\, controlled environment. With a focus on technique and controlled sparring\, kids will learn discipline while having a blast. Perfect for all levels!
URL:https://blackrock-kadence.gotbdev.com/event/kids-kickboxing-sparring-2/2027-06-25/
CATEGORIES:Kickboxing
ATTACH;FMTTYPE=image/jpeg:https://blackrock-kadence.gotbdev.com/wp-content/uploads/2024/09/kids-kickboxing-13.jpg
END:VEVENT
BEGIN:VEVENT
DTSTART;TZID=America/Vancouver:20270702T170000
DTEND;TZID=America/Vancouver:20270702T174500
DTSTAMP:20260421T082908
CREATED:20241102T203622Z
LAST-MODIFIED:20260221T003046Z
UID:10009258-1814547600-1814550300@blackrock-kadence.gotbdev.com
SUMMARY:Mezz: Kids Kickboxing (Sparring)
DESCRIPTION:Get your kids moving with Kickboxing (Optional Sparring) at Black Rock for ages 7-11! This fun and engaging class builds confidence\, fitness\, and kickboxing skills in a safe\, controlled environment. With a focus on technique and controlled sparring\, kids will learn discipline while having a blast. Perfect for all levels!
URL:https://blackrock-kadence.gotbdev.com/event/kids-kickboxing-sparring-2/2027-07-02/
CATEGORIES:Kickboxing
ATTACH;FMTTYPE=image/jpeg:https://blackrock-kadence.gotbdev.com/wp-content/uploads/2024/09/kids-kickboxing-13.jpg
END:VEVENT
BEGIN:VEVENT
DTSTART;TZID=America/Vancouver:20270709T170000
DTEND;TZID=America/Vancouver:20270709T174500
DTSTAMP:20260421T082908
CREATED:20241102T203622Z
LAST-MODIFIED:20260221T003046Z
UID:10009259-1815152400-1815155100@blackrock-kadence.gotbdev.com
SUMMARY:Mezz: Kids Kickboxing (Sparring)
DESCRIPTION:Get your kids moving with Kickboxing (Optional Sparring) at Black Rock for ages 7-11! This fun and engaging class builds confidence\, fitness\, and kickboxing skills in a safe\, controlled environment. With a focus on technique and controlled sparring\, kids will learn discipline while having a blast. Perfect for all levels!
URL:https://blackrock-kadence.gotbdev.com/event/kids-kickboxing-sparring-2/2027-07-09/
CATEGORIES:Kickboxing
ATTACH;FMTTYPE=image/jpeg:https://blackrock-kadence.gotbdev.com/wp-content/uploads/2024/09/kids-kickboxing-13.jpg
END:VEVENT
BEGIN:VEVENT
DTSTART;TZID=America/Vancouver:20270716T170000
DTEND;TZID=America/Vancouver:20270716T174500
DTSTAMP:20260421T082908
CREATED:20241102T203622Z
LAST-MODIFIED:20260221T003046Z
UID:10009260-1815757200-1815759900@blackrock-kadence.gotbdev.com
SUMMARY:Mezz: Kids Kickboxing (Sparring)
DESCRIPTION:Get your kids moving with Kickboxing (Optional Sparring) at Black Rock for ages 7-11! This fun and engaging class builds confidence\, fitness\, and kickboxing skills in a safe\, controlled environment. With a focus on technique and controlled sparring\, kids will learn discipline while having a blast. Perfect for all levels!
URL:https://blackrock-kadence.gotbdev.com/event/kids-kickboxing-sparring-2/2027-07-16/
CATEGORIES:Kickboxing
ATTACH;FMTTYPE=image/jpeg:https://blackrock-kadence.gotbdev.com/wp-content/uploads/2024/09/kids-kickboxing-13.jpg
END:VEVENT
BEGIN:VEVENT
DTSTART;TZID=America/Vancouver:20270723T170000
DTEND;TZID=America/Vancouver:20270723T174500
DTSTAMP:20260421T082908
CREATED:20241102T203622Z
LAST-MODIFIED:20260221T003046Z
UID:10009261-1816362000-1816364700@blackrock-kadence.gotbdev.com
SUMMARY:Mezz: Kids Kickboxing (Sparring)
DESCRIPTION:Get your kids moving with Kickboxing (Optional Sparring) at Black Rock for ages 7-11! This fun and engaging class builds confidence\, fitness\, and kickboxing skills in a safe\, controlled environment. With a focus on technique and controlled sparring\, kids will learn discipline while having a blast. Perfect for all levels!
URL:https://blackrock-kadence.gotbdev.com/event/kids-kickboxing-sparring-2/2027-07-23/
CATEGORIES:Kickboxing
ATTACH;FMTTYPE=image/jpeg:https://blackrock-kadence.gotbdev.com/wp-content/uploads/2024/09/kids-kickboxing-13.jpg
END:VEVENT
BEGIN:VEVENT
DTSTART;TZID=America/Vancouver:20270730T170000
DTEND;TZID=America/Vancouver:20270730T174500
DTSTAMP:20260421T082908
CREATED:20241102T203622Z
LAST-MODIFIED:20260221T003046Z
UID:10009262-1816966800-1816969500@blackrock-kadence.gotbdev.com
SUMMARY:Mezz: Kids Kickboxing (Sparring)
DESCRIPTION:Get your kids moving with Kickboxing (Optional Sparring) at Black Rock for ages 7-11! This fun and engaging class builds confidence\, fitness\, and kickboxing skills in a safe\, controlled environment. With a focus on technique and controlled sparring\, kids will learn discipline while having a blast. Perfect for all levels!
URL:https://blackrock-kadence.gotbdev.com/event/kids-kickboxing-sparring-2/2027-07-30/
CATEGORIES:Kickboxing
ATTACH;FMTTYPE=image/jpeg:https://blackrock-kadence.gotbdev.com/wp-content/uploads/2024/09/kids-kickboxing-13.jpg
END:VEVENT
BEGIN:VEVENT
DTSTART;TZID=America/Vancouver:20270806T170000
DTEND;TZID=America/Vancouver:20270806T174500
DTSTAMP:20260421T082908
CREATED:20241102T203622Z
LAST-MODIFIED:20260221T003046Z
UID:10009263-1817571600-1817574300@blackrock-kadence.gotbdev.com
SUMMARY:Mezz: Kids Kickboxing (Sparring)
DESCRIPTION:Get your kids moving with Kickboxing (Optional Sparring) at Black Rock for ages 7-11! This fun and engaging class builds confidence\, fitness\, and kickboxing skills in a safe\, controlled environment. With a focus on technique and controlled sparring\, kids will learn discipline while having a blast. Perfect for all levels!
URL:https://blackrock-kadence.gotbdev.com/event/kids-kickboxing-sparring-2/2027-08-06/
CATEGORIES:Kickboxing
ATTACH;FMTTYPE=image/jpeg:https://blackrock-kadence.gotbdev.com/wp-content/uploads/2024/09/kids-kickboxing-13.jpg
END:VEVENT
BEGIN:VEVENT
DTSTART;TZID=America/Vancouver:20270813T170000
DTEND;TZID=America/Vancouver:20270813T174500
DTSTAMP:20260421T082908
CREATED:20241102T203622Z
LAST-MODIFIED:20260221T003046Z
UID:10009264-1818176400-1818179100@blackrock-kadence.gotbdev.com
SUMMARY:Mezz: Kids Kickboxing (Sparring)
DESCRIPTION:Get your kids moving with Kickboxing (Optional Sparring) at Black Rock for ages 7-11! This fun and engaging class builds confidence\, fitness\, and kickboxing skills in a safe\, controlled environment. With a focus on technique and controlled sparring\, kids will learn discipline while having a blast. Perfect for all levels!
URL:https://blackrock-kadence.gotbdev.com/event/kids-kickboxing-sparring-2/2027-08-13/
CATEGORIES:Kickboxing
ATTACH;FMTTYPE=image/jpeg:https://blackrock-kadence.gotbdev.com/wp-content/uploads/2024/09/kids-kickboxing-13.jpg
END:VEVENT
BEGIN:VEVENT
DTSTART;TZID=America/Vancouver:20270820T170000
DTEND;TZID=America/Vancouver:20270820T174500
DTSTAMP:20260421T082908
CREATED:20241102T203622Z
LAST-MODIFIED:20260221T003046Z
UID:10009265-1818781200-1818783900@blackrock-kadence.gotbdev.com
SUMMARY:Mezz: Kids Kickboxing (Sparring)
DESCRIPTION:Get your kids moving with Kickboxing (Optional Sparring) at Black Rock for ages 7-11! This fun and engaging class builds confidence\, fitness\, and kickboxing skills in a safe\, controlled environment. With a focus on technique and controlled sparring\, kids will learn discipline while having a blast. Perfect for all levels!
URL:https://blackrock-kadence.gotbdev.com/event/kids-kickboxing-sparring-2/2027-08-20/
CATEGORIES:Kickboxing
ATTACH;FMTTYPE=image/jpeg:https://blackrock-kadence.gotbdev.com/wp-content/uploads/2024/09/kids-kickboxing-13.jpg
END:VEVENT
BEGIN:VEVENT
DTSTART;TZID=America/Vancouver:20270827T170000
DTEND;TZID=America/Vancouver:20270827T174500
DTSTAMP:20260421T082908
CREATED:20241102T203622Z
LAST-MODIFIED:20260221T003046Z
UID:10009266-1819386000-1819388700@blackrock-kadence.gotbdev.com
SUMMARY:Mezz: Kids Kickboxing (Sparring)
DESCRIPTION:Get your kids moving with Kickboxing (Optional Sparring) at Black Rock for ages 7-11! This fun and engaging class builds confidence\, fitness\, and kickboxing skills in a safe\, controlled environment. With a focus on technique and controlled sparring\, kids will learn discipline while having a blast. Perfect for all levels!
URL:https://blackrock-kadence.gotbdev.com/event/kids-kickboxing-sparring-2/2027-08-27/
CATEGORIES:Kickboxing
ATTACH;FMTTYPE=image/jpeg:https://blackrock-kadence.gotbdev.com/wp-content/uploads/2024/09/kids-kickboxing-13.jpg
END:VEVENT
BEGIN:VEVENT
DTSTART;TZID=America/Vancouver:20270903T170000
DTEND;TZID=America/Vancouver:20270903T174500
DTSTAMP:20260421T082908
CREATED:20241102T203622Z
LAST-MODIFIED:20260221T003046Z
UID:10009267-1819990800-1819993500@blackrock-kadence.gotbdev.com
SUMMARY:Mezz: Kids Kickboxing (Sparring)
DESCRIPTION:Get your kids moving with Kickboxing (Optional Sparring) at Black Rock for ages 7-11! This fun and engaging class builds confidence\, fitness\, and kickboxing skills in a safe\, controlled environment. With a focus on technique and controlled sparring\, kids will learn discipline while having a blast. Perfect for all levels!
URL:https://blackrock-kadence.gotbdev.com/event/kids-kickboxing-sparring-2/2027-09-03/
CATEGORIES:Kickboxing
ATTACH;FMTTYPE=image/jpeg:https://blackrock-kadence.gotbdev.com/wp-content/uploads/2024/09/kids-kickboxing-13.jpg
END:VEVENT
BEGIN:VEVENT
DTSTART;TZID=America/Vancouver:20270910T170000
DTEND;TZID=America/Vancouver:20270910T174500
DTSTAMP:20260421T082908
CREATED:20241102T203622Z
LAST-MODIFIED:20260221T003046Z
UID:10009268-1820595600-1820598300@blackrock-kadence.gotbdev.com
SUMMARY:Mezz: Kids Kickboxing (Sparring)
DESCRIPTION:Get your kids moving with Kickboxing (Optional Sparring) at Black Rock for ages 7-11! This fun and engaging class builds confidence\, fitness\, and kickboxing skills in a safe\, controlled environment. With a focus on technique and controlled sparring\, kids will learn discipline while having a blast. Perfect for all levels!
URL:https://blackrock-kadence.gotbdev.com/event/kids-kickboxing-sparring-2/2027-09-10/
CATEGORIES:Kickboxing
ATTACH;FMTTYPE=image/jpeg:https://blackrock-kadence.gotbdev.com/wp-content/uploads/2024/09/kids-kickboxing-13.jpg
END:VEVENT
BEGIN:VEVENT
DTSTART;TZID=America/Vancouver:20270917T170000
DTEND;TZID=America/Vancouver:20270917T174500
DTSTAMP:20260421T082908
CREATED:20241102T203622Z
LAST-MODIFIED:20260221T003046Z
UID:10009269-1821200400-1821203100@blackrock-kadence.gotbdev.com
SUMMARY:Mezz: Kids Kickboxing (Sparring)
DESCRIPTION:Get your kids moving with Kickboxing (Optional Sparring) at Black Rock for ages 7-11! This fun and engaging class builds confidence\, fitness\, and kickboxing skills in a safe\, controlled environment. With a focus on technique and controlled sparring\, kids will learn discipline while having a blast. Perfect for all levels!
URL:https://blackrock-kadence.gotbdev.com/event/kids-kickboxing-sparring-2/2027-09-17/
CATEGORIES:Kickboxing
ATTACH;FMTTYPE=image/jpeg:https://blackrock-kadence.gotbdev.com/wp-content/uploads/2024/09/kids-kickboxing-13.jpg
END:VEVENT
BEGIN:VEVENT
DTSTART;TZID=America/Vancouver:20270924T170000
DTEND;TZID=America/Vancouver:20270924T174500
DTSTAMP:20260421T082908
CREATED:20241102T203622Z
LAST-MODIFIED:20260221T003046Z
UID:10009270-1821805200-1821807900@blackrock-kadence.gotbdev.com
SUMMARY:Mezz: Kids Kickboxing (Sparring)
DESCRIPTION:Get your kids moving with Kickboxing (Optional Sparring) at Black Rock for ages 7-11! This fun and engaging class builds confidence\, fitness\, and kickboxing skills in a safe\, controlled environment. With a focus on technique and controlled sparring\, kids will learn discipline while having a blast. Perfect for all levels!
URL:https://blackrock-kadence.gotbdev.com/event/kids-kickboxing-sparring-2/2027-09-24/
CATEGORIES:Kickboxing
ATTACH;FMTTYPE=image/jpeg:https://blackrock-kadence.gotbdev.com/wp-content/uploads/2024/09/kids-kickboxing-13.jpg
END:VEVENT
BEGIN:VEVENT
DTSTART;TZID=America/Vancouver:20271001T170000
DTEND;TZID=America/Vancouver:20271001T174500
DTSTAMP:20260421T082908
CREATED:20241102T203622Z
LAST-MODIFIED:20260221T003046Z
UID:10009271-1822410000-1822412700@blackrock-kadence.gotbdev.com
SUMMARY:Mezz: Kids Kickboxing (Sparring)
DESCRIPTION:Get your kids moving with Kickboxing (Optional Sparring) at Black Rock for ages 7-11! This fun and engaging class builds confidence\, fitness\, and kickboxing skills in a safe\, controlled environment. With a focus on technique and controlled sparring\, kids will learn discipline while having a blast. Perfect for all levels!
URL:https://blackrock-kadence.gotbdev.com/event/kids-kickboxing-sparring-2/2027-10-01/
CATEGORIES:Kickboxing
ATTACH;FMTTYPE=image/jpeg:https://blackrock-kadence.gotbdev.com/wp-content/uploads/2024/09/kids-kickboxing-13.jpg
END:VEVENT
BEGIN:VEVENT
DTSTART;TZID=America/Vancouver:20271008T170000
DTEND;TZID=America/Vancouver:20271008T174500
DTSTAMP:20260421T082908
CREATED:20241102T203622Z
LAST-MODIFIED:20260221T003046Z
UID:10009272-1823014800-1823017500@blackrock-kadence.gotbdev.com
SUMMARY:Mezz: Kids Kickboxing (Sparring)
DESCRIPTION:Get your kids moving with Kickboxing (Optional Sparring) at Black Rock for ages 7-11! This fun and engaging class builds confidence\, fitness\, and kickboxing skills in a safe\, controlled environment. With a focus on technique and controlled sparring\, kids will learn discipline while having a blast. Perfect for all levels!
URL:https://blackrock-kadence.gotbdev.com/event/kids-kickboxing-sparring-2/2027-10-08/
CATEGORIES:Kickboxing
ATTACH;FMTTYPE=image/jpeg:https://blackrock-kadence.gotbdev.com/wp-content/uploads/2024/09/kids-kickboxing-13.jpg
END:VEVENT
BEGIN:VEVENT
DTSTART;TZID=America/Vancouver:20271015T170000
DTEND;TZID=America/Vancouver:20271015T174500
DTSTAMP:20260421T082908
CREATED:20241102T203622Z
LAST-MODIFIED:20260221T003046Z
UID:10009273-1823619600-1823622300@blackrock-kadence.gotbdev.com
SUMMARY:Mezz: Kids Kickboxing (Sparring)
DESCRIPTION:Get your kids moving with Kickboxing (Optional Sparring) at Black Rock for ages 7-11! This fun and engaging class builds confidence\, fitness\, and kickboxing skills in a safe\, controlled environment. With a focus on technique and controlled sparring\, kids will learn discipline while having a blast. Perfect for all levels!
URL:https://blackrock-kadence.gotbdev.com/event/kids-kickboxing-sparring-2/2027-10-15/
CATEGORIES:Kickboxing
ATTACH;FMTTYPE=image/jpeg:https://blackrock-kadence.gotbdev.com/wp-content/uploads/2024/09/kids-kickboxing-13.jpg
END:VEVENT
END:VCALENDAR