BEGIN:VCALENDAR
VERSION:2.0
PRODID:-// - ECPv6.15.20//NONSGML v1.0//EN
CALSCALE:GREGORIAN
METHOD:PUBLISH
X-ORIGINAL-URL:https://blackrock-kadence.gotbdev.com
X-WR-CALDESC:Events for 
REFRESH-INTERVAL;VALUE=DURATION:PT1H
X-Robots-Tag:noindex
X-PUBLISHED-TTL:PT1H
BEGIN:VTIMEZONE
TZID:America/Vancouver
BEGIN:DAYLIGHT
TZOFFSETFROM:-0800
TZOFFSETTO:-0700
TZNAME:PDT
DTSTART:20230312T100000
END:DAYLIGHT
BEGIN:STANDARD
TZOFFSETFROM:-0700
TZOFFSETTO:-0800
TZNAME:PST
DTSTART:20231105T090000
END:STANDARD
BEGIN:DAYLIGHT
TZOFFSETFROM:-0800
TZOFFSETTO:-0700
TZNAME:PDT
DTSTART:20240310T100000
END:DAYLIGHT
BEGIN:STANDARD
TZOFFSETFROM:-0700
TZOFFSETTO:-0800
TZNAME:PST
DTSTART:20241103T090000
END:STANDARD
BEGIN:DAYLIGHT
TZOFFSETFROM:-0800
TZOFFSETTO:-0700
TZNAME:PDT
DTSTART:20250309T100000
END:DAYLIGHT
BEGIN:STANDARD
TZOFFSETFROM:-0700
TZOFFSETTO:-0800
TZNAME:PST
DTSTART:20251102T090000
END:STANDARD
END:VTIMEZONE
BEGIN:VEVENT
DTSTART;TZID=America/Vancouver:20241101T180000
DTEND;TZID=America/Vancouver:20241101T190000
DTSTAMP:20260422T235727
CREATED:20240917T175703Z
LAST-MODIFIED:20260221T003145Z
UID:10006481-1730484000-1730487600@blackrock-kadence.gotbdev.com
SUMMARY:Adult Kickboxing (Dutch Drilling)
DESCRIPTION:Join our Dutch Drilling adult kickboxing classes at Black Rock Martial Arts and boost your fitness\, confidence\, and self-defense skills in a dynamic\, fun\, and supportive environment. Perfect for all experience levels\, our classes use high-intensity drills inspired by Dutch kickboxing techniques to enhance your striking\, footwork\, and endurance. Led by experienced coaches\, you’ll challenge yourself physically and mentally while enjoying a great workout. Whether you’re looking to compete or just get fit\, these sessions provide the ultimate kickboxing experience.
URL:https://blackrock-kadence.gotbdev.com/event/adult-kickboxing-dutch-drilling/2024-11-01/
CATEGORIES:Kickboxing
ATTACH;FMTTYPE=image/jpeg:https://blackrock-kadence.gotbdev.com/wp-content/uploads/2024/09/adult-mma-10.jpg
END:VEVENT
BEGIN:VEVENT
DTSTART;TZID=America/Vancouver:20241105T180000
DTEND;TZID=America/Vancouver:20241105T190000
DTSTAMP:20260422T235727
CREATED:20240912T234812Z
LAST-MODIFIED:20260221T003154Z
UID:10005823-1730829600-1730833200@blackrock-kadence.gotbdev.com
SUMMARY:Mezz: Youth Jiu Jitsu (Ages 10-15)
DESCRIPTION:Discover Youth Jiu-Jitsu at Black Rock Martial Arts\, designed for ages 10-15. Build strength\, confidence\, and self-defense skills through dynamic\, fun classes. Perfect for teens looking to stay active\, learn discipline\, and connect with peers in a supportive environment.
URL:https://blackrock-kadence.gotbdev.com/event/teens-no-gi-jiu-jitsu-12-17-4/2024-11-05/
CATEGORIES:Kids Jiu Jitsu
ATTACH;FMTTYPE=image/jpeg:https://blackrock-kadence.gotbdev.com/wp-content/uploads/2025/11/JAK0147-scaled-1-scaled.jpg
END:VEVENT
BEGIN:VEVENT
DTSTART;TZID=America/Vancouver:20241107T180000
DTEND;TZID=America/Vancouver:20241107T190000
DTSTAMP:20260422T235727
CREATED:20240912T234812Z
LAST-MODIFIED:20260221T003154Z
UID:10005824-1731002400-1731006000@blackrock-kadence.gotbdev.com
SUMMARY:Mezz: Youth Jiu Jitsu (Ages 10-15)
DESCRIPTION:Discover Youth Jiu-Jitsu at Black Rock Martial Arts\, designed for ages 10-15. Build strength\, confidence\, and self-defense skills through dynamic\, fun classes. Perfect for teens looking to stay active\, learn discipline\, and connect with peers in a supportive environment.
URL:https://blackrock-kadence.gotbdev.com/event/teens-no-gi-jiu-jitsu-12-17-4/2024-11-07/
CATEGORIES:Kids Jiu Jitsu
ATTACH;FMTTYPE=image/jpeg:https://blackrock-kadence.gotbdev.com/wp-content/uploads/2025/11/JAK0147-scaled-1-scaled.jpg
END:VEVENT
BEGIN:VEVENT
DTSTART;TZID=America/Vancouver:20241108T180000
DTEND;TZID=America/Vancouver:20241108T190000
DTSTAMP:20260422T235727
CREATED:20240917T175703Z
LAST-MODIFIED:20260221T003145Z
UID:10006482-1731088800-1731092400@blackrock-kadence.gotbdev.com
SUMMARY:Adult Kickboxing (Dutch Drilling)
DESCRIPTION:Join our Dutch Drilling adult kickboxing classes at Black Rock Martial Arts and boost your fitness\, confidence\, and self-defense skills in a dynamic\, fun\, and supportive environment. Perfect for all experience levels\, our classes use high-intensity drills inspired by Dutch kickboxing techniques to enhance your striking\, footwork\, and endurance. Led by experienced coaches\, you’ll challenge yourself physically and mentally while enjoying a great workout. Whether you’re looking to compete or just get fit\, these sessions provide the ultimate kickboxing experience.
URL:https://blackrock-kadence.gotbdev.com/event/adult-kickboxing-dutch-drilling/2024-11-08/
CATEGORIES:Kickboxing
ATTACH;FMTTYPE=image/jpeg:https://blackrock-kadence.gotbdev.com/wp-content/uploads/2024/09/adult-mma-10.jpg
END:VEVENT
BEGIN:VEVENT
DTSTART;TZID=America/Vancouver:20241112T180000
DTEND;TZID=America/Vancouver:20241112T190000
DTSTAMP:20260422T235727
CREATED:20240912T234812Z
LAST-MODIFIED:20260221T003154Z
UID:10005825-1731434400-1731438000@blackrock-kadence.gotbdev.com
SUMMARY:Mezz: Youth Jiu Jitsu (Ages 10-15)
DESCRIPTION:Discover Youth Jiu-Jitsu at Black Rock Martial Arts\, designed for ages 10-15. Build strength\, confidence\, and self-defense skills through dynamic\, fun classes. Perfect for teens looking to stay active\, learn discipline\, and connect with peers in a supportive environment.
URL:https://blackrock-kadence.gotbdev.com/event/teens-no-gi-jiu-jitsu-12-17-4/2024-11-12/
CATEGORIES:Kids Jiu Jitsu
ATTACH;FMTTYPE=image/jpeg:https://blackrock-kadence.gotbdev.com/wp-content/uploads/2025/11/JAK0147-scaled-1-scaled.jpg
END:VEVENT
BEGIN:VEVENT
DTSTART;TZID=America/Vancouver:20241114T180000
DTEND;TZID=America/Vancouver:20241114T190000
DTSTAMP:20260422T235727
CREATED:20240912T234812Z
LAST-MODIFIED:20260221T003154Z
UID:10005826-1731607200-1731610800@blackrock-kadence.gotbdev.com
SUMMARY:Mezz: Youth Jiu Jitsu (Ages 10-15)
DESCRIPTION:Discover Youth Jiu-Jitsu at Black Rock Martial Arts\, designed for ages 10-15. Build strength\, confidence\, and self-defense skills through dynamic\, fun classes. Perfect for teens looking to stay active\, learn discipline\, and connect with peers in a supportive environment.
URL:https://blackrock-kadence.gotbdev.com/event/teens-no-gi-jiu-jitsu-12-17-4/2024-11-14/
CATEGORIES:Kids Jiu Jitsu
ATTACH;FMTTYPE=image/jpeg:https://blackrock-kadence.gotbdev.com/wp-content/uploads/2025/11/JAK0147-scaled-1-scaled.jpg
END:VEVENT
BEGIN:VEVENT
DTSTART;TZID=America/Vancouver:20241115T180000
DTEND;TZID=America/Vancouver:20241115T190000
DTSTAMP:20260422T235727
CREATED:20240917T175703Z
LAST-MODIFIED:20260221T003145Z
UID:10006483-1731693600-1731697200@blackrock-kadence.gotbdev.com
SUMMARY:Adult Kickboxing (Dutch Drilling)
DESCRIPTION:Join our Dutch Drilling adult kickboxing classes at Black Rock Martial Arts and boost your fitness\, confidence\, and self-defense skills in a dynamic\, fun\, and supportive environment. Perfect for all experience levels\, our classes use high-intensity drills inspired by Dutch kickboxing techniques to enhance your striking\, footwork\, and endurance. Led by experienced coaches\, you’ll challenge yourself physically and mentally while enjoying a great workout. Whether you’re looking to compete or just get fit\, these sessions provide the ultimate kickboxing experience.
URL:https://blackrock-kadence.gotbdev.com/event/adult-kickboxing-dutch-drilling/2024-11-15/
CATEGORIES:Kickboxing
ATTACH;FMTTYPE=image/jpeg:https://blackrock-kadence.gotbdev.com/wp-content/uploads/2024/09/adult-mma-10.jpg
END:VEVENT
BEGIN:VEVENT
DTSTART;TZID=America/Vancouver:20241119T180000
DTEND;TZID=America/Vancouver:20241119T190000
DTSTAMP:20260422T235727
CREATED:20240912T234812Z
LAST-MODIFIED:20260221T003154Z
UID:10005827-1732039200-1732042800@blackrock-kadence.gotbdev.com
SUMMARY:Mezz: Youth Jiu Jitsu (Ages 10-15)
DESCRIPTION:Discover Youth Jiu-Jitsu at Black Rock Martial Arts\, designed for ages 10-15. Build strength\, confidence\, and self-defense skills through dynamic\, fun classes. Perfect for teens looking to stay active\, learn discipline\, and connect with peers in a supportive environment.
URL:https://blackrock-kadence.gotbdev.com/event/teens-no-gi-jiu-jitsu-12-17-4/2024-11-19/
CATEGORIES:Kids Jiu Jitsu
ATTACH;FMTTYPE=image/jpeg:https://blackrock-kadence.gotbdev.com/wp-content/uploads/2025/11/JAK0147-scaled-1-scaled.jpg
END:VEVENT
BEGIN:VEVENT
DTSTART;TZID=America/Vancouver:20241121T180000
DTEND;TZID=America/Vancouver:20241121T190000
DTSTAMP:20260422T235727
CREATED:20240912T234812Z
LAST-MODIFIED:20260221T003154Z
UID:10005828-1732212000-1732215600@blackrock-kadence.gotbdev.com
SUMMARY:Mezz: Youth Jiu Jitsu (Ages 10-15)
DESCRIPTION:Discover Youth Jiu-Jitsu at Black Rock Martial Arts\, designed for ages 10-15. Build strength\, confidence\, and self-defense skills through dynamic\, fun classes. Perfect for teens looking to stay active\, learn discipline\, and connect with peers in a supportive environment.
URL:https://blackrock-kadence.gotbdev.com/event/teens-no-gi-jiu-jitsu-12-17-4/2024-11-21/
CATEGORIES:Kids Jiu Jitsu
ATTACH;FMTTYPE=image/jpeg:https://blackrock-kadence.gotbdev.com/wp-content/uploads/2025/11/JAK0147-scaled-1-scaled.jpg
END:VEVENT
BEGIN:VEVENT
DTSTART;TZID=America/Vancouver:20241122T180000
DTEND;TZID=America/Vancouver:20241122T190000
DTSTAMP:20260422T235727
CREATED:20240917T175703Z
LAST-MODIFIED:20260221T003145Z
UID:10006484-1732298400-1732302000@blackrock-kadence.gotbdev.com
SUMMARY:Adult Kickboxing (Dutch Drilling)
DESCRIPTION:Join our Dutch Drilling adult kickboxing classes at Black Rock Martial Arts and boost your fitness\, confidence\, and self-defense skills in a dynamic\, fun\, and supportive environment. Perfect for all experience levels\, our classes use high-intensity drills inspired by Dutch kickboxing techniques to enhance your striking\, footwork\, and endurance. Led by experienced coaches\, you’ll challenge yourself physically and mentally while enjoying a great workout. Whether you’re looking to compete or just get fit\, these sessions provide the ultimate kickboxing experience.
URL:https://blackrock-kadence.gotbdev.com/event/adult-kickboxing-dutch-drilling/2024-11-22/
CATEGORIES:Kickboxing
ATTACH;FMTTYPE=image/jpeg:https://blackrock-kadence.gotbdev.com/wp-content/uploads/2024/09/adult-mma-10.jpg
END:VEVENT
BEGIN:VEVENT
DTSTART;TZID=America/Vancouver:20241126T180000
DTEND;TZID=America/Vancouver:20241126T190000
DTSTAMP:20260422T235727
CREATED:20240912T234812Z
LAST-MODIFIED:20260221T003154Z
UID:10005829-1732644000-1732647600@blackrock-kadence.gotbdev.com
SUMMARY:Mezz: Youth Jiu Jitsu (Ages 10-15)
DESCRIPTION:Discover Youth Jiu-Jitsu at Black Rock Martial Arts\, designed for ages 10-15. Build strength\, confidence\, and self-defense skills through dynamic\, fun classes. Perfect for teens looking to stay active\, learn discipline\, and connect with peers in a supportive environment.
URL:https://blackrock-kadence.gotbdev.com/event/teens-no-gi-jiu-jitsu-12-17-4/2024-11-26/
CATEGORIES:Kids Jiu Jitsu
ATTACH;FMTTYPE=image/jpeg:https://blackrock-kadence.gotbdev.com/wp-content/uploads/2025/11/JAK0147-scaled-1-scaled.jpg
END:VEVENT
BEGIN:VEVENT
DTSTART;TZID=America/Vancouver:20241128T180000
DTEND;TZID=America/Vancouver:20241128T190000
DTSTAMP:20260422T235727
CREATED:20240912T234812Z
LAST-MODIFIED:20260221T003154Z
UID:10005830-1732816800-1732820400@blackrock-kadence.gotbdev.com
SUMMARY:Mezz: Youth Jiu Jitsu (Ages 10-15)
DESCRIPTION:Discover Youth Jiu-Jitsu at Black Rock Martial Arts\, designed for ages 10-15. Build strength\, confidence\, and self-defense skills through dynamic\, fun classes. Perfect for teens looking to stay active\, learn discipline\, and connect with peers in a supportive environment.
URL:https://blackrock-kadence.gotbdev.com/event/teens-no-gi-jiu-jitsu-12-17-4/2024-11-28/
CATEGORIES:Kids Jiu Jitsu
ATTACH;FMTTYPE=image/jpeg:https://blackrock-kadence.gotbdev.com/wp-content/uploads/2025/11/JAK0147-scaled-1-scaled.jpg
END:VEVENT
BEGIN:VEVENT
DTSTART;TZID=America/Vancouver:20241129T180000
DTEND;TZID=America/Vancouver:20241129T190000
DTSTAMP:20260422T235727
CREATED:20240917T175703Z
LAST-MODIFIED:20260221T003145Z
UID:10006485-1732903200-1732906800@blackrock-kadence.gotbdev.com
SUMMARY:Adult Kickboxing (Dutch Drilling)
DESCRIPTION:Join our Dutch Drilling adult kickboxing classes at Black Rock Martial Arts and boost your fitness\, confidence\, and self-defense skills in a dynamic\, fun\, and supportive environment. Perfect for all experience levels\, our classes use high-intensity drills inspired by Dutch kickboxing techniques to enhance your striking\, footwork\, and endurance. Led by experienced coaches\, you’ll challenge yourself physically and mentally while enjoying a great workout. Whether you’re looking to compete or just get fit\, these sessions provide the ultimate kickboxing experience.
URL:https://blackrock-kadence.gotbdev.com/event/adult-kickboxing-dutch-drilling/2024-11-29/
CATEGORIES:Kickboxing
ATTACH;FMTTYPE=image/jpeg:https://blackrock-kadence.gotbdev.com/wp-content/uploads/2024/09/adult-mma-10.jpg
END:VEVENT
END:VCALENDAR