BEGIN:VCALENDAR
VERSION:2.0
PRODID:-// - ECPv6.15.20//NONSGML v1.0//EN
CALSCALE:GREGORIAN
METHOD:PUBLISH
X-ORIGINAL-URL:https://blackrock-kadence.gotbdev.com
X-WR-CALDESC:Events for 
REFRESH-INTERVAL;VALUE=DURATION:PT1H
X-Robots-Tag:noindex
X-PUBLISHED-TTL:PT1H
BEGIN:VTIMEZONE
TZID:America/Vancouver
BEGIN:DAYLIGHT
TZOFFSETFROM:-0800
TZOFFSETTO:-0700
TZNAME:PDT
DTSTART:20250309T100000
END:DAYLIGHT
BEGIN:STANDARD
TZOFFSETFROM:-0700
TZOFFSETTO:-0800
TZNAME:PST
DTSTART:20251102T090000
END:STANDARD
BEGIN:DAYLIGHT
TZOFFSETFROM:-0800
TZOFFSETTO:-0700
TZNAME:PDT
DTSTART:20260308T100000
END:DAYLIGHT
BEGIN:STANDARD
TZOFFSETFROM:-0700
TZOFFSETTO:-0800
TZNAME:PST
DTSTART:20261101T090000
END:STANDARD
BEGIN:DAYLIGHT
TZOFFSETFROM:-0800
TZOFFSETTO:-0700
TZNAME:PDT
DTSTART:20270314T100000
END:DAYLIGHT
BEGIN:STANDARD
TZOFFSETFROM:-0700
TZOFFSETTO:-0800
TZNAME:PST
DTSTART:20271107T090000
END:STANDARD
END:VTIMEZONE
BEGIN:VEVENT
DTSTART;TZID=America/Vancouver:20260911T180000
DTEND;TZID=America/Vancouver:20260911T190000
DTSTAMP:20260421T170727
CREATED:20240917T175703Z
LAST-MODIFIED:20260221T003145Z
UID:10006576-1789149600-1789153200@blackrock-kadence.gotbdev.com
SUMMARY:Adult Kickboxing (Dutch Drilling)
DESCRIPTION:Join our Dutch Drilling adult kickboxing classes at Black Rock Martial Arts and boost your fitness\, confidence\, and self-defense skills in a dynamic\, fun\, and supportive environment. Perfect for all experience levels\, our classes use high-intensity drills inspired by Dutch kickboxing techniques to enhance your striking\, footwork\, and endurance. Led by experienced coaches\, you’ll challenge yourself physically and mentally while enjoying a great workout. Whether you’re looking to compete or just get fit\, these sessions provide the ultimate kickboxing experience.
URL:https://blackrock-kadence.gotbdev.com/event/adult-kickboxing-dutch-drilling/2026-09-11/
CATEGORIES:Kickboxing
ATTACH;FMTTYPE=image/jpeg:https://blackrock-kadence.gotbdev.com/wp-content/uploads/2024/09/adult-mma-10.jpg
END:VEVENT
END:VCALENDAR