BEGIN:VCALENDAR
VERSION:2.0
PRODID:-// - ECPv6.15.20//NONSGML v1.0//EN
CALSCALE:GREGORIAN
METHOD:PUBLISH
X-ORIGINAL-URL:https://blackrock-kadence.gotbdev.com
X-WR-CALDESC:Events for 
REFRESH-INTERVAL;VALUE=DURATION:PT1H
X-Robots-Tag:noindex
X-PUBLISHED-TTL:PT1H
BEGIN:VTIMEZONE
TZID:America/Vancouver
BEGIN:DAYLIGHT
TZOFFSETFROM:-0800
TZOFFSETTO:-0700
TZNAME:PDT
DTSTART:20240310T100000
END:DAYLIGHT
BEGIN:STANDARD
TZOFFSETFROM:-0700
TZOFFSETTO:-0800
TZNAME:PST
DTSTART:20241103T090000
END:STANDARD
BEGIN:DAYLIGHT
TZOFFSETFROM:-0800
TZOFFSETTO:-0700
TZNAME:PDT
DTSTART:20250309T100000
END:DAYLIGHT
BEGIN:STANDARD
TZOFFSETFROM:-0700
TZOFFSETTO:-0800
TZNAME:PST
DTSTART:20251102T090000
END:STANDARD
BEGIN:DAYLIGHT
TZOFFSETFROM:-0800
TZOFFSETTO:-0700
TZNAME:PDT
DTSTART:20260308T100000
END:DAYLIGHT
BEGIN:STANDARD
TZOFFSETFROM:-0700
TZOFFSETTO:-0800
TZNAME:PST
DTSTART:20261101T090000
END:STANDARD
END:VTIMEZONE
BEGIN:VEVENT
DTSTART;TZID=America/Vancouver:20250801T180000
DTEND;TZID=America/Vancouver:20250801T184500
DTSTAMP:20260423T035422
CREATED:20241102T204001Z
LAST-MODIFIED:20260221T003137Z
UID:10009486-1754071200-1754073900@blackrock-kadence.gotbdev.com
SUMMARY:Mezz: Kids MMA (7-11 Years Old)
DESCRIPTION:Kids MMA classes offer a dynamic blend of martial arts\, including striking\, grappling\, and self-defense techniques\, tailored to young learners. At Black Rock Martial Arts\, kids develop coordination\, confidence\, and discipline through structured\, age-appropriate training. Classes emphasize safety\, with instructors focusing on control\, respect\, and teamwork in each session. \nBeyond physical fitness\, kids learn resilience\, patience\, and problem-solving skills\, valuable both on the mat and in daily life. With a supportive environment and a fun\, engaging curriculum\, Kids MMA helps children build strength\, improve focus\, and gain a strong foundation in martial arts\, promoting personal growth and self-confidence.
URL:https://blackrock-kadence.gotbdev.com/event/kids-mma-7-11-years-old/2025-08-01/
CATEGORIES:MMA
ATTACH;FMTTYPE=image/jpeg:https://blackrock-kadence.gotbdev.com/wp-content/uploads/2025/11/IMG_9120-1-1-scaled-e1763673424614.jpg
END:VEVENT
BEGIN:VEVENT
DTSTART;TZID=America/Vancouver:20250808T180000
DTEND;TZID=America/Vancouver:20250808T184500
DTSTAMP:20260423T035422
CREATED:20241102T204001Z
LAST-MODIFIED:20260221T003137Z
UID:10009487-1754676000-1754678700@blackrock-kadence.gotbdev.com
SUMMARY:Mezz: Kids MMA (7-11 Years Old)
DESCRIPTION:Kids MMA classes offer a dynamic blend of martial arts\, including striking\, grappling\, and self-defense techniques\, tailored to young learners. At Black Rock Martial Arts\, kids develop coordination\, confidence\, and discipline through structured\, age-appropriate training. Classes emphasize safety\, with instructors focusing on control\, respect\, and teamwork in each session. \nBeyond physical fitness\, kids learn resilience\, patience\, and problem-solving skills\, valuable both on the mat and in daily life. With a supportive environment and a fun\, engaging curriculum\, Kids MMA helps children build strength\, improve focus\, and gain a strong foundation in martial arts\, promoting personal growth and self-confidence.
URL:https://blackrock-kadence.gotbdev.com/event/kids-mma-7-11-years-old/2025-08-08/
CATEGORIES:MMA
ATTACH;FMTTYPE=image/jpeg:https://blackrock-kadence.gotbdev.com/wp-content/uploads/2025/11/IMG_9120-1-1-scaled-e1763673424614.jpg
END:VEVENT
BEGIN:VEVENT
DTSTART;TZID=America/Vancouver:20250815T180000
DTEND;TZID=America/Vancouver:20250815T184500
DTSTAMP:20260423T035422
CREATED:20241102T204001Z
LAST-MODIFIED:20260221T003137Z
UID:10009488-1755280800-1755283500@blackrock-kadence.gotbdev.com
SUMMARY:Mezz: Kids MMA (7-11 Years Old)
DESCRIPTION:Kids MMA classes offer a dynamic blend of martial arts\, including striking\, grappling\, and self-defense techniques\, tailored to young learners. At Black Rock Martial Arts\, kids develop coordination\, confidence\, and discipline through structured\, age-appropriate training. Classes emphasize safety\, with instructors focusing on control\, respect\, and teamwork in each session. \nBeyond physical fitness\, kids learn resilience\, patience\, and problem-solving skills\, valuable both on the mat and in daily life. With a supportive environment and a fun\, engaging curriculum\, Kids MMA helps children build strength\, improve focus\, and gain a strong foundation in martial arts\, promoting personal growth and self-confidence.
URL:https://blackrock-kadence.gotbdev.com/event/kids-mma-7-11-years-old/2025-08-15/
CATEGORIES:MMA
ATTACH;FMTTYPE=image/jpeg:https://blackrock-kadence.gotbdev.com/wp-content/uploads/2025/11/IMG_9120-1-1-scaled-e1763673424614.jpg
END:VEVENT
BEGIN:VEVENT
DTSTART;TZID=America/Vancouver:20250822T180000
DTEND;TZID=America/Vancouver:20250822T184500
DTSTAMP:20260423T035422
CREATED:20241102T204001Z
LAST-MODIFIED:20260221T003137Z
UID:10009489-1755885600-1755888300@blackrock-kadence.gotbdev.com
SUMMARY:Mezz: Kids MMA (7-11 Years Old)
DESCRIPTION:Kids MMA classes offer a dynamic blend of martial arts\, including striking\, grappling\, and self-defense techniques\, tailored to young learners. At Black Rock Martial Arts\, kids develop coordination\, confidence\, and discipline through structured\, age-appropriate training. Classes emphasize safety\, with instructors focusing on control\, respect\, and teamwork in each session. \nBeyond physical fitness\, kids learn resilience\, patience\, and problem-solving skills\, valuable both on the mat and in daily life. With a supportive environment and a fun\, engaging curriculum\, Kids MMA helps children build strength\, improve focus\, and gain a strong foundation in martial arts\, promoting personal growth and self-confidence.
URL:https://blackrock-kadence.gotbdev.com/event/kids-mma-7-11-years-old/2025-08-22/
CATEGORIES:MMA
ATTACH;FMTTYPE=image/jpeg:https://blackrock-kadence.gotbdev.com/wp-content/uploads/2025/11/IMG_9120-1-1-scaled-e1763673424614.jpg
END:VEVENT
BEGIN:VEVENT
DTSTART;TZID=America/Vancouver:20250829T180000
DTEND;TZID=America/Vancouver:20250829T184500
DTSTAMP:20260423T035422
CREATED:20241102T204001Z
LAST-MODIFIED:20260221T003137Z
UID:10009490-1756490400-1756493100@blackrock-kadence.gotbdev.com
SUMMARY:Mezz: Kids MMA (7-11 Years Old)
DESCRIPTION:Kids MMA classes offer a dynamic blend of martial arts\, including striking\, grappling\, and self-defense techniques\, tailored to young learners. At Black Rock Martial Arts\, kids develop coordination\, confidence\, and discipline through structured\, age-appropriate training. Classes emphasize safety\, with instructors focusing on control\, respect\, and teamwork in each session. \nBeyond physical fitness\, kids learn resilience\, patience\, and problem-solving skills\, valuable both on the mat and in daily life. With a supportive environment and a fun\, engaging curriculum\, Kids MMA helps children build strength\, improve focus\, and gain a strong foundation in martial arts\, promoting personal growth and self-confidence.
URL:https://blackrock-kadence.gotbdev.com/event/kids-mma-7-11-years-old/2025-08-29/
CATEGORIES:MMA
ATTACH;FMTTYPE=image/jpeg:https://blackrock-kadence.gotbdev.com/wp-content/uploads/2025/11/IMG_9120-1-1-scaled-e1763673424614.jpg
END:VEVENT
END:VCALENDAR