BEGIN:VCALENDAR
VERSION:2.0
PRODID:-// - ECPv6.15.20//NONSGML v1.0//EN
CALSCALE:GREGORIAN
METHOD:PUBLISH
X-ORIGINAL-URL:https://blackrock-kadence.gotbdev.com
X-WR-CALDESC:Events for 
REFRESH-INTERVAL;VALUE=DURATION:PT1H
X-Robots-Tag:noindex
X-PUBLISHED-TTL:PT1H
BEGIN:VTIMEZONE
TZID:America/Vancouver
BEGIN:DAYLIGHT
TZOFFSETFROM:-0800
TZOFFSETTO:-0700
TZNAME:PDT
DTSTART:20260308T100000
END:DAYLIGHT
BEGIN:STANDARD
TZOFFSETFROM:-0700
TZOFFSETTO:-0800
TZNAME:PST
DTSTART:20261101T090000
END:STANDARD
BEGIN:DAYLIGHT
TZOFFSETFROM:-0800
TZOFFSETTO:-0700
TZNAME:PDT
DTSTART:20270314T100000
END:DAYLIGHT
BEGIN:STANDARD
TZOFFSETFROM:-0700
TZOFFSETTO:-0800
TZNAME:PST
DTSTART:20271107T090000
END:STANDARD
BEGIN:DAYLIGHT
TZOFFSETFROM:-0800
TZOFFSETTO:-0700
TZNAME:PDT
DTSTART:20280312T100000
END:DAYLIGHT
BEGIN:STANDARD
TZOFFSETFROM:-0700
TZOFFSETTO:-0800
TZNAME:PST
DTSTART:20281105T090000
END:STANDARD
END:VTIMEZONE
BEGIN:VEVENT
DTSTART;TZID=America/Vancouver:20270601T170000
DTEND;TZID=America/Vancouver:20270601T174500
DTSTAMP:20260422T160252
CREATED:20240911T172247Z
LAST-MODIFIED:20260221T003221Z
UID:10005419-1811869200-1811871900@blackrock-kadence.gotbdev.com
SUMMARY:Mezz: Kids Jiu Jitsu (6-9 Years Old)
DESCRIPTION:Enroll in Kids Jiu-Jitsu at Black Rock Martial Arts\, designed for ages 6-9! Our classes teach grappling techniques\, self-defense skills\, and body control while promoting confidence and discipline. Perfect for beginners and experienced kids in a fun\, supportive environment.
URL:https://blackrock-kadence.gotbdev.com/event/kids-no-gi-jiu-jitsu-6-11-3/2027-06-01/
CATEGORIES:Jiu Jitsu
ATTACH;FMTTYPE=image/jpeg:https://blackrock-kadence.gotbdev.com/wp-content/uploads/2025/11/JAK0049-scaled-1-scaled.jpg
END:VEVENT
BEGIN:VEVENT
DTSTART;TZID=America/Vancouver:20270603T170000
DTEND;TZID=America/Vancouver:20270603T174500
DTSTAMP:20260422T160252
CREATED:20240911T172247Z
LAST-MODIFIED:20260221T003221Z
UID:10005420-1812042000-1812044700@blackrock-kadence.gotbdev.com
SUMMARY:Mezz: Kids Jiu Jitsu (6-9 Years Old)
DESCRIPTION:Enroll in Kids Jiu-Jitsu at Black Rock Martial Arts\, designed for ages 6-9! Our classes teach grappling techniques\, self-defense skills\, and body control while promoting confidence and discipline. Perfect for beginners and experienced kids in a fun\, supportive environment.
URL:https://blackrock-kadence.gotbdev.com/event/kids-no-gi-jiu-jitsu-6-11-3/2027-06-03/
CATEGORIES:Jiu Jitsu
ATTACH;FMTTYPE=image/jpeg:https://blackrock-kadence.gotbdev.com/wp-content/uploads/2025/11/JAK0049-scaled-1-scaled.jpg
END:VEVENT
BEGIN:VEVENT
DTSTART;TZID=America/Vancouver:20270604T170000
DTEND;TZID=America/Vancouver:20270604T174500
DTSTAMP:20260422T160252
CREATED:20241102T203622Z
LAST-MODIFIED:20260221T003046Z
UID:10009254-1812128400-1812131100@blackrock-kadence.gotbdev.com
SUMMARY:Mezz: Kids Kickboxing (Sparring)
DESCRIPTION:Get your kids moving with Kickboxing (Optional Sparring) at Black Rock for ages 7-11! This fun and engaging class builds confidence\, fitness\, and kickboxing skills in a safe\, controlled environment. With a focus on technique and controlled sparring\, kids will learn discipline while having a blast. Perfect for all levels!
URL:https://blackrock-kadence.gotbdev.com/event/kids-kickboxing-sparring-2/2027-06-04/
CATEGORIES:Kickboxing
ATTACH;FMTTYPE=image/jpeg:https://blackrock-kadence.gotbdev.com/wp-content/uploads/2024/09/kids-kickboxing-13.jpg
END:VEVENT
BEGIN:VEVENT
DTSTART;TZID=America/Vancouver:20270608T170000
DTEND;TZID=America/Vancouver:20270608T174500
DTSTAMP:20260422T160252
CREATED:20240911T172247Z
LAST-MODIFIED:20260221T003221Z
UID:10005421-1812474000-1812476700@blackrock-kadence.gotbdev.com
SUMMARY:Mezz: Kids Jiu Jitsu (6-9 Years Old)
DESCRIPTION:Enroll in Kids Jiu-Jitsu at Black Rock Martial Arts\, designed for ages 6-9! Our classes teach grappling techniques\, self-defense skills\, and body control while promoting confidence and discipline. Perfect for beginners and experienced kids in a fun\, supportive environment.
URL:https://blackrock-kadence.gotbdev.com/event/kids-no-gi-jiu-jitsu-6-11-3/2027-06-08/
CATEGORIES:Jiu Jitsu
ATTACH;FMTTYPE=image/jpeg:https://blackrock-kadence.gotbdev.com/wp-content/uploads/2025/11/JAK0049-scaled-1-scaled.jpg
END:VEVENT
BEGIN:VEVENT
DTSTART;TZID=America/Vancouver:20270610T170000
DTEND;TZID=America/Vancouver:20270610T174500
DTSTAMP:20260422T160252
CREATED:20240911T172247Z
LAST-MODIFIED:20260221T003221Z
UID:10005422-1812646800-1812649500@blackrock-kadence.gotbdev.com
SUMMARY:Mezz: Kids Jiu Jitsu (6-9 Years Old)
DESCRIPTION:Enroll in Kids Jiu-Jitsu at Black Rock Martial Arts\, designed for ages 6-9! Our classes teach grappling techniques\, self-defense skills\, and body control while promoting confidence and discipline. Perfect for beginners and experienced kids in a fun\, supportive environment.
URL:https://blackrock-kadence.gotbdev.com/event/kids-no-gi-jiu-jitsu-6-11-3/2027-06-10/
CATEGORIES:Jiu Jitsu
ATTACH;FMTTYPE=image/jpeg:https://blackrock-kadence.gotbdev.com/wp-content/uploads/2025/11/JAK0049-scaled-1-scaled.jpg
END:VEVENT
BEGIN:VEVENT
DTSTART;TZID=America/Vancouver:20270611T170000
DTEND;TZID=America/Vancouver:20270611T174500
DTSTAMP:20260422T160252
CREATED:20241102T203622Z
LAST-MODIFIED:20260221T003046Z
UID:10009255-1812733200-1812735900@blackrock-kadence.gotbdev.com
SUMMARY:Mezz: Kids Kickboxing (Sparring)
DESCRIPTION:Get your kids moving with Kickboxing (Optional Sparring) at Black Rock for ages 7-11! This fun and engaging class builds confidence\, fitness\, and kickboxing skills in a safe\, controlled environment. With a focus on technique and controlled sparring\, kids will learn discipline while having a blast. Perfect for all levels!
URL:https://blackrock-kadence.gotbdev.com/event/kids-kickboxing-sparring-2/2027-06-11/
CATEGORIES:Kickboxing
ATTACH;FMTTYPE=image/jpeg:https://blackrock-kadence.gotbdev.com/wp-content/uploads/2024/09/kids-kickboxing-13.jpg
END:VEVENT
BEGIN:VEVENT
DTSTART;TZID=America/Vancouver:20270615T170000
DTEND;TZID=America/Vancouver:20270615T174500
DTSTAMP:20260422T160252
CREATED:20240911T172247Z
LAST-MODIFIED:20260221T003221Z
UID:10005423-1813078800-1813081500@blackrock-kadence.gotbdev.com
SUMMARY:Mezz: Kids Jiu Jitsu (6-9 Years Old)
DESCRIPTION:Enroll in Kids Jiu-Jitsu at Black Rock Martial Arts\, designed for ages 6-9! Our classes teach grappling techniques\, self-defense skills\, and body control while promoting confidence and discipline. Perfect for beginners and experienced kids in a fun\, supportive environment.
URL:https://blackrock-kadence.gotbdev.com/event/kids-no-gi-jiu-jitsu-6-11-3/2027-06-15/
CATEGORIES:Jiu Jitsu
ATTACH;FMTTYPE=image/jpeg:https://blackrock-kadence.gotbdev.com/wp-content/uploads/2025/11/JAK0049-scaled-1-scaled.jpg
END:VEVENT
BEGIN:VEVENT
DTSTART;TZID=America/Vancouver:20270617T170000
DTEND;TZID=America/Vancouver:20270617T174500
DTSTAMP:20260422T160252
CREATED:20240911T172247Z
LAST-MODIFIED:20260221T003221Z
UID:10005424-1813251600-1813254300@blackrock-kadence.gotbdev.com
SUMMARY:Mezz: Kids Jiu Jitsu (6-9 Years Old)
DESCRIPTION:Enroll in Kids Jiu-Jitsu at Black Rock Martial Arts\, designed for ages 6-9! Our classes teach grappling techniques\, self-defense skills\, and body control while promoting confidence and discipline. Perfect for beginners and experienced kids in a fun\, supportive environment.
URL:https://blackrock-kadence.gotbdev.com/event/kids-no-gi-jiu-jitsu-6-11-3/2027-06-17/
CATEGORIES:Jiu Jitsu
ATTACH;FMTTYPE=image/jpeg:https://blackrock-kadence.gotbdev.com/wp-content/uploads/2025/11/JAK0049-scaled-1-scaled.jpg
END:VEVENT
BEGIN:VEVENT
DTSTART;TZID=America/Vancouver:20270618T170000
DTEND;TZID=America/Vancouver:20270618T174500
DTSTAMP:20260422T160252
CREATED:20241102T203622Z
LAST-MODIFIED:20260221T003046Z
UID:10009256-1813338000-1813340700@blackrock-kadence.gotbdev.com
SUMMARY:Mezz: Kids Kickboxing (Sparring)
DESCRIPTION:Get your kids moving with Kickboxing (Optional Sparring) at Black Rock for ages 7-11! This fun and engaging class builds confidence\, fitness\, and kickboxing skills in a safe\, controlled environment. With a focus on technique and controlled sparring\, kids will learn discipline while having a blast. Perfect for all levels!
URL:https://blackrock-kadence.gotbdev.com/event/kids-kickboxing-sparring-2/2027-06-18/
CATEGORIES:Kickboxing
ATTACH;FMTTYPE=image/jpeg:https://blackrock-kadence.gotbdev.com/wp-content/uploads/2024/09/kids-kickboxing-13.jpg
END:VEVENT
BEGIN:VEVENT
DTSTART;TZID=America/Vancouver:20270622T170000
DTEND;TZID=America/Vancouver:20270622T174500
DTSTAMP:20260422T160252
CREATED:20240911T172247Z
LAST-MODIFIED:20260221T003221Z
UID:10005425-1813683600-1813686300@blackrock-kadence.gotbdev.com
SUMMARY:Mezz: Kids Jiu Jitsu (6-9 Years Old)
DESCRIPTION:Enroll in Kids Jiu-Jitsu at Black Rock Martial Arts\, designed for ages 6-9! Our classes teach grappling techniques\, self-defense skills\, and body control while promoting confidence and discipline. Perfect for beginners and experienced kids in a fun\, supportive environment.
URL:https://blackrock-kadence.gotbdev.com/event/kids-no-gi-jiu-jitsu-6-11-3/2027-06-22/
CATEGORIES:Jiu Jitsu
ATTACH;FMTTYPE=image/jpeg:https://blackrock-kadence.gotbdev.com/wp-content/uploads/2025/11/JAK0049-scaled-1-scaled.jpg
END:VEVENT
BEGIN:VEVENT
DTSTART;TZID=America/Vancouver:20270624T170000
DTEND;TZID=America/Vancouver:20270624T174500
DTSTAMP:20260422T160252
CREATED:20240911T172247Z
LAST-MODIFIED:20260221T003221Z
UID:10005426-1813856400-1813859100@blackrock-kadence.gotbdev.com
SUMMARY:Mezz: Kids Jiu Jitsu (6-9 Years Old)
DESCRIPTION:Enroll in Kids Jiu-Jitsu at Black Rock Martial Arts\, designed for ages 6-9! Our classes teach grappling techniques\, self-defense skills\, and body control while promoting confidence and discipline. Perfect for beginners and experienced kids in a fun\, supportive environment.
URL:https://blackrock-kadence.gotbdev.com/event/kids-no-gi-jiu-jitsu-6-11-3/2027-06-24/
CATEGORIES:Jiu Jitsu
ATTACH;FMTTYPE=image/jpeg:https://blackrock-kadence.gotbdev.com/wp-content/uploads/2025/11/JAK0049-scaled-1-scaled.jpg
END:VEVENT
BEGIN:VEVENT
DTSTART;TZID=America/Vancouver:20270625T170000
DTEND;TZID=America/Vancouver:20270625T174500
DTSTAMP:20260422T160252
CREATED:20241102T203622Z
LAST-MODIFIED:20260221T003046Z
UID:10009257-1813942800-1813945500@blackrock-kadence.gotbdev.com
SUMMARY:Mezz: Kids Kickboxing (Sparring)
DESCRIPTION:Get your kids moving with Kickboxing (Optional Sparring) at Black Rock for ages 7-11! This fun and engaging class builds confidence\, fitness\, and kickboxing skills in a safe\, controlled environment. With a focus on technique and controlled sparring\, kids will learn discipline while having a blast. Perfect for all levels!
URL:https://blackrock-kadence.gotbdev.com/event/kids-kickboxing-sparring-2/2027-06-25/
CATEGORIES:Kickboxing
ATTACH;FMTTYPE=image/jpeg:https://blackrock-kadence.gotbdev.com/wp-content/uploads/2024/09/kids-kickboxing-13.jpg
END:VEVENT
BEGIN:VEVENT
DTSTART;TZID=America/Vancouver:20270629T170000
DTEND;TZID=America/Vancouver:20270629T174500
DTSTAMP:20260422T160252
CREATED:20240911T172247Z
LAST-MODIFIED:20260221T003221Z
UID:10005427-1814288400-1814291100@blackrock-kadence.gotbdev.com
SUMMARY:Mezz: Kids Jiu Jitsu (6-9 Years Old)
DESCRIPTION:Enroll in Kids Jiu-Jitsu at Black Rock Martial Arts\, designed for ages 6-9! Our classes teach grappling techniques\, self-defense skills\, and body control while promoting confidence and discipline. Perfect for beginners and experienced kids in a fun\, supportive environment.
URL:https://blackrock-kadence.gotbdev.com/event/kids-no-gi-jiu-jitsu-6-11-3/2027-06-29/
CATEGORIES:Jiu Jitsu
ATTACH;FMTTYPE=image/jpeg:https://blackrock-kadence.gotbdev.com/wp-content/uploads/2025/11/JAK0049-scaled-1-scaled.jpg
END:VEVENT
END:VCALENDAR