BEGIN:VCALENDAR
VERSION:2.0
PRODID:-// - ECPv6.15.20//NONSGML v1.0//EN
CALSCALE:GREGORIAN
METHOD:PUBLISH
X-ORIGINAL-URL:https://blackrock-kadence.gotbdev.com
X-WR-CALDESC:Events for 
REFRESH-INTERVAL;VALUE=DURATION:PT1H
X-Robots-Tag:noindex
X-PUBLISHED-TTL:PT1H
BEGIN:VTIMEZONE
TZID:America/Vancouver
BEGIN:DAYLIGHT
TZOFFSETFROM:-0800
TZOFFSETTO:-0700
TZNAME:PDT
DTSTART:20270314T100000
END:DAYLIGHT
BEGIN:STANDARD
TZOFFSETFROM:-0700
TZOFFSETTO:-0800
TZNAME:PST
DTSTART:20271107T090000
END:STANDARD
BEGIN:DAYLIGHT
TZOFFSETFROM:-0800
TZOFFSETTO:-0700
TZNAME:PDT
DTSTART:20280312T100000
END:DAYLIGHT
BEGIN:STANDARD
TZOFFSETFROM:-0700
TZOFFSETTO:-0800
TZNAME:PST
DTSTART:20281105T090000
END:STANDARD
BEGIN:DAYLIGHT
TZOFFSETFROM:-0800
TZOFFSETTO:-0700
TZNAME:PDT
DTSTART:20290311T100000
END:DAYLIGHT
BEGIN:STANDARD
TZOFFSETFROM:-0700
TZOFFSETTO:-0800
TZNAME:PST
DTSTART:20291104T090000
END:STANDARD
END:VTIMEZONE
BEGIN:VEVENT
DTSTART;TZID=America/Vancouver:20280502T170000
DTEND;TZID=America/Vancouver:20280502T174500
DTSTAMP:20260425T200901
CREATED:20240911T172247Z
LAST-MODIFIED:20260221T003221Z
UID:10005515-1840899600-1840902300@blackrock-kadence.gotbdev.com
SUMMARY:Mezz: Kids Jiu Jitsu (6-9 Years Old)
DESCRIPTION:Enroll in Kids Jiu-Jitsu at Black Rock Martial Arts\, designed for ages 6-9! Our classes teach grappling techniques\, self-defense skills\, and body control while promoting confidence and discipline. Perfect for beginners and experienced kids in a fun\, supportive environment.
URL:https://blackrock-kadence.gotbdev.com/event/kids-no-gi-jiu-jitsu-6-11-3/2028-05-02/
CATEGORIES:Jiu Jitsu
ATTACH;FMTTYPE=image/jpeg:https://blackrock-kadence.gotbdev.com/wp-content/uploads/2025/11/JAK0049-scaled-1-scaled.jpg
END:VEVENT
BEGIN:VEVENT
DTSTART;TZID=America/Vancouver:20280504T170000
DTEND;TZID=America/Vancouver:20280504T174500
DTSTAMP:20260425T200901
CREATED:20240911T172247Z
LAST-MODIFIED:20260221T003221Z
UID:10005516-1841072400-1841075100@blackrock-kadence.gotbdev.com
SUMMARY:Mezz: Kids Jiu Jitsu (6-9 Years Old)
DESCRIPTION:Enroll in Kids Jiu-Jitsu at Black Rock Martial Arts\, designed for ages 6-9! Our classes teach grappling techniques\, self-defense skills\, and body control while promoting confidence and discipline. Perfect for beginners and experienced kids in a fun\, supportive environment.
URL:https://blackrock-kadence.gotbdev.com/event/kids-no-gi-jiu-jitsu-6-11-3/2028-05-04/
CATEGORIES:Jiu Jitsu
ATTACH;FMTTYPE=image/jpeg:https://blackrock-kadence.gotbdev.com/wp-content/uploads/2025/11/JAK0049-scaled-1-scaled.jpg
END:VEVENT
BEGIN:VEVENT
DTSTART;TZID=America/Vancouver:20280505T170000
DTEND;TZID=America/Vancouver:20280505T174500
DTSTAMP:20260425T200901
CREATED:20241102T203622Z
LAST-MODIFIED:20260221T003046Z
UID:10009302-1841158800-1841161500@blackrock-kadence.gotbdev.com
SUMMARY:Mezz: Kids Kickboxing (Sparring)
DESCRIPTION:Get your kids moving with Kickboxing (Optional Sparring) at Black Rock for ages 7-11! This fun and engaging class builds confidence\, fitness\, and kickboxing skills in a safe\, controlled environment. With a focus on technique and controlled sparring\, kids will learn discipline while having a blast. Perfect for all levels!
URL:https://blackrock-kadence.gotbdev.com/event/kids-kickboxing-sparring-2/2028-05-05/
CATEGORIES:Kickboxing
ATTACH;FMTTYPE=image/jpeg:https://blackrock-kadence.gotbdev.com/wp-content/uploads/2024/09/kids-kickboxing-13.jpg
END:VEVENT
BEGIN:VEVENT
DTSTART;TZID=America/Vancouver:20280509T170000
DTEND;TZID=America/Vancouver:20280509T174500
DTSTAMP:20260425T200901
CREATED:20240911T172247Z
LAST-MODIFIED:20260221T003221Z
UID:10005517-1841504400-1841507100@blackrock-kadence.gotbdev.com
SUMMARY:Mezz: Kids Jiu Jitsu (6-9 Years Old)
DESCRIPTION:Enroll in Kids Jiu-Jitsu at Black Rock Martial Arts\, designed for ages 6-9! Our classes teach grappling techniques\, self-defense skills\, and body control while promoting confidence and discipline. Perfect for beginners and experienced kids in a fun\, supportive environment.
URL:https://blackrock-kadence.gotbdev.com/event/kids-no-gi-jiu-jitsu-6-11-3/2028-05-09/
CATEGORIES:Jiu Jitsu
ATTACH;FMTTYPE=image/jpeg:https://blackrock-kadence.gotbdev.com/wp-content/uploads/2025/11/JAK0049-scaled-1-scaled.jpg
END:VEVENT
BEGIN:VEVENT
DTSTART;TZID=America/Vancouver:20280511T170000
DTEND;TZID=America/Vancouver:20280511T174500
DTSTAMP:20260425T200901
CREATED:20240911T172247Z
LAST-MODIFIED:20260221T003221Z
UID:10005518-1841677200-1841679900@blackrock-kadence.gotbdev.com
SUMMARY:Mezz: Kids Jiu Jitsu (6-9 Years Old)
DESCRIPTION:Enroll in Kids Jiu-Jitsu at Black Rock Martial Arts\, designed for ages 6-9! Our classes teach grappling techniques\, self-defense skills\, and body control while promoting confidence and discipline. Perfect for beginners and experienced kids in a fun\, supportive environment.
URL:https://blackrock-kadence.gotbdev.com/event/kids-no-gi-jiu-jitsu-6-11-3/2028-05-11/
CATEGORIES:Jiu Jitsu
ATTACH;FMTTYPE=image/jpeg:https://blackrock-kadence.gotbdev.com/wp-content/uploads/2025/11/JAK0049-scaled-1-scaled.jpg
END:VEVENT
BEGIN:VEVENT
DTSTART;TZID=America/Vancouver:20280512T170000
DTEND;TZID=America/Vancouver:20280512T174500
DTSTAMP:20260425T200901
CREATED:20241102T203622Z
LAST-MODIFIED:20260221T003046Z
UID:10009303-1841763600-1841766300@blackrock-kadence.gotbdev.com
SUMMARY:Mezz: Kids Kickboxing (Sparring)
DESCRIPTION:Get your kids moving with Kickboxing (Optional Sparring) at Black Rock for ages 7-11! This fun and engaging class builds confidence\, fitness\, and kickboxing skills in a safe\, controlled environment. With a focus on technique and controlled sparring\, kids will learn discipline while having a blast. Perfect for all levels!
URL:https://blackrock-kadence.gotbdev.com/event/kids-kickboxing-sparring-2/2028-05-12/
CATEGORIES:Kickboxing
ATTACH;FMTTYPE=image/jpeg:https://blackrock-kadence.gotbdev.com/wp-content/uploads/2024/09/kids-kickboxing-13.jpg
END:VEVENT
BEGIN:VEVENT
DTSTART;TZID=America/Vancouver:20280516T170000
DTEND;TZID=America/Vancouver:20280516T174500
DTSTAMP:20260425T200901
CREATED:20240911T172247Z
LAST-MODIFIED:20260221T003221Z
UID:10005519-1842109200-1842111900@blackrock-kadence.gotbdev.com
SUMMARY:Mezz: Kids Jiu Jitsu (6-9 Years Old)
DESCRIPTION:Enroll in Kids Jiu-Jitsu at Black Rock Martial Arts\, designed for ages 6-9! Our classes teach grappling techniques\, self-defense skills\, and body control while promoting confidence and discipline. Perfect for beginners and experienced kids in a fun\, supportive environment.
URL:https://blackrock-kadence.gotbdev.com/event/kids-no-gi-jiu-jitsu-6-11-3/2028-05-16/
CATEGORIES:Jiu Jitsu
ATTACH;FMTTYPE=image/jpeg:https://blackrock-kadence.gotbdev.com/wp-content/uploads/2025/11/JAK0049-scaled-1-scaled.jpg
END:VEVENT
BEGIN:VEVENT
DTSTART;TZID=America/Vancouver:20280518T170000
DTEND;TZID=America/Vancouver:20280518T174500
DTSTAMP:20260425T200901
CREATED:20240911T172247Z
LAST-MODIFIED:20260221T003221Z
UID:10005520-1842282000-1842284700@blackrock-kadence.gotbdev.com
SUMMARY:Mezz: Kids Jiu Jitsu (6-9 Years Old)
DESCRIPTION:Enroll in Kids Jiu-Jitsu at Black Rock Martial Arts\, designed for ages 6-9! Our classes teach grappling techniques\, self-defense skills\, and body control while promoting confidence and discipline. Perfect for beginners and experienced kids in a fun\, supportive environment.
URL:https://blackrock-kadence.gotbdev.com/event/kids-no-gi-jiu-jitsu-6-11-3/2028-05-18/
CATEGORIES:Jiu Jitsu
ATTACH;FMTTYPE=image/jpeg:https://blackrock-kadence.gotbdev.com/wp-content/uploads/2025/11/JAK0049-scaled-1-scaled.jpg
END:VEVENT
BEGIN:VEVENT
DTSTART;TZID=America/Vancouver:20280519T170000
DTEND;TZID=America/Vancouver:20280519T174500
DTSTAMP:20260425T200901
CREATED:20241102T203622Z
LAST-MODIFIED:20260221T003046Z
UID:10009304-1842368400-1842371100@blackrock-kadence.gotbdev.com
SUMMARY:Mezz: Kids Kickboxing (Sparring)
DESCRIPTION:Get your kids moving with Kickboxing (Optional Sparring) at Black Rock for ages 7-11! This fun and engaging class builds confidence\, fitness\, and kickboxing skills in a safe\, controlled environment. With a focus on technique and controlled sparring\, kids will learn discipline while having a blast. Perfect for all levels!
URL:https://blackrock-kadence.gotbdev.com/event/kids-kickboxing-sparring-2/2028-05-19/
CATEGORIES:Kickboxing
ATTACH;FMTTYPE=image/jpeg:https://blackrock-kadence.gotbdev.com/wp-content/uploads/2024/09/kids-kickboxing-13.jpg
END:VEVENT
BEGIN:VEVENT
DTSTART;TZID=America/Vancouver:20280523T170000
DTEND;TZID=America/Vancouver:20280523T174500
DTSTAMP:20260425T200901
CREATED:20240911T172247Z
LAST-MODIFIED:20260221T003221Z
UID:10005521-1842714000-1842716700@blackrock-kadence.gotbdev.com
SUMMARY:Mezz: Kids Jiu Jitsu (6-9 Years Old)
DESCRIPTION:Enroll in Kids Jiu-Jitsu at Black Rock Martial Arts\, designed for ages 6-9! Our classes teach grappling techniques\, self-defense skills\, and body control while promoting confidence and discipline. Perfect for beginners and experienced kids in a fun\, supportive environment.
URL:https://blackrock-kadence.gotbdev.com/event/kids-no-gi-jiu-jitsu-6-11-3/2028-05-23/
CATEGORIES:Jiu Jitsu
ATTACH;FMTTYPE=image/jpeg:https://blackrock-kadence.gotbdev.com/wp-content/uploads/2025/11/JAK0049-scaled-1-scaled.jpg
END:VEVENT
BEGIN:VEVENT
DTSTART;TZID=America/Vancouver:20280525T170000
DTEND;TZID=America/Vancouver:20280525T174500
DTSTAMP:20260425T200901
CREATED:20240911T172247Z
LAST-MODIFIED:20260221T003221Z
UID:10005522-1842886800-1842889500@blackrock-kadence.gotbdev.com
SUMMARY:Mezz: Kids Jiu Jitsu (6-9 Years Old)
DESCRIPTION:Enroll in Kids Jiu-Jitsu at Black Rock Martial Arts\, designed for ages 6-9! Our classes teach grappling techniques\, self-defense skills\, and body control while promoting confidence and discipline. Perfect for beginners and experienced kids in a fun\, supportive environment.
URL:https://blackrock-kadence.gotbdev.com/event/kids-no-gi-jiu-jitsu-6-11-3/2028-05-25/
CATEGORIES:Jiu Jitsu
ATTACH;FMTTYPE=image/jpeg:https://blackrock-kadence.gotbdev.com/wp-content/uploads/2025/11/JAK0049-scaled-1-scaled.jpg
END:VEVENT
BEGIN:VEVENT
DTSTART;TZID=America/Vancouver:20280526T170000
DTEND;TZID=America/Vancouver:20280526T174500
DTSTAMP:20260425T200901
CREATED:20241102T203622Z
LAST-MODIFIED:20260221T003046Z
UID:10009305-1842973200-1842975900@blackrock-kadence.gotbdev.com
SUMMARY:Mezz: Kids Kickboxing (Sparring)
DESCRIPTION:Get your kids moving with Kickboxing (Optional Sparring) at Black Rock for ages 7-11! This fun and engaging class builds confidence\, fitness\, and kickboxing skills in a safe\, controlled environment. With a focus on technique and controlled sparring\, kids will learn discipline while having a blast. Perfect for all levels!
URL:https://blackrock-kadence.gotbdev.com/event/kids-kickboxing-sparring-2/2028-05-26/
CATEGORIES:Kickboxing
ATTACH;FMTTYPE=image/jpeg:https://blackrock-kadence.gotbdev.com/wp-content/uploads/2024/09/kids-kickboxing-13.jpg
END:VEVENT
BEGIN:VEVENT
DTSTART;TZID=America/Vancouver:20280530T170000
DTEND;TZID=America/Vancouver:20280530T174500
DTSTAMP:20260425T200901
CREATED:20240911T172247Z
LAST-MODIFIED:20260221T003221Z
UID:10005523-1843318800-1843321500@blackrock-kadence.gotbdev.com
SUMMARY:Mezz: Kids Jiu Jitsu (6-9 Years Old)
DESCRIPTION:Enroll in Kids Jiu-Jitsu at Black Rock Martial Arts\, designed for ages 6-9! Our classes teach grappling techniques\, self-defense skills\, and body control while promoting confidence and discipline. Perfect for beginners and experienced kids in a fun\, supportive environment.
URL:https://blackrock-kadence.gotbdev.com/event/kids-no-gi-jiu-jitsu-6-11-3/2028-05-30/
CATEGORIES:Jiu Jitsu
ATTACH;FMTTYPE=image/jpeg:https://blackrock-kadence.gotbdev.com/wp-content/uploads/2025/11/JAK0049-scaled-1-scaled.jpg
END:VEVENT
END:VCALENDAR