BEGIN:VCALENDAR
VERSION:2.0
PRODID:-// - ECPv6.15.20//NONSGML v1.0//EN
CALSCALE:GREGORIAN
METHOD:PUBLISH
X-ORIGINAL-URL:https://blackrock-kadence.gotbdev.com
X-WR-CALDESC:Events for 
REFRESH-INTERVAL;VALUE=DURATION:PT1H
X-Robots-Tag:noindex
X-PUBLISHED-TTL:PT1H
BEGIN:VTIMEZONE
TZID:America/Vancouver
BEGIN:DAYLIGHT
TZOFFSETFROM:-0800
TZOFFSETTO:-0700
TZNAME:PDT
DTSTART:20250309T100000
END:DAYLIGHT
BEGIN:STANDARD
TZOFFSETFROM:-0700
TZOFFSETTO:-0800
TZNAME:PST
DTSTART:20251102T090000
END:STANDARD
BEGIN:DAYLIGHT
TZOFFSETFROM:-0800
TZOFFSETTO:-0700
TZNAME:PDT
DTSTART:20260308T100000
END:DAYLIGHT
BEGIN:STANDARD
TZOFFSETFROM:-0700
TZOFFSETTO:-0800
TZNAME:PST
DTSTART:20261101T090000
END:STANDARD
BEGIN:DAYLIGHT
TZOFFSETFROM:-0800
TZOFFSETTO:-0700
TZNAME:PDT
DTSTART:20270314T100000
END:DAYLIGHT
BEGIN:STANDARD
TZOFFSETFROM:-0700
TZOFFSETTO:-0800
TZNAME:PST
DTSTART:20271107T090000
END:STANDARD
END:VTIMEZONE
BEGIN:VEVENT
DTSTART;TZID=America/Vancouver:20260519T170000
DTEND;TZID=America/Vancouver:20260519T174500
DTSTAMP:20260421T064300
CREATED:20240911T172247Z
LAST-MODIFIED:20260221T003221Z
UID:10005311-1779210000-1779212700@blackrock-kadence.gotbdev.com
SUMMARY:Mezz: Kids Jiu Jitsu (6-9 Years Old)
DESCRIPTION:Enroll in Kids Jiu-Jitsu at Black Rock Martial Arts\, designed for ages 6-9! Our classes teach grappling techniques\, self-defense skills\, and body control while promoting confidence and discipline. Perfect for beginners and experienced kids in a fun\, supportive environment.
URL:https://blackrock-kadence.gotbdev.com/event/kids-no-gi-jiu-jitsu-6-11-3/2026-05-19/
CATEGORIES:Jiu Jitsu
ATTACH;FMTTYPE=image/jpeg:https://blackrock-kadence.gotbdev.com/wp-content/uploads/2025/11/JAK0049-scaled-1-scaled.jpg
END:VEVENT
BEGIN:VEVENT
DTSTART;TZID=America/Vancouver:20260521T170000
DTEND;TZID=America/Vancouver:20260521T174500
DTSTAMP:20260421T064300
CREATED:20240911T172247Z
LAST-MODIFIED:20260221T003221Z
UID:10005312-1779382800-1779385500@blackrock-kadence.gotbdev.com
SUMMARY:Mezz: Kids Jiu Jitsu (6-9 Years Old)
DESCRIPTION:Enroll in Kids Jiu-Jitsu at Black Rock Martial Arts\, designed for ages 6-9! Our classes teach grappling techniques\, self-defense skills\, and body control while promoting confidence and discipline. Perfect for beginners and experienced kids in a fun\, supportive environment.
URL:https://blackrock-kadence.gotbdev.com/event/kids-no-gi-jiu-jitsu-6-11-3/2026-05-21/
CATEGORIES:Jiu Jitsu
ATTACH;FMTTYPE=image/jpeg:https://blackrock-kadence.gotbdev.com/wp-content/uploads/2025/11/JAK0049-scaled-1-scaled.jpg
END:VEVENT
BEGIN:VEVENT
DTSTART;TZID=America/Vancouver:20260522T170000
DTEND;TZID=America/Vancouver:20260522T174500
DTSTAMP:20260421T064300
CREATED:20241102T203622Z
LAST-MODIFIED:20260221T003046Z
UID:10009200-1779469200-1779471900@blackrock-kadence.gotbdev.com
SUMMARY:Mezz: Kids Kickboxing (Sparring)
DESCRIPTION:Get your kids moving with Kickboxing (Optional Sparring) at Black Rock for ages 7-11! This fun and engaging class builds confidence\, fitness\, and kickboxing skills in a safe\, controlled environment. With a focus on technique and controlled sparring\, kids will learn discipline while having a blast. Perfect for all levels!
URL:https://blackrock-kadence.gotbdev.com/event/kids-kickboxing-sparring-2/2026-05-22/
CATEGORIES:Kickboxing
ATTACH;FMTTYPE=image/jpeg:https://blackrock-kadence.gotbdev.com/wp-content/uploads/2024/09/kids-kickboxing-13.jpg
END:VEVENT
BEGIN:VEVENT
DTSTART;TZID=America/Vancouver:20260526T170000
DTEND;TZID=America/Vancouver:20260526T174500
DTSTAMP:20260421T064300
CREATED:20240911T172247Z
LAST-MODIFIED:20260221T003221Z
UID:10005313-1779814800-1779817500@blackrock-kadence.gotbdev.com
SUMMARY:Mezz: Kids Jiu Jitsu (6-9 Years Old)
DESCRIPTION:Enroll in Kids Jiu-Jitsu at Black Rock Martial Arts\, designed for ages 6-9! Our classes teach grappling techniques\, self-defense skills\, and body control while promoting confidence and discipline. Perfect for beginners and experienced kids in a fun\, supportive environment.
URL:https://blackrock-kadence.gotbdev.com/event/kids-no-gi-jiu-jitsu-6-11-3/2026-05-26/
CATEGORIES:Jiu Jitsu
ATTACH;FMTTYPE=image/jpeg:https://blackrock-kadence.gotbdev.com/wp-content/uploads/2025/11/JAK0049-scaled-1-scaled.jpg
END:VEVENT
BEGIN:VEVENT
DTSTART;TZID=America/Vancouver:20260528T170000
DTEND;TZID=America/Vancouver:20260528T174500
DTSTAMP:20260421T064300
CREATED:20240911T172247Z
LAST-MODIFIED:20260221T003221Z
UID:10005314-1779987600-1779990300@blackrock-kadence.gotbdev.com
SUMMARY:Mezz: Kids Jiu Jitsu (6-9 Years Old)
DESCRIPTION:Enroll in Kids Jiu-Jitsu at Black Rock Martial Arts\, designed for ages 6-9! Our classes teach grappling techniques\, self-defense skills\, and body control while promoting confidence and discipline. Perfect for beginners and experienced kids in a fun\, supportive environment.
URL:https://blackrock-kadence.gotbdev.com/event/kids-no-gi-jiu-jitsu-6-11-3/2026-05-28/
CATEGORIES:Jiu Jitsu
ATTACH;FMTTYPE=image/jpeg:https://blackrock-kadence.gotbdev.com/wp-content/uploads/2025/11/JAK0049-scaled-1-scaled.jpg
END:VEVENT
BEGIN:VEVENT
DTSTART;TZID=America/Vancouver:20260529T170000
DTEND;TZID=America/Vancouver:20260529T174500
DTSTAMP:20260421T064300
CREATED:20241102T203622Z
LAST-MODIFIED:20260221T003046Z
UID:10009201-1780074000-1780076700@blackrock-kadence.gotbdev.com
SUMMARY:Mezz: Kids Kickboxing (Sparring)
DESCRIPTION:Get your kids moving with Kickboxing (Optional Sparring) at Black Rock for ages 7-11! This fun and engaging class builds confidence\, fitness\, and kickboxing skills in a safe\, controlled environment. With a focus on technique and controlled sparring\, kids will learn discipline while having a blast. Perfect for all levels!
URL:https://blackrock-kadence.gotbdev.com/event/kids-kickboxing-sparring-2/2026-05-29/
CATEGORIES:Kickboxing
ATTACH;FMTTYPE=image/jpeg:https://blackrock-kadence.gotbdev.com/wp-content/uploads/2024/09/kids-kickboxing-13.jpg
END:VEVENT
BEGIN:VEVENT
DTSTART;TZID=America/Vancouver:20260602T170000
DTEND;TZID=America/Vancouver:20260602T174500
DTSTAMP:20260421T064300
CREATED:20240911T172247Z
LAST-MODIFIED:20260221T003221Z
UID:10005315-1780419600-1780422300@blackrock-kadence.gotbdev.com
SUMMARY:Mezz: Kids Jiu Jitsu (6-9 Years Old)
DESCRIPTION:Enroll in Kids Jiu-Jitsu at Black Rock Martial Arts\, designed for ages 6-9! Our classes teach grappling techniques\, self-defense skills\, and body control while promoting confidence and discipline. Perfect for beginners and experienced kids in a fun\, supportive environment.
URL:https://blackrock-kadence.gotbdev.com/event/kids-no-gi-jiu-jitsu-6-11-3/2026-06-02/
CATEGORIES:Jiu Jitsu
ATTACH;FMTTYPE=image/jpeg:https://blackrock-kadence.gotbdev.com/wp-content/uploads/2025/11/JAK0049-scaled-1-scaled.jpg
END:VEVENT
BEGIN:VEVENT
DTSTART;TZID=America/Vancouver:20260604T170000
DTEND;TZID=America/Vancouver:20260604T174500
DTSTAMP:20260421T064300
CREATED:20240911T172247Z
LAST-MODIFIED:20260221T003221Z
UID:10005316-1780592400-1780595100@blackrock-kadence.gotbdev.com
SUMMARY:Mezz: Kids Jiu Jitsu (6-9 Years Old)
DESCRIPTION:Enroll in Kids Jiu-Jitsu at Black Rock Martial Arts\, designed for ages 6-9! Our classes teach grappling techniques\, self-defense skills\, and body control while promoting confidence and discipline. Perfect for beginners and experienced kids in a fun\, supportive environment.
URL:https://blackrock-kadence.gotbdev.com/event/kids-no-gi-jiu-jitsu-6-11-3/2026-06-04/
CATEGORIES:Jiu Jitsu
ATTACH;FMTTYPE=image/jpeg:https://blackrock-kadence.gotbdev.com/wp-content/uploads/2025/11/JAK0049-scaled-1-scaled.jpg
END:VEVENT
BEGIN:VEVENT
DTSTART;TZID=America/Vancouver:20260605T170000
DTEND;TZID=America/Vancouver:20260605T174500
DTSTAMP:20260421T064300
CREATED:20241102T203622Z
LAST-MODIFIED:20260221T003046Z
UID:10009202-1780678800-1780681500@blackrock-kadence.gotbdev.com
SUMMARY:Mezz: Kids Kickboxing (Sparring)
DESCRIPTION:Get your kids moving with Kickboxing (Optional Sparring) at Black Rock for ages 7-11! This fun and engaging class builds confidence\, fitness\, and kickboxing skills in a safe\, controlled environment. With a focus on technique and controlled sparring\, kids will learn discipline while having a blast. Perfect for all levels!
URL:https://blackrock-kadence.gotbdev.com/event/kids-kickboxing-sparring-2/2026-06-05/
CATEGORIES:Kickboxing
ATTACH;FMTTYPE=image/jpeg:https://blackrock-kadence.gotbdev.com/wp-content/uploads/2024/09/kids-kickboxing-13.jpg
END:VEVENT
BEGIN:VEVENT
DTSTART;TZID=America/Vancouver:20260609T170000
DTEND;TZID=America/Vancouver:20260609T174500
DTSTAMP:20260421T064300
CREATED:20240911T172247Z
LAST-MODIFIED:20260221T003221Z
UID:10005317-1781024400-1781027100@blackrock-kadence.gotbdev.com
SUMMARY:Mezz: Kids Jiu Jitsu (6-9 Years Old)
DESCRIPTION:Enroll in Kids Jiu-Jitsu at Black Rock Martial Arts\, designed for ages 6-9! Our classes teach grappling techniques\, self-defense skills\, and body control while promoting confidence and discipline. Perfect for beginners and experienced kids in a fun\, supportive environment.
URL:https://blackrock-kadence.gotbdev.com/event/kids-no-gi-jiu-jitsu-6-11-3/2026-06-09/
CATEGORIES:Jiu Jitsu
ATTACH;FMTTYPE=image/jpeg:https://blackrock-kadence.gotbdev.com/wp-content/uploads/2025/11/JAK0049-scaled-1-scaled.jpg
END:VEVENT
BEGIN:VEVENT
DTSTART;TZID=America/Vancouver:20260611T170000
DTEND;TZID=America/Vancouver:20260611T174500
DTSTAMP:20260421T064300
CREATED:20240911T172247Z
LAST-MODIFIED:20260221T003221Z
UID:10005318-1781197200-1781199900@blackrock-kadence.gotbdev.com
SUMMARY:Mezz: Kids Jiu Jitsu (6-9 Years Old)
DESCRIPTION:Enroll in Kids Jiu-Jitsu at Black Rock Martial Arts\, designed for ages 6-9! Our classes teach grappling techniques\, self-defense skills\, and body control while promoting confidence and discipline. Perfect for beginners and experienced kids in a fun\, supportive environment.
URL:https://blackrock-kadence.gotbdev.com/event/kids-no-gi-jiu-jitsu-6-11-3/2026-06-11/
CATEGORIES:Jiu Jitsu
ATTACH;FMTTYPE=image/jpeg:https://blackrock-kadence.gotbdev.com/wp-content/uploads/2025/11/JAK0049-scaled-1-scaled.jpg
END:VEVENT
BEGIN:VEVENT
DTSTART;TZID=America/Vancouver:20260612T170000
DTEND;TZID=America/Vancouver:20260612T174500
DTSTAMP:20260421T064300
CREATED:20241102T203622Z
LAST-MODIFIED:20260221T003046Z
UID:10009203-1781283600-1781286300@blackrock-kadence.gotbdev.com
SUMMARY:Mezz: Kids Kickboxing (Sparring)
DESCRIPTION:Get your kids moving with Kickboxing (Optional Sparring) at Black Rock for ages 7-11! This fun and engaging class builds confidence\, fitness\, and kickboxing skills in a safe\, controlled environment. With a focus on technique and controlled sparring\, kids will learn discipline while having a blast. Perfect for all levels!
URL:https://blackrock-kadence.gotbdev.com/event/kids-kickboxing-sparring-2/2026-06-12/
CATEGORIES:Kickboxing
ATTACH;FMTTYPE=image/jpeg:https://blackrock-kadence.gotbdev.com/wp-content/uploads/2024/09/kids-kickboxing-13.jpg
END:VEVENT
BEGIN:VEVENT
DTSTART;TZID=America/Vancouver:20260616T170000
DTEND;TZID=America/Vancouver:20260616T174500
DTSTAMP:20260421T064300
CREATED:20240911T172247Z
LAST-MODIFIED:20260221T003221Z
UID:10005319-1781629200-1781631900@blackrock-kadence.gotbdev.com
SUMMARY:Mezz: Kids Jiu Jitsu (6-9 Years Old)
DESCRIPTION:Enroll in Kids Jiu-Jitsu at Black Rock Martial Arts\, designed for ages 6-9! Our classes teach grappling techniques\, self-defense skills\, and body control while promoting confidence and discipline. Perfect for beginners and experienced kids in a fun\, supportive environment.
URL:https://blackrock-kadence.gotbdev.com/event/kids-no-gi-jiu-jitsu-6-11-3/2026-06-16/
CATEGORIES:Jiu Jitsu
ATTACH;FMTTYPE=image/jpeg:https://blackrock-kadence.gotbdev.com/wp-content/uploads/2025/11/JAK0049-scaled-1-scaled.jpg
END:VEVENT
BEGIN:VEVENT
DTSTART;TZID=America/Vancouver:20260618T170000
DTEND;TZID=America/Vancouver:20260618T174500
DTSTAMP:20260421T064300
CREATED:20240911T172247Z
LAST-MODIFIED:20260221T003221Z
UID:10005320-1781802000-1781804700@blackrock-kadence.gotbdev.com
SUMMARY:Mezz: Kids Jiu Jitsu (6-9 Years Old)
DESCRIPTION:Enroll in Kids Jiu-Jitsu at Black Rock Martial Arts\, designed for ages 6-9! Our classes teach grappling techniques\, self-defense skills\, and body control while promoting confidence and discipline. Perfect for beginners and experienced kids in a fun\, supportive environment.
URL:https://blackrock-kadence.gotbdev.com/event/kids-no-gi-jiu-jitsu-6-11-3/2026-06-18/
CATEGORIES:Jiu Jitsu
ATTACH;FMTTYPE=image/jpeg:https://blackrock-kadence.gotbdev.com/wp-content/uploads/2025/11/JAK0049-scaled-1-scaled.jpg
END:VEVENT
BEGIN:VEVENT
DTSTART;TZID=America/Vancouver:20260619T170000
DTEND;TZID=America/Vancouver:20260619T174500
DTSTAMP:20260421T064300
CREATED:20241102T203622Z
LAST-MODIFIED:20260221T003046Z
UID:10009204-1781888400-1781891100@blackrock-kadence.gotbdev.com
SUMMARY:Mezz: Kids Kickboxing (Sparring)
DESCRIPTION:Get your kids moving with Kickboxing (Optional Sparring) at Black Rock for ages 7-11! This fun and engaging class builds confidence\, fitness\, and kickboxing skills in a safe\, controlled environment. With a focus on technique and controlled sparring\, kids will learn discipline while having a blast. Perfect for all levels!
URL:https://blackrock-kadence.gotbdev.com/event/kids-kickboxing-sparring-2/2026-06-19/
CATEGORIES:Kickboxing
ATTACH;FMTTYPE=image/jpeg:https://blackrock-kadence.gotbdev.com/wp-content/uploads/2024/09/kids-kickboxing-13.jpg
END:VEVENT
BEGIN:VEVENT
DTSTART;TZID=America/Vancouver:20260623T170000
DTEND;TZID=America/Vancouver:20260623T174500
DTSTAMP:20260421T064300
CREATED:20240911T172247Z
LAST-MODIFIED:20260221T003221Z
UID:10005321-1782234000-1782236700@blackrock-kadence.gotbdev.com
SUMMARY:Mezz: Kids Jiu Jitsu (6-9 Years Old)
DESCRIPTION:Enroll in Kids Jiu-Jitsu at Black Rock Martial Arts\, designed for ages 6-9! Our classes teach grappling techniques\, self-defense skills\, and body control while promoting confidence and discipline. Perfect for beginners and experienced kids in a fun\, supportive environment.
URL:https://blackrock-kadence.gotbdev.com/event/kids-no-gi-jiu-jitsu-6-11-3/2026-06-23/
CATEGORIES:Jiu Jitsu
ATTACH;FMTTYPE=image/jpeg:https://blackrock-kadence.gotbdev.com/wp-content/uploads/2025/11/JAK0049-scaled-1-scaled.jpg
END:VEVENT
BEGIN:VEVENT
DTSTART;TZID=America/Vancouver:20260625T170000
DTEND;TZID=America/Vancouver:20260625T174500
DTSTAMP:20260421T064300
CREATED:20240911T172247Z
LAST-MODIFIED:20260221T003221Z
UID:10005322-1782406800-1782409500@blackrock-kadence.gotbdev.com
SUMMARY:Mezz: Kids Jiu Jitsu (6-9 Years Old)
DESCRIPTION:Enroll in Kids Jiu-Jitsu at Black Rock Martial Arts\, designed for ages 6-9! Our classes teach grappling techniques\, self-defense skills\, and body control while promoting confidence and discipline. Perfect for beginners and experienced kids in a fun\, supportive environment.
URL:https://blackrock-kadence.gotbdev.com/event/kids-no-gi-jiu-jitsu-6-11-3/2026-06-25/
CATEGORIES:Jiu Jitsu
ATTACH;FMTTYPE=image/jpeg:https://blackrock-kadence.gotbdev.com/wp-content/uploads/2025/11/JAK0049-scaled-1-scaled.jpg
END:VEVENT
BEGIN:VEVENT
DTSTART;TZID=America/Vancouver:20260626T170000
DTEND;TZID=America/Vancouver:20260626T174500
DTSTAMP:20260421T064300
CREATED:20241102T203622Z
LAST-MODIFIED:20260221T003046Z
UID:10009205-1782493200-1782495900@blackrock-kadence.gotbdev.com
SUMMARY:Mezz: Kids Kickboxing (Sparring)
DESCRIPTION:Get your kids moving with Kickboxing (Optional Sparring) at Black Rock for ages 7-11! This fun and engaging class builds confidence\, fitness\, and kickboxing skills in a safe\, controlled environment. With a focus on technique and controlled sparring\, kids will learn discipline while having a blast. Perfect for all levels!
URL:https://blackrock-kadence.gotbdev.com/event/kids-kickboxing-sparring-2/2026-06-26/
CATEGORIES:Kickboxing
ATTACH;FMTTYPE=image/jpeg:https://blackrock-kadence.gotbdev.com/wp-content/uploads/2024/09/kids-kickboxing-13.jpg
END:VEVENT
BEGIN:VEVENT
DTSTART;TZID=America/Vancouver:20260630T170000
DTEND;TZID=America/Vancouver:20260630T174500
DTSTAMP:20260421T064300
CREATED:20240911T172247Z
LAST-MODIFIED:20260221T003221Z
UID:10005323-1782838800-1782841500@blackrock-kadence.gotbdev.com
SUMMARY:Mezz: Kids Jiu Jitsu (6-9 Years Old)
DESCRIPTION:Enroll in Kids Jiu-Jitsu at Black Rock Martial Arts\, designed for ages 6-9! Our classes teach grappling techniques\, self-defense skills\, and body control while promoting confidence and discipline. Perfect for beginners and experienced kids in a fun\, supportive environment.
URL:https://blackrock-kadence.gotbdev.com/event/kids-no-gi-jiu-jitsu-6-11-3/2026-06-30/
CATEGORIES:Jiu Jitsu
ATTACH;FMTTYPE=image/jpeg:https://blackrock-kadence.gotbdev.com/wp-content/uploads/2025/11/JAK0049-scaled-1-scaled.jpg
END:VEVENT
BEGIN:VEVENT
DTSTART;TZID=America/Vancouver:20260702T170000
DTEND;TZID=America/Vancouver:20260702T174500
DTSTAMP:20260421T064300
CREATED:20240911T172247Z
LAST-MODIFIED:20260221T003221Z
UID:10005324-1783011600-1783014300@blackrock-kadence.gotbdev.com
SUMMARY:Mezz: Kids Jiu Jitsu (6-9 Years Old)
DESCRIPTION:Enroll in Kids Jiu-Jitsu at Black Rock Martial Arts\, designed for ages 6-9! Our classes teach grappling techniques\, self-defense skills\, and body control while promoting confidence and discipline. Perfect for beginners and experienced kids in a fun\, supportive environment.
URL:https://blackrock-kadence.gotbdev.com/event/kids-no-gi-jiu-jitsu-6-11-3/2026-07-02/
CATEGORIES:Jiu Jitsu
ATTACH;FMTTYPE=image/jpeg:https://blackrock-kadence.gotbdev.com/wp-content/uploads/2025/11/JAK0049-scaled-1-scaled.jpg
END:VEVENT
BEGIN:VEVENT
DTSTART;TZID=America/Vancouver:20260703T170000
DTEND;TZID=America/Vancouver:20260703T174500
DTSTAMP:20260421T064300
CREATED:20241102T203622Z
LAST-MODIFIED:20260221T003046Z
UID:10009206-1783098000-1783100700@blackrock-kadence.gotbdev.com
SUMMARY:Mezz: Kids Kickboxing (Sparring)
DESCRIPTION:Get your kids moving with Kickboxing (Optional Sparring) at Black Rock for ages 7-11! This fun and engaging class builds confidence\, fitness\, and kickboxing skills in a safe\, controlled environment. With a focus on technique and controlled sparring\, kids will learn discipline while having a blast. Perfect for all levels!
URL:https://blackrock-kadence.gotbdev.com/event/kids-kickboxing-sparring-2/2026-07-03/
CATEGORIES:Kickboxing
ATTACH;FMTTYPE=image/jpeg:https://blackrock-kadence.gotbdev.com/wp-content/uploads/2024/09/kids-kickboxing-13.jpg
END:VEVENT
BEGIN:VEVENT
DTSTART;TZID=America/Vancouver:20260707T170000
DTEND;TZID=America/Vancouver:20260707T174500
DTSTAMP:20260421T064300
CREATED:20240911T172247Z
LAST-MODIFIED:20260221T003221Z
UID:10005325-1783443600-1783446300@blackrock-kadence.gotbdev.com
SUMMARY:Mezz: Kids Jiu Jitsu (6-9 Years Old)
DESCRIPTION:Enroll in Kids Jiu-Jitsu at Black Rock Martial Arts\, designed for ages 6-9! Our classes teach grappling techniques\, self-defense skills\, and body control while promoting confidence and discipline. Perfect for beginners and experienced kids in a fun\, supportive environment.
URL:https://blackrock-kadence.gotbdev.com/event/kids-no-gi-jiu-jitsu-6-11-3/2026-07-07/
CATEGORIES:Jiu Jitsu
ATTACH;FMTTYPE=image/jpeg:https://blackrock-kadence.gotbdev.com/wp-content/uploads/2025/11/JAK0049-scaled-1-scaled.jpg
END:VEVENT
BEGIN:VEVENT
DTSTART;TZID=America/Vancouver:20260709T170000
DTEND;TZID=America/Vancouver:20260709T174500
DTSTAMP:20260421T064300
CREATED:20240911T172247Z
LAST-MODIFIED:20260221T003221Z
UID:10005326-1783616400-1783619100@blackrock-kadence.gotbdev.com
SUMMARY:Mezz: Kids Jiu Jitsu (6-9 Years Old)
DESCRIPTION:Enroll in Kids Jiu-Jitsu at Black Rock Martial Arts\, designed for ages 6-9! Our classes teach grappling techniques\, self-defense skills\, and body control while promoting confidence and discipline. Perfect for beginners and experienced kids in a fun\, supportive environment.
URL:https://blackrock-kadence.gotbdev.com/event/kids-no-gi-jiu-jitsu-6-11-3/2026-07-09/
CATEGORIES:Jiu Jitsu
ATTACH;FMTTYPE=image/jpeg:https://blackrock-kadence.gotbdev.com/wp-content/uploads/2025/11/JAK0049-scaled-1-scaled.jpg
END:VEVENT
BEGIN:VEVENT
DTSTART;TZID=America/Vancouver:20260710T170000
DTEND;TZID=America/Vancouver:20260710T174500
DTSTAMP:20260421T064300
CREATED:20241102T203622Z
LAST-MODIFIED:20260221T003046Z
UID:10009207-1783702800-1783705500@blackrock-kadence.gotbdev.com
SUMMARY:Mezz: Kids Kickboxing (Sparring)
DESCRIPTION:Get your kids moving with Kickboxing (Optional Sparring) at Black Rock for ages 7-11! This fun and engaging class builds confidence\, fitness\, and kickboxing skills in a safe\, controlled environment. With a focus on technique and controlled sparring\, kids will learn discipline while having a blast. Perfect for all levels!
URL:https://blackrock-kadence.gotbdev.com/event/kids-kickboxing-sparring-2/2026-07-10/
CATEGORIES:Kickboxing
ATTACH;FMTTYPE=image/jpeg:https://blackrock-kadence.gotbdev.com/wp-content/uploads/2024/09/kids-kickboxing-13.jpg
END:VEVENT
BEGIN:VEVENT
DTSTART;TZID=America/Vancouver:20260714T170000
DTEND;TZID=America/Vancouver:20260714T174500
DTSTAMP:20260421T064300
CREATED:20240911T172247Z
LAST-MODIFIED:20260221T003221Z
UID:10005327-1784048400-1784051100@blackrock-kadence.gotbdev.com
SUMMARY:Mezz: Kids Jiu Jitsu (6-9 Years Old)
DESCRIPTION:Enroll in Kids Jiu-Jitsu at Black Rock Martial Arts\, designed for ages 6-9! Our classes teach grappling techniques\, self-defense skills\, and body control while promoting confidence and discipline. Perfect for beginners and experienced kids in a fun\, supportive environment.
URL:https://blackrock-kadence.gotbdev.com/event/kids-no-gi-jiu-jitsu-6-11-3/2026-07-14/
CATEGORIES:Jiu Jitsu
ATTACH;FMTTYPE=image/jpeg:https://blackrock-kadence.gotbdev.com/wp-content/uploads/2025/11/JAK0049-scaled-1-scaled.jpg
END:VEVENT
BEGIN:VEVENT
DTSTART;TZID=America/Vancouver:20260716T170000
DTEND;TZID=America/Vancouver:20260716T174500
DTSTAMP:20260421T064300
CREATED:20240911T172247Z
LAST-MODIFIED:20260221T003221Z
UID:10005328-1784221200-1784223900@blackrock-kadence.gotbdev.com
SUMMARY:Mezz: Kids Jiu Jitsu (6-9 Years Old)
DESCRIPTION:Enroll in Kids Jiu-Jitsu at Black Rock Martial Arts\, designed for ages 6-9! Our classes teach grappling techniques\, self-defense skills\, and body control while promoting confidence and discipline. Perfect for beginners and experienced kids in a fun\, supportive environment.
URL:https://blackrock-kadence.gotbdev.com/event/kids-no-gi-jiu-jitsu-6-11-3/2026-07-16/
CATEGORIES:Jiu Jitsu
ATTACH;FMTTYPE=image/jpeg:https://blackrock-kadence.gotbdev.com/wp-content/uploads/2025/11/JAK0049-scaled-1-scaled.jpg
END:VEVENT
BEGIN:VEVENT
DTSTART;TZID=America/Vancouver:20260717T170000
DTEND;TZID=America/Vancouver:20260717T174500
DTSTAMP:20260421T064300
CREATED:20241102T203622Z
LAST-MODIFIED:20260221T003046Z
UID:10009208-1784307600-1784310300@blackrock-kadence.gotbdev.com
SUMMARY:Mezz: Kids Kickboxing (Sparring)
DESCRIPTION:Get your kids moving with Kickboxing (Optional Sparring) at Black Rock for ages 7-11! This fun and engaging class builds confidence\, fitness\, and kickboxing skills in a safe\, controlled environment. With a focus on technique and controlled sparring\, kids will learn discipline while having a blast. Perfect for all levels!
URL:https://blackrock-kadence.gotbdev.com/event/kids-kickboxing-sparring-2/2026-07-17/
CATEGORIES:Kickboxing
ATTACH;FMTTYPE=image/jpeg:https://blackrock-kadence.gotbdev.com/wp-content/uploads/2024/09/kids-kickboxing-13.jpg
END:VEVENT
BEGIN:VEVENT
DTSTART;TZID=America/Vancouver:20260721T170000
DTEND;TZID=America/Vancouver:20260721T174500
DTSTAMP:20260421T064300
CREATED:20240911T172247Z
LAST-MODIFIED:20260221T003221Z
UID:10005329-1784653200-1784655900@blackrock-kadence.gotbdev.com
SUMMARY:Mezz: Kids Jiu Jitsu (6-9 Years Old)
DESCRIPTION:Enroll in Kids Jiu-Jitsu at Black Rock Martial Arts\, designed for ages 6-9! Our classes teach grappling techniques\, self-defense skills\, and body control while promoting confidence and discipline. Perfect for beginners and experienced kids in a fun\, supportive environment.
URL:https://blackrock-kadence.gotbdev.com/event/kids-no-gi-jiu-jitsu-6-11-3/2026-07-21/
CATEGORIES:Jiu Jitsu
ATTACH;FMTTYPE=image/jpeg:https://blackrock-kadence.gotbdev.com/wp-content/uploads/2025/11/JAK0049-scaled-1-scaled.jpg
END:VEVENT
BEGIN:VEVENT
DTSTART;TZID=America/Vancouver:20260723T170000
DTEND;TZID=America/Vancouver:20260723T174500
DTSTAMP:20260421T064300
CREATED:20240911T172247Z
LAST-MODIFIED:20260221T003221Z
UID:10005330-1784826000-1784828700@blackrock-kadence.gotbdev.com
SUMMARY:Mezz: Kids Jiu Jitsu (6-9 Years Old)
DESCRIPTION:Enroll in Kids Jiu-Jitsu at Black Rock Martial Arts\, designed for ages 6-9! Our classes teach grappling techniques\, self-defense skills\, and body control while promoting confidence and discipline. Perfect for beginners and experienced kids in a fun\, supportive environment.
URL:https://blackrock-kadence.gotbdev.com/event/kids-no-gi-jiu-jitsu-6-11-3/2026-07-23/
CATEGORIES:Jiu Jitsu
ATTACH;FMTTYPE=image/jpeg:https://blackrock-kadence.gotbdev.com/wp-content/uploads/2025/11/JAK0049-scaled-1-scaled.jpg
END:VEVENT
BEGIN:VEVENT
DTSTART;TZID=America/Vancouver:20260724T170000
DTEND;TZID=America/Vancouver:20260724T174500
DTSTAMP:20260421T064300
CREATED:20241102T203622Z
LAST-MODIFIED:20260221T003046Z
UID:10009209-1784912400-1784915100@blackrock-kadence.gotbdev.com
SUMMARY:Mezz: Kids Kickboxing (Sparring)
DESCRIPTION:Get your kids moving with Kickboxing (Optional Sparring) at Black Rock for ages 7-11! This fun and engaging class builds confidence\, fitness\, and kickboxing skills in a safe\, controlled environment. With a focus on technique and controlled sparring\, kids will learn discipline while having a blast. Perfect for all levels!
URL:https://blackrock-kadence.gotbdev.com/event/kids-kickboxing-sparring-2/2026-07-24/
CATEGORIES:Kickboxing
ATTACH;FMTTYPE=image/jpeg:https://blackrock-kadence.gotbdev.com/wp-content/uploads/2024/09/kids-kickboxing-13.jpg
END:VEVENT
END:VCALENDAR