BEGIN:VCALENDAR
VERSION:2.0
PRODID:-// - ECPv6.15.20//NONSGML v1.0//EN
CALSCALE:GREGORIAN
METHOD:PUBLISH
X-ORIGINAL-URL:https://blackrock-kadence.gotbdev.com
X-WR-CALDESC:Events for 
REFRESH-INTERVAL;VALUE=DURATION:PT1H
X-Robots-Tag:noindex
X-PUBLISHED-TTL:PT1H
BEGIN:VTIMEZONE
TZID:America/Vancouver
BEGIN:DAYLIGHT
TZOFFSETFROM:-0800
TZOFFSETTO:-0700
TZNAME:PDT
DTSTART:20250309T100000
END:DAYLIGHT
BEGIN:STANDARD
TZOFFSETFROM:-0700
TZOFFSETTO:-0800
TZNAME:PST
DTSTART:20251102T090000
END:STANDARD
BEGIN:DAYLIGHT
TZOFFSETFROM:-0800
TZOFFSETTO:-0700
TZNAME:PDT
DTSTART:20260308T100000
END:DAYLIGHT
BEGIN:STANDARD
TZOFFSETFROM:-0700
TZOFFSETTO:-0800
TZNAME:PST
DTSTART:20261101T090000
END:STANDARD
BEGIN:DAYLIGHT
TZOFFSETFROM:-0800
TZOFFSETTO:-0700
TZNAME:PDT
DTSTART:20270314T100000
END:DAYLIGHT
BEGIN:STANDARD
TZOFFSETFROM:-0700
TZOFFSETTO:-0800
TZNAME:PST
DTSTART:20271107T090000
END:STANDARD
END:VTIMEZONE
BEGIN:VEVENT
DTSTART;TZID=America/Vancouver:20260804T161500
DTEND;TZID=America/Vancouver:20260804T170000
DTSTAMP:20260421T114026
CREATED:20241218T073516Z
LAST-MODIFIED:20260221T002751Z
UID:10012187-1785860100-1785862800@blackrock-kadence.gotbdev.com
SUMMARY:Kids Kickboxing (7-11 Years Old)
DESCRIPTION:Join Kids Kickboxing at Black Rock Martial Arts\, specially designed for ages 7-11! Our high-energy classes focus on teaching essential self-defense techniques\, fitness\, and coordination skills\, all while building confidence\, discipline\, and respect. Kids will learn proper striking\, footwork\, and defensive moves in a fun\, engaging atmosphere that keeps them active and motivated. With experienced instructors and a supportive community\, children develop new skills\, make friends\, and enjoy a healthy outlet for their energy in a safe\, positive environment. Perfect for all experience levels\, our classes promote growth\, teamwork\, and a love for martial arts.
URL:https://blackrock-kadence.gotbdev.com/event/kids-kickboxing-2-2-2-2-2/2026-08-04/
CATEGORIES:Kickboxing
ATTACH;FMTTYPE=image/jpeg:https://blackrock-kadence.gotbdev.com/wp-content/uploads/2025/11/View-recent-photos.jpeg
END:VEVENT
BEGIN:VEVENT
DTSTART;TZID=America/Vancouver:20260806T161500
DTEND;TZID=America/Vancouver:20260806T170000
DTSTAMP:20260421T114026
CREATED:20241218T073516Z
LAST-MODIFIED:20260221T002751Z
UID:10012188-1786032900-1786035600@blackrock-kadence.gotbdev.com
SUMMARY:Kids Kickboxing (7-11 Years Old)
DESCRIPTION:Join Kids Kickboxing at Black Rock Martial Arts\, specially designed for ages 7-11! Our high-energy classes focus on teaching essential self-defense techniques\, fitness\, and coordination skills\, all while building confidence\, discipline\, and respect. Kids will learn proper striking\, footwork\, and defensive moves in a fun\, engaging atmosphere that keeps them active and motivated. With experienced instructors and a supportive community\, children develop new skills\, make friends\, and enjoy a healthy outlet for their energy in a safe\, positive environment. Perfect for all experience levels\, our classes promote growth\, teamwork\, and a love for martial arts.
URL:https://blackrock-kadence.gotbdev.com/event/kids-kickboxing-2-2-2-2-2/2026-08-06/
CATEGORIES:Kickboxing
ATTACH;FMTTYPE=image/jpeg:https://blackrock-kadence.gotbdev.com/wp-content/uploads/2025/11/View-recent-photos.jpeg
END:VEVENT
BEGIN:VEVENT
DTSTART;TZID=America/Vancouver:20260811T161500
DTEND;TZID=America/Vancouver:20260811T170000
DTSTAMP:20260421T114026
CREATED:20241218T073516Z
LAST-MODIFIED:20260221T002751Z
UID:10012189-1786464900-1786467600@blackrock-kadence.gotbdev.com
SUMMARY:Kids Kickboxing (7-11 Years Old)
DESCRIPTION:Join Kids Kickboxing at Black Rock Martial Arts\, specially designed for ages 7-11! Our high-energy classes focus on teaching essential self-defense techniques\, fitness\, and coordination skills\, all while building confidence\, discipline\, and respect. Kids will learn proper striking\, footwork\, and defensive moves in a fun\, engaging atmosphere that keeps them active and motivated. With experienced instructors and a supportive community\, children develop new skills\, make friends\, and enjoy a healthy outlet for their energy in a safe\, positive environment. Perfect for all experience levels\, our classes promote growth\, teamwork\, and a love for martial arts.
URL:https://blackrock-kadence.gotbdev.com/event/kids-kickboxing-2-2-2-2-2/2026-08-11/
CATEGORIES:Kickboxing
ATTACH;FMTTYPE=image/jpeg:https://blackrock-kadence.gotbdev.com/wp-content/uploads/2025/11/View-recent-photos.jpeg
END:VEVENT
BEGIN:VEVENT
DTSTART;TZID=America/Vancouver:20260813T161500
DTEND;TZID=America/Vancouver:20260813T170000
DTSTAMP:20260421T114026
CREATED:20241218T073516Z
LAST-MODIFIED:20260221T002751Z
UID:10012190-1786637700-1786640400@blackrock-kadence.gotbdev.com
SUMMARY:Kids Kickboxing (7-11 Years Old)
DESCRIPTION:Join Kids Kickboxing at Black Rock Martial Arts\, specially designed for ages 7-11! Our high-energy classes focus on teaching essential self-defense techniques\, fitness\, and coordination skills\, all while building confidence\, discipline\, and respect. Kids will learn proper striking\, footwork\, and defensive moves in a fun\, engaging atmosphere that keeps them active and motivated. With experienced instructors and a supportive community\, children develop new skills\, make friends\, and enjoy a healthy outlet for their energy in a safe\, positive environment. Perfect for all experience levels\, our classes promote growth\, teamwork\, and a love for martial arts.
URL:https://blackrock-kadence.gotbdev.com/event/kids-kickboxing-2-2-2-2-2/2026-08-13/
CATEGORIES:Kickboxing
ATTACH;FMTTYPE=image/jpeg:https://blackrock-kadence.gotbdev.com/wp-content/uploads/2025/11/View-recent-photos.jpeg
END:VEVENT
BEGIN:VEVENT
DTSTART;TZID=America/Vancouver:20260818T161500
DTEND;TZID=America/Vancouver:20260818T170000
DTSTAMP:20260421T114026
CREATED:20241218T073516Z
LAST-MODIFIED:20260221T002751Z
UID:10012191-1787069700-1787072400@blackrock-kadence.gotbdev.com
SUMMARY:Kids Kickboxing (7-11 Years Old)
DESCRIPTION:Join Kids Kickboxing at Black Rock Martial Arts\, specially designed for ages 7-11! Our high-energy classes focus on teaching essential self-defense techniques\, fitness\, and coordination skills\, all while building confidence\, discipline\, and respect. Kids will learn proper striking\, footwork\, and defensive moves in a fun\, engaging atmosphere that keeps them active and motivated. With experienced instructors and a supportive community\, children develop new skills\, make friends\, and enjoy a healthy outlet for their energy in a safe\, positive environment. Perfect for all experience levels\, our classes promote growth\, teamwork\, and a love for martial arts.
URL:https://blackrock-kadence.gotbdev.com/event/kids-kickboxing-2-2-2-2-2/2026-08-18/
CATEGORIES:Kickboxing
ATTACH;FMTTYPE=image/jpeg:https://blackrock-kadence.gotbdev.com/wp-content/uploads/2025/11/View-recent-photos.jpeg
END:VEVENT
BEGIN:VEVENT
DTSTART;TZID=America/Vancouver:20260820T161500
DTEND;TZID=America/Vancouver:20260820T170000
DTSTAMP:20260421T114026
CREATED:20241218T073516Z
LAST-MODIFIED:20260221T002751Z
UID:10012192-1787242500-1787245200@blackrock-kadence.gotbdev.com
SUMMARY:Kids Kickboxing (7-11 Years Old)
DESCRIPTION:Join Kids Kickboxing at Black Rock Martial Arts\, specially designed for ages 7-11! Our high-energy classes focus on teaching essential self-defense techniques\, fitness\, and coordination skills\, all while building confidence\, discipline\, and respect. Kids will learn proper striking\, footwork\, and defensive moves in a fun\, engaging atmosphere that keeps them active and motivated. With experienced instructors and a supportive community\, children develop new skills\, make friends\, and enjoy a healthy outlet for their energy in a safe\, positive environment. Perfect for all experience levels\, our classes promote growth\, teamwork\, and a love for martial arts.
URL:https://blackrock-kadence.gotbdev.com/event/kids-kickboxing-2-2-2-2-2/2026-08-20/
CATEGORIES:Kickboxing
ATTACH;FMTTYPE=image/jpeg:https://blackrock-kadence.gotbdev.com/wp-content/uploads/2025/11/View-recent-photos.jpeg
END:VEVENT
BEGIN:VEVENT
DTSTART;TZID=America/Vancouver:20260825T161500
DTEND;TZID=America/Vancouver:20260825T170000
DTSTAMP:20260421T114026
CREATED:20241218T073516Z
LAST-MODIFIED:20260221T002751Z
UID:10012193-1787674500-1787677200@blackrock-kadence.gotbdev.com
SUMMARY:Kids Kickboxing (7-11 Years Old)
DESCRIPTION:Join Kids Kickboxing at Black Rock Martial Arts\, specially designed for ages 7-11! Our high-energy classes focus on teaching essential self-defense techniques\, fitness\, and coordination skills\, all while building confidence\, discipline\, and respect. Kids will learn proper striking\, footwork\, and defensive moves in a fun\, engaging atmosphere that keeps them active and motivated. With experienced instructors and a supportive community\, children develop new skills\, make friends\, and enjoy a healthy outlet for their energy in a safe\, positive environment. Perfect for all experience levels\, our classes promote growth\, teamwork\, and a love for martial arts.
URL:https://blackrock-kadence.gotbdev.com/event/kids-kickboxing-2-2-2-2-2/2026-08-25/
CATEGORIES:Kickboxing
ATTACH;FMTTYPE=image/jpeg:https://blackrock-kadence.gotbdev.com/wp-content/uploads/2025/11/View-recent-photos.jpeg
END:VEVENT
BEGIN:VEVENT
DTSTART;TZID=America/Vancouver:20260827T161500
DTEND;TZID=America/Vancouver:20260827T170000
DTSTAMP:20260421T114026
CREATED:20241218T073516Z
LAST-MODIFIED:20260221T002751Z
UID:10012194-1787847300-1787850000@blackrock-kadence.gotbdev.com
SUMMARY:Kids Kickboxing (7-11 Years Old)
DESCRIPTION:Join Kids Kickboxing at Black Rock Martial Arts\, specially designed for ages 7-11! Our high-energy classes focus on teaching essential self-defense techniques\, fitness\, and coordination skills\, all while building confidence\, discipline\, and respect. Kids will learn proper striking\, footwork\, and defensive moves in a fun\, engaging atmosphere that keeps them active and motivated. With experienced instructors and a supportive community\, children develop new skills\, make friends\, and enjoy a healthy outlet for their energy in a safe\, positive environment. Perfect for all experience levels\, our classes promote growth\, teamwork\, and a love for martial arts.
URL:https://blackrock-kadence.gotbdev.com/event/kids-kickboxing-2-2-2-2-2/2026-08-27/
CATEGORIES:Kickboxing
ATTACH;FMTTYPE=image/jpeg:https://blackrock-kadence.gotbdev.com/wp-content/uploads/2025/11/View-recent-photos.jpeg
END:VEVENT
END:VCALENDAR