BEGIN:VCALENDAR
VERSION:2.0
PRODID:-// - ECPv6.15.20//NONSGML v1.0//EN
CALSCALE:GREGORIAN
METHOD:PUBLISH
X-ORIGINAL-URL:https://blackrock-kadence.gotbdev.com
X-WR-CALDESC:Events for 
REFRESH-INTERVAL;VALUE=DURATION:PT1H
X-Robots-Tag:noindex
X-PUBLISHED-TTL:PT1H
BEGIN:VTIMEZONE
TZID:America/Vancouver
BEGIN:DAYLIGHT
TZOFFSETFROM:-0800
TZOFFSETTO:-0700
TZNAME:PDT
DTSTART:20240310T100000
END:DAYLIGHT
BEGIN:STANDARD
TZOFFSETFROM:-0700
TZOFFSETTO:-0800
TZNAME:PST
DTSTART:20241103T090000
END:STANDARD
BEGIN:DAYLIGHT
TZOFFSETFROM:-0800
TZOFFSETTO:-0700
TZNAME:PDT
DTSTART:20250309T100000
END:DAYLIGHT
BEGIN:STANDARD
TZOFFSETFROM:-0700
TZOFFSETTO:-0800
TZNAME:PST
DTSTART:20251102T090000
END:STANDARD
BEGIN:DAYLIGHT
TZOFFSETFROM:-0800
TZOFFSETTO:-0700
TZNAME:PDT
DTSTART:20260308T100000
END:DAYLIGHT
BEGIN:STANDARD
TZOFFSETFROM:-0700
TZOFFSETTO:-0800
TZNAME:PST
DTSTART:20261101T090000
END:STANDARD
END:VTIMEZONE
BEGIN:VEVENT
DTSTART;TZID=America/Vancouver:20251103T161500
DTEND;TZID=America/Vancouver:20251103T170000
DTSTAMP:20260421T164157
CREATED:20241218T061033Z
LAST-MODIFIED:20260221T003420Z
UID:10009863-1762186500-1762189200@blackrock-kadence.gotbdev.com
SUMMARY:Kids Taekwondo (8-12 Years Old)
DESCRIPTION:Enroll in Kids Intermediate Taekwondo at Black Rock Martial Arts\, designed for ages 8-12! Our classes help kids refine their techniques\, build strength\, and improve focus while advancing their Taekwondo skills. Perfect for those with some experience\, these sessions offer a fun\, motivating environment for growth.
URL:https://blackrock-kadence.gotbdev.com/event/kids-taekwondo-8-12-years-old-2-2/2025-11-03/
CATEGORIES:Taekwondo
ATTACH;FMTTYPE=image/jpeg:https://blackrock-kadence.gotbdev.com/wp-content/uploads/2024/09/kids-kickboxing-2.jpg
END:VEVENT
BEGIN:VEVENT
DTSTART;TZID=America/Vancouver:20251105T161500
DTEND;TZID=America/Vancouver:20251105T170000
DTSTAMP:20260421T164157
CREATED:20241218T061033Z
LAST-MODIFIED:20260221T003420Z
UID:10009864-1762359300-1762362000@blackrock-kadence.gotbdev.com
SUMMARY:Kids Taekwondo (8-12 Years Old)
DESCRIPTION:Enroll in Kids Intermediate Taekwondo at Black Rock Martial Arts\, designed for ages 8-12! Our classes help kids refine their techniques\, build strength\, and improve focus while advancing their Taekwondo skills. Perfect for those with some experience\, these sessions offer a fun\, motivating environment for growth.
URL:https://blackrock-kadence.gotbdev.com/event/kids-taekwondo-8-12-years-old-2-2/2025-11-05/
CATEGORIES:Taekwondo
ATTACH;FMTTYPE=image/jpeg:https://blackrock-kadence.gotbdev.com/wp-content/uploads/2024/09/kids-kickboxing-2.jpg
END:VEVENT
BEGIN:VEVENT
DTSTART;TZID=America/Vancouver:20251110T161500
DTEND;TZID=America/Vancouver:20251110T170000
DTSTAMP:20260421T164157
CREATED:20241218T061033Z
LAST-MODIFIED:20260221T003420Z
UID:10009865-1762791300-1762794000@blackrock-kadence.gotbdev.com
SUMMARY:Kids Taekwondo (8-12 Years Old)
DESCRIPTION:Enroll in Kids Intermediate Taekwondo at Black Rock Martial Arts\, designed for ages 8-12! Our classes help kids refine their techniques\, build strength\, and improve focus while advancing their Taekwondo skills. Perfect for those with some experience\, these sessions offer a fun\, motivating environment for growth.
URL:https://blackrock-kadence.gotbdev.com/event/kids-taekwondo-8-12-years-old-2-2/2025-11-10/
CATEGORIES:Taekwondo
ATTACH;FMTTYPE=image/jpeg:https://blackrock-kadence.gotbdev.com/wp-content/uploads/2024/09/kids-kickboxing-2.jpg
END:VEVENT
BEGIN:VEVENT
DTSTART;TZID=America/Vancouver:20251112T161500
DTEND;TZID=America/Vancouver:20251112T170000
DTSTAMP:20260421T164157
CREATED:20241218T061033Z
LAST-MODIFIED:20260221T003420Z
UID:10009866-1762964100-1762966800@blackrock-kadence.gotbdev.com
SUMMARY:Kids Taekwondo (8-12 Years Old)
DESCRIPTION:Enroll in Kids Intermediate Taekwondo at Black Rock Martial Arts\, designed for ages 8-12! Our classes help kids refine their techniques\, build strength\, and improve focus while advancing their Taekwondo skills. Perfect for those with some experience\, these sessions offer a fun\, motivating environment for growth.
URL:https://blackrock-kadence.gotbdev.com/event/kids-taekwondo-8-12-years-old-2-2/2025-11-12/
CATEGORIES:Taekwondo
ATTACH;FMTTYPE=image/jpeg:https://blackrock-kadence.gotbdev.com/wp-content/uploads/2024/09/kids-kickboxing-2.jpg
END:VEVENT
BEGIN:VEVENT
DTSTART;TZID=America/Vancouver:20251117T161500
DTEND;TZID=America/Vancouver:20251117T170000
DTSTAMP:20260421T164157
CREATED:20241218T061033Z
LAST-MODIFIED:20260221T003420Z
UID:10009867-1763396100-1763398800@blackrock-kadence.gotbdev.com
SUMMARY:Kids Taekwondo (8-12 Years Old)
DESCRIPTION:Enroll in Kids Intermediate Taekwondo at Black Rock Martial Arts\, designed for ages 8-12! Our classes help kids refine their techniques\, build strength\, and improve focus while advancing their Taekwondo skills. Perfect for those with some experience\, these sessions offer a fun\, motivating environment for growth.
URL:https://blackrock-kadence.gotbdev.com/event/kids-taekwondo-8-12-years-old-2-2/2025-11-17/
CATEGORIES:Taekwondo
ATTACH;FMTTYPE=image/jpeg:https://blackrock-kadence.gotbdev.com/wp-content/uploads/2024/09/kids-kickboxing-2.jpg
END:VEVENT
BEGIN:VEVENT
DTSTART;TZID=America/Vancouver:20251119T161500
DTEND;TZID=America/Vancouver:20251119T170000
DTSTAMP:20260421T164157
CREATED:20241218T061033Z
LAST-MODIFIED:20260221T003420Z
UID:10009868-1763568900-1763571600@blackrock-kadence.gotbdev.com
SUMMARY:Kids Taekwondo (8-12 Years Old)
DESCRIPTION:Enroll in Kids Intermediate Taekwondo at Black Rock Martial Arts\, designed for ages 8-12! Our classes help kids refine their techniques\, build strength\, and improve focus while advancing their Taekwondo skills. Perfect for those with some experience\, these sessions offer a fun\, motivating environment for growth.
URL:https://blackrock-kadence.gotbdev.com/event/kids-taekwondo-8-12-years-old-2-2/2025-11-19/
CATEGORIES:Taekwondo
ATTACH;FMTTYPE=image/jpeg:https://blackrock-kadence.gotbdev.com/wp-content/uploads/2024/09/kids-kickboxing-2.jpg
END:VEVENT
BEGIN:VEVENT
DTSTART;TZID=America/Vancouver:20251124T161500
DTEND;TZID=America/Vancouver:20251124T170000
DTSTAMP:20260421T164157
CREATED:20241218T061033Z
LAST-MODIFIED:20260221T003420Z
UID:10009869-1764000900-1764003600@blackrock-kadence.gotbdev.com
SUMMARY:Kids Taekwondo (8-12 Years Old)
DESCRIPTION:Enroll in Kids Intermediate Taekwondo at Black Rock Martial Arts\, designed for ages 8-12! Our classes help kids refine their techniques\, build strength\, and improve focus while advancing their Taekwondo skills. Perfect for those with some experience\, these sessions offer a fun\, motivating environment for growth.
URL:https://blackrock-kadence.gotbdev.com/event/kids-taekwondo-8-12-years-old-2-2/2025-11-24/
CATEGORIES:Taekwondo
ATTACH;FMTTYPE=image/jpeg:https://blackrock-kadence.gotbdev.com/wp-content/uploads/2024/09/kids-kickboxing-2.jpg
END:VEVENT
BEGIN:VEVENT
DTSTART;TZID=America/Vancouver:20251126T161500
DTEND;TZID=America/Vancouver:20251126T170000
DTSTAMP:20260421T164157
CREATED:20241218T061033Z
LAST-MODIFIED:20260221T003420Z
UID:10009870-1764173700-1764176400@blackrock-kadence.gotbdev.com
SUMMARY:Kids Taekwondo (8-12 Years Old)
DESCRIPTION:Enroll in Kids Intermediate Taekwondo at Black Rock Martial Arts\, designed for ages 8-12! Our classes help kids refine their techniques\, build strength\, and improve focus while advancing their Taekwondo skills. Perfect for those with some experience\, these sessions offer a fun\, motivating environment for growth.
URL:https://blackrock-kadence.gotbdev.com/event/kids-taekwondo-8-12-years-old-2-2/2025-11-26/
CATEGORIES:Taekwondo
ATTACH;FMTTYPE=image/jpeg:https://blackrock-kadence.gotbdev.com/wp-content/uploads/2024/09/kids-kickboxing-2.jpg
END:VEVENT
END:VCALENDAR