BEGIN:VCALENDAR
VERSION:2.0
PRODID:-// - ECPv6.15.20//NONSGML v1.0//EN
CALSCALE:GREGORIAN
METHOD:PUBLISH
X-ORIGINAL-URL:https://blackrock-kadence.gotbdev.com
X-WR-CALDESC:Events for 
REFRESH-INTERVAL;VALUE=DURATION:PT1H
X-Robots-Tag:noindex
X-PUBLISHED-TTL:PT1H
BEGIN:VTIMEZONE
TZID:America/Vancouver
BEGIN:DAYLIGHT
TZOFFSETFROM:-0800
TZOFFSETTO:-0700
TZNAME:PDT
DTSTART:20250309T100000
END:DAYLIGHT
BEGIN:STANDARD
TZOFFSETFROM:-0700
TZOFFSETTO:-0800
TZNAME:PST
DTSTART:20251102T090000
END:STANDARD
BEGIN:DAYLIGHT
TZOFFSETFROM:-0800
TZOFFSETTO:-0700
TZNAME:PDT
DTSTART:20260308T100000
END:DAYLIGHT
BEGIN:STANDARD
TZOFFSETFROM:-0700
TZOFFSETTO:-0800
TZNAME:PST
DTSTART:20261101T090000
END:STANDARD
BEGIN:DAYLIGHT
TZOFFSETFROM:-0800
TZOFFSETTO:-0700
TZNAME:PDT
DTSTART:20270314T100000
END:DAYLIGHT
BEGIN:STANDARD
TZOFFSETFROM:-0700
TZOFFSETTO:-0800
TZNAME:PST
DTSTART:20271107T090000
END:STANDARD
END:VTIMEZONE
BEGIN:VEVENT
DTSTART;TZID=America/Vancouver:20261002T200000
DTEND;TZID=America/Vancouver:20261002T213000
DTSTAMP:20260421T151959
CREATED:20250705T173710Z
LAST-MODIFIED:20260221T002621Z
UID:10016478-1790971200-1790976600@blackrock-kadence.gotbdev.com
SUMMARY:Adult MMA (Mixed Martial Arts)
DESCRIPTION:Join our exclusive\, Adult MMA (Mixed Martial Arts) program at Black Rock Martial Arts! Designed for serious practitioners\, these intense sessions focus on sparring\, grappling\, and advanced MMA techniques. Experience a challenging environment that pushes your limits and hones your striking\, clinch\, and ground skills. Our experienced coaches provide personalized guidance\, ensuring that every participant improves their strategy\, stamina\, and performance. Perfect for those looking to compete or elevate their training to the next level. Join a dedicated group of fighters committed to excellence.
URL:https://blackrock-kadence.gotbdev.com/event/adult-mma-mixed-martial-arts-invite-only-2/2026-10-02/
CATEGORIES:MMA
ATTACH;FMTTYPE=image/jpeg:https://blackrock-kadence.gotbdev.com/wp-content/uploads/2025/11/WPA05634-scaled-1-scaled.jpg
END:VEVENT
BEGIN:VEVENT
DTSTART;TZID=America/Vancouver:20261005T200000
DTEND;TZID=America/Vancouver:20261005T213000
DTSTAMP:20260421T151959
CREATED:20250705T173710Z
LAST-MODIFIED:20260221T002621Z
UID:10016479-1791230400-1791235800@blackrock-kadence.gotbdev.com
SUMMARY:Adult MMA (Mixed Martial Arts)
DESCRIPTION:Join our exclusive\, Adult MMA (Mixed Martial Arts) program at Black Rock Martial Arts! Designed for serious practitioners\, these intense sessions focus on sparring\, grappling\, and advanced MMA techniques. Experience a challenging environment that pushes your limits and hones your striking\, clinch\, and ground skills. Our experienced coaches provide personalized guidance\, ensuring that every participant improves their strategy\, stamina\, and performance. Perfect for those looking to compete or elevate their training to the next level. Join a dedicated group of fighters committed to excellence.
URL:https://blackrock-kadence.gotbdev.com/event/adult-mma-mixed-martial-arts-invite-only-2/2026-10-05/
CATEGORIES:MMA
ATTACH;FMTTYPE=image/jpeg:https://blackrock-kadence.gotbdev.com/wp-content/uploads/2025/11/WPA05634-scaled-1-scaled.jpg
END:VEVENT
BEGIN:VEVENT
DTSTART;TZID=America/Vancouver:20261007T200000
DTEND;TZID=America/Vancouver:20261007T213000
DTSTAMP:20260421T151959
CREATED:20250705T173710Z
LAST-MODIFIED:20260221T002621Z
UID:10016480-1791403200-1791408600@blackrock-kadence.gotbdev.com
SUMMARY:Adult MMA (Mixed Martial Arts)
DESCRIPTION:Join our exclusive\, Adult MMA (Mixed Martial Arts) program at Black Rock Martial Arts! Designed for serious practitioners\, these intense sessions focus on sparring\, grappling\, and advanced MMA techniques. Experience a challenging environment that pushes your limits and hones your striking\, clinch\, and ground skills. Our experienced coaches provide personalized guidance\, ensuring that every participant improves their strategy\, stamina\, and performance. Perfect for those looking to compete or elevate their training to the next level. Join a dedicated group of fighters committed to excellence.
URL:https://blackrock-kadence.gotbdev.com/event/adult-mma-mixed-martial-arts-invite-only-2/2026-10-07/
CATEGORIES:MMA
ATTACH;FMTTYPE=image/jpeg:https://blackrock-kadence.gotbdev.com/wp-content/uploads/2025/11/WPA05634-scaled-1-scaled.jpg
END:VEVENT
BEGIN:VEVENT
DTSTART;TZID=America/Vancouver:20261009T200000
DTEND;TZID=America/Vancouver:20261009T213000
DTSTAMP:20260421T151959
CREATED:20250705T173710Z
LAST-MODIFIED:20260221T002621Z
UID:10016481-1791576000-1791581400@blackrock-kadence.gotbdev.com
SUMMARY:Adult MMA (Mixed Martial Arts)
DESCRIPTION:Join our exclusive\, Adult MMA (Mixed Martial Arts) program at Black Rock Martial Arts! Designed for serious practitioners\, these intense sessions focus on sparring\, grappling\, and advanced MMA techniques. Experience a challenging environment that pushes your limits and hones your striking\, clinch\, and ground skills. Our experienced coaches provide personalized guidance\, ensuring that every participant improves their strategy\, stamina\, and performance. Perfect for those looking to compete or elevate their training to the next level. Join a dedicated group of fighters committed to excellence.
URL:https://blackrock-kadence.gotbdev.com/event/adult-mma-mixed-martial-arts-invite-only-2/2026-10-09/
CATEGORIES:MMA
ATTACH;FMTTYPE=image/jpeg:https://blackrock-kadence.gotbdev.com/wp-content/uploads/2025/11/WPA05634-scaled-1-scaled.jpg
END:VEVENT
BEGIN:VEVENT
DTSTART;TZID=America/Vancouver:20261012T200000
DTEND;TZID=America/Vancouver:20261012T213000
DTSTAMP:20260421T151959
CREATED:20250705T173710Z
LAST-MODIFIED:20260221T002621Z
UID:10016482-1791835200-1791840600@blackrock-kadence.gotbdev.com
SUMMARY:Adult MMA (Mixed Martial Arts)
DESCRIPTION:Join our exclusive\, Adult MMA (Mixed Martial Arts) program at Black Rock Martial Arts! Designed for serious practitioners\, these intense sessions focus on sparring\, grappling\, and advanced MMA techniques. Experience a challenging environment that pushes your limits and hones your striking\, clinch\, and ground skills. Our experienced coaches provide personalized guidance\, ensuring that every participant improves their strategy\, stamina\, and performance. Perfect for those looking to compete or elevate their training to the next level. Join a dedicated group of fighters committed to excellence.
URL:https://blackrock-kadence.gotbdev.com/event/adult-mma-mixed-martial-arts-invite-only-2/2026-10-12/
CATEGORIES:MMA
ATTACH;FMTTYPE=image/jpeg:https://blackrock-kadence.gotbdev.com/wp-content/uploads/2025/11/WPA05634-scaled-1-scaled.jpg
END:VEVENT
BEGIN:VEVENT
DTSTART;TZID=America/Vancouver:20261014T200000
DTEND;TZID=America/Vancouver:20261014T213000
DTSTAMP:20260421T152000
CREATED:20250705T173710Z
LAST-MODIFIED:20260221T002621Z
UID:10016483-1792008000-1792013400@blackrock-kadence.gotbdev.com
SUMMARY:Adult MMA (Mixed Martial Arts)
DESCRIPTION:Join our exclusive\, Adult MMA (Mixed Martial Arts) program at Black Rock Martial Arts! Designed for serious practitioners\, these intense sessions focus on sparring\, grappling\, and advanced MMA techniques. Experience a challenging environment that pushes your limits and hones your striking\, clinch\, and ground skills. Our experienced coaches provide personalized guidance\, ensuring that every participant improves their strategy\, stamina\, and performance. Perfect for those looking to compete or elevate their training to the next level. Join a dedicated group of fighters committed to excellence.
URL:https://blackrock-kadence.gotbdev.com/event/adult-mma-mixed-martial-arts-invite-only-2/2026-10-14/
CATEGORIES:MMA
ATTACH;FMTTYPE=image/jpeg:https://blackrock-kadence.gotbdev.com/wp-content/uploads/2025/11/WPA05634-scaled-1-scaled.jpg
END:VEVENT
BEGIN:VEVENT
DTSTART;TZID=America/Vancouver:20261016T200000
DTEND;TZID=America/Vancouver:20261016T213000
DTSTAMP:20260421T152000
CREATED:20250705T173710Z
LAST-MODIFIED:20260221T002621Z
UID:10016484-1792180800-1792186200@blackrock-kadence.gotbdev.com
SUMMARY:Adult MMA (Mixed Martial Arts)
DESCRIPTION:Join our exclusive\, Adult MMA (Mixed Martial Arts) program at Black Rock Martial Arts! Designed for serious practitioners\, these intense sessions focus on sparring\, grappling\, and advanced MMA techniques. Experience a challenging environment that pushes your limits and hones your striking\, clinch\, and ground skills. Our experienced coaches provide personalized guidance\, ensuring that every participant improves their strategy\, stamina\, and performance. Perfect for those looking to compete or elevate their training to the next level. Join a dedicated group of fighters committed to excellence.
URL:https://blackrock-kadence.gotbdev.com/event/adult-mma-mixed-martial-arts-invite-only-2/2026-10-16/
CATEGORIES:MMA
ATTACH;FMTTYPE=image/jpeg:https://blackrock-kadence.gotbdev.com/wp-content/uploads/2025/11/WPA05634-scaled-1-scaled.jpg
END:VEVENT
BEGIN:VEVENT
DTSTART;TZID=America/Vancouver:20261019T200000
DTEND;TZID=America/Vancouver:20261019T213000
DTSTAMP:20260421T152000
CREATED:20250705T173710Z
LAST-MODIFIED:20260221T002621Z
UID:10016485-1792440000-1792445400@blackrock-kadence.gotbdev.com
SUMMARY:Adult MMA (Mixed Martial Arts)
DESCRIPTION:Join our exclusive\, Adult MMA (Mixed Martial Arts) program at Black Rock Martial Arts! Designed for serious practitioners\, these intense sessions focus on sparring\, grappling\, and advanced MMA techniques. Experience a challenging environment that pushes your limits and hones your striking\, clinch\, and ground skills. Our experienced coaches provide personalized guidance\, ensuring that every participant improves their strategy\, stamina\, and performance. Perfect for those looking to compete or elevate their training to the next level. Join a dedicated group of fighters committed to excellence.
URL:https://blackrock-kadence.gotbdev.com/event/adult-mma-mixed-martial-arts-invite-only-2/2026-10-19/
CATEGORIES:MMA
ATTACH;FMTTYPE=image/jpeg:https://blackrock-kadence.gotbdev.com/wp-content/uploads/2025/11/WPA05634-scaled-1-scaled.jpg
END:VEVENT
BEGIN:VEVENT
DTSTART;TZID=America/Vancouver:20261021T200000
DTEND;TZID=America/Vancouver:20261021T213000
DTSTAMP:20260421T152000
CREATED:20250705T173710Z
LAST-MODIFIED:20260221T002621Z
UID:10016486-1792612800-1792618200@blackrock-kadence.gotbdev.com
SUMMARY:Adult MMA (Mixed Martial Arts)
DESCRIPTION:Join our exclusive\, Adult MMA (Mixed Martial Arts) program at Black Rock Martial Arts! Designed for serious practitioners\, these intense sessions focus on sparring\, grappling\, and advanced MMA techniques. Experience a challenging environment that pushes your limits and hones your striking\, clinch\, and ground skills. Our experienced coaches provide personalized guidance\, ensuring that every participant improves their strategy\, stamina\, and performance. Perfect for those looking to compete or elevate their training to the next level. Join a dedicated group of fighters committed to excellence.
URL:https://blackrock-kadence.gotbdev.com/event/adult-mma-mixed-martial-arts-invite-only-2/2026-10-21/
CATEGORIES:MMA
ATTACH;FMTTYPE=image/jpeg:https://blackrock-kadence.gotbdev.com/wp-content/uploads/2025/11/WPA05634-scaled-1-scaled.jpg
END:VEVENT
BEGIN:VEVENT
DTSTART;TZID=America/Vancouver:20261023T200000
DTEND;TZID=America/Vancouver:20261023T213000
DTSTAMP:20260421T152000
CREATED:20250705T173710Z
LAST-MODIFIED:20260221T002621Z
UID:10016487-1792785600-1792791000@blackrock-kadence.gotbdev.com
SUMMARY:Adult MMA (Mixed Martial Arts)
DESCRIPTION:Join our exclusive\, Adult MMA (Mixed Martial Arts) program at Black Rock Martial Arts! Designed for serious practitioners\, these intense sessions focus on sparring\, grappling\, and advanced MMA techniques. Experience a challenging environment that pushes your limits and hones your striking\, clinch\, and ground skills. Our experienced coaches provide personalized guidance\, ensuring that every participant improves their strategy\, stamina\, and performance. Perfect for those looking to compete or elevate their training to the next level. Join a dedicated group of fighters committed to excellence.
URL:https://blackrock-kadence.gotbdev.com/event/adult-mma-mixed-martial-arts-invite-only-2/2026-10-23/
CATEGORIES:MMA
ATTACH;FMTTYPE=image/jpeg:https://blackrock-kadence.gotbdev.com/wp-content/uploads/2025/11/WPA05634-scaled-1-scaled.jpg
END:VEVENT
BEGIN:VEVENT
DTSTART;TZID=America/Vancouver:20261026T200000
DTEND;TZID=America/Vancouver:20261026T213000
DTSTAMP:20260421T152000
CREATED:20250705T173710Z
LAST-MODIFIED:20260221T002621Z
UID:10016488-1793044800-1793050200@blackrock-kadence.gotbdev.com
SUMMARY:Adult MMA (Mixed Martial Arts)
DESCRIPTION:Join our exclusive\, Adult MMA (Mixed Martial Arts) program at Black Rock Martial Arts! Designed for serious practitioners\, these intense sessions focus on sparring\, grappling\, and advanced MMA techniques. Experience a challenging environment that pushes your limits and hones your striking\, clinch\, and ground skills. Our experienced coaches provide personalized guidance\, ensuring that every participant improves their strategy\, stamina\, and performance. Perfect for those looking to compete or elevate their training to the next level. Join a dedicated group of fighters committed to excellence.
URL:https://blackrock-kadence.gotbdev.com/event/adult-mma-mixed-martial-arts-invite-only-2/2026-10-26/
CATEGORIES:MMA
ATTACH;FMTTYPE=image/jpeg:https://blackrock-kadence.gotbdev.com/wp-content/uploads/2025/11/WPA05634-scaled-1-scaled.jpg
END:VEVENT
BEGIN:VEVENT
DTSTART;TZID=America/Vancouver:20261028T200000
DTEND;TZID=America/Vancouver:20261028T213000
DTSTAMP:20260421T152000
CREATED:20250705T173710Z
LAST-MODIFIED:20260221T002621Z
UID:10016489-1793217600-1793223000@blackrock-kadence.gotbdev.com
SUMMARY:Adult MMA (Mixed Martial Arts)
DESCRIPTION:Join our exclusive\, Adult MMA (Mixed Martial Arts) program at Black Rock Martial Arts! Designed for serious practitioners\, these intense sessions focus on sparring\, grappling\, and advanced MMA techniques. Experience a challenging environment that pushes your limits and hones your striking\, clinch\, and ground skills. Our experienced coaches provide personalized guidance\, ensuring that every participant improves their strategy\, stamina\, and performance. Perfect for those looking to compete or elevate their training to the next level. Join a dedicated group of fighters committed to excellence.
URL:https://blackrock-kadence.gotbdev.com/event/adult-mma-mixed-martial-arts-invite-only-2/2026-10-28/
CATEGORIES:MMA
ATTACH;FMTTYPE=image/jpeg:https://blackrock-kadence.gotbdev.com/wp-content/uploads/2025/11/WPA05634-scaled-1-scaled.jpg
END:VEVENT
BEGIN:VEVENT
DTSTART;TZID=America/Vancouver:20261030T200000
DTEND;TZID=America/Vancouver:20261030T213000
DTSTAMP:20260421T152000
CREATED:20250705T173710Z
LAST-MODIFIED:20260221T002621Z
UID:10016490-1793390400-1793395800@blackrock-kadence.gotbdev.com
SUMMARY:Adult MMA (Mixed Martial Arts)
DESCRIPTION:Join our exclusive\, Adult MMA (Mixed Martial Arts) program at Black Rock Martial Arts! Designed for serious practitioners\, these intense sessions focus on sparring\, grappling\, and advanced MMA techniques. Experience a challenging environment that pushes your limits and hones your striking\, clinch\, and ground skills. Our experienced coaches provide personalized guidance\, ensuring that every participant improves their strategy\, stamina\, and performance. Perfect for those looking to compete or elevate their training to the next level. Join a dedicated group of fighters committed to excellence.
URL:https://blackrock-kadence.gotbdev.com/event/adult-mma-mixed-martial-arts-invite-only-2/2026-10-30/
CATEGORIES:MMA
ATTACH;FMTTYPE=image/jpeg:https://blackrock-kadence.gotbdev.com/wp-content/uploads/2025/11/WPA05634-scaled-1-scaled.jpg
END:VEVENT
END:VCALENDAR