BEGIN:VCALENDAR
VERSION:2.0
PRODID:-// - ECPv6.15.20//NONSGML v1.0//EN
CALSCALE:GREGORIAN
METHOD:PUBLISH
X-ORIGINAL-URL:https://blackrock-kadence.gotbdev.com
X-WR-CALDESC:Events for 
REFRESH-INTERVAL;VALUE=DURATION:PT1H
X-Robots-Tag:noindex
X-PUBLISHED-TTL:PT1H
BEGIN:VTIMEZONE
TZID:America/Vancouver
BEGIN:DAYLIGHT
TZOFFSETFROM:-0800
TZOFFSETTO:-0700
TZNAME:PDT
DTSTART:20250309T100000
END:DAYLIGHT
BEGIN:STANDARD
TZOFFSETFROM:-0700
TZOFFSETTO:-0800
TZNAME:PST
DTSTART:20251102T090000
END:STANDARD
BEGIN:DAYLIGHT
TZOFFSETFROM:-0800
TZOFFSETTO:-0700
TZNAME:PDT
DTSTART:20260308T100000
END:DAYLIGHT
BEGIN:STANDARD
TZOFFSETFROM:-0700
TZOFFSETTO:-0800
TZNAME:PST
DTSTART:20261101T090000
END:STANDARD
BEGIN:DAYLIGHT
TZOFFSETFROM:-0800
TZOFFSETTO:-0700
TZNAME:PDT
DTSTART:20270314T100000
END:DAYLIGHT
BEGIN:STANDARD
TZOFFSETFROM:-0700
TZOFFSETTO:-0800
TZNAME:PST
DTSTART:20271107T090000
END:STANDARD
END:VTIMEZONE
BEGIN:VEVENT
DTSTART;TZID=America/Vancouver:20261102T200000
DTEND;TZID=America/Vancouver:20261102T213000
DTSTAMP:20260421T151311
CREATED:20250705T173710Z
LAST-MODIFIED:20260221T002621Z
UID:10016491-1793649600-1793655000@blackrock-kadence.gotbdev.com
SUMMARY:Adult MMA (Mixed Martial Arts)
DESCRIPTION:Join our exclusive\, Adult MMA (Mixed Martial Arts) program at Black Rock Martial Arts! Designed for serious practitioners\, these intense sessions focus on sparring\, grappling\, and advanced MMA techniques. Experience a challenging environment that pushes your limits and hones your striking\, clinch\, and ground skills. Our experienced coaches provide personalized guidance\, ensuring that every participant improves their strategy\, stamina\, and performance. Perfect for those looking to compete or elevate their training to the next level. Join a dedicated group of fighters committed to excellence.
URL:https://blackrock-kadence.gotbdev.com/event/adult-mma-mixed-martial-arts-invite-only-2/2026-11-02/
CATEGORIES:MMA
ATTACH;FMTTYPE=image/jpeg:https://blackrock-kadence.gotbdev.com/wp-content/uploads/2025/11/WPA05634-scaled-1-scaled.jpg
END:VEVENT
BEGIN:VEVENT
DTSTART;TZID=America/Vancouver:20261104T200000
DTEND;TZID=America/Vancouver:20261104T213000
DTSTAMP:20260421T151311
CREATED:20250705T173710Z
LAST-MODIFIED:20260221T002621Z
UID:10016492-1793822400-1793827800@blackrock-kadence.gotbdev.com
SUMMARY:Adult MMA (Mixed Martial Arts)
DESCRIPTION:Join our exclusive\, Adult MMA (Mixed Martial Arts) program at Black Rock Martial Arts! Designed for serious practitioners\, these intense sessions focus on sparring\, grappling\, and advanced MMA techniques. Experience a challenging environment that pushes your limits and hones your striking\, clinch\, and ground skills. Our experienced coaches provide personalized guidance\, ensuring that every participant improves their strategy\, stamina\, and performance. Perfect for those looking to compete or elevate their training to the next level. Join a dedicated group of fighters committed to excellence.
URL:https://blackrock-kadence.gotbdev.com/event/adult-mma-mixed-martial-arts-invite-only-2/2026-11-04/
CATEGORIES:MMA
ATTACH;FMTTYPE=image/jpeg:https://blackrock-kadence.gotbdev.com/wp-content/uploads/2025/11/WPA05634-scaled-1-scaled.jpg
END:VEVENT
BEGIN:VEVENT
DTSTART;TZID=America/Vancouver:20261106T200000
DTEND;TZID=America/Vancouver:20261106T213000
DTSTAMP:20260421T151311
CREATED:20250705T173710Z
LAST-MODIFIED:20260221T002621Z
UID:10016493-1793995200-1794000600@blackrock-kadence.gotbdev.com
SUMMARY:Adult MMA (Mixed Martial Arts)
DESCRIPTION:Join our exclusive\, Adult MMA (Mixed Martial Arts) program at Black Rock Martial Arts! Designed for serious practitioners\, these intense sessions focus on sparring\, grappling\, and advanced MMA techniques. Experience a challenging environment that pushes your limits and hones your striking\, clinch\, and ground skills. Our experienced coaches provide personalized guidance\, ensuring that every participant improves their strategy\, stamina\, and performance. Perfect for those looking to compete or elevate their training to the next level. Join a dedicated group of fighters committed to excellence.
URL:https://blackrock-kadence.gotbdev.com/event/adult-mma-mixed-martial-arts-invite-only-2/2026-11-06/
CATEGORIES:MMA
ATTACH;FMTTYPE=image/jpeg:https://blackrock-kadence.gotbdev.com/wp-content/uploads/2025/11/WPA05634-scaled-1-scaled.jpg
END:VEVENT
BEGIN:VEVENT
DTSTART;TZID=America/Vancouver:20261109T200000
DTEND;TZID=America/Vancouver:20261109T213000
DTSTAMP:20260421T151311
CREATED:20250705T173710Z
LAST-MODIFIED:20260221T002621Z
UID:10016494-1794254400-1794259800@blackrock-kadence.gotbdev.com
SUMMARY:Adult MMA (Mixed Martial Arts)
DESCRIPTION:Join our exclusive\, Adult MMA (Mixed Martial Arts) program at Black Rock Martial Arts! Designed for serious practitioners\, these intense sessions focus on sparring\, grappling\, and advanced MMA techniques. Experience a challenging environment that pushes your limits and hones your striking\, clinch\, and ground skills. Our experienced coaches provide personalized guidance\, ensuring that every participant improves their strategy\, stamina\, and performance. Perfect for those looking to compete or elevate their training to the next level. Join a dedicated group of fighters committed to excellence.
URL:https://blackrock-kadence.gotbdev.com/event/adult-mma-mixed-martial-arts-invite-only-2/2026-11-09/
CATEGORIES:MMA
ATTACH;FMTTYPE=image/jpeg:https://blackrock-kadence.gotbdev.com/wp-content/uploads/2025/11/WPA05634-scaled-1-scaled.jpg
END:VEVENT
BEGIN:VEVENT
DTSTART;TZID=America/Vancouver:20261111T200000
DTEND;TZID=America/Vancouver:20261111T213000
DTSTAMP:20260421T151311
CREATED:20250705T173710Z
LAST-MODIFIED:20260221T002621Z
UID:10016495-1794427200-1794432600@blackrock-kadence.gotbdev.com
SUMMARY:Adult MMA (Mixed Martial Arts)
DESCRIPTION:Join our exclusive\, Adult MMA (Mixed Martial Arts) program at Black Rock Martial Arts! Designed for serious practitioners\, these intense sessions focus on sparring\, grappling\, and advanced MMA techniques. Experience a challenging environment that pushes your limits and hones your striking\, clinch\, and ground skills. Our experienced coaches provide personalized guidance\, ensuring that every participant improves their strategy\, stamina\, and performance. Perfect for those looking to compete or elevate their training to the next level. Join a dedicated group of fighters committed to excellence.
URL:https://blackrock-kadence.gotbdev.com/event/adult-mma-mixed-martial-arts-invite-only-2/2026-11-11/
CATEGORIES:MMA
ATTACH;FMTTYPE=image/jpeg:https://blackrock-kadence.gotbdev.com/wp-content/uploads/2025/11/WPA05634-scaled-1-scaled.jpg
END:VEVENT
BEGIN:VEVENT
DTSTART;TZID=America/Vancouver:20261113T200000
DTEND;TZID=America/Vancouver:20261113T213000
DTSTAMP:20260421T151311
CREATED:20250705T173710Z
LAST-MODIFIED:20260221T002621Z
UID:10016496-1794600000-1794605400@blackrock-kadence.gotbdev.com
SUMMARY:Adult MMA (Mixed Martial Arts)
DESCRIPTION:Join our exclusive\, Adult MMA (Mixed Martial Arts) program at Black Rock Martial Arts! Designed for serious practitioners\, these intense sessions focus on sparring\, grappling\, and advanced MMA techniques. Experience a challenging environment that pushes your limits and hones your striking\, clinch\, and ground skills. Our experienced coaches provide personalized guidance\, ensuring that every participant improves their strategy\, stamina\, and performance. Perfect for those looking to compete or elevate their training to the next level. Join a dedicated group of fighters committed to excellence.
URL:https://blackrock-kadence.gotbdev.com/event/adult-mma-mixed-martial-arts-invite-only-2/2026-11-13/
CATEGORIES:MMA
ATTACH;FMTTYPE=image/jpeg:https://blackrock-kadence.gotbdev.com/wp-content/uploads/2025/11/WPA05634-scaled-1-scaled.jpg
END:VEVENT
BEGIN:VEVENT
DTSTART;TZID=America/Vancouver:20261116T200000
DTEND;TZID=America/Vancouver:20261116T213000
DTSTAMP:20260421T151311
CREATED:20250705T173710Z
LAST-MODIFIED:20260221T002621Z
UID:10016497-1794859200-1794864600@blackrock-kadence.gotbdev.com
SUMMARY:Adult MMA (Mixed Martial Arts)
DESCRIPTION:Join our exclusive\, Adult MMA (Mixed Martial Arts) program at Black Rock Martial Arts! Designed for serious practitioners\, these intense sessions focus on sparring\, grappling\, and advanced MMA techniques. Experience a challenging environment that pushes your limits and hones your striking\, clinch\, and ground skills. Our experienced coaches provide personalized guidance\, ensuring that every participant improves their strategy\, stamina\, and performance. Perfect for those looking to compete or elevate their training to the next level. Join a dedicated group of fighters committed to excellence.
URL:https://blackrock-kadence.gotbdev.com/event/adult-mma-mixed-martial-arts-invite-only-2/2026-11-16/
CATEGORIES:MMA
ATTACH;FMTTYPE=image/jpeg:https://blackrock-kadence.gotbdev.com/wp-content/uploads/2025/11/WPA05634-scaled-1-scaled.jpg
END:VEVENT
BEGIN:VEVENT
DTSTART;TZID=America/Vancouver:20261118T200000
DTEND;TZID=America/Vancouver:20261118T213000
DTSTAMP:20260421T151311
CREATED:20250705T173710Z
LAST-MODIFIED:20260221T002621Z
UID:10016498-1795032000-1795037400@blackrock-kadence.gotbdev.com
SUMMARY:Adult MMA (Mixed Martial Arts)
DESCRIPTION:Join our exclusive\, Adult MMA (Mixed Martial Arts) program at Black Rock Martial Arts! Designed for serious practitioners\, these intense sessions focus on sparring\, grappling\, and advanced MMA techniques. Experience a challenging environment that pushes your limits and hones your striking\, clinch\, and ground skills. Our experienced coaches provide personalized guidance\, ensuring that every participant improves their strategy\, stamina\, and performance. Perfect for those looking to compete or elevate their training to the next level. Join a dedicated group of fighters committed to excellence.
URL:https://blackrock-kadence.gotbdev.com/event/adult-mma-mixed-martial-arts-invite-only-2/2026-11-18/
CATEGORIES:MMA
ATTACH;FMTTYPE=image/jpeg:https://blackrock-kadence.gotbdev.com/wp-content/uploads/2025/11/WPA05634-scaled-1-scaled.jpg
END:VEVENT
BEGIN:VEVENT
DTSTART;TZID=America/Vancouver:20261120T200000
DTEND;TZID=America/Vancouver:20261120T213000
DTSTAMP:20260421T151311
CREATED:20250705T173710Z
LAST-MODIFIED:20260221T002621Z
UID:10016499-1795204800-1795210200@blackrock-kadence.gotbdev.com
SUMMARY:Adult MMA (Mixed Martial Arts)
DESCRIPTION:Join our exclusive\, Adult MMA (Mixed Martial Arts) program at Black Rock Martial Arts! Designed for serious practitioners\, these intense sessions focus on sparring\, grappling\, and advanced MMA techniques. Experience a challenging environment that pushes your limits and hones your striking\, clinch\, and ground skills. Our experienced coaches provide personalized guidance\, ensuring that every participant improves their strategy\, stamina\, and performance. Perfect for those looking to compete or elevate their training to the next level. Join a dedicated group of fighters committed to excellence.
URL:https://blackrock-kadence.gotbdev.com/event/adult-mma-mixed-martial-arts-invite-only-2/2026-11-20/
CATEGORIES:MMA
ATTACH;FMTTYPE=image/jpeg:https://blackrock-kadence.gotbdev.com/wp-content/uploads/2025/11/WPA05634-scaled-1-scaled.jpg
END:VEVENT
BEGIN:VEVENT
DTSTART;TZID=America/Vancouver:20261123T200000
DTEND;TZID=America/Vancouver:20261123T213000
DTSTAMP:20260421T151311
CREATED:20250705T173710Z
LAST-MODIFIED:20260221T002621Z
UID:10016500-1795464000-1795469400@blackrock-kadence.gotbdev.com
SUMMARY:Adult MMA (Mixed Martial Arts)
DESCRIPTION:Join our exclusive\, Adult MMA (Mixed Martial Arts) program at Black Rock Martial Arts! Designed for serious practitioners\, these intense sessions focus on sparring\, grappling\, and advanced MMA techniques. Experience a challenging environment that pushes your limits and hones your striking\, clinch\, and ground skills. Our experienced coaches provide personalized guidance\, ensuring that every participant improves their strategy\, stamina\, and performance. Perfect for those looking to compete or elevate their training to the next level. Join a dedicated group of fighters committed to excellence.
URL:https://blackrock-kadence.gotbdev.com/event/adult-mma-mixed-martial-arts-invite-only-2/2026-11-23/
CATEGORIES:MMA
ATTACH;FMTTYPE=image/jpeg:https://blackrock-kadence.gotbdev.com/wp-content/uploads/2025/11/WPA05634-scaled-1-scaled.jpg
END:VEVENT
BEGIN:VEVENT
DTSTART;TZID=America/Vancouver:20261125T200000
DTEND;TZID=America/Vancouver:20261125T213000
DTSTAMP:20260421T151311
CREATED:20250705T173710Z
LAST-MODIFIED:20260221T002621Z
UID:10016501-1795636800-1795642200@blackrock-kadence.gotbdev.com
SUMMARY:Adult MMA (Mixed Martial Arts)
DESCRIPTION:Join our exclusive\, Adult MMA (Mixed Martial Arts) program at Black Rock Martial Arts! Designed for serious practitioners\, these intense sessions focus on sparring\, grappling\, and advanced MMA techniques. Experience a challenging environment that pushes your limits and hones your striking\, clinch\, and ground skills. Our experienced coaches provide personalized guidance\, ensuring that every participant improves their strategy\, stamina\, and performance. Perfect for those looking to compete or elevate their training to the next level. Join a dedicated group of fighters committed to excellence.
URL:https://blackrock-kadence.gotbdev.com/event/adult-mma-mixed-martial-arts-invite-only-2/2026-11-25/
CATEGORIES:MMA
ATTACH;FMTTYPE=image/jpeg:https://blackrock-kadence.gotbdev.com/wp-content/uploads/2025/11/WPA05634-scaled-1-scaled.jpg
END:VEVENT
BEGIN:VEVENT
DTSTART;TZID=America/Vancouver:20261127T200000
DTEND;TZID=America/Vancouver:20261127T213000
DTSTAMP:20260421T151311
CREATED:20250705T173710Z
LAST-MODIFIED:20260221T002621Z
UID:10016502-1795809600-1795815000@blackrock-kadence.gotbdev.com
SUMMARY:Adult MMA (Mixed Martial Arts)
DESCRIPTION:Join our exclusive\, Adult MMA (Mixed Martial Arts) program at Black Rock Martial Arts! Designed for serious practitioners\, these intense sessions focus on sparring\, grappling\, and advanced MMA techniques. Experience a challenging environment that pushes your limits and hones your striking\, clinch\, and ground skills. Our experienced coaches provide personalized guidance\, ensuring that every participant improves their strategy\, stamina\, and performance. Perfect for those looking to compete or elevate their training to the next level. Join a dedicated group of fighters committed to excellence.
URL:https://blackrock-kadence.gotbdev.com/event/adult-mma-mixed-martial-arts-invite-only-2/2026-11-27/
CATEGORIES:MMA
ATTACH;FMTTYPE=image/jpeg:https://blackrock-kadence.gotbdev.com/wp-content/uploads/2025/11/WPA05634-scaled-1-scaled.jpg
END:VEVENT
BEGIN:VEVENT
DTSTART;TZID=America/Vancouver:20261130T200000
DTEND;TZID=America/Vancouver:20261130T213000
DTSTAMP:20260421T151311
CREATED:20250705T173710Z
LAST-MODIFIED:20260221T002621Z
UID:10016503-1796068800-1796074200@blackrock-kadence.gotbdev.com
SUMMARY:Adult MMA (Mixed Martial Arts)
DESCRIPTION:Join our exclusive\, Adult MMA (Mixed Martial Arts) program at Black Rock Martial Arts! Designed for serious practitioners\, these intense sessions focus on sparring\, grappling\, and advanced MMA techniques. Experience a challenging environment that pushes your limits and hones your striking\, clinch\, and ground skills. Our experienced coaches provide personalized guidance\, ensuring that every participant improves their strategy\, stamina\, and performance. Perfect for those looking to compete or elevate their training to the next level. Join a dedicated group of fighters committed to excellence.
URL:https://blackrock-kadence.gotbdev.com/event/adult-mma-mixed-martial-arts-invite-only-2/2026-11-30/
CATEGORIES:MMA
ATTACH;FMTTYPE=image/jpeg:https://blackrock-kadence.gotbdev.com/wp-content/uploads/2025/11/WPA05634-scaled-1-scaled.jpg
END:VEVENT
END:VCALENDAR