BEGIN:VCALENDAR
VERSION:2.0
PRODID:-// - ECPv6.15.20//NONSGML v1.0//EN
CALSCALE:GREGORIAN
METHOD:PUBLISH
X-ORIGINAL-URL:https://blackrock-kadence.gotbdev.com
X-WR-CALDESC:Events for 
REFRESH-INTERVAL;VALUE=DURATION:PT1H
X-Robots-Tag:noindex
X-PUBLISHED-TTL:PT1H
BEGIN:VTIMEZONE
TZID:America/Vancouver
BEGIN:DAYLIGHT
TZOFFSETFROM:-0800
TZOFFSETTO:-0700
TZNAME:PDT
DTSTART:20260308T100000
END:DAYLIGHT
BEGIN:STANDARD
TZOFFSETFROM:-0700
TZOFFSETTO:-0800
TZNAME:PST
DTSTART:20261101T090000
END:STANDARD
BEGIN:DAYLIGHT
TZOFFSETFROM:-0800
TZOFFSETTO:-0700
TZNAME:PDT
DTSTART:20270314T100000
END:DAYLIGHT
BEGIN:STANDARD
TZOFFSETFROM:-0700
TZOFFSETTO:-0800
TZNAME:PST
DTSTART:20271107T090000
END:STANDARD
BEGIN:DAYLIGHT
TZOFFSETFROM:-0800
TZOFFSETTO:-0700
TZNAME:PDT
DTSTART:20280312T100000
END:DAYLIGHT
BEGIN:STANDARD
TZOFFSETFROM:-0700
TZOFFSETTO:-0800
TZNAME:PST
DTSTART:20281105T090000
END:STANDARD
END:VTIMEZONE
BEGIN:VEVENT
DTSTART;TZID=America/Vancouver:20270702T200000
DTEND;TZID=America/Vancouver:20270702T213000
DTSTAMP:20260422T160420
CREATED:20250705T173710Z
LAST-MODIFIED:20260221T002621Z
UID:10016595-1814558400-1814563800@blackrock-kadence.gotbdev.com
SUMMARY:Adult MMA (Mixed Martial Arts)
DESCRIPTION:Join our exclusive\, Adult MMA (Mixed Martial Arts) program at Black Rock Martial Arts! Designed for serious practitioners\, these intense sessions focus on sparring\, grappling\, and advanced MMA techniques. Experience a challenging environment that pushes your limits and hones your striking\, clinch\, and ground skills. Our experienced coaches provide personalized guidance\, ensuring that every participant improves their strategy\, stamina\, and performance. Perfect for those looking to compete or elevate their training to the next level. Join a dedicated group of fighters committed to excellence.
URL:https://blackrock-kadence.gotbdev.com/event/adult-mma-mixed-martial-arts-invite-only-2/2027-07-02/
CATEGORIES:MMA
ATTACH;FMTTYPE=image/jpeg:https://blackrock-kadence.gotbdev.com/wp-content/uploads/2025/11/WPA05634-scaled-1-scaled.jpg
END:VEVENT
BEGIN:VEVENT
DTSTART;TZID=America/Vancouver:20270705T200000
DTEND;TZID=America/Vancouver:20270705T213000
DTSTAMP:20260422T160420
CREATED:20250705T173710Z
LAST-MODIFIED:20260221T002621Z
UID:10016596-1814817600-1814823000@blackrock-kadence.gotbdev.com
SUMMARY:Adult MMA (Mixed Martial Arts)
DESCRIPTION:Join our exclusive\, Adult MMA (Mixed Martial Arts) program at Black Rock Martial Arts! Designed for serious practitioners\, these intense sessions focus on sparring\, grappling\, and advanced MMA techniques. Experience a challenging environment that pushes your limits and hones your striking\, clinch\, and ground skills. Our experienced coaches provide personalized guidance\, ensuring that every participant improves their strategy\, stamina\, and performance. Perfect for those looking to compete or elevate their training to the next level. Join a dedicated group of fighters committed to excellence.
URL:https://blackrock-kadence.gotbdev.com/event/adult-mma-mixed-martial-arts-invite-only-2/2027-07-05/
CATEGORIES:MMA
ATTACH;FMTTYPE=image/jpeg:https://blackrock-kadence.gotbdev.com/wp-content/uploads/2025/11/WPA05634-scaled-1-scaled.jpg
END:VEVENT
BEGIN:VEVENT
DTSTART;TZID=America/Vancouver:20270707T200000
DTEND;TZID=America/Vancouver:20270707T213000
DTSTAMP:20260422T160420
CREATED:20250705T173710Z
LAST-MODIFIED:20260221T002621Z
UID:10016597-1814990400-1814995800@blackrock-kadence.gotbdev.com
SUMMARY:Adult MMA (Mixed Martial Arts)
DESCRIPTION:Join our exclusive\, Adult MMA (Mixed Martial Arts) program at Black Rock Martial Arts! Designed for serious practitioners\, these intense sessions focus on sparring\, grappling\, and advanced MMA techniques. Experience a challenging environment that pushes your limits and hones your striking\, clinch\, and ground skills. Our experienced coaches provide personalized guidance\, ensuring that every participant improves their strategy\, stamina\, and performance. Perfect for those looking to compete or elevate their training to the next level. Join a dedicated group of fighters committed to excellence.
URL:https://blackrock-kadence.gotbdev.com/event/adult-mma-mixed-martial-arts-invite-only-2/2027-07-07/
CATEGORIES:MMA
ATTACH;FMTTYPE=image/jpeg:https://blackrock-kadence.gotbdev.com/wp-content/uploads/2025/11/WPA05634-scaled-1-scaled.jpg
END:VEVENT
BEGIN:VEVENT
DTSTART;TZID=America/Vancouver:20270709T200000
DTEND;TZID=America/Vancouver:20270709T213000
DTSTAMP:20260422T160420
CREATED:20250705T173710Z
LAST-MODIFIED:20260221T002621Z
UID:10016598-1815163200-1815168600@blackrock-kadence.gotbdev.com
SUMMARY:Adult MMA (Mixed Martial Arts)
DESCRIPTION:Join our exclusive\, Adult MMA (Mixed Martial Arts) program at Black Rock Martial Arts! Designed for serious practitioners\, these intense sessions focus on sparring\, grappling\, and advanced MMA techniques. Experience a challenging environment that pushes your limits and hones your striking\, clinch\, and ground skills. Our experienced coaches provide personalized guidance\, ensuring that every participant improves their strategy\, stamina\, and performance. Perfect for those looking to compete or elevate their training to the next level. Join a dedicated group of fighters committed to excellence.
URL:https://blackrock-kadence.gotbdev.com/event/adult-mma-mixed-martial-arts-invite-only-2/2027-07-09/
CATEGORIES:MMA
ATTACH;FMTTYPE=image/jpeg:https://blackrock-kadence.gotbdev.com/wp-content/uploads/2025/11/WPA05634-scaled-1-scaled.jpg
END:VEVENT
BEGIN:VEVENT
DTSTART;TZID=America/Vancouver:20270712T200000
DTEND;TZID=America/Vancouver:20270712T213000
DTSTAMP:20260422T160420
CREATED:20250705T173710Z
LAST-MODIFIED:20260221T002621Z
UID:10016599-1815422400-1815427800@blackrock-kadence.gotbdev.com
SUMMARY:Adult MMA (Mixed Martial Arts)
DESCRIPTION:Join our exclusive\, Adult MMA (Mixed Martial Arts) program at Black Rock Martial Arts! Designed for serious practitioners\, these intense sessions focus on sparring\, grappling\, and advanced MMA techniques. Experience a challenging environment that pushes your limits and hones your striking\, clinch\, and ground skills. Our experienced coaches provide personalized guidance\, ensuring that every participant improves their strategy\, stamina\, and performance. Perfect for those looking to compete or elevate their training to the next level. Join a dedicated group of fighters committed to excellence.
URL:https://blackrock-kadence.gotbdev.com/event/adult-mma-mixed-martial-arts-invite-only-2/2027-07-12/
CATEGORIES:MMA
ATTACH;FMTTYPE=image/jpeg:https://blackrock-kadence.gotbdev.com/wp-content/uploads/2025/11/WPA05634-scaled-1-scaled.jpg
END:VEVENT
BEGIN:VEVENT
DTSTART;TZID=America/Vancouver:20270714T200000
DTEND;TZID=America/Vancouver:20270714T213000
DTSTAMP:20260422T160420
CREATED:20250705T173710Z
LAST-MODIFIED:20260221T002621Z
UID:10016600-1815595200-1815600600@blackrock-kadence.gotbdev.com
SUMMARY:Adult MMA (Mixed Martial Arts)
DESCRIPTION:Join our exclusive\, Adult MMA (Mixed Martial Arts) program at Black Rock Martial Arts! Designed for serious practitioners\, these intense sessions focus on sparring\, grappling\, and advanced MMA techniques. Experience a challenging environment that pushes your limits and hones your striking\, clinch\, and ground skills. Our experienced coaches provide personalized guidance\, ensuring that every participant improves their strategy\, stamina\, and performance. Perfect for those looking to compete or elevate their training to the next level. Join a dedicated group of fighters committed to excellence.
URL:https://blackrock-kadence.gotbdev.com/event/adult-mma-mixed-martial-arts-invite-only-2/2027-07-14/
CATEGORIES:MMA
ATTACH;FMTTYPE=image/jpeg:https://blackrock-kadence.gotbdev.com/wp-content/uploads/2025/11/WPA05634-scaled-1-scaled.jpg
END:VEVENT
BEGIN:VEVENT
DTSTART;TZID=America/Vancouver:20270716T200000
DTEND;TZID=America/Vancouver:20270716T213000
DTSTAMP:20260422T160420
CREATED:20250705T173710Z
LAST-MODIFIED:20260221T002621Z
UID:10016601-1815768000-1815773400@blackrock-kadence.gotbdev.com
SUMMARY:Adult MMA (Mixed Martial Arts)
DESCRIPTION:Join our exclusive\, Adult MMA (Mixed Martial Arts) program at Black Rock Martial Arts! Designed for serious practitioners\, these intense sessions focus on sparring\, grappling\, and advanced MMA techniques. Experience a challenging environment that pushes your limits and hones your striking\, clinch\, and ground skills. Our experienced coaches provide personalized guidance\, ensuring that every participant improves their strategy\, stamina\, and performance. Perfect for those looking to compete or elevate their training to the next level. Join a dedicated group of fighters committed to excellence.
URL:https://blackrock-kadence.gotbdev.com/event/adult-mma-mixed-martial-arts-invite-only-2/2027-07-16/
CATEGORIES:MMA
ATTACH;FMTTYPE=image/jpeg:https://blackrock-kadence.gotbdev.com/wp-content/uploads/2025/11/WPA05634-scaled-1-scaled.jpg
END:VEVENT
BEGIN:VEVENT
DTSTART;TZID=America/Vancouver:20270719T200000
DTEND;TZID=America/Vancouver:20270719T213000
DTSTAMP:20260422T160420
CREATED:20250705T173710Z
LAST-MODIFIED:20260221T002621Z
UID:10016602-1816027200-1816032600@blackrock-kadence.gotbdev.com
SUMMARY:Adult MMA (Mixed Martial Arts)
DESCRIPTION:Join our exclusive\, Adult MMA (Mixed Martial Arts) program at Black Rock Martial Arts! Designed for serious practitioners\, these intense sessions focus on sparring\, grappling\, and advanced MMA techniques. Experience a challenging environment that pushes your limits and hones your striking\, clinch\, and ground skills. Our experienced coaches provide personalized guidance\, ensuring that every participant improves their strategy\, stamina\, and performance. Perfect for those looking to compete or elevate their training to the next level. Join a dedicated group of fighters committed to excellence.
URL:https://blackrock-kadence.gotbdev.com/event/adult-mma-mixed-martial-arts-invite-only-2/2027-07-19/
CATEGORIES:MMA
ATTACH;FMTTYPE=image/jpeg:https://blackrock-kadence.gotbdev.com/wp-content/uploads/2025/11/WPA05634-scaled-1-scaled.jpg
END:VEVENT
BEGIN:VEVENT
DTSTART;TZID=America/Vancouver:20270721T200000
DTEND;TZID=America/Vancouver:20270721T213000
DTSTAMP:20260422T160420
CREATED:20250705T173710Z
LAST-MODIFIED:20260221T002621Z
UID:10016603-1816200000-1816205400@blackrock-kadence.gotbdev.com
SUMMARY:Adult MMA (Mixed Martial Arts)
DESCRIPTION:Join our exclusive\, Adult MMA (Mixed Martial Arts) program at Black Rock Martial Arts! Designed for serious practitioners\, these intense sessions focus on sparring\, grappling\, and advanced MMA techniques. Experience a challenging environment that pushes your limits and hones your striking\, clinch\, and ground skills. Our experienced coaches provide personalized guidance\, ensuring that every participant improves their strategy\, stamina\, and performance. Perfect for those looking to compete or elevate their training to the next level. Join a dedicated group of fighters committed to excellence.
URL:https://blackrock-kadence.gotbdev.com/event/adult-mma-mixed-martial-arts-invite-only-2/2027-07-21/
CATEGORIES:MMA
ATTACH;FMTTYPE=image/jpeg:https://blackrock-kadence.gotbdev.com/wp-content/uploads/2025/11/WPA05634-scaled-1-scaled.jpg
END:VEVENT
BEGIN:VEVENT
DTSTART;TZID=America/Vancouver:20270723T200000
DTEND;TZID=America/Vancouver:20270723T213000
DTSTAMP:20260422T160420
CREATED:20250705T173710Z
LAST-MODIFIED:20260221T002621Z
UID:10016604-1816372800-1816378200@blackrock-kadence.gotbdev.com
SUMMARY:Adult MMA (Mixed Martial Arts)
DESCRIPTION:Join our exclusive\, Adult MMA (Mixed Martial Arts) program at Black Rock Martial Arts! Designed for serious practitioners\, these intense sessions focus on sparring\, grappling\, and advanced MMA techniques. Experience a challenging environment that pushes your limits and hones your striking\, clinch\, and ground skills. Our experienced coaches provide personalized guidance\, ensuring that every participant improves their strategy\, stamina\, and performance. Perfect for those looking to compete or elevate their training to the next level. Join a dedicated group of fighters committed to excellence.
URL:https://blackrock-kadence.gotbdev.com/event/adult-mma-mixed-martial-arts-invite-only-2/2027-07-23/
CATEGORIES:MMA
ATTACH;FMTTYPE=image/jpeg:https://blackrock-kadence.gotbdev.com/wp-content/uploads/2025/11/WPA05634-scaled-1-scaled.jpg
END:VEVENT
BEGIN:VEVENT
DTSTART;TZID=America/Vancouver:20270726T200000
DTEND;TZID=America/Vancouver:20270726T213000
DTSTAMP:20260422T160420
CREATED:20250705T173710Z
LAST-MODIFIED:20260221T002621Z
UID:10016605-1816632000-1816637400@blackrock-kadence.gotbdev.com
SUMMARY:Adult MMA (Mixed Martial Arts)
DESCRIPTION:Join our exclusive\, Adult MMA (Mixed Martial Arts) program at Black Rock Martial Arts! Designed for serious practitioners\, these intense sessions focus on sparring\, grappling\, and advanced MMA techniques. Experience a challenging environment that pushes your limits and hones your striking\, clinch\, and ground skills. Our experienced coaches provide personalized guidance\, ensuring that every participant improves their strategy\, stamina\, and performance. Perfect for those looking to compete or elevate their training to the next level. Join a dedicated group of fighters committed to excellence.
URL:https://blackrock-kadence.gotbdev.com/event/adult-mma-mixed-martial-arts-invite-only-2/2027-07-26/
CATEGORIES:MMA
ATTACH;FMTTYPE=image/jpeg:https://blackrock-kadence.gotbdev.com/wp-content/uploads/2025/11/WPA05634-scaled-1-scaled.jpg
END:VEVENT
BEGIN:VEVENT
DTSTART;TZID=America/Vancouver:20270728T200000
DTEND;TZID=America/Vancouver:20270728T213000
DTSTAMP:20260422T160420
CREATED:20250705T173710Z
LAST-MODIFIED:20260221T002621Z
UID:10016606-1816804800-1816810200@blackrock-kadence.gotbdev.com
SUMMARY:Adult MMA (Mixed Martial Arts)
DESCRIPTION:Join our exclusive\, Adult MMA (Mixed Martial Arts) program at Black Rock Martial Arts! Designed for serious practitioners\, these intense sessions focus on sparring\, grappling\, and advanced MMA techniques. Experience a challenging environment that pushes your limits and hones your striking\, clinch\, and ground skills. Our experienced coaches provide personalized guidance\, ensuring that every participant improves their strategy\, stamina\, and performance. Perfect for those looking to compete or elevate their training to the next level. Join a dedicated group of fighters committed to excellence.
URL:https://blackrock-kadence.gotbdev.com/event/adult-mma-mixed-martial-arts-invite-only-2/2027-07-28/
CATEGORIES:MMA
ATTACH;FMTTYPE=image/jpeg:https://blackrock-kadence.gotbdev.com/wp-content/uploads/2025/11/WPA05634-scaled-1-scaled.jpg
END:VEVENT
BEGIN:VEVENT
DTSTART;TZID=America/Vancouver:20270730T200000
DTEND;TZID=America/Vancouver:20270730T213000
DTSTAMP:20260422T160420
CREATED:20250705T173710Z
LAST-MODIFIED:20260221T002621Z
UID:10016607-1816977600-1816983000@blackrock-kadence.gotbdev.com
SUMMARY:Adult MMA (Mixed Martial Arts)
DESCRIPTION:Join our exclusive\, Adult MMA (Mixed Martial Arts) program at Black Rock Martial Arts! Designed for serious practitioners\, these intense sessions focus on sparring\, grappling\, and advanced MMA techniques. Experience a challenging environment that pushes your limits and hones your striking\, clinch\, and ground skills. Our experienced coaches provide personalized guidance\, ensuring that every participant improves their strategy\, stamina\, and performance. Perfect for those looking to compete or elevate their training to the next level. Join a dedicated group of fighters committed to excellence.
URL:https://blackrock-kadence.gotbdev.com/event/adult-mma-mixed-martial-arts-invite-only-2/2027-07-30/
CATEGORIES:MMA
ATTACH;FMTTYPE=image/jpeg:https://blackrock-kadence.gotbdev.com/wp-content/uploads/2025/11/WPA05634-scaled-1-scaled.jpg
END:VEVENT
END:VCALENDAR