BEGIN:VCALENDAR
VERSION:2.0
PRODID:-// - ECPv6.15.20//NONSGML v1.0//EN
CALSCALE:GREGORIAN
METHOD:PUBLISH
X-ORIGINAL-URL:https://blackrock-kadence.gotbdev.com
X-WR-CALDESC:Events for 
REFRESH-INTERVAL;VALUE=DURATION:PT1H
X-Robots-Tag:noindex
X-PUBLISHED-TTL:PT1H
BEGIN:VTIMEZONE
TZID:America/Vancouver
BEGIN:DAYLIGHT
TZOFFSETFROM:-0800
TZOFFSETTO:-0700
TZNAME:PDT
DTSTART:20260308T100000
END:DAYLIGHT
BEGIN:STANDARD
TZOFFSETFROM:-0700
TZOFFSETTO:-0800
TZNAME:PST
DTSTART:20261101T090000
END:STANDARD
BEGIN:DAYLIGHT
TZOFFSETFROM:-0800
TZOFFSETTO:-0700
TZNAME:PDT
DTSTART:20270314T100000
END:DAYLIGHT
BEGIN:STANDARD
TZOFFSETFROM:-0700
TZOFFSETTO:-0800
TZNAME:PST
DTSTART:20271107T090000
END:STANDARD
BEGIN:DAYLIGHT
TZOFFSETFROM:-0800
TZOFFSETTO:-0700
TZNAME:PDT
DTSTART:20280312T100000
END:DAYLIGHT
BEGIN:STANDARD
TZOFFSETFROM:-0700
TZOFFSETTO:-0800
TZNAME:PST
DTSTART:20281105T090000
END:STANDARD
END:VTIMEZONE
BEGIN:VEVENT
DTSTART;TZID=America/Vancouver:20271101T200000
DTEND;TZID=America/Vancouver:20271101T213000
DTSTAMP:20260423T031608
CREATED:20250705T173710Z
LAST-MODIFIED:20260221T002621Z
UID:10016647-1825099200-1825104600@blackrock-kadence.gotbdev.com
SUMMARY:Adult MMA (Mixed Martial Arts)
DESCRIPTION:Join our exclusive\, Adult MMA (Mixed Martial Arts) program at Black Rock Martial Arts! Designed for serious practitioners\, these intense sessions focus on sparring\, grappling\, and advanced MMA techniques. Experience a challenging environment that pushes your limits and hones your striking\, clinch\, and ground skills. Our experienced coaches provide personalized guidance\, ensuring that every participant improves their strategy\, stamina\, and performance. Perfect for those looking to compete or elevate their training to the next level. Join a dedicated group of fighters committed to excellence.
URL:https://blackrock-kadence.gotbdev.com/event/adult-mma-mixed-martial-arts-invite-only-2/2027-11-01/
CATEGORIES:MMA
ATTACH;FMTTYPE=image/jpeg:https://blackrock-kadence.gotbdev.com/wp-content/uploads/2025/11/WPA05634-scaled-1-scaled.jpg
END:VEVENT
BEGIN:VEVENT
DTSTART;TZID=America/Vancouver:20271103T200000
DTEND;TZID=America/Vancouver:20271103T213000
DTSTAMP:20260423T031608
CREATED:20250705T173710Z
LAST-MODIFIED:20260221T002621Z
UID:10016648-1825272000-1825277400@blackrock-kadence.gotbdev.com
SUMMARY:Adult MMA (Mixed Martial Arts)
DESCRIPTION:Join our exclusive\, Adult MMA (Mixed Martial Arts) program at Black Rock Martial Arts! Designed for serious practitioners\, these intense sessions focus on sparring\, grappling\, and advanced MMA techniques. Experience a challenging environment that pushes your limits and hones your striking\, clinch\, and ground skills. Our experienced coaches provide personalized guidance\, ensuring that every participant improves their strategy\, stamina\, and performance. Perfect for those looking to compete or elevate their training to the next level. Join a dedicated group of fighters committed to excellence.
URL:https://blackrock-kadence.gotbdev.com/event/adult-mma-mixed-martial-arts-invite-only-2/2027-11-03/
CATEGORIES:MMA
ATTACH;FMTTYPE=image/jpeg:https://blackrock-kadence.gotbdev.com/wp-content/uploads/2025/11/WPA05634-scaled-1-scaled.jpg
END:VEVENT
BEGIN:VEVENT
DTSTART;TZID=America/Vancouver:20271105T200000
DTEND;TZID=America/Vancouver:20271105T213000
DTSTAMP:20260423T031608
CREATED:20250705T173710Z
LAST-MODIFIED:20260221T002621Z
UID:10016649-1825444800-1825450200@blackrock-kadence.gotbdev.com
SUMMARY:Adult MMA (Mixed Martial Arts)
DESCRIPTION:Join our exclusive\, Adult MMA (Mixed Martial Arts) program at Black Rock Martial Arts! Designed for serious practitioners\, these intense sessions focus on sparring\, grappling\, and advanced MMA techniques. Experience a challenging environment that pushes your limits and hones your striking\, clinch\, and ground skills. Our experienced coaches provide personalized guidance\, ensuring that every participant improves their strategy\, stamina\, and performance. Perfect for those looking to compete or elevate their training to the next level. Join a dedicated group of fighters committed to excellence.
URL:https://blackrock-kadence.gotbdev.com/event/adult-mma-mixed-martial-arts-invite-only-2/2027-11-05/
CATEGORIES:MMA
ATTACH;FMTTYPE=image/jpeg:https://blackrock-kadence.gotbdev.com/wp-content/uploads/2025/11/WPA05634-scaled-1-scaled.jpg
END:VEVENT
BEGIN:VEVENT
DTSTART;TZID=America/Vancouver:20271108T200000
DTEND;TZID=America/Vancouver:20271108T213000
DTSTAMP:20260423T031608
CREATED:20250705T173710Z
LAST-MODIFIED:20260221T002621Z
UID:10016650-1825704000-1825709400@blackrock-kadence.gotbdev.com
SUMMARY:Adult MMA (Mixed Martial Arts)
DESCRIPTION:Join our exclusive\, Adult MMA (Mixed Martial Arts) program at Black Rock Martial Arts! Designed for serious practitioners\, these intense sessions focus on sparring\, grappling\, and advanced MMA techniques. Experience a challenging environment that pushes your limits and hones your striking\, clinch\, and ground skills. Our experienced coaches provide personalized guidance\, ensuring that every participant improves their strategy\, stamina\, and performance. Perfect for those looking to compete or elevate their training to the next level. Join a dedicated group of fighters committed to excellence.
URL:https://blackrock-kadence.gotbdev.com/event/adult-mma-mixed-martial-arts-invite-only-2/2027-11-08/
CATEGORIES:MMA
ATTACH;FMTTYPE=image/jpeg:https://blackrock-kadence.gotbdev.com/wp-content/uploads/2025/11/WPA05634-scaled-1-scaled.jpg
END:VEVENT
BEGIN:VEVENT
DTSTART;TZID=America/Vancouver:20271110T200000
DTEND;TZID=America/Vancouver:20271110T213000
DTSTAMP:20260423T031608
CREATED:20250705T173710Z
LAST-MODIFIED:20260221T002621Z
UID:10016651-1825876800-1825882200@blackrock-kadence.gotbdev.com
SUMMARY:Adult MMA (Mixed Martial Arts)
DESCRIPTION:Join our exclusive\, Adult MMA (Mixed Martial Arts) program at Black Rock Martial Arts! Designed for serious practitioners\, these intense sessions focus on sparring\, grappling\, and advanced MMA techniques. Experience a challenging environment that pushes your limits and hones your striking\, clinch\, and ground skills. Our experienced coaches provide personalized guidance\, ensuring that every participant improves their strategy\, stamina\, and performance. Perfect for those looking to compete or elevate their training to the next level. Join a dedicated group of fighters committed to excellence.
URL:https://blackrock-kadence.gotbdev.com/event/adult-mma-mixed-martial-arts-invite-only-2/2027-11-10/
CATEGORIES:MMA
ATTACH;FMTTYPE=image/jpeg:https://blackrock-kadence.gotbdev.com/wp-content/uploads/2025/11/WPA05634-scaled-1-scaled.jpg
END:VEVENT
BEGIN:VEVENT
DTSTART;TZID=America/Vancouver:20271112T200000
DTEND;TZID=America/Vancouver:20271112T213000
DTSTAMP:20260423T031608
CREATED:20250705T173710Z
LAST-MODIFIED:20260221T002621Z
UID:10016652-1826049600-1826055000@blackrock-kadence.gotbdev.com
SUMMARY:Adult MMA (Mixed Martial Arts)
DESCRIPTION:Join our exclusive\, Adult MMA (Mixed Martial Arts) program at Black Rock Martial Arts! Designed for serious practitioners\, these intense sessions focus on sparring\, grappling\, and advanced MMA techniques. Experience a challenging environment that pushes your limits and hones your striking\, clinch\, and ground skills. Our experienced coaches provide personalized guidance\, ensuring that every participant improves their strategy\, stamina\, and performance. Perfect for those looking to compete or elevate their training to the next level. Join a dedicated group of fighters committed to excellence.
URL:https://blackrock-kadence.gotbdev.com/event/adult-mma-mixed-martial-arts-invite-only-2/2027-11-12/
CATEGORIES:MMA
ATTACH;FMTTYPE=image/jpeg:https://blackrock-kadence.gotbdev.com/wp-content/uploads/2025/11/WPA05634-scaled-1-scaled.jpg
END:VEVENT
BEGIN:VEVENT
DTSTART;TZID=America/Vancouver:20271115T200000
DTEND;TZID=America/Vancouver:20271115T213000
DTSTAMP:20260423T031608
CREATED:20250705T173710Z
LAST-MODIFIED:20260221T002621Z
UID:10016653-1826308800-1826314200@blackrock-kadence.gotbdev.com
SUMMARY:Adult MMA (Mixed Martial Arts)
DESCRIPTION:Join our exclusive\, Adult MMA (Mixed Martial Arts) program at Black Rock Martial Arts! Designed for serious practitioners\, these intense sessions focus on sparring\, grappling\, and advanced MMA techniques. Experience a challenging environment that pushes your limits and hones your striking\, clinch\, and ground skills. Our experienced coaches provide personalized guidance\, ensuring that every participant improves their strategy\, stamina\, and performance. Perfect for those looking to compete or elevate their training to the next level. Join a dedicated group of fighters committed to excellence.
URL:https://blackrock-kadence.gotbdev.com/event/adult-mma-mixed-martial-arts-invite-only-2/2027-11-15/
CATEGORIES:MMA
ATTACH;FMTTYPE=image/jpeg:https://blackrock-kadence.gotbdev.com/wp-content/uploads/2025/11/WPA05634-scaled-1-scaled.jpg
END:VEVENT
BEGIN:VEVENT
DTSTART;TZID=America/Vancouver:20271117T200000
DTEND;TZID=America/Vancouver:20271117T213000
DTSTAMP:20260423T031608
CREATED:20250705T173710Z
LAST-MODIFIED:20260221T002621Z
UID:10016654-1826481600-1826487000@blackrock-kadence.gotbdev.com
SUMMARY:Adult MMA (Mixed Martial Arts)
DESCRIPTION:Join our exclusive\, Adult MMA (Mixed Martial Arts) program at Black Rock Martial Arts! Designed for serious practitioners\, these intense sessions focus on sparring\, grappling\, and advanced MMA techniques. Experience a challenging environment that pushes your limits and hones your striking\, clinch\, and ground skills. Our experienced coaches provide personalized guidance\, ensuring that every participant improves their strategy\, stamina\, and performance. Perfect for those looking to compete or elevate their training to the next level. Join a dedicated group of fighters committed to excellence.
URL:https://blackrock-kadence.gotbdev.com/event/adult-mma-mixed-martial-arts-invite-only-2/2027-11-17/
CATEGORIES:MMA
ATTACH;FMTTYPE=image/jpeg:https://blackrock-kadence.gotbdev.com/wp-content/uploads/2025/11/WPA05634-scaled-1-scaled.jpg
END:VEVENT
BEGIN:VEVENT
DTSTART;TZID=America/Vancouver:20271119T200000
DTEND;TZID=America/Vancouver:20271119T213000
DTSTAMP:20260423T031609
CREATED:20250705T173710Z
LAST-MODIFIED:20260221T002621Z
UID:10016655-1826654400-1826659800@blackrock-kadence.gotbdev.com
SUMMARY:Adult MMA (Mixed Martial Arts)
DESCRIPTION:Join our exclusive\, Adult MMA (Mixed Martial Arts) program at Black Rock Martial Arts! Designed for serious practitioners\, these intense sessions focus on sparring\, grappling\, and advanced MMA techniques. Experience a challenging environment that pushes your limits and hones your striking\, clinch\, and ground skills. Our experienced coaches provide personalized guidance\, ensuring that every participant improves their strategy\, stamina\, and performance. Perfect for those looking to compete or elevate their training to the next level. Join a dedicated group of fighters committed to excellence.
URL:https://blackrock-kadence.gotbdev.com/event/adult-mma-mixed-martial-arts-invite-only-2/2027-11-19/
CATEGORIES:MMA
ATTACH;FMTTYPE=image/jpeg:https://blackrock-kadence.gotbdev.com/wp-content/uploads/2025/11/WPA05634-scaled-1-scaled.jpg
END:VEVENT
BEGIN:VEVENT
DTSTART;TZID=America/Vancouver:20271122T200000
DTEND;TZID=America/Vancouver:20271122T213000
DTSTAMP:20260423T031609
CREATED:20250705T173710Z
LAST-MODIFIED:20260221T002621Z
UID:10016656-1826913600-1826919000@blackrock-kadence.gotbdev.com
SUMMARY:Adult MMA (Mixed Martial Arts)
DESCRIPTION:Join our exclusive\, Adult MMA (Mixed Martial Arts) program at Black Rock Martial Arts! Designed for serious practitioners\, these intense sessions focus on sparring\, grappling\, and advanced MMA techniques. Experience a challenging environment that pushes your limits and hones your striking\, clinch\, and ground skills. Our experienced coaches provide personalized guidance\, ensuring that every participant improves their strategy\, stamina\, and performance. Perfect for those looking to compete or elevate their training to the next level. Join a dedicated group of fighters committed to excellence.
URL:https://blackrock-kadence.gotbdev.com/event/adult-mma-mixed-martial-arts-invite-only-2/2027-11-22/
CATEGORIES:MMA
ATTACH;FMTTYPE=image/jpeg:https://blackrock-kadence.gotbdev.com/wp-content/uploads/2025/11/WPA05634-scaled-1-scaled.jpg
END:VEVENT
BEGIN:VEVENT
DTSTART;TZID=America/Vancouver:20271124T200000
DTEND;TZID=America/Vancouver:20271124T213000
DTSTAMP:20260423T031609
CREATED:20250705T173710Z
LAST-MODIFIED:20260221T002621Z
UID:10016657-1827086400-1827091800@blackrock-kadence.gotbdev.com
SUMMARY:Adult MMA (Mixed Martial Arts)
DESCRIPTION:Join our exclusive\, Adult MMA (Mixed Martial Arts) program at Black Rock Martial Arts! Designed for serious practitioners\, these intense sessions focus on sparring\, grappling\, and advanced MMA techniques. Experience a challenging environment that pushes your limits and hones your striking\, clinch\, and ground skills. Our experienced coaches provide personalized guidance\, ensuring that every participant improves their strategy\, stamina\, and performance. Perfect for those looking to compete or elevate their training to the next level. Join a dedicated group of fighters committed to excellence.
URL:https://blackrock-kadence.gotbdev.com/event/adult-mma-mixed-martial-arts-invite-only-2/2027-11-24/
CATEGORIES:MMA
ATTACH;FMTTYPE=image/jpeg:https://blackrock-kadence.gotbdev.com/wp-content/uploads/2025/11/WPA05634-scaled-1-scaled.jpg
END:VEVENT
BEGIN:VEVENT
DTSTART;TZID=America/Vancouver:20271126T200000
DTEND;TZID=America/Vancouver:20271126T213000
DTSTAMP:20260423T031609
CREATED:20250705T173710Z
LAST-MODIFIED:20260221T002621Z
UID:10016658-1827259200-1827264600@blackrock-kadence.gotbdev.com
SUMMARY:Adult MMA (Mixed Martial Arts)
DESCRIPTION:Join our exclusive\, Adult MMA (Mixed Martial Arts) program at Black Rock Martial Arts! Designed for serious practitioners\, these intense sessions focus on sparring\, grappling\, and advanced MMA techniques. Experience a challenging environment that pushes your limits and hones your striking\, clinch\, and ground skills. Our experienced coaches provide personalized guidance\, ensuring that every participant improves their strategy\, stamina\, and performance. Perfect for those looking to compete or elevate their training to the next level. Join a dedicated group of fighters committed to excellence.
URL:https://blackrock-kadence.gotbdev.com/event/adult-mma-mixed-martial-arts-invite-only-2/2027-11-26/
CATEGORIES:MMA
ATTACH;FMTTYPE=image/jpeg:https://blackrock-kadence.gotbdev.com/wp-content/uploads/2025/11/WPA05634-scaled-1-scaled.jpg
END:VEVENT
BEGIN:VEVENT
DTSTART;TZID=America/Vancouver:20271129T200000
DTEND;TZID=America/Vancouver:20271129T213000
DTSTAMP:20260423T031609
CREATED:20250705T173710Z
LAST-MODIFIED:20260221T002621Z
UID:10016659-1827518400-1827523800@blackrock-kadence.gotbdev.com
SUMMARY:Adult MMA (Mixed Martial Arts)
DESCRIPTION:Join our exclusive\, Adult MMA (Mixed Martial Arts) program at Black Rock Martial Arts! Designed for serious practitioners\, these intense sessions focus on sparring\, grappling\, and advanced MMA techniques. Experience a challenging environment that pushes your limits and hones your striking\, clinch\, and ground skills. Our experienced coaches provide personalized guidance\, ensuring that every participant improves their strategy\, stamina\, and performance. Perfect for those looking to compete or elevate their training to the next level. Join a dedicated group of fighters committed to excellence.
URL:https://blackrock-kadence.gotbdev.com/event/adult-mma-mixed-martial-arts-invite-only-2/2027-11-29/
CATEGORIES:MMA
ATTACH;FMTTYPE=image/jpeg:https://blackrock-kadence.gotbdev.com/wp-content/uploads/2025/11/WPA05634-scaled-1-scaled.jpg
END:VEVENT
END:VCALENDAR