BEGIN:VCALENDAR
VERSION:2.0
PRODID:-// - ECPv6.15.20//NONSGML v1.0//EN
CALSCALE:GREGORIAN
METHOD:PUBLISH
X-ORIGINAL-URL:https://blackrock-kadence.gotbdev.com
X-WR-CALDESC:Events for 
REFRESH-INTERVAL;VALUE=DURATION:PT1H
X-Robots-Tag:noindex
X-PUBLISHED-TTL:PT1H
BEGIN:VTIMEZONE
TZID:America/Vancouver
BEGIN:DAYLIGHT
TZOFFSETFROM:-0800
TZOFFSETTO:-0700
TZNAME:PDT
DTSTART:20250309T100000
END:DAYLIGHT
BEGIN:STANDARD
TZOFFSETFROM:-0700
TZOFFSETTO:-0800
TZNAME:PST
DTSTART:20251102T090000
END:STANDARD
BEGIN:DAYLIGHT
TZOFFSETFROM:-0800
TZOFFSETTO:-0700
TZNAME:PDT
DTSTART:20260308T100000
END:DAYLIGHT
BEGIN:STANDARD
TZOFFSETFROM:-0700
TZOFFSETTO:-0800
TZNAME:PST
DTSTART:20261101T090000
END:STANDARD
BEGIN:DAYLIGHT
TZOFFSETFROM:-0800
TZOFFSETTO:-0700
TZNAME:PDT
DTSTART:20270314T100000
END:DAYLIGHT
BEGIN:STANDARD
TZOFFSETFROM:-0700
TZOFFSETTO:-0800
TZNAME:PST
DTSTART:20271107T090000
END:STANDARD
END:VTIMEZONE
BEGIN:VEVENT
DTSTART;TZID=America/Vancouver:20260202T180000
DTEND;TZID=America/Vancouver:20260202T190000
DTSTAMP:20260421T085820
CREATED:20250307T004221Z
LAST-MODIFIED:20260221T002730Z
UID:10015113-1770055200-1770058800@blackrock-kadence.gotbdev.com
SUMMARY:Mezz: Jiu Jitsu Fundamentals
DESCRIPTION:Perfect for beginners and those looking to refine their technique\, our Jiu Jitsu Fundamentals class focuses on core movements\, essential positions\, and foundational strategies. Learn in a supportive environment while building strength\, flexibility\, and confidence on the mat.
URL:https://blackrock-kadence.gotbdev.com/event/jiu-jitsu-fundamentals-4-2/2026-02-02/
CATEGORIES:Jiu Jitsu
ATTACH;FMTTYPE=image/jpeg:https://blackrock-kadence.gotbdev.com/wp-content/uploads/2025/11/WPA4490-scaled-1-scaled.jpg
END:VEVENT
BEGIN:VEVENT
DTSTART;TZID=America/Vancouver:20260203T190000
DTEND;TZID=America/Vancouver:20260203T203000
DTSTAMP:20260421T085820
CREATED:20240917T180118Z
LAST-MODIFIED:20260221T003433Z
UID:10007021-1770145200-1770150600@blackrock-kadence.gotbdev.com
SUMMARY:Adult Jiu Jitsu
DESCRIPTION:Experience Adult No-Gi Jiu-Jitsu at Black Rock Martial Arts\, where you’ll master grappling techniques\, enhance your strength\, and build confidence in a supportive\, dynamic environment. Our classes focus on real-world self-defense\, agility\, and strategy\, making them ideal for both beginners and seasoned practitioners. Under the guidance of skilled instructors\, you’ll learn to control opponents\, execute submissions\, and refine your skills through live sparring. Whether you’re aiming for competition or personal growth\, our classes provide the challenge and community you need to excel.
URL:https://blackrock-kadence.gotbdev.com/event/adult-no-gi-jiu-jitsu/2026-02-03/
CATEGORIES:Jiu Jitsu
ATTACH;FMTTYPE=image/jpeg:https://blackrock-kadence.gotbdev.com/wp-content/uploads/2025/11/JAK0198-scaled-1-scaled.jpg
END:VEVENT
BEGIN:VEVENT
DTSTART;TZID=America/Vancouver:20260204T180000
DTEND;TZID=America/Vancouver:20260204T190000
DTSTAMP:20260421T085820
CREATED:20250307T004221Z
LAST-MODIFIED:20260221T002730Z
UID:10015114-1770228000-1770231600@blackrock-kadence.gotbdev.com
SUMMARY:Mezz: Jiu Jitsu Fundamentals
DESCRIPTION:Perfect for beginners and those looking to refine their technique\, our Jiu Jitsu Fundamentals class focuses on core movements\, essential positions\, and foundational strategies. Learn in a supportive environment while building strength\, flexibility\, and confidence on the mat.
URL:https://blackrock-kadence.gotbdev.com/event/jiu-jitsu-fundamentals-4-2/2026-02-04/
CATEGORIES:Jiu Jitsu
ATTACH;FMTTYPE=image/jpeg:https://blackrock-kadence.gotbdev.com/wp-content/uploads/2025/11/WPA4490-scaled-1-scaled.jpg
END:VEVENT
BEGIN:VEVENT
DTSTART;TZID=America/Vancouver:20260205T190000
DTEND;TZID=America/Vancouver:20260205T203000
DTSTAMP:20260421T085820
CREATED:20240917T180118Z
LAST-MODIFIED:20260221T003433Z
UID:10007022-1770318000-1770323400@blackrock-kadence.gotbdev.com
SUMMARY:Adult Jiu Jitsu
DESCRIPTION:Experience Adult No-Gi Jiu-Jitsu at Black Rock Martial Arts\, where you’ll master grappling techniques\, enhance your strength\, and build confidence in a supportive\, dynamic environment. Our classes focus on real-world self-defense\, agility\, and strategy\, making them ideal for both beginners and seasoned practitioners. Under the guidance of skilled instructors\, you’ll learn to control opponents\, execute submissions\, and refine your skills through live sparring. Whether you’re aiming for competition or personal growth\, our classes provide the challenge and community you need to excel.
URL:https://blackrock-kadence.gotbdev.com/event/adult-no-gi-jiu-jitsu/2026-02-05/
CATEGORIES:Jiu Jitsu
ATTACH;FMTTYPE=image/jpeg:https://blackrock-kadence.gotbdev.com/wp-content/uploads/2025/11/JAK0198-scaled-1-scaled.jpg
END:VEVENT
BEGIN:VEVENT
DTSTART;TZID=America/Vancouver:20260206T190000
DTEND;TZID=America/Vancouver:20260206T203000
DTSTAMP:20260421T085820
CREATED:20240917T180118Z
LAST-MODIFIED:20260221T003433Z
UID:10007023-1770404400-1770409800@blackrock-kadence.gotbdev.com
SUMMARY:Adult Jiu Jitsu
DESCRIPTION:Experience Adult No-Gi Jiu-Jitsu at Black Rock Martial Arts\, where you’ll master grappling techniques\, enhance your strength\, and build confidence in a supportive\, dynamic environment. Our classes focus on real-world self-defense\, agility\, and strategy\, making them ideal for both beginners and seasoned practitioners. Under the guidance of skilled instructors\, you’ll learn to control opponents\, execute submissions\, and refine your skills through live sparring. Whether you’re aiming for competition or personal growth\, our classes provide the challenge and community you need to excel.
URL:https://blackrock-kadence.gotbdev.com/event/adult-no-gi-jiu-jitsu/2026-02-06/
CATEGORIES:Jiu Jitsu
ATTACH;FMTTYPE=image/jpeg:https://blackrock-kadence.gotbdev.com/wp-content/uploads/2025/11/JAK0198-scaled-1-scaled.jpg
END:VEVENT
BEGIN:VEVENT
DTSTART;TZID=America/Vancouver:20260209T180000
DTEND;TZID=America/Vancouver:20260209T190000
DTSTAMP:20260421T085820
CREATED:20250307T004221Z
LAST-MODIFIED:20260221T002730Z
UID:10015115-1770660000-1770663600@blackrock-kadence.gotbdev.com
SUMMARY:Mezz: Jiu Jitsu Fundamentals
DESCRIPTION:Perfect for beginners and those looking to refine their technique\, our Jiu Jitsu Fundamentals class focuses on core movements\, essential positions\, and foundational strategies. Learn in a supportive environment while building strength\, flexibility\, and confidence on the mat.
URL:https://blackrock-kadence.gotbdev.com/event/jiu-jitsu-fundamentals-4-2/2026-02-09/
CATEGORIES:Jiu Jitsu
ATTACH;FMTTYPE=image/jpeg:https://blackrock-kadence.gotbdev.com/wp-content/uploads/2025/11/WPA4490-scaled-1-scaled.jpg
END:VEVENT
BEGIN:VEVENT
DTSTART;TZID=America/Vancouver:20260210T190000
DTEND;TZID=America/Vancouver:20260210T203000
DTSTAMP:20260421T085820
CREATED:20240917T180118Z
LAST-MODIFIED:20260221T003433Z
UID:10007024-1770750000-1770755400@blackrock-kadence.gotbdev.com
SUMMARY:Adult Jiu Jitsu
DESCRIPTION:Experience Adult No-Gi Jiu-Jitsu at Black Rock Martial Arts\, where you’ll master grappling techniques\, enhance your strength\, and build confidence in a supportive\, dynamic environment. Our classes focus on real-world self-defense\, agility\, and strategy\, making them ideal for both beginners and seasoned practitioners. Under the guidance of skilled instructors\, you’ll learn to control opponents\, execute submissions\, and refine your skills through live sparring. Whether you’re aiming for competition or personal growth\, our classes provide the challenge and community you need to excel.
URL:https://blackrock-kadence.gotbdev.com/event/adult-no-gi-jiu-jitsu/2026-02-10/
CATEGORIES:Jiu Jitsu
ATTACH;FMTTYPE=image/jpeg:https://blackrock-kadence.gotbdev.com/wp-content/uploads/2025/11/JAK0198-scaled-1-scaled.jpg
END:VEVENT
BEGIN:VEVENT
DTSTART;TZID=America/Vancouver:20260211T180000
DTEND;TZID=America/Vancouver:20260211T190000
DTSTAMP:20260421T085820
CREATED:20250307T004221Z
LAST-MODIFIED:20260221T002730Z
UID:10015116-1770832800-1770836400@blackrock-kadence.gotbdev.com
SUMMARY:Mezz: Jiu Jitsu Fundamentals
DESCRIPTION:Perfect for beginners and those looking to refine their technique\, our Jiu Jitsu Fundamentals class focuses on core movements\, essential positions\, and foundational strategies. Learn in a supportive environment while building strength\, flexibility\, and confidence on the mat.
URL:https://blackrock-kadence.gotbdev.com/event/jiu-jitsu-fundamentals-4-2/2026-02-11/
CATEGORIES:Jiu Jitsu
ATTACH;FMTTYPE=image/jpeg:https://blackrock-kadence.gotbdev.com/wp-content/uploads/2025/11/WPA4490-scaled-1-scaled.jpg
END:VEVENT
BEGIN:VEVENT
DTSTART;TZID=America/Vancouver:20260212T190000
DTEND;TZID=America/Vancouver:20260212T203000
DTSTAMP:20260421T085820
CREATED:20240917T180118Z
LAST-MODIFIED:20260221T003433Z
UID:10007025-1770922800-1770928200@blackrock-kadence.gotbdev.com
SUMMARY:Adult Jiu Jitsu
DESCRIPTION:Experience Adult No-Gi Jiu-Jitsu at Black Rock Martial Arts\, where you’ll master grappling techniques\, enhance your strength\, and build confidence in a supportive\, dynamic environment. Our classes focus on real-world self-defense\, agility\, and strategy\, making them ideal for both beginners and seasoned practitioners. Under the guidance of skilled instructors\, you’ll learn to control opponents\, execute submissions\, and refine your skills through live sparring. Whether you’re aiming for competition or personal growth\, our classes provide the challenge and community you need to excel.
URL:https://blackrock-kadence.gotbdev.com/event/adult-no-gi-jiu-jitsu/2026-02-12/
CATEGORIES:Jiu Jitsu
ATTACH;FMTTYPE=image/jpeg:https://blackrock-kadence.gotbdev.com/wp-content/uploads/2025/11/JAK0198-scaled-1-scaled.jpg
END:VEVENT
BEGIN:VEVENT
DTSTART;TZID=America/Vancouver:20260213T190000
DTEND;TZID=America/Vancouver:20260213T203000
DTSTAMP:20260421T085820
CREATED:20240917T180118Z
LAST-MODIFIED:20260221T003433Z
UID:10007026-1771009200-1771014600@blackrock-kadence.gotbdev.com
SUMMARY:Adult Jiu Jitsu
DESCRIPTION:Experience Adult No-Gi Jiu-Jitsu at Black Rock Martial Arts\, where you’ll master grappling techniques\, enhance your strength\, and build confidence in a supportive\, dynamic environment. Our classes focus on real-world self-defense\, agility\, and strategy\, making them ideal for both beginners and seasoned practitioners. Under the guidance of skilled instructors\, you’ll learn to control opponents\, execute submissions\, and refine your skills through live sparring. Whether you’re aiming for competition or personal growth\, our classes provide the challenge and community you need to excel.
URL:https://blackrock-kadence.gotbdev.com/event/adult-no-gi-jiu-jitsu/2026-02-13/
CATEGORIES:Jiu Jitsu
ATTACH;FMTTYPE=image/jpeg:https://blackrock-kadence.gotbdev.com/wp-content/uploads/2025/11/JAK0198-scaled-1-scaled.jpg
END:VEVENT
BEGIN:VEVENT
DTSTART;TZID=America/Vancouver:20260216T180000
DTEND;TZID=America/Vancouver:20260216T190000
DTSTAMP:20260421T085820
CREATED:20250307T004221Z
LAST-MODIFIED:20260221T002730Z
UID:10015117-1771264800-1771268400@blackrock-kadence.gotbdev.com
SUMMARY:Mezz: Jiu Jitsu Fundamentals
DESCRIPTION:Perfect for beginners and those looking to refine their technique\, our Jiu Jitsu Fundamentals class focuses on core movements\, essential positions\, and foundational strategies. Learn in a supportive environment while building strength\, flexibility\, and confidence on the mat.
URL:https://blackrock-kadence.gotbdev.com/event/jiu-jitsu-fundamentals-4-2/2026-02-16/
CATEGORIES:Jiu Jitsu
ATTACH;FMTTYPE=image/jpeg:https://blackrock-kadence.gotbdev.com/wp-content/uploads/2025/11/WPA4490-scaled-1-scaled.jpg
END:VEVENT
BEGIN:VEVENT
DTSTART;TZID=America/Vancouver:20260217T190000
DTEND;TZID=America/Vancouver:20260217T203000
DTSTAMP:20260421T085820
CREATED:20240917T180118Z
LAST-MODIFIED:20260221T003433Z
UID:10007027-1771354800-1771360200@blackrock-kadence.gotbdev.com
SUMMARY:Adult Jiu Jitsu
DESCRIPTION:Experience Adult No-Gi Jiu-Jitsu at Black Rock Martial Arts\, where you’ll master grappling techniques\, enhance your strength\, and build confidence in a supportive\, dynamic environment. Our classes focus on real-world self-defense\, agility\, and strategy\, making them ideal for both beginners and seasoned practitioners. Under the guidance of skilled instructors\, you’ll learn to control opponents\, execute submissions\, and refine your skills through live sparring. Whether you’re aiming for competition or personal growth\, our classes provide the challenge and community you need to excel.
URL:https://blackrock-kadence.gotbdev.com/event/adult-no-gi-jiu-jitsu/2026-02-17/
CATEGORIES:Jiu Jitsu
ATTACH;FMTTYPE=image/jpeg:https://blackrock-kadence.gotbdev.com/wp-content/uploads/2025/11/JAK0198-scaled-1-scaled.jpg
END:VEVENT
BEGIN:VEVENT
DTSTART;TZID=America/Vancouver:20260218T180000
DTEND;TZID=America/Vancouver:20260218T190000
DTSTAMP:20260421T085820
CREATED:20250307T004221Z
LAST-MODIFIED:20260221T002730Z
UID:10015118-1771437600-1771441200@blackrock-kadence.gotbdev.com
SUMMARY:Mezz: Jiu Jitsu Fundamentals
DESCRIPTION:Perfect for beginners and those looking to refine their technique\, our Jiu Jitsu Fundamentals class focuses on core movements\, essential positions\, and foundational strategies. Learn in a supportive environment while building strength\, flexibility\, and confidence on the mat.
URL:https://blackrock-kadence.gotbdev.com/event/jiu-jitsu-fundamentals-4-2/2026-02-18/
CATEGORIES:Jiu Jitsu
ATTACH;FMTTYPE=image/jpeg:https://blackrock-kadence.gotbdev.com/wp-content/uploads/2025/11/WPA4490-scaled-1-scaled.jpg
END:VEVENT
BEGIN:VEVENT
DTSTART;TZID=America/Vancouver:20260219T190000
DTEND;TZID=America/Vancouver:20260219T203000
DTSTAMP:20260421T085820
CREATED:20240917T180118Z
LAST-MODIFIED:20260221T003433Z
UID:10007028-1771527600-1771533000@blackrock-kadence.gotbdev.com
SUMMARY:Adult Jiu Jitsu
DESCRIPTION:Experience Adult No-Gi Jiu-Jitsu at Black Rock Martial Arts\, where you’ll master grappling techniques\, enhance your strength\, and build confidence in a supportive\, dynamic environment. Our classes focus on real-world self-defense\, agility\, and strategy\, making them ideal for both beginners and seasoned practitioners. Under the guidance of skilled instructors\, you’ll learn to control opponents\, execute submissions\, and refine your skills through live sparring. Whether you’re aiming for competition or personal growth\, our classes provide the challenge and community you need to excel.
URL:https://blackrock-kadence.gotbdev.com/event/adult-no-gi-jiu-jitsu/2026-02-19/
CATEGORIES:Jiu Jitsu
ATTACH;FMTTYPE=image/jpeg:https://blackrock-kadence.gotbdev.com/wp-content/uploads/2025/11/JAK0198-scaled-1-scaled.jpg
END:VEVENT
BEGIN:VEVENT
DTSTART;TZID=America/Vancouver:20260220T190000
DTEND;TZID=America/Vancouver:20260220T203000
DTSTAMP:20260421T085820
CREATED:20240917T180118Z
LAST-MODIFIED:20260221T003433Z
UID:10007029-1771614000-1771619400@blackrock-kadence.gotbdev.com
SUMMARY:Adult Jiu Jitsu
DESCRIPTION:Experience Adult No-Gi Jiu-Jitsu at Black Rock Martial Arts\, where you’ll master grappling techniques\, enhance your strength\, and build confidence in a supportive\, dynamic environment. Our classes focus on real-world self-defense\, agility\, and strategy\, making them ideal for both beginners and seasoned practitioners. Under the guidance of skilled instructors\, you’ll learn to control opponents\, execute submissions\, and refine your skills through live sparring. Whether you’re aiming for competition or personal growth\, our classes provide the challenge and community you need to excel.
URL:https://blackrock-kadence.gotbdev.com/event/adult-no-gi-jiu-jitsu/2026-02-20/
CATEGORIES:Jiu Jitsu
ATTACH;FMTTYPE=image/jpeg:https://blackrock-kadence.gotbdev.com/wp-content/uploads/2025/11/JAK0198-scaled-1-scaled.jpg
END:VEVENT
BEGIN:VEVENT
DTSTART;TZID=America/Vancouver:20260223T180000
DTEND;TZID=America/Vancouver:20260223T190000
DTSTAMP:20260421T085820
CREATED:20250307T004221Z
LAST-MODIFIED:20260221T002730Z
UID:10015119-1771869600-1771873200@blackrock-kadence.gotbdev.com
SUMMARY:Mezz: Jiu Jitsu Fundamentals
DESCRIPTION:Perfect for beginners and those looking to refine their technique\, our Jiu Jitsu Fundamentals class focuses on core movements\, essential positions\, and foundational strategies. Learn in a supportive environment while building strength\, flexibility\, and confidence on the mat.
URL:https://blackrock-kadence.gotbdev.com/event/jiu-jitsu-fundamentals-4-2/2026-02-23/
CATEGORIES:Jiu Jitsu
ATTACH;FMTTYPE=image/jpeg:https://blackrock-kadence.gotbdev.com/wp-content/uploads/2025/11/WPA4490-scaled-1-scaled.jpg
END:VEVENT
BEGIN:VEVENT
DTSTART;TZID=America/Vancouver:20260224T190000
DTEND;TZID=America/Vancouver:20260224T203000
DTSTAMP:20260421T085820
CREATED:20240917T180118Z
LAST-MODIFIED:20260221T003433Z
UID:10007030-1771959600-1771965000@blackrock-kadence.gotbdev.com
SUMMARY:Adult Jiu Jitsu
DESCRIPTION:Experience Adult No-Gi Jiu-Jitsu at Black Rock Martial Arts\, where you’ll master grappling techniques\, enhance your strength\, and build confidence in a supportive\, dynamic environment. Our classes focus on real-world self-defense\, agility\, and strategy\, making them ideal for both beginners and seasoned practitioners. Under the guidance of skilled instructors\, you’ll learn to control opponents\, execute submissions\, and refine your skills through live sparring. Whether you’re aiming for competition or personal growth\, our classes provide the challenge and community you need to excel.
URL:https://blackrock-kadence.gotbdev.com/event/adult-no-gi-jiu-jitsu/2026-02-24/
CATEGORIES:Jiu Jitsu
ATTACH;FMTTYPE=image/jpeg:https://blackrock-kadence.gotbdev.com/wp-content/uploads/2025/11/JAK0198-scaled-1-scaled.jpg
END:VEVENT
BEGIN:VEVENT
DTSTART;TZID=America/Vancouver:20260225T180000
DTEND;TZID=America/Vancouver:20260225T190000
DTSTAMP:20260421T085820
CREATED:20250307T004221Z
LAST-MODIFIED:20260221T002730Z
UID:10015120-1772042400-1772046000@blackrock-kadence.gotbdev.com
SUMMARY:Mezz: Jiu Jitsu Fundamentals
DESCRIPTION:Perfect for beginners and those looking to refine their technique\, our Jiu Jitsu Fundamentals class focuses on core movements\, essential positions\, and foundational strategies. Learn in a supportive environment while building strength\, flexibility\, and confidence on the mat.
URL:https://blackrock-kadence.gotbdev.com/event/jiu-jitsu-fundamentals-4-2/2026-02-25/
CATEGORIES:Jiu Jitsu
ATTACH;FMTTYPE=image/jpeg:https://blackrock-kadence.gotbdev.com/wp-content/uploads/2025/11/WPA4490-scaled-1-scaled.jpg
END:VEVENT
BEGIN:VEVENT
DTSTART;TZID=America/Vancouver:20260226T190000
DTEND;TZID=America/Vancouver:20260226T203000
DTSTAMP:20260421T085820
CREATED:20240917T180118Z
LAST-MODIFIED:20260221T003433Z
UID:10007031-1772132400-1772137800@blackrock-kadence.gotbdev.com
SUMMARY:Adult Jiu Jitsu
DESCRIPTION:Experience Adult No-Gi Jiu-Jitsu at Black Rock Martial Arts\, where you’ll master grappling techniques\, enhance your strength\, and build confidence in a supportive\, dynamic environment. Our classes focus on real-world self-defense\, agility\, and strategy\, making them ideal for both beginners and seasoned practitioners. Under the guidance of skilled instructors\, you’ll learn to control opponents\, execute submissions\, and refine your skills through live sparring. Whether you’re aiming for competition or personal growth\, our classes provide the challenge and community you need to excel.
URL:https://blackrock-kadence.gotbdev.com/event/adult-no-gi-jiu-jitsu/2026-02-26/
CATEGORIES:Jiu Jitsu
ATTACH;FMTTYPE=image/jpeg:https://blackrock-kadence.gotbdev.com/wp-content/uploads/2025/11/JAK0198-scaled-1-scaled.jpg
END:VEVENT
BEGIN:VEVENT
DTSTART;TZID=America/Vancouver:20260227T190000
DTEND;TZID=America/Vancouver:20260227T203000
DTSTAMP:20260421T085820
CREATED:20240917T180118Z
LAST-MODIFIED:20260221T003433Z
UID:10007032-1772218800-1772224200@blackrock-kadence.gotbdev.com
SUMMARY:Adult Jiu Jitsu
DESCRIPTION:Experience Adult No-Gi Jiu-Jitsu at Black Rock Martial Arts\, where you’ll master grappling techniques\, enhance your strength\, and build confidence in a supportive\, dynamic environment. Our classes focus on real-world self-defense\, agility\, and strategy\, making them ideal for both beginners and seasoned practitioners. Under the guidance of skilled instructors\, you’ll learn to control opponents\, execute submissions\, and refine your skills through live sparring. Whether you’re aiming for competition or personal growth\, our classes provide the challenge and community you need to excel.
URL:https://blackrock-kadence.gotbdev.com/event/adult-no-gi-jiu-jitsu/2026-02-27/
CATEGORIES:Jiu Jitsu
ATTACH;FMTTYPE=image/jpeg:https://blackrock-kadence.gotbdev.com/wp-content/uploads/2025/11/JAK0198-scaled-1-scaled.jpg
END:VEVENT
END:VCALENDAR