BEGIN:VCALENDAR
VERSION:2.0
PRODID:-// - ECPv6.15.20//NONSGML v1.0//EN
CALSCALE:GREGORIAN
METHOD:PUBLISH
X-ORIGINAL-URL:https://blackrock-kadence.gotbdev.com
X-WR-CALDESC:Events for 
REFRESH-INTERVAL;VALUE=DURATION:PT1H
X-Robots-Tag:noindex
X-PUBLISHED-TTL:PT1H
BEGIN:VTIMEZONE
TZID:America/Vancouver
BEGIN:DAYLIGHT
TZOFFSETFROM:-0800
TZOFFSETTO:-0700
TZNAME:PDT
DTSTART:20250309T100000
END:DAYLIGHT
BEGIN:STANDARD
TZOFFSETFROM:-0700
TZOFFSETTO:-0800
TZNAME:PST
DTSTART:20251102T090000
END:STANDARD
BEGIN:DAYLIGHT
TZOFFSETFROM:-0800
TZOFFSETTO:-0700
TZNAME:PDT
DTSTART:20260308T100000
END:DAYLIGHT
BEGIN:STANDARD
TZOFFSETFROM:-0700
TZOFFSETTO:-0800
TZNAME:PST
DTSTART:20261101T090000
END:STANDARD
BEGIN:DAYLIGHT
TZOFFSETFROM:-0800
TZOFFSETTO:-0700
TZNAME:PDT
DTSTART:20270314T100000
END:DAYLIGHT
BEGIN:STANDARD
TZOFFSETFROM:-0700
TZOFFSETTO:-0800
TZNAME:PST
DTSTART:20271107T090000
END:STANDARD
END:VTIMEZONE
BEGIN:VEVENT
DTSTART;TZID=America/Vancouver:20260302T170000
DTEND;TZID=America/Vancouver:20260302T180000
DTSTAMP:20260421T101853
CREATED:20241102T184457Z
LAST-MODIFIED:20260221T004152Z
UID:10008208-1772470800-1772474400@blackrock-kadence.gotbdev.com
SUMMARY:Teen Kickboxing
DESCRIPTION:Join Teen Kickboxing classes at Black Rock Martial Arts\, tailored for ages 12-17! Bring your gloves and join our high-energy workouts combine kickboxing techniques with cardio exercises to enhance fitness\, strength\, and endurance. Suitable for all skill levels\, these classes focus on building coordination\, agility\, and confidence in a fun and supportive environment. Led by experienced instructors\, teens learn essential self-defense skills and enjoy a dynamic\, engaging workout. It’s a great way to stay active\, make friends\, and feel empowered\, while having fun and reaching fitness goals.
URL:https://blackrock-kadence.gotbdev.com/event/teen-kickboxing-dutch-drilling-2/2026-03-02/
CATEGORIES:Kickboxing
ATTACH;FMTTYPE=image/jpeg:https://blackrock-kadence.gotbdev.com/wp-content/uploads/2025/11/WPA4369-scaled-1-scaled.jpg
END:VEVENT
END:VCALENDAR