BEGIN:VCALENDAR
VERSION:2.0
PRODID:-// - ECPv6.15.20//NONSGML v1.0//EN
CALSCALE:GREGORIAN
METHOD:PUBLISH
X-ORIGINAL-URL:https://blackrock-kadence.gotbdev.com
X-WR-CALDESC:Events for 
REFRESH-INTERVAL;VALUE=DURATION:PT1H
X-Robots-Tag:noindex
X-PUBLISHED-TTL:PT1H
BEGIN:VTIMEZONE
TZID:America/Vancouver
BEGIN:DAYLIGHT
TZOFFSETFROM:-0800
TZOFFSETTO:-0700
TZNAME:PDT
DTSTART:20250309T100000
END:DAYLIGHT
BEGIN:STANDARD
TZOFFSETFROM:-0700
TZOFFSETTO:-0800
TZNAME:PST
DTSTART:20251102T090000
END:STANDARD
BEGIN:DAYLIGHT
TZOFFSETFROM:-0800
TZOFFSETTO:-0700
TZNAME:PDT
DTSTART:20260308T100000
END:DAYLIGHT
BEGIN:STANDARD
TZOFFSETFROM:-0700
TZOFFSETTO:-0800
TZNAME:PST
DTSTART:20261101T090000
END:STANDARD
BEGIN:DAYLIGHT
TZOFFSETFROM:-0800
TZOFFSETTO:-0700
TZNAME:PDT
DTSTART:20270314T100000
END:DAYLIGHT
BEGIN:STANDARD
TZOFFSETFROM:-0700
TZOFFSETTO:-0800
TZNAME:PST
DTSTART:20271107T090000
END:STANDARD
END:VTIMEZONE
BEGIN:VEVENT
DTSTART;TZID=America/Vancouver:20260701T153000
DTEND;TZID=America/Vancouver:20260701T161500
DTSTAMP:20260421T064810
CREATED:20250902T163538Z
LAST-MODIFIED:20260221T002534Z
UID:10017291-1782919800-1782922500@blackrock-kadence.gotbdev.com
SUMMARY:Kids Jiu Jitsu (6–9 Years Old)
DESCRIPTION:Discover Kids Jiu-Jitsu at Black Rock Martial Arts\, designed for ages 6-9. Build strength\, confidence\, and self-defence skills through dynamic\, fun classes. Perfect for kids looking to stay active\, learn discipline\, and connect with peers in a supportive environment.
URL:https://blackrock-kadence.gotbdev.com/event/kids-jiu-jitsu-6-9-3/2026-07-01/
CATEGORIES:Jiu Jitsu
ATTACH;FMTTYPE=image/jpeg:https://blackrock-kadence.gotbdev.com/wp-content/uploads/2025/11/JAK0095-scaled-1-scaled.jpg
END:VEVENT
BEGIN:VEVENT
DTSTART;TZID=America/Vancouver:20260702T170000
DTEND;TZID=America/Vancouver:20260702T174500
DTSTAMP:20260421T064810
CREATED:20240911T172247Z
LAST-MODIFIED:20260221T003221Z
UID:10005324-1783011600-1783014300@blackrock-kadence.gotbdev.com
SUMMARY:Mezz: Kids Jiu Jitsu (6-9 Years Old)
DESCRIPTION:Enroll in Kids Jiu-Jitsu at Black Rock Martial Arts\, designed for ages 6-9! Our classes teach grappling techniques\, self-defense skills\, and body control while promoting confidence and discipline. Perfect for beginners and experienced kids in a fun\, supportive environment.
URL:https://blackrock-kadence.gotbdev.com/event/kids-no-gi-jiu-jitsu-6-11-3/2026-07-02/
CATEGORIES:Jiu Jitsu
ATTACH;FMTTYPE=image/jpeg:https://blackrock-kadence.gotbdev.com/wp-content/uploads/2025/11/JAK0049-scaled-1-scaled.jpg
END:VEVENT
BEGIN:VEVENT
DTSTART;TZID=America/Vancouver:20260702T180000
DTEND;TZID=America/Vancouver:20260702T190000
DTSTAMP:20260421T064810
CREATED:20240912T234812Z
LAST-MODIFIED:20260221T003154Z
UID:10005990-1783015200-1783018800@blackrock-kadence.gotbdev.com
SUMMARY:Mezz: Youth Jiu Jitsu (Ages 10-15)
DESCRIPTION:Discover Youth Jiu-Jitsu at Black Rock Martial Arts\, designed for ages 10-15. Build strength\, confidence\, and self-defense skills through dynamic\, fun classes. Perfect for teens looking to stay active\, learn discipline\, and connect with peers in a supportive environment.
URL:https://blackrock-kadence.gotbdev.com/event/teens-no-gi-jiu-jitsu-12-17-4/2026-07-02/
CATEGORIES:Kids Jiu Jitsu
ATTACH;FMTTYPE=image/jpeg:https://blackrock-kadence.gotbdev.com/wp-content/uploads/2025/11/JAK0147-scaled-1-scaled.jpg
END:VEVENT
BEGIN:VEVENT
DTSTART;TZID=America/Vancouver:20260702T190000
DTEND;TZID=America/Vancouver:20260702T203000
DTSTAMP:20260421T064810
CREATED:20240917T180118Z
LAST-MODIFIED:20260221T003433Z
UID:10007085-1783018800-1783024200@blackrock-kadence.gotbdev.com
SUMMARY:Adult Jiu Jitsu
DESCRIPTION:Experience Adult No-Gi Jiu-Jitsu at Black Rock Martial Arts\, where you’ll master grappling techniques\, enhance your strength\, and build confidence in a supportive\, dynamic environment. Our classes focus on real-world self-defense\, agility\, and strategy\, making them ideal for both beginners and seasoned practitioners. Under the guidance of skilled instructors\, you’ll learn to control opponents\, execute submissions\, and refine your skills through live sparring. Whether you’re aiming for competition or personal growth\, our classes provide the challenge and community you need to excel.
URL:https://blackrock-kadence.gotbdev.com/event/adult-no-gi-jiu-jitsu/2026-07-02/
CATEGORIES:Jiu Jitsu
ATTACH;FMTTYPE=image/jpeg:https://blackrock-kadence.gotbdev.com/wp-content/uploads/2025/11/JAK0198-scaled-1-scaled.jpg
END:VEVENT
BEGIN:VEVENT
DTSTART;TZID=America/Vancouver:20260703T190000
DTEND;TZID=America/Vancouver:20260703T203000
DTSTAMP:20260421T064810
CREATED:20240917T180118Z
LAST-MODIFIED:20260221T003433Z
UID:10007086-1783105200-1783110600@blackrock-kadence.gotbdev.com
SUMMARY:Adult Jiu Jitsu
DESCRIPTION:Experience Adult No-Gi Jiu-Jitsu at Black Rock Martial Arts\, where you’ll master grappling techniques\, enhance your strength\, and build confidence in a supportive\, dynamic environment. Our classes focus on real-world self-defense\, agility\, and strategy\, making them ideal for both beginners and seasoned practitioners. Under the guidance of skilled instructors\, you’ll learn to control opponents\, execute submissions\, and refine your skills through live sparring. Whether you’re aiming for competition or personal growth\, our classes provide the challenge and community you need to excel.
URL:https://blackrock-kadence.gotbdev.com/event/adult-no-gi-jiu-jitsu/2026-07-03/
CATEGORIES:Jiu Jitsu
ATTACH;FMTTYPE=image/jpeg:https://blackrock-kadence.gotbdev.com/wp-content/uploads/2025/11/JAK0198-scaled-1-scaled.jpg
END:VEVENT
BEGIN:VEVENT
DTSTART;TZID=America/Vancouver:20260706T153000
DTEND;TZID=America/Vancouver:20260706T161500
DTSTAMP:20260421T064810
CREATED:20250902T163538Z
LAST-MODIFIED:20260221T002534Z
UID:10017292-1783351800-1783354500@blackrock-kadence.gotbdev.com
SUMMARY:Kids Jiu Jitsu (6–9 Years Old)
DESCRIPTION:Discover Kids Jiu-Jitsu at Black Rock Martial Arts\, designed for ages 6-9. Build strength\, confidence\, and self-defence skills through dynamic\, fun classes. Perfect for kids looking to stay active\, learn discipline\, and connect with peers in a supportive environment.
URL:https://blackrock-kadence.gotbdev.com/event/kids-jiu-jitsu-6-9-3/2026-07-06/
CATEGORIES:Jiu Jitsu
ATTACH;FMTTYPE=image/jpeg:https://blackrock-kadence.gotbdev.com/wp-content/uploads/2025/11/JAK0095-scaled-1-scaled.jpg
END:VEVENT
BEGIN:VEVENT
DTSTART;TZID=America/Vancouver:20260707T170000
DTEND;TZID=America/Vancouver:20260707T174500
DTSTAMP:20260421T064810
CREATED:20240911T172247Z
LAST-MODIFIED:20260221T003221Z
UID:10005325-1783443600-1783446300@blackrock-kadence.gotbdev.com
SUMMARY:Mezz: Kids Jiu Jitsu (6-9 Years Old)
DESCRIPTION:Enroll in Kids Jiu-Jitsu at Black Rock Martial Arts\, designed for ages 6-9! Our classes teach grappling techniques\, self-defense skills\, and body control while promoting confidence and discipline. Perfect for beginners and experienced kids in a fun\, supportive environment.
URL:https://blackrock-kadence.gotbdev.com/event/kids-no-gi-jiu-jitsu-6-11-3/2026-07-07/
CATEGORIES:Jiu Jitsu
ATTACH;FMTTYPE=image/jpeg:https://blackrock-kadence.gotbdev.com/wp-content/uploads/2025/11/JAK0049-scaled-1-scaled.jpg
END:VEVENT
BEGIN:VEVENT
DTSTART;TZID=America/Vancouver:20260707T180000
DTEND;TZID=America/Vancouver:20260707T190000
DTSTAMP:20260421T064810
CREATED:20240912T234812Z
LAST-MODIFIED:20260221T003154Z
UID:10005991-1783447200-1783450800@blackrock-kadence.gotbdev.com
SUMMARY:Mezz: Youth Jiu Jitsu (Ages 10-15)
DESCRIPTION:Discover Youth Jiu-Jitsu at Black Rock Martial Arts\, designed for ages 10-15. Build strength\, confidence\, and self-defense skills through dynamic\, fun classes. Perfect for teens looking to stay active\, learn discipline\, and connect with peers in a supportive environment.
URL:https://blackrock-kadence.gotbdev.com/event/teens-no-gi-jiu-jitsu-12-17-4/2026-07-07/
CATEGORIES:Kids Jiu Jitsu
ATTACH;FMTTYPE=image/jpeg:https://blackrock-kadence.gotbdev.com/wp-content/uploads/2025/11/JAK0147-scaled-1-scaled.jpg
END:VEVENT
BEGIN:VEVENT
DTSTART;TZID=America/Vancouver:20260707T190000
DTEND;TZID=America/Vancouver:20260707T203000
DTSTAMP:20260421T064810
CREATED:20240917T180118Z
LAST-MODIFIED:20260221T003433Z
UID:10007087-1783450800-1783456200@blackrock-kadence.gotbdev.com
SUMMARY:Adult Jiu Jitsu
DESCRIPTION:Experience Adult No-Gi Jiu-Jitsu at Black Rock Martial Arts\, where you’ll master grappling techniques\, enhance your strength\, and build confidence in a supportive\, dynamic environment. Our classes focus on real-world self-defense\, agility\, and strategy\, making them ideal for both beginners and seasoned practitioners. Under the guidance of skilled instructors\, you’ll learn to control opponents\, execute submissions\, and refine your skills through live sparring. Whether you’re aiming for competition or personal growth\, our classes provide the challenge and community you need to excel.
URL:https://blackrock-kadence.gotbdev.com/event/adult-no-gi-jiu-jitsu/2026-07-07/
CATEGORIES:Jiu Jitsu
ATTACH;FMTTYPE=image/jpeg:https://blackrock-kadence.gotbdev.com/wp-content/uploads/2025/11/JAK0198-scaled-1-scaled.jpg
END:VEVENT
BEGIN:VEVENT
DTSTART;TZID=America/Vancouver:20260708T153000
DTEND;TZID=America/Vancouver:20260708T161500
DTSTAMP:20260421T064810
CREATED:20250902T163538Z
LAST-MODIFIED:20260221T002534Z
UID:10017293-1783524600-1783527300@blackrock-kadence.gotbdev.com
SUMMARY:Kids Jiu Jitsu (6–9 Years Old)
DESCRIPTION:Discover Kids Jiu-Jitsu at Black Rock Martial Arts\, designed for ages 6-9. Build strength\, confidence\, and self-defence skills through dynamic\, fun classes. Perfect for kids looking to stay active\, learn discipline\, and connect with peers in a supportive environment.
URL:https://blackrock-kadence.gotbdev.com/event/kids-jiu-jitsu-6-9-3/2026-07-08/
CATEGORIES:Jiu Jitsu
ATTACH;FMTTYPE=image/jpeg:https://blackrock-kadence.gotbdev.com/wp-content/uploads/2025/11/JAK0095-scaled-1-scaled.jpg
END:VEVENT
BEGIN:VEVENT
DTSTART;TZID=America/Vancouver:20260709T170000
DTEND;TZID=America/Vancouver:20260709T174500
DTSTAMP:20260421T064810
CREATED:20240911T172247Z
LAST-MODIFIED:20260221T003221Z
UID:10005326-1783616400-1783619100@blackrock-kadence.gotbdev.com
SUMMARY:Mezz: Kids Jiu Jitsu (6-9 Years Old)
DESCRIPTION:Enroll in Kids Jiu-Jitsu at Black Rock Martial Arts\, designed for ages 6-9! Our classes teach grappling techniques\, self-defense skills\, and body control while promoting confidence and discipline. Perfect for beginners and experienced kids in a fun\, supportive environment.
URL:https://blackrock-kadence.gotbdev.com/event/kids-no-gi-jiu-jitsu-6-11-3/2026-07-09/
CATEGORIES:Jiu Jitsu
ATTACH;FMTTYPE=image/jpeg:https://blackrock-kadence.gotbdev.com/wp-content/uploads/2025/11/JAK0049-scaled-1-scaled.jpg
END:VEVENT
BEGIN:VEVENT
DTSTART;TZID=America/Vancouver:20260709T180000
DTEND;TZID=America/Vancouver:20260709T190000
DTSTAMP:20260421T064810
CREATED:20240912T234812Z
LAST-MODIFIED:20260221T003154Z
UID:10005992-1783620000-1783623600@blackrock-kadence.gotbdev.com
SUMMARY:Mezz: Youth Jiu Jitsu (Ages 10-15)
DESCRIPTION:Discover Youth Jiu-Jitsu at Black Rock Martial Arts\, designed for ages 10-15. Build strength\, confidence\, and self-defense skills through dynamic\, fun classes. Perfect for teens looking to stay active\, learn discipline\, and connect with peers in a supportive environment.
URL:https://blackrock-kadence.gotbdev.com/event/teens-no-gi-jiu-jitsu-12-17-4/2026-07-09/
CATEGORIES:Kids Jiu Jitsu
ATTACH;FMTTYPE=image/jpeg:https://blackrock-kadence.gotbdev.com/wp-content/uploads/2025/11/JAK0147-scaled-1-scaled.jpg
END:VEVENT
BEGIN:VEVENT
DTSTART;TZID=America/Vancouver:20260709T190000
DTEND;TZID=America/Vancouver:20260709T203000
DTSTAMP:20260421T064810
CREATED:20240917T180118Z
LAST-MODIFIED:20260221T003433Z
UID:10007088-1783623600-1783629000@blackrock-kadence.gotbdev.com
SUMMARY:Adult Jiu Jitsu
DESCRIPTION:Experience Adult No-Gi Jiu-Jitsu at Black Rock Martial Arts\, where you’ll master grappling techniques\, enhance your strength\, and build confidence in a supportive\, dynamic environment. Our classes focus on real-world self-defense\, agility\, and strategy\, making them ideal for both beginners and seasoned practitioners. Under the guidance of skilled instructors\, you’ll learn to control opponents\, execute submissions\, and refine your skills through live sparring. Whether you’re aiming for competition or personal growth\, our classes provide the challenge and community you need to excel.
URL:https://blackrock-kadence.gotbdev.com/event/adult-no-gi-jiu-jitsu/2026-07-09/
CATEGORIES:Jiu Jitsu
ATTACH;FMTTYPE=image/jpeg:https://blackrock-kadence.gotbdev.com/wp-content/uploads/2025/11/JAK0198-scaled-1-scaled.jpg
END:VEVENT
BEGIN:VEVENT
DTSTART;TZID=America/Vancouver:20260710T190000
DTEND;TZID=America/Vancouver:20260710T203000
DTSTAMP:20260421T064810
CREATED:20240917T180118Z
LAST-MODIFIED:20260221T003433Z
UID:10007089-1783710000-1783715400@blackrock-kadence.gotbdev.com
SUMMARY:Adult Jiu Jitsu
DESCRIPTION:Experience Adult No-Gi Jiu-Jitsu at Black Rock Martial Arts\, where you’ll master grappling techniques\, enhance your strength\, and build confidence in a supportive\, dynamic environment. Our classes focus on real-world self-defense\, agility\, and strategy\, making them ideal for both beginners and seasoned practitioners. Under the guidance of skilled instructors\, you’ll learn to control opponents\, execute submissions\, and refine your skills through live sparring. Whether you’re aiming for competition or personal growth\, our classes provide the challenge and community you need to excel.
URL:https://blackrock-kadence.gotbdev.com/event/adult-no-gi-jiu-jitsu/2026-07-10/
CATEGORIES:Jiu Jitsu
ATTACH;FMTTYPE=image/jpeg:https://blackrock-kadence.gotbdev.com/wp-content/uploads/2025/11/JAK0198-scaled-1-scaled.jpg
END:VEVENT
BEGIN:VEVENT
DTSTART;TZID=America/Vancouver:20260713T153000
DTEND;TZID=America/Vancouver:20260713T161500
DTSTAMP:20260421T064810
CREATED:20250902T163538Z
LAST-MODIFIED:20260221T002534Z
UID:10017294-1783956600-1783959300@blackrock-kadence.gotbdev.com
SUMMARY:Kids Jiu Jitsu (6–9 Years Old)
DESCRIPTION:Discover Kids Jiu-Jitsu at Black Rock Martial Arts\, designed for ages 6-9. Build strength\, confidence\, and self-defence skills through dynamic\, fun classes. Perfect for kids looking to stay active\, learn discipline\, and connect with peers in a supportive environment.
URL:https://blackrock-kadence.gotbdev.com/event/kids-jiu-jitsu-6-9-3/2026-07-13/
CATEGORIES:Jiu Jitsu
ATTACH;FMTTYPE=image/jpeg:https://blackrock-kadence.gotbdev.com/wp-content/uploads/2025/11/JAK0095-scaled-1-scaled.jpg
END:VEVENT
BEGIN:VEVENT
DTSTART;TZID=America/Vancouver:20260714T170000
DTEND;TZID=America/Vancouver:20260714T174500
DTSTAMP:20260421T064810
CREATED:20240911T172247Z
LAST-MODIFIED:20260221T003221Z
UID:10005327-1784048400-1784051100@blackrock-kadence.gotbdev.com
SUMMARY:Mezz: Kids Jiu Jitsu (6-9 Years Old)
DESCRIPTION:Enroll in Kids Jiu-Jitsu at Black Rock Martial Arts\, designed for ages 6-9! Our classes teach grappling techniques\, self-defense skills\, and body control while promoting confidence and discipline. Perfect for beginners and experienced kids in a fun\, supportive environment.
URL:https://blackrock-kadence.gotbdev.com/event/kids-no-gi-jiu-jitsu-6-11-3/2026-07-14/
CATEGORIES:Jiu Jitsu
ATTACH;FMTTYPE=image/jpeg:https://blackrock-kadence.gotbdev.com/wp-content/uploads/2025/11/JAK0049-scaled-1-scaled.jpg
END:VEVENT
BEGIN:VEVENT
DTSTART;TZID=America/Vancouver:20260714T180000
DTEND;TZID=America/Vancouver:20260714T190000
DTSTAMP:20260421T064810
CREATED:20240912T234812Z
LAST-MODIFIED:20260221T003154Z
UID:10005993-1784052000-1784055600@blackrock-kadence.gotbdev.com
SUMMARY:Mezz: Youth Jiu Jitsu (Ages 10-15)
DESCRIPTION:Discover Youth Jiu-Jitsu at Black Rock Martial Arts\, designed for ages 10-15. Build strength\, confidence\, and self-defense skills through dynamic\, fun classes. Perfect for teens looking to stay active\, learn discipline\, and connect with peers in a supportive environment.
URL:https://blackrock-kadence.gotbdev.com/event/teens-no-gi-jiu-jitsu-12-17-4/2026-07-14/
CATEGORIES:Kids Jiu Jitsu
ATTACH;FMTTYPE=image/jpeg:https://blackrock-kadence.gotbdev.com/wp-content/uploads/2025/11/JAK0147-scaled-1-scaled.jpg
END:VEVENT
BEGIN:VEVENT
DTSTART;TZID=America/Vancouver:20260714T190000
DTEND;TZID=America/Vancouver:20260714T203000
DTSTAMP:20260421T064810
CREATED:20240917T180118Z
LAST-MODIFIED:20260221T003433Z
UID:10007090-1784055600-1784061000@blackrock-kadence.gotbdev.com
SUMMARY:Adult Jiu Jitsu
DESCRIPTION:Experience Adult No-Gi Jiu-Jitsu at Black Rock Martial Arts\, where you’ll master grappling techniques\, enhance your strength\, and build confidence in a supportive\, dynamic environment. Our classes focus on real-world self-defense\, agility\, and strategy\, making them ideal for both beginners and seasoned practitioners. Under the guidance of skilled instructors\, you’ll learn to control opponents\, execute submissions\, and refine your skills through live sparring. Whether you’re aiming for competition or personal growth\, our classes provide the challenge and community you need to excel.
URL:https://blackrock-kadence.gotbdev.com/event/adult-no-gi-jiu-jitsu/2026-07-14/
CATEGORIES:Jiu Jitsu
ATTACH;FMTTYPE=image/jpeg:https://blackrock-kadence.gotbdev.com/wp-content/uploads/2025/11/JAK0198-scaled-1-scaled.jpg
END:VEVENT
BEGIN:VEVENT
DTSTART;TZID=America/Vancouver:20260715T153000
DTEND;TZID=America/Vancouver:20260715T161500
DTSTAMP:20260421T064810
CREATED:20250902T163538Z
LAST-MODIFIED:20260221T002534Z
UID:10017295-1784129400-1784132100@blackrock-kadence.gotbdev.com
SUMMARY:Kids Jiu Jitsu (6–9 Years Old)
DESCRIPTION:Discover Kids Jiu-Jitsu at Black Rock Martial Arts\, designed for ages 6-9. Build strength\, confidence\, and self-defence skills through dynamic\, fun classes. Perfect for kids looking to stay active\, learn discipline\, and connect with peers in a supportive environment.
URL:https://blackrock-kadence.gotbdev.com/event/kids-jiu-jitsu-6-9-3/2026-07-15/
CATEGORIES:Jiu Jitsu
ATTACH;FMTTYPE=image/jpeg:https://blackrock-kadence.gotbdev.com/wp-content/uploads/2025/11/JAK0095-scaled-1-scaled.jpg
END:VEVENT
BEGIN:VEVENT
DTSTART;TZID=America/Vancouver:20260716T170000
DTEND;TZID=America/Vancouver:20260716T174500
DTSTAMP:20260421T064810
CREATED:20240911T172247Z
LAST-MODIFIED:20260221T003221Z
UID:10005328-1784221200-1784223900@blackrock-kadence.gotbdev.com
SUMMARY:Mezz: Kids Jiu Jitsu (6-9 Years Old)
DESCRIPTION:Enroll in Kids Jiu-Jitsu at Black Rock Martial Arts\, designed for ages 6-9! Our classes teach grappling techniques\, self-defense skills\, and body control while promoting confidence and discipline. Perfect for beginners and experienced kids in a fun\, supportive environment.
URL:https://blackrock-kadence.gotbdev.com/event/kids-no-gi-jiu-jitsu-6-11-3/2026-07-16/
CATEGORIES:Jiu Jitsu
ATTACH;FMTTYPE=image/jpeg:https://blackrock-kadence.gotbdev.com/wp-content/uploads/2025/11/JAK0049-scaled-1-scaled.jpg
END:VEVENT
BEGIN:VEVENT
DTSTART;TZID=America/Vancouver:20260716T180000
DTEND;TZID=America/Vancouver:20260716T190000
DTSTAMP:20260421T064810
CREATED:20240912T234812Z
LAST-MODIFIED:20260221T003154Z
UID:10005994-1784224800-1784228400@blackrock-kadence.gotbdev.com
SUMMARY:Mezz: Youth Jiu Jitsu (Ages 10-15)
DESCRIPTION:Discover Youth Jiu-Jitsu at Black Rock Martial Arts\, designed for ages 10-15. Build strength\, confidence\, and self-defense skills through dynamic\, fun classes. Perfect for teens looking to stay active\, learn discipline\, and connect with peers in a supportive environment.
URL:https://blackrock-kadence.gotbdev.com/event/teens-no-gi-jiu-jitsu-12-17-4/2026-07-16/
CATEGORIES:Kids Jiu Jitsu
ATTACH;FMTTYPE=image/jpeg:https://blackrock-kadence.gotbdev.com/wp-content/uploads/2025/11/JAK0147-scaled-1-scaled.jpg
END:VEVENT
BEGIN:VEVENT
DTSTART;TZID=America/Vancouver:20260716T190000
DTEND;TZID=America/Vancouver:20260716T203000
DTSTAMP:20260421T064810
CREATED:20240917T180118Z
LAST-MODIFIED:20260221T003433Z
UID:10007091-1784228400-1784233800@blackrock-kadence.gotbdev.com
SUMMARY:Adult Jiu Jitsu
DESCRIPTION:Experience Adult No-Gi Jiu-Jitsu at Black Rock Martial Arts\, where you’ll master grappling techniques\, enhance your strength\, and build confidence in a supportive\, dynamic environment. Our classes focus on real-world self-defense\, agility\, and strategy\, making them ideal for both beginners and seasoned practitioners. Under the guidance of skilled instructors\, you’ll learn to control opponents\, execute submissions\, and refine your skills through live sparring. Whether you’re aiming for competition or personal growth\, our classes provide the challenge and community you need to excel.
URL:https://blackrock-kadence.gotbdev.com/event/adult-no-gi-jiu-jitsu/2026-07-16/
CATEGORIES:Jiu Jitsu
ATTACH;FMTTYPE=image/jpeg:https://blackrock-kadence.gotbdev.com/wp-content/uploads/2025/11/JAK0198-scaled-1-scaled.jpg
END:VEVENT
BEGIN:VEVENT
DTSTART;TZID=America/Vancouver:20260717T190000
DTEND;TZID=America/Vancouver:20260717T203000
DTSTAMP:20260421T064811
CREATED:20240917T180118Z
LAST-MODIFIED:20260221T003433Z
UID:10007092-1784314800-1784320200@blackrock-kadence.gotbdev.com
SUMMARY:Adult Jiu Jitsu
DESCRIPTION:Experience Adult No-Gi Jiu-Jitsu at Black Rock Martial Arts\, where you’ll master grappling techniques\, enhance your strength\, and build confidence in a supportive\, dynamic environment. Our classes focus on real-world self-defense\, agility\, and strategy\, making them ideal for both beginners and seasoned practitioners. Under the guidance of skilled instructors\, you’ll learn to control opponents\, execute submissions\, and refine your skills through live sparring. Whether you’re aiming for competition or personal growth\, our classes provide the challenge and community you need to excel.
URL:https://blackrock-kadence.gotbdev.com/event/adult-no-gi-jiu-jitsu/2026-07-17/
CATEGORIES:Jiu Jitsu
ATTACH;FMTTYPE=image/jpeg:https://blackrock-kadence.gotbdev.com/wp-content/uploads/2025/11/JAK0198-scaled-1-scaled.jpg
END:VEVENT
BEGIN:VEVENT
DTSTART;TZID=America/Vancouver:20260720T153000
DTEND;TZID=America/Vancouver:20260720T161500
DTSTAMP:20260421T064811
CREATED:20250902T163538Z
LAST-MODIFIED:20260221T002534Z
UID:10017296-1784561400-1784564100@blackrock-kadence.gotbdev.com
SUMMARY:Kids Jiu Jitsu (6–9 Years Old)
DESCRIPTION:Discover Kids Jiu-Jitsu at Black Rock Martial Arts\, designed for ages 6-9. Build strength\, confidence\, and self-defence skills through dynamic\, fun classes. Perfect for kids looking to stay active\, learn discipline\, and connect with peers in a supportive environment.
URL:https://blackrock-kadence.gotbdev.com/event/kids-jiu-jitsu-6-9-3/2026-07-20/
CATEGORIES:Jiu Jitsu
ATTACH;FMTTYPE=image/jpeg:https://blackrock-kadence.gotbdev.com/wp-content/uploads/2025/11/JAK0095-scaled-1-scaled.jpg
END:VEVENT
BEGIN:VEVENT
DTSTART;TZID=America/Vancouver:20260721T170000
DTEND;TZID=America/Vancouver:20260721T174500
DTSTAMP:20260421T064811
CREATED:20240911T172247Z
LAST-MODIFIED:20260221T003221Z
UID:10005329-1784653200-1784655900@blackrock-kadence.gotbdev.com
SUMMARY:Mezz: Kids Jiu Jitsu (6-9 Years Old)
DESCRIPTION:Enroll in Kids Jiu-Jitsu at Black Rock Martial Arts\, designed for ages 6-9! Our classes teach grappling techniques\, self-defense skills\, and body control while promoting confidence and discipline. Perfect for beginners and experienced kids in a fun\, supportive environment.
URL:https://blackrock-kadence.gotbdev.com/event/kids-no-gi-jiu-jitsu-6-11-3/2026-07-21/
CATEGORIES:Jiu Jitsu
ATTACH;FMTTYPE=image/jpeg:https://blackrock-kadence.gotbdev.com/wp-content/uploads/2025/11/JAK0049-scaled-1-scaled.jpg
END:VEVENT
BEGIN:VEVENT
DTSTART;TZID=America/Vancouver:20260721T180000
DTEND;TZID=America/Vancouver:20260721T190000
DTSTAMP:20260421T064811
CREATED:20240912T234812Z
LAST-MODIFIED:20260221T003154Z
UID:10005995-1784656800-1784660400@blackrock-kadence.gotbdev.com
SUMMARY:Mezz: Youth Jiu Jitsu (Ages 10-15)
DESCRIPTION:Discover Youth Jiu-Jitsu at Black Rock Martial Arts\, designed for ages 10-15. Build strength\, confidence\, and self-defense skills through dynamic\, fun classes. Perfect for teens looking to stay active\, learn discipline\, and connect with peers in a supportive environment.
URL:https://blackrock-kadence.gotbdev.com/event/teens-no-gi-jiu-jitsu-12-17-4/2026-07-21/
CATEGORIES:Kids Jiu Jitsu
ATTACH;FMTTYPE=image/jpeg:https://blackrock-kadence.gotbdev.com/wp-content/uploads/2025/11/JAK0147-scaled-1-scaled.jpg
END:VEVENT
BEGIN:VEVENT
DTSTART;TZID=America/Vancouver:20260721T190000
DTEND;TZID=America/Vancouver:20260721T203000
DTSTAMP:20260421T064811
CREATED:20240917T180118Z
LAST-MODIFIED:20260221T003433Z
UID:10007093-1784660400-1784665800@blackrock-kadence.gotbdev.com
SUMMARY:Adult Jiu Jitsu
DESCRIPTION:Experience Adult No-Gi Jiu-Jitsu at Black Rock Martial Arts\, where you’ll master grappling techniques\, enhance your strength\, and build confidence in a supportive\, dynamic environment. Our classes focus on real-world self-defense\, agility\, and strategy\, making them ideal for both beginners and seasoned practitioners. Under the guidance of skilled instructors\, you’ll learn to control opponents\, execute submissions\, and refine your skills through live sparring. Whether you’re aiming for competition or personal growth\, our classes provide the challenge and community you need to excel.
URL:https://blackrock-kadence.gotbdev.com/event/adult-no-gi-jiu-jitsu/2026-07-21/
CATEGORIES:Jiu Jitsu
ATTACH;FMTTYPE=image/jpeg:https://blackrock-kadence.gotbdev.com/wp-content/uploads/2025/11/JAK0198-scaled-1-scaled.jpg
END:VEVENT
BEGIN:VEVENT
DTSTART;TZID=America/Vancouver:20260722T153000
DTEND;TZID=America/Vancouver:20260722T161500
DTSTAMP:20260421T064811
CREATED:20250902T163538Z
LAST-MODIFIED:20260221T002534Z
UID:10017297-1784734200-1784736900@blackrock-kadence.gotbdev.com
SUMMARY:Kids Jiu Jitsu (6–9 Years Old)
DESCRIPTION:Discover Kids Jiu-Jitsu at Black Rock Martial Arts\, designed for ages 6-9. Build strength\, confidence\, and self-defence skills through dynamic\, fun classes. Perfect for kids looking to stay active\, learn discipline\, and connect with peers in a supportive environment.
URL:https://blackrock-kadence.gotbdev.com/event/kids-jiu-jitsu-6-9-3/2026-07-22/
CATEGORIES:Jiu Jitsu
ATTACH;FMTTYPE=image/jpeg:https://blackrock-kadence.gotbdev.com/wp-content/uploads/2025/11/JAK0095-scaled-1-scaled.jpg
END:VEVENT
BEGIN:VEVENT
DTSTART;TZID=America/Vancouver:20260723T170000
DTEND;TZID=America/Vancouver:20260723T174500
DTSTAMP:20260421T064811
CREATED:20240911T172247Z
LAST-MODIFIED:20260221T003221Z
UID:10005330-1784826000-1784828700@blackrock-kadence.gotbdev.com
SUMMARY:Mezz: Kids Jiu Jitsu (6-9 Years Old)
DESCRIPTION:Enroll in Kids Jiu-Jitsu at Black Rock Martial Arts\, designed for ages 6-9! Our classes teach grappling techniques\, self-defense skills\, and body control while promoting confidence and discipline. Perfect for beginners and experienced kids in a fun\, supportive environment.
URL:https://blackrock-kadence.gotbdev.com/event/kids-no-gi-jiu-jitsu-6-11-3/2026-07-23/
CATEGORIES:Jiu Jitsu
ATTACH;FMTTYPE=image/jpeg:https://blackrock-kadence.gotbdev.com/wp-content/uploads/2025/11/JAK0049-scaled-1-scaled.jpg
END:VEVENT
BEGIN:VEVENT
DTSTART;TZID=America/Vancouver:20260723T180000
DTEND;TZID=America/Vancouver:20260723T190000
DTSTAMP:20260421T064811
CREATED:20240912T234812Z
LAST-MODIFIED:20260221T003154Z
UID:10005996-1784829600-1784833200@blackrock-kadence.gotbdev.com
SUMMARY:Mezz: Youth Jiu Jitsu (Ages 10-15)
DESCRIPTION:Discover Youth Jiu-Jitsu at Black Rock Martial Arts\, designed for ages 10-15. Build strength\, confidence\, and self-defense skills through dynamic\, fun classes. Perfect for teens looking to stay active\, learn discipline\, and connect with peers in a supportive environment.
URL:https://blackrock-kadence.gotbdev.com/event/teens-no-gi-jiu-jitsu-12-17-4/2026-07-23/
CATEGORIES:Kids Jiu Jitsu
ATTACH;FMTTYPE=image/jpeg:https://blackrock-kadence.gotbdev.com/wp-content/uploads/2025/11/JAK0147-scaled-1-scaled.jpg
END:VEVENT
END:VCALENDAR