BEGIN:VCALENDAR
VERSION:2.0
PRODID:-// - ECPv6.15.20//NONSGML v1.0//EN
CALSCALE:GREGORIAN
METHOD:PUBLISH
X-ORIGINAL-URL:https://blackrock-kadence.gotbdev.com
X-WR-CALDESC:Events for 
REFRESH-INTERVAL;VALUE=DURATION:PT1H
X-Robots-Tag:noindex
X-PUBLISHED-TTL:PT1H
BEGIN:VTIMEZONE
TZID:America/Vancouver
BEGIN:DAYLIGHT
TZOFFSETFROM:-0800
TZOFFSETTO:-0700
TZNAME:PDT
DTSTART:20250309T100000
END:DAYLIGHT
BEGIN:STANDARD
TZOFFSETFROM:-0700
TZOFFSETTO:-0800
TZNAME:PST
DTSTART:20251102T090000
END:STANDARD
BEGIN:DAYLIGHT
TZOFFSETFROM:-0800
TZOFFSETTO:-0700
TZNAME:PDT
DTSTART:20260308T100000
END:DAYLIGHT
BEGIN:STANDARD
TZOFFSETFROM:-0700
TZOFFSETTO:-0800
TZNAME:PST
DTSTART:20261101T090000
END:STANDARD
BEGIN:DAYLIGHT
TZOFFSETFROM:-0800
TZOFFSETTO:-0700
TZNAME:PDT
DTSTART:20270314T100000
END:DAYLIGHT
BEGIN:STANDARD
TZOFFSETFROM:-0700
TZOFFSETTO:-0800
TZNAME:PST
DTSTART:20271107T090000
END:STANDARD
BEGIN:DAYLIGHT
TZOFFSETFROM:-0800
TZOFFSETTO:-0700
TZNAME:PDT
DTSTART:20280312T100000
END:DAYLIGHT
BEGIN:STANDARD
TZOFFSETFROM:-0700
TZOFFSETTO:-0800
TZNAME:PST
DTSTART:20281105T090000
END:STANDARD
END:VTIMEZONE
BEGIN:VEVENT
DTSTART;TZID=America/Vancouver:20261007T180000
DTEND;TZID=America/Vancouver:20261007T190000
DTSTAMP:20260421T064829
CREATED:20250307T004221Z
LAST-MODIFIED:20260221T002730Z
UID:10015184-1791396000-1791399600@blackrock-kadence.gotbdev.com
SUMMARY:Mezz: Jiu Jitsu Fundamentals
DESCRIPTION:Perfect for beginners and those looking to refine their technique\, our Jiu Jitsu Fundamentals class focuses on core movements\, essential positions\, and foundational strategies. Learn in a supportive environment while building strength\, flexibility\, and confidence on the mat.
URL:https://blackrock-kadence.gotbdev.com/event/jiu-jitsu-fundamentals-4-2/2026-10-07/
CATEGORIES:Jiu Jitsu
ATTACH;FMTTYPE=image/jpeg:https://blackrock-kadence.gotbdev.com/wp-content/uploads/2025/11/WPA4490-scaled-1-scaled.jpg
END:VEVENT
BEGIN:VEVENT
DTSTART;TZID=America/Vancouver:20261012T180000
DTEND;TZID=America/Vancouver:20261012T190000
DTSTAMP:20260421T064829
CREATED:20250307T004221Z
LAST-MODIFIED:20260221T002730Z
UID:10015185-1791828000-1791831600@blackrock-kadence.gotbdev.com
SUMMARY:Mezz: Jiu Jitsu Fundamentals
DESCRIPTION:Perfect for beginners and those looking to refine their technique\, our Jiu Jitsu Fundamentals class focuses on core movements\, essential positions\, and foundational strategies. Learn in a supportive environment while building strength\, flexibility\, and confidence on the mat.
URL:https://blackrock-kadence.gotbdev.com/event/jiu-jitsu-fundamentals-4-2/2026-10-12/
CATEGORIES:Jiu Jitsu
ATTACH;FMTTYPE=image/jpeg:https://blackrock-kadence.gotbdev.com/wp-content/uploads/2025/11/WPA4490-scaled-1-scaled.jpg
END:VEVENT
BEGIN:VEVENT
DTSTART;TZID=America/Vancouver:20261014T180000
DTEND;TZID=America/Vancouver:20261014T190000
DTSTAMP:20260421T064829
CREATED:20250307T004221Z
LAST-MODIFIED:20260221T002730Z
UID:10015186-1792000800-1792004400@blackrock-kadence.gotbdev.com
SUMMARY:Mezz: Jiu Jitsu Fundamentals
DESCRIPTION:Perfect for beginners and those looking to refine their technique\, our Jiu Jitsu Fundamentals class focuses on core movements\, essential positions\, and foundational strategies. Learn in a supportive environment while building strength\, flexibility\, and confidence on the mat.
URL:https://blackrock-kadence.gotbdev.com/event/jiu-jitsu-fundamentals-4-2/2026-10-14/
CATEGORIES:Jiu Jitsu
ATTACH;FMTTYPE=image/jpeg:https://blackrock-kadence.gotbdev.com/wp-content/uploads/2025/11/WPA4490-scaled-1-scaled.jpg
END:VEVENT
BEGIN:VEVENT
DTSTART;TZID=America/Vancouver:20261019T180000
DTEND;TZID=America/Vancouver:20261019T190000
DTSTAMP:20260421T064829
CREATED:20250307T004221Z
LAST-MODIFIED:20260221T002730Z
UID:10015187-1792432800-1792436400@blackrock-kadence.gotbdev.com
SUMMARY:Mezz: Jiu Jitsu Fundamentals
DESCRIPTION:Perfect for beginners and those looking to refine their technique\, our Jiu Jitsu Fundamentals class focuses on core movements\, essential positions\, and foundational strategies. Learn in a supportive environment while building strength\, flexibility\, and confidence on the mat.
URL:https://blackrock-kadence.gotbdev.com/event/jiu-jitsu-fundamentals-4-2/2026-10-19/
CATEGORIES:Jiu Jitsu
ATTACH;FMTTYPE=image/jpeg:https://blackrock-kadence.gotbdev.com/wp-content/uploads/2025/11/WPA4490-scaled-1-scaled.jpg
END:VEVENT
BEGIN:VEVENT
DTSTART;TZID=America/Vancouver:20261021T180000
DTEND;TZID=America/Vancouver:20261021T190000
DTSTAMP:20260421T064829
CREATED:20250307T004221Z
LAST-MODIFIED:20260221T002730Z
UID:10015188-1792605600-1792609200@blackrock-kadence.gotbdev.com
SUMMARY:Mezz: Jiu Jitsu Fundamentals
DESCRIPTION:Perfect for beginners and those looking to refine their technique\, our Jiu Jitsu Fundamentals class focuses on core movements\, essential positions\, and foundational strategies. Learn in a supportive environment while building strength\, flexibility\, and confidence on the mat.
URL:https://blackrock-kadence.gotbdev.com/event/jiu-jitsu-fundamentals-4-2/2026-10-21/
CATEGORIES:Jiu Jitsu
ATTACH;FMTTYPE=image/jpeg:https://blackrock-kadence.gotbdev.com/wp-content/uploads/2025/11/WPA4490-scaled-1-scaled.jpg
END:VEVENT
BEGIN:VEVENT
DTSTART;TZID=America/Vancouver:20261026T180000
DTEND;TZID=America/Vancouver:20261026T190000
DTSTAMP:20260421T064829
CREATED:20250307T004221Z
LAST-MODIFIED:20260221T002730Z
UID:10015189-1793037600-1793041200@blackrock-kadence.gotbdev.com
SUMMARY:Mezz: Jiu Jitsu Fundamentals
DESCRIPTION:Perfect for beginners and those looking to refine their technique\, our Jiu Jitsu Fundamentals class focuses on core movements\, essential positions\, and foundational strategies. Learn in a supportive environment while building strength\, flexibility\, and confidence on the mat.
URL:https://blackrock-kadence.gotbdev.com/event/jiu-jitsu-fundamentals-4-2/2026-10-26/
CATEGORIES:Jiu Jitsu
ATTACH;FMTTYPE=image/jpeg:https://blackrock-kadence.gotbdev.com/wp-content/uploads/2025/11/WPA4490-scaled-1-scaled.jpg
END:VEVENT
BEGIN:VEVENT
DTSTART;TZID=America/Vancouver:20261028T180000
DTEND;TZID=America/Vancouver:20261028T190000
DTSTAMP:20260421T064829
CREATED:20250307T004221Z
LAST-MODIFIED:20260221T002730Z
UID:10015190-1793210400-1793214000@blackrock-kadence.gotbdev.com
SUMMARY:Mezz: Jiu Jitsu Fundamentals
DESCRIPTION:Perfect for beginners and those looking to refine their technique\, our Jiu Jitsu Fundamentals class focuses on core movements\, essential positions\, and foundational strategies. Learn in a supportive environment while building strength\, flexibility\, and confidence on the mat.
URL:https://blackrock-kadence.gotbdev.com/event/jiu-jitsu-fundamentals-4-2/2026-10-28/
CATEGORIES:Jiu Jitsu
ATTACH;FMTTYPE=image/jpeg:https://blackrock-kadence.gotbdev.com/wp-content/uploads/2025/11/WPA4490-scaled-1-scaled.jpg
END:VEVENT
BEGIN:VEVENT
DTSTART;TZID=America/Vancouver:20261102T180000
DTEND;TZID=America/Vancouver:20261102T190000
DTSTAMP:20260421T064829
CREATED:20250307T004221Z
LAST-MODIFIED:20260221T002730Z
UID:10015191-1793642400-1793646000@blackrock-kadence.gotbdev.com
SUMMARY:Mezz: Jiu Jitsu Fundamentals
DESCRIPTION:Perfect for beginners and those looking to refine their technique\, our Jiu Jitsu Fundamentals class focuses on core movements\, essential positions\, and foundational strategies. Learn in a supportive environment while building strength\, flexibility\, and confidence on the mat.
URL:https://blackrock-kadence.gotbdev.com/event/jiu-jitsu-fundamentals-4-2/2026-11-02/
CATEGORIES:Jiu Jitsu
ATTACH;FMTTYPE=image/jpeg:https://blackrock-kadence.gotbdev.com/wp-content/uploads/2025/11/WPA4490-scaled-1-scaled.jpg
END:VEVENT
BEGIN:VEVENT
DTSTART;TZID=America/Vancouver:20261104T180000
DTEND;TZID=America/Vancouver:20261104T190000
DTSTAMP:20260421T064829
CREATED:20250307T004221Z
LAST-MODIFIED:20260221T002730Z
UID:10015192-1793815200-1793818800@blackrock-kadence.gotbdev.com
SUMMARY:Mezz: Jiu Jitsu Fundamentals
DESCRIPTION:Perfect for beginners and those looking to refine their technique\, our Jiu Jitsu Fundamentals class focuses on core movements\, essential positions\, and foundational strategies. Learn in a supportive environment while building strength\, flexibility\, and confidence on the mat.
URL:https://blackrock-kadence.gotbdev.com/event/jiu-jitsu-fundamentals-4-2/2026-11-04/
CATEGORIES:Jiu Jitsu
ATTACH;FMTTYPE=image/jpeg:https://blackrock-kadence.gotbdev.com/wp-content/uploads/2025/11/WPA4490-scaled-1-scaled.jpg
END:VEVENT
BEGIN:VEVENT
DTSTART;TZID=America/Vancouver:20261109T180000
DTEND;TZID=America/Vancouver:20261109T190000
DTSTAMP:20260421T064829
CREATED:20250307T004221Z
LAST-MODIFIED:20260221T002730Z
UID:10015193-1794247200-1794250800@blackrock-kadence.gotbdev.com
SUMMARY:Mezz: Jiu Jitsu Fundamentals
DESCRIPTION:Perfect for beginners and those looking to refine their technique\, our Jiu Jitsu Fundamentals class focuses on core movements\, essential positions\, and foundational strategies. Learn in a supportive environment while building strength\, flexibility\, and confidence on the mat.
URL:https://blackrock-kadence.gotbdev.com/event/jiu-jitsu-fundamentals-4-2/2026-11-09/
CATEGORIES:Jiu Jitsu
ATTACH;FMTTYPE=image/jpeg:https://blackrock-kadence.gotbdev.com/wp-content/uploads/2025/11/WPA4490-scaled-1-scaled.jpg
END:VEVENT
BEGIN:VEVENT
DTSTART;TZID=America/Vancouver:20261111T180000
DTEND;TZID=America/Vancouver:20261111T190000
DTSTAMP:20260421T064830
CREATED:20250307T004221Z
LAST-MODIFIED:20260221T002730Z
UID:10015194-1794420000-1794423600@blackrock-kadence.gotbdev.com
SUMMARY:Mezz: Jiu Jitsu Fundamentals
DESCRIPTION:Perfect for beginners and those looking to refine their technique\, our Jiu Jitsu Fundamentals class focuses on core movements\, essential positions\, and foundational strategies. Learn in a supportive environment while building strength\, flexibility\, and confidence on the mat.
URL:https://blackrock-kadence.gotbdev.com/event/jiu-jitsu-fundamentals-4-2/2026-11-11/
CATEGORIES:Jiu Jitsu
ATTACH;FMTTYPE=image/jpeg:https://blackrock-kadence.gotbdev.com/wp-content/uploads/2025/11/WPA4490-scaled-1-scaled.jpg
END:VEVENT
BEGIN:VEVENT
DTSTART;TZID=America/Vancouver:20261116T180000
DTEND;TZID=America/Vancouver:20261116T190000
DTSTAMP:20260421T064830
CREATED:20250307T004221Z
LAST-MODIFIED:20260221T002730Z
UID:10015195-1794852000-1794855600@blackrock-kadence.gotbdev.com
SUMMARY:Mezz: Jiu Jitsu Fundamentals
DESCRIPTION:Perfect for beginners and those looking to refine their technique\, our Jiu Jitsu Fundamentals class focuses on core movements\, essential positions\, and foundational strategies. Learn in a supportive environment while building strength\, flexibility\, and confidence on the mat.
URL:https://blackrock-kadence.gotbdev.com/event/jiu-jitsu-fundamentals-4-2/2026-11-16/
CATEGORIES:Jiu Jitsu
ATTACH;FMTTYPE=image/jpeg:https://blackrock-kadence.gotbdev.com/wp-content/uploads/2025/11/WPA4490-scaled-1-scaled.jpg
END:VEVENT
BEGIN:VEVENT
DTSTART;TZID=America/Vancouver:20261118T180000
DTEND;TZID=America/Vancouver:20261118T190000
DTSTAMP:20260421T064830
CREATED:20250307T004221Z
LAST-MODIFIED:20260221T002730Z
UID:10015196-1795024800-1795028400@blackrock-kadence.gotbdev.com
SUMMARY:Mezz: Jiu Jitsu Fundamentals
DESCRIPTION:Perfect for beginners and those looking to refine their technique\, our Jiu Jitsu Fundamentals class focuses on core movements\, essential positions\, and foundational strategies. Learn in a supportive environment while building strength\, flexibility\, and confidence on the mat.
URL:https://blackrock-kadence.gotbdev.com/event/jiu-jitsu-fundamentals-4-2/2026-11-18/
CATEGORIES:Jiu Jitsu
ATTACH;FMTTYPE=image/jpeg:https://blackrock-kadence.gotbdev.com/wp-content/uploads/2025/11/WPA4490-scaled-1-scaled.jpg
END:VEVENT
BEGIN:VEVENT
DTSTART;TZID=America/Vancouver:20261123T180000
DTEND;TZID=America/Vancouver:20261123T190000
DTSTAMP:20260421T064830
CREATED:20250307T004221Z
LAST-MODIFIED:20260221T002730Z
UID:10015197-1795456800-1795460400@blackrock-kadence.gotbdev.com
SUMMARY:Mezz: Jiu Jitsu Fundamentals
DESCRIPTION:Perfect for beginners and those looking to refine their technique\, our Jiu Jitsu Fundamentals class focuses on core movements\, essential positions\, and foundational strategies. Learn in a supportive environment while building strength\, flexibility\, and confidence on the mat.
URL:https://blackrock-kadence.gotbdev.com/event/jiu-jitsu-fundamentals-4-2/2026-11-23/
CATEGORIES:Jiu Jitsu
ATTACH;FMTTYPE=image/jpeg:https://blackrock-kadence.gotbdev.com/wp-content/uploads/2025/11/WPA4490-scaled-1-scaled.jpg
END:VEVENT
BEGIN:VEVENT
DTSTART;TZID=America/Vancouver:20261125T180000
DTEND;TZID=America/Vancouver:20261125T190000
DTSTAMP:20260421T064830
CREATED:20250307T004221Z
LAST-MODIFIED:20260221T002730Z
UID:10015198-1795629600-1795633200@blackrock-kadence.gotbdev.com
SUMMARY:Mezz: Jiu Jitsu Fundamentals
DESCRIPTION:Perfect for beginners and those looking to refine their technique\, our Jiu Jitsu Fundamentals class focuses on core movements\, essential positions\, and foundational strategies. Learn in a supportive environment while building strength\, flexibility\, and confidence on the mat.
URL:https://blackrock-kadence.gotbdev.com/event/jiu-jitsu-fundamentals-4-2/2026-11-25/
CATEGORIES:Jiu Jitsu
ATTACH;FMTTYPE=image/jpeg:https://blackrock-kadence.gotbdev.com/wp-content/uploads/2025/11/WPA4490-scaled-1-scaled.jpg
END:VEVENT
BEGIN:VEVENT
DTSTART;TZID=America/Vancouver:20261130T180000
DTEND;TZID=America/Vancouver:20261130T190000
DTSTAMP:20260421T064830
CREATED:20250307T004221Z
LAST-MODIFIED:20260221T002730Z
UID:10015199-1796061600-1796065200@blackrock-kadence.gotbdev.com
SUMMARY:Mezz: Jiu Jitsu Fundamentals
DESCRIPTION:Perfect for beginners and those looking to refine their technique\, our Jiu Jitsu Fundamentals class focuses on core movements\, essential positions\, and foundational strategies. Learn in a supportive environment while building strength\, flexibility\, and confidence on the mat.
URL:https://blackrock-kadence.gotbdev.com/event/jiu-jitsu-fundamentals-4-2/2026-11-30/
CATEGORIES:Jiu Jitsu
ATTACH;FMTTYPE=image/jpeg:https://blackrock-kadence.gotbdev.com/wp-content/uploads/2025/11/WPA4490-scaled-1-scaled.jpg
END:VEVENT
BEGIN:VEVENT
DTSTART;TZID=America/Vancouver:20261202T180000
DTEND;TZID=America/Vancouver:20261202T190000
DTSTAMP:20260421T064830
CREATED:20250307T004221Z
LAST-MODIFIED:20260221T002730Z
UID:10015200-1796234400-1796238000@blackrock-kadence.gotbdev.com
SUMMARY:Mezz: Jiu Jitsu Fundamentals
DESCRIPTION:Perfect for beginners and those looking to refine their technique\, our Jiu Jitsu Fundamentals class focuses on core movements\, essential positions\, and foundational strategies. Learn in a supportive environment while building strength\, flexibility\, and confidence on the mat.
URL:https://blackrock-kadence.gotbdev.com/event/jiu-jitsu-fundamentals-4-2/2026-12-02/
CATEGORIES:Jiu Jitsu
ATTACH;FMTTYPE=image/jpeg:https://blackrock-kadence.gotbdev.com/wp-content/uploads/2025/11/WPA4490-scaled-1-scaled.jpg
END:VEVENT
BEGIN:VEVENT
DTSTART;TZID=America/Vancouver:20261207T180000
DTEND;TZID=America/Vancouver:20261207T190000
DTSTAMP:20260421T064830
CREATED:20250307T004221Z
LAST-MODIFIED:20260221T002730Z
UID:10015201-1796666400-1796670000@blackrock-kadence.gotbdev.com
SUMMARY:Mezz: Jiu Jitsu Fundamentals
DESCRIPTION:Perfect for beginners and those looking to refine their technique\, our Jiu Jitsu Fundamentals class focuses on core movements\, essential positions\, and foundational strategies. Learn in a supportive environment while building strength\, flexibility\, and confidence on the mat.
URL:https://blackrock-kadence.gotbdev.com/event/jiu-jitsu-fundamentals-4-2/2026-12-07/
CATEGORIES:Jiu Jitsu
ATTACH;FMTTYPE=image/jpeg:https://blackrock-kadence.gotbdev.com/wp-content/uploads/2025/11/WPA4490-scaled-1-scaled.jpg
END:VEVENT
BEGIN:VEVENT
DTSTART;TZID=America/Vancouver:20261209T180000
DTEND;TZID=America/Vancouver:20261209T190000
DTSTAMP:20260421T064830
CREATED:20250307T004221Z
LAST-MODIFIED:20260221T002730Z
UID:10015202-1796839200-1796842800@blackrock-kadence.gotbdev.com
SUMMARY:Mezz: Jiu Jitsu Fundamentals
DESCRIPTION:Perfect for beginners and those looking to refine their technique\, our Jiu Jitsu Fundamentals class focuses on core movements\, essential positions\, and foundational strategies. Learn in a supportive environment while building strength\, flexibility\, and confidence on the mat.
URL:https://blackrock-kadence.gotbdev.com/event/jiu-jitsu-fundamentals-4-2/2026-12-09/
CATEGORIES:Jiu Jitsu
ATTACH;FMTTYPE=image/jpeg:https://blackrock-kadence.gotbdev.com/wp-content/uploads/2025/11/WPA4490-scaled-1-scaled.jpg
END:VEVENT
BEGIN:VEVENT
DTSTART;TZID=America/Vancouver:20261214T180000
DTEND;TZID=America/Vancouver:20261214T190000
DTSTAMP:20260421T064830
CREATED:20250307T004221Z
LAST-MODIFIED:20260221T002730Z
UID:10015203-1797271200-1797274800@blackrock-kadence.gotbdev.com
SUMMARY:Mezz: Jiu Jitsu Fundamentals
DESCRIPTION:Perfect for beginners and those looking to refine their technique\, our Jiu Jitsu Fundamentals class focuses on core movements\, essential positions\, and foundational strategies. Learn in a supportive environment while building strength\, flexibility\, and confidence on the mat.
URL:https://blackrock-kadence.gotbdev.com/event/jiu-jitsu-fundamentals-4-2/2026-12-14/
CATEGORIES:Jiu Jitsu
ATTACH;FMTTYPE=image/jpeg:https://blackrock-kadence.gotbdev.com/wp-content/uploads/2025/11/WPA4490-scaled-1-scaled.jpg
END:VEVENT
BEGIN:VEVENT
DTSTART;TZID=America/Vancouver:20261216T180000
DTEND;TZID=America/Vancouver:20261216T190000
DTSTAMP:20260421T064830
CREATED:20250307T004221Z
LAST-MODIFIED:20260221T002730Z
UID:10015204-1797444000-1797447600@blackrock-kadence.gotbdev.com
SUMMARY:Mezz: Jiu Jitsu Fundamentals
DESCRIPTION:Perfect for beginners and those looking to refine their technique\, our Jiu Jitsu Fundamentals class focuses on core movements\, essential positions\, and foundational strategies. Learn in a supportive environment while building strength\, flexibility\, and confidence on the mat.
URL:https://blackrock-kadence.gotbdev.com/event/jiu-jitsu-fundamentals-4-2/2026-12-16/
CATEGORIES:Jiu Jitsu
ATTACH;FMTTYPE=image/jpeg:https://blackrock-kadence.gotbdev.com/wp-content/uploads/2025/11/WPA4490-scaled-1-scaled.jpg
END:VEVENT
BEGIN:VEVENT
DTSTART;TZID=America/Vancouver:20261221T180000
DTEND;TZID=America/Vancouver:20261221T190000
DTSTAMP:20260421T064830
CREATED:20250307T004221Z
LAST-MODIFIED:20260221T002730Z
UID:10015205-1797876000-1797879600@blackrock-kadence.gotbdev.com
SUMMARY:Mezz: Jiu Jitsu Fundamentals
DESCRIPTION:Perfect for beginners and those looking to refine their technique\, our Jiu Jitsu Fundamentals class focuses on core movements\, essential positions\, and foundational strategies. Learn in a supportive environment while building strength\, flexibility\, and confidence on the mat.
URL:https://blackrock-kadence.gotbdev.com/event/jiu-jitsu-fundamentals-4-2/2026-12-21/
CATEGORIES:Jiu Jitsu
ATTACH;FMTTYPE=image/jpeg:https://blackrock-kadence.gotbdev.com/wp-content/uploads/2025/11/WPA4490-scaled-1-scaled.jpg
END:VEVENT
BEGIN:VEVENT
DTSTART;TZID=America/Vancouver:20261223T180000
DTEND;TZID=America/Vancouver:20261223T190000
DTSTAMP:20260421T064830
CREATED:20250307T004221Z
LAST-MODIFIED:20260221T002730Z
UID:10015206-1798048800-1798052400@blackrock-kadence.gotbdev.com
SUMMARY:Mezz: Jiu Jitsu Fundamentals
DESCRIPTION:Perfect for beginners and those looking to refine their technique\, our Jiu Jitsu Fundamentals class focuses on core movements\, essential positions\, and foundational strategies. Learn in a supportive environment while building strength\, flexibility\, and confidence on the mat.
URL:https://blackrock-kadence.gotbdev.com/event/jiu-jitsu-fundamentals-4-2/2026-12-23/
CATEGORIES:Jiu Jitsu
ATTACH;FMTTYPE=image/jpeg:https://blackrock-kadence.gotbdev.com/wp-content/uploads/2025/11/WPA4490-scaled-1-scaled.jpg
END:VEVENT
BEGIN:VEVENT
DTSTART;TZID=America/Vancouver:20261228T180000
DTEND;TZID=America/Vancouver:20261228T190000
DTSTAMP:20260421T064830
CREATED:20250307T004221Z
LAST-MODIFIED:20260221T002730Z
UID:10015207-1798480800-1798484400@blackrock-kadence.gotbdev.com
SUMMARY:Mezz: Jiu Jitsu Fundamentals
DESCRIPTION:Perfect for beginners and those looking to refine their technique\, our Jiu Jitsu Fundamentals class focuses on core movements\, essential positions\, and foundational strategies. Learn in a supportive environment while building strength\, flexibility\, and confidence on the mat.
URL:https://blackrock-kadence.gotbdev.com/event/jiu-jitsu-fundamentals-4-2/2026-12-28/
CATEGORIES:Jiu Jitsu
ATTACH;FMTTYPE=image/jpeg:https://blackrock-kadence.gotbdev.com/wp-content/uploads/2025/11/WPA4490-scaled-1-scaled.jpg
END:VEVENT
BEGIN:VEVENT
DTSTART;TZID=America/Vancouver:20261230T180000
DTEND;TZID=America/Vancouver:20261230T190000
DTSTAMP:20260421T064830
CREATED:20250307T004221Z
LAST-MODIFIED:20260221T002730Z
UID:10015208-1798653600-1798657200@blackrock-kadence.gotbdev.com
SUMMARY:Mezz: Jiu Jitsu Fundamentals
DESCRIPTION:Perfect for beginners and those looking to refine their technique\, our Jiu Jitsu Fundamentals class focuses on core movements\, essential positions\, and foundational strategies. Learn in a supportive environment while building strength\, flexibility\, and confidence on the mat.
URL:https://blackrock-kadence.gotbdev.com/event/jiu-jitsu-fundamentals-4-2/2026-12-30/
CATEGORIES:Jiu Jitsu
ATTACH;FMTTYPE=image/jpeg:https://blackrock-kadence.gotbdev.com/wp-content/uploads/2025/11/WPA4490-scaled-1-scaled.jpg
END:VEVENT
BEGIN:VEVENT
DTSTART;TZID=America/Vancouver:20270104T180000
DTEND;TZID=America/Vancouver:20270104T190000
DTSTAMP:20260421T064830
CREATED:20250307T004221Z
LAST-MODIFIED:20260221T002730Z
UID:10015209-1799085600-1799089200@blackrock-kadence.gotbdev.com
SUMMARY:Mezz: Jiu Jitsu Fundamentals
DESCRIPTION:Perfect for beginners and those looking to refine their technique\, our Jiu Jitsu Fundamentals class focuses on core movements\, essential positions\, and foundational strategies. Learn in a supportive environment while building strength\, flexibility\, and confidence on the mat.
URL:https://blackrock-kadence.gotbdev.com/event/jiu-jitsu-fundamentals-4-2/2027-01-04/
CATEGORIES:Jiu Jitsu
ATTACH;FMTTYPE=image/jpeg:https://blackrock-kadence.gotbdev.com/wp-content/uploads/2025/11/WPA4490-scaled-1-scaled.jpg
END:VEVENT
BEGIN:VEVENT
DTSTART;TZID=America/Vancouver:20270106T180000
DTEND;TZID=America/Vancouver:20270106T190000
DTSTAMP:20260421T064830
CREATED:20250307T004221Z
LAST-MODIFIED:20260221T002730Z
UID:10015210-1799258400-1799262000@blackrock-kadence.gotbdev.com
SUMMARY:Mezz: Jiu Jitsu Fundamentals
DESCRIPTION:Perfect for beginners and those looking to refine their technique\, our Jiu Jitsu Fundamentals class focuses on core movements\, essential positions\, and foundational strategies. Learn in a supportive environment while building strength\, flexibility\, and confidence on the mat.
URL:https://blackrock-kadence.gotbdev.com/event/jiu-jitsu-fundamentals-4-2/2027-01-06/
CATEGORIES:Jiu Jitsu
ATTACH;FMTTYPE=image/jpeg:https://blackrock-kadence.gotbdev.com/wp-content/uploads/2025/11/WPA4490-scaled-1-scaled.jpg
END:VEVENT
BEGIN:VEVENT
DTSTART;TZID=America/Vancouver:20270111T180000
DTEND;TZID=America/Vancouver:20270111T190000
DTSTAMP:20260421T064830
CREATED:20250307T004221Z
LAST-MODIFIED:20260221T002730Z
UID:10015211-1799690400-1799694000@blackrock-kadence.gotbdev.com
SUMMARY:Mezz: Jiu Jitsu Fundamentals
DESCRIPTION:Perfect for beginners and those looking to refine their technique\, our Jiu Jitsu Fundamentals class focuses on core movements\, essential positions\, and foundational strategies. Learn in a supportive environment while building strength\, flexibility\, and confidence on the mat.
URL:https://blackrock-kadence.gotbdev.com/event/jiu-jitsu-fundamentals-4-2/2027-01-11/
CATEGORIES:Jiu Jitsu
ATTACH;FMTTYPE=image/jpeg:https://blackrock-kadence.gotbdev.com/wp-content/uploads/2025/11/WPA4490-scaled-1-scaled.jpg
END:VEVENT
BEGIN:VEVENT
DTSTART;TZID=America/Vancouver:20270113T180000
DTEND;TZID=America/Vancouver:20270113T190000
DTSTAMP:20260421T064830
CREATED:20250307T004221Z
LAST-MODIFIED:20260221T002730Z
UID:10015212-1799863200-1799866800@blackrock-kadence.gotbdev.com
SUMMARY:Mezz: Jiu Jitsu Fundamentals
DESCRIPTION:Perfect for beginners and those looking to refine their technique\, our Jiu Jitsu Fundamentals class focuses on core movements\, essential positions\, and foundational strategies. Learn in a supportive environment while building strength\, flexibility\, and confidence on the mat.
URL:https://blackrock-kadence.gotbdev.com/event/jiu-jitsu-fundamentals-4-2/2027-01-13/
CATEGORIES:Jiu Jitsu
ATTACH;FMTTYPE=image/jpeg:https://blackrock-kadence.gotbdev.com/wp-content/uploads/2025/11/WPA4490-scaled-1-scaled.jpg
END:VEVENT
BEGIN:VEVENT
DTSTART;TZID=America/Vancouver:20270118T180000
DTEND;TZID=America/Vancouver:20270118T190000
DTSTAMP:20260421T064830
CREATED:20250307T004221Z
LAST-MODIFIED:20260221T002730Z
UID:10015213-1800295200-1800298800@blackrock-kadence.gotbdev.com
SUMMARY:Mezz: Jiu Jitsu Fundamentals
DESCRIPTION:Perfect for beginners and those looking to refine their technique\, our Jiu Jitsu Fundamentals class focuses on core movements\, essential positions\, and foundational strategies. Learn in a supportive environment while building strength\, flexibility\, and confidence on the mat.
URL:https://blackrock-kadence.gotbdev.com/event/jiu-jitsu-fundamentals-4-2/2027-01-18/
CATEGORIES:Jiu Jitsu
ATTACH;FMTTYPE=image/jpeg:https://blackrock-kadence.gotbdev.com/wp-content/uploads/2025/11/WPA4490-scaled-1-scaled.jpg
END:VEVENT
END:VCALENDAR