BEGIN:VCALENDAR
VERSION:2.0
PRODID:-// - ECPv6.15.20//NONSGML v1.0//EN
CALSCALE:GREGORIAN
METHOD:PUBLISH
X-ORIGINAL-URL:https://blackrock-kadence.gotbdev.com
X-WR-CALDESC:Events for 
REFRESH-INTERVAL;VALUE=DURATION:PT1H
X-Robots-Tag:noindex
X-PUBLISHED-TTL:PT1H
BEGIN:VTIMEZONE
TZID:America/Vancouver
BEGIN:DAYLIGHT
TZOFFSETFROM:-0800
TZOFFSETTO:-0700
TZNAME:PDT
DTSTART:20250309T100000
END:DAYLIGHT
BEGIN:STANDARD
TZOFFSETFROM:-0700
TZOFFSETTO:-0800
TZNAME:PST
DTSTART:20251102T090000
END:STANDARD
BEGIN:DAYLIGHT
TZOFFSETFROM:-0800
TZOFFSETTO:-0700
TZNAME:PDT
DTSTART:20260308T100000
END:DAYLIGHT
BEGIN:STANDARD
TZOFFSETFROM:-0700
TZOFFSETTO:-0800
TZNAME:PST
DTSTART:20261101T090000
END:STANDARD
BEGIN:DAYLIGHT
TZOFFSETFROM:-0800
TZOFFSETTO:-0700
TZNAME:PDT
DTSTART:20270314T100000
END:DAYLIGHT
BEGIN:STANDARD
TZOFFSETFROM:-0700
TZOFFSETTO:-0800
TZNAME:PST
DTSTART:20271107T090000
END:STANDARD
END:VTIMEZONE
BEGIN:VEVENT
DTSTART;TZID=America/Vancouver:20260420T180000
DTEND;TZID=America/Vancouver:20260420T190000
DTSTAMP:20260421T022751
CREATED:20250307T004221Z
LAST-MODIFIED:20260221T002730Z
UID:10015135-1776708000-1776711600@blackrock-kadence.gotbdev.com
SUMMARY:Mezz: Jiu Jitsu Fundamentals
DESCRIPTION:Perfect for beginners and those looking to refine their technique\, our Jiu Jitsu Fundamentals class focuses on core movements\, essential positions\, and foundational strategies. Learn in a supportive environment while building strength\, flexibility\, and confidence on the mat.
URL:https://blackrock-kadence.gotbdev.com/event/jiu-jitsu-fundamentals-4-2/2026-04-20/
CATEGORIES:Jiu Jitsu
ATTACH;FMTTYPE=image/jpeg:https://blackrock-kadence.gotbdev.com/wp-content/uploads/2025/11/WPA4490-scaled-1-scaled.jpg
END:VEVENT
BEGIN:VEVENT
DTSTART;TZID=America/Vancouver:20260415T180000
DTEND;TZID=America/Vancouver:20260415T190000
DTSTAMP:20260421T022751
CREATED:20250307T004221Z
LAST-MODIFIED:20260221T002730Z
UID:10015134-1776276000-1776279600@blackrock-kadence.gotbdev.com
SUMMARY:Mezz: Jiu Jitsu Fundamentals
DESCRIPTION:Perfect for beginners and those looking to refine their technique\, our Jiu Jitsu Fundamentals class focuses on core movements\, essential positions\, and foundational strategies. Learn in a supportive environment while building strength\, flexibility\, and confidence on the mat.
URL:https://blackrock-kadence.gotbdev.com/event/jiu-jitsu-fundamentals-4-2/2026-04-15/
CATEGORIES:Jiu Jitsu
ATTACH;FMTTYPE=image/jpeg:https://blackrock-kadence.gotbdev.com/wp-content/uploads/2025/11/WPA4490-scaled-1-scaled.jpg
END:VEVENT
BEGIN:VEVENT
DTSTART;TZID=America/Vancouver:20260413T180000
DTEND;TZID=America/Vancouver:20260413T190000
DTSTAMP:20260421T022751
CREATED:20250307T004221Z
LAST-MODIFIED:20260221T002730Z
UID:10015133-1776103200-1776106800@blackrock-kadence.gotbdev.com
SUMMARY:Mezz: Jiu Jitsu Fundamentals
DESCRIPTION:Perfect for beginners and those looking to refine their technique\, our Jiu Jitsu Fundamentals class focuses on core movements\, essential positions\, and foundational strategies. Learn in a supportive environment while building strength\, flexibility\, and confidence on the mat.
URL:https://blackrock-kadence.gotbdev.com/event/jiu-jitsu-fundamentals-4-2/2026-04-13/
CATEGORIES:Jiu Jitsu
ATTACH;FMTTYPE=image/jpeg:https://blackrock-kadence.gotbdev.com/wp-content/uploads/2025/11/WPA4490-scaled-1-scaled.jpg
END:VEVENT
BEGIN:VEVENT
DTSTART;TZID=America/Vancouver:20260408T180000
DTEND;TZID=America/Vancouver:20260408T190000
DTSTAMP:20260421T022751
CREATED:20250307T004221Z
LAST-MODIFIED:20260221T002730Z
UID:10015132-1775671200-1775674800@blackrock-kadence.gotbdev.com
SUMMARY:Mezz: Jiu Jitsu Fundamentals
DESCRIPTION:Perfect for beginners and those looking to refine their technique\, our Jiu Jitsu Fundamentals class focuses on core movements\, essential positions\, and foundational strategies. Learn in a supportive environment while building strength\, flexibility\, and confidence on the mat.
URL:https://blackrock-kadence.gotbdev.com/event/jiu-jitsu-fundamentals-4-2/2026-04-08/
CATEGORIES:Jiu Jitsu
ATTACH;FMTTYPE=image/jpeg:https://blackrock-kadence.gotbdev.com/wp-content/uploads/2025/11/WPA4490-scaled-1-scaled.jpg
END:VEVENT
BEGIN:VEVENT
DTSTART;TZID=America/Vancouver:20260406T180000
DTEND;TZID=America/Vancouver:20260406T190000
DTSTAMP:20260421T022751
CREATED:20250307T004221Z
LAST-MODIFIED:20260221T002730Z
UID:10015131-1775498400-1775502000@blackrock-kadence.gotbdev.com
SUMMARY:Mezz: Jiu Jitsu Fundamentals
DESCRIPTION:Perfect for beginners and those looking to refine their technique\, our Jiu Jitsu Fundamentals class focuses on core movements\, essential positions\, and foundational strategies. Learn in a supportive environment while building strength\, flexibility\, and confidence on the mat.
URL:https://blackrock-kadence.gotbdev.com/event/jiu-jitsu-fundamentals-4-2/2026-04-06/
CATEGORIES:Jiu Jitsu
ATTACH;FMTTYPE=image/jpeg:https://blackrock-kadence.gotbdev.com/wp-content/uploads/2025/11/WPA4490-scaled-1-scaled.jpg
END:VEVENT
BEGIN:VEVENT
DTSTART;TZID=America/Vancouver:20260401T180000
DTEND;TZID=America/Vancouver:20260401T190000
DTSTAMP:20260421T022751
CREATED:20250307T004221Z
LAST-MODIFIED:20260221T002730Z
UID:10015130-1775066400-1775070000@blackrock-kadence.gotbdev.com
SUMMARY:Mezz: Jiu Jitsu Fundamentals
DESCRIPTION:Perfect for beginners and those looking to refine their technique\, our Jiu Jitsu Fundamentals class focuses on core movements\, essential positions\, and foundational strategies. Learn in a supportive environment while building strength\, flexibility\, and confidence on the mat.
URL:https://blackrock-kadence.gotbdev.com/event/jiu-jitsu-fundamentals-4-2/2026-04-01/
CATEGORIES:Jiu Jitsu
ATTACH;FMTTYPE=image/jpeg:https://blackrock-kadence.gotbdev.com/wp-content/uploads/2025/11/WPA4490-scaled-1-scaled.jpg
END:VEVENT
BEGIN:VEVENT
DTSTART;TZID=America/Vancouver:20260330T180000
DTEND;TZID=America/Vancouver:20260330T190000
DTSTAMP:20260421T022751
CREATED:20250307T004221Z
LAST-MODIFIED:20260221T002730Z
UID:10015129-1774893600-1774897200@blackrock-kadence.gotbdev.com
SUMMARY:Mezz: Jiu Jitsu Fundamentals
DESCRIPTION:Perfect for beginners and those looking to refine their technique\, our Jiu Jitsu Fundamentals class focuses on core movements\, essential positions\, and foundational strategies. Learn in a supportive environment while building strength\, flexibility\, and confidence on the mat.
URL:https://blackrock-kadence.gotbdev.com/event/jiu-jitsu-fundamentals-4-2/2026-03-30/
CATEGORIES:Jiu Jitsu
ATTACH;FMTTYPE=image/jpeg:https://blackrock-kadence.gotbdev.com/wp-content/uploads/2025/11/WPA4490-scaled-1-scaled.jpg
END:VEVENT
BEGIN:VEVENT
DTSTART;TZID=America/Vancouver:20260325T180000
DTEND;TZID=America/Vancouver:20260325T190000
DTSTAMP:20260421T022751
CREATED:20250307T004221Z
LAST-MODIFIED:20260221T002730Z
UID:10015128-1774461600-1774465200@blackrock-kadence.gotbdev.com
SUMMARY:Mezz: Jiu Jitsu Fundamentals
DESCRIPTION:Perfect for beginners and those looking to refine their technique\, our Jiu Jitsu Fundamentals class focuses on core movements\, essential positions\, and foundational strategies. Learn in a supportive environment while building strength\, flexibility\, and confidence on the mat.
URL:https://blackrock-kadence.gotbdev.com/event/jiu-jitsu-fundamentals-4-2/2026-03-25/
CATEGORIES:Jiu Jitsu
ATTACH;FMTTYPE=image/jpeg:https://blackrock-kadence.gotbdev.com/wp-content/uploads/2025/11/WPA4490-scaled-1-scaled.jpg
END:VEVENT
BEGIN:VEVENT
DTSTART;TZID=America/Vancouver:20260323T180000
DTEND;TZID=America/Vancouver:20260323T190000
DTSTAMP:20260421T022751
CREATED:20250307T004221Z
LAST-MODIFIED:20260221T002730Z
UID:10015127-1774288800-1774292400@blackrock-kadence.gotbdev.com
SUMMARY:Mezz: Jiu Jitsu Fundamentals
DESCRIPTION:Perfect for beginners and those looking to refine their technique\, our Jiu Jitsu Fundamentals class focuses on core movements\, essential positions\, and foundational strategies. Learn in a supportive environment while building strength\, flexibility\, and confidence on the mat.
URL:https://blackrock-kadence.gotbdev.com/event/jiu-jitsu-fundamentals-4-2/2026-03-23/
CATEGORIES:Jiu Jitsu
ATTACH;FMTTYPE=image/jpeg:https://blackrock-kadence.gotbdev.com/wp-content/uploads/2025/11/WPA4490-scaled-1-scaled.jpg
END:VEVENT
BEGIN:VEVENT
DTSTART;TZID=America/Vancouver:20260318T180000
DTEND;TZID=America/Vancouver:20260318T190000
DTSTAMP:20260421T022751
CREATED:20250307T004221Z
LAST-MODIFIED:20260221T002730Z
UID:10015126-1773856800-1773860400@blackrock-kadence.gotbdev.com
SUMMARY:Mezz: Jiu Jitsu Fundamentals
DESCRIPTION:Perfect for beginners and those looking to refine their technique\, our Jiu Jitsu Fundamentals class focuses on core movements\, essential positions\, and foundational strategies. Learn in a supportive environment while building strength\, flexibility\, and confidence on the mat.
URL:https://blackrock-kadence.gotbdev.com/event/jiu-jitsu-fundamentals-4-2/2026-03-18/
CATEGORIES:Jiu Jitsu
ATTACH;FMTTYPE=image/jpeg:https://blackrock-kadence.gotbdev.com/wp-content/uploads/2025/11/WPA4490-scaled-1-scaled.jpg
END:VEVENT
BEGIN:VEVENT
DTSTART;TZID=America/Vancouver:20260316T180000
DTEND;TZID=America/Vancouver:20260316T190000
DTSTAMP:20260421T022751
CREATED:20250307T004221Z
LAST-MODIFIED:20260221T002730Z
UID:10015125-1773684000-1773687600@blackrock-kadence.gotbdev.com
SUMMARY:Mezz: Jiu Jitsu Fundamentals
DESCRIPTION:Perfect for beginners and those looking to refine their technique\, our Jiu Jitsu Fundamentals class focuses on core movements\, essential positions\, and foundational strategies. Learn in a supportive environment while building strength\, flexibility\, and confidence on the mat.
URL:https://blackrock-kadence.gotbdev.com/event/jiu-jitsu-fundamentals-4-2/2026-03-16/
CATEGORIES:Jiu Jitsu
ATTACH;FMTTYPE=image/jpeg:https://blackrock-kadence.gotbdev.com/wp-content/uploads/2025/11/WPA4490-scaled-1-scaled.jpg
END:VEVENT
BEGIN:VEVENT
DTSTART;TZID=America/Vancouver:20260311T180000
DTEND;TZID=America/Vancouver:20260311T190000
DTSTAMP:20260421T022751
CREATED:20250307T004221Z
LAST-MODIFIED:20260221T002730Z
UID:10015124-1773252000-1773255600@blackrock-kadence.gotbdev.com
SUMMARY:Mezz: Jiu Jitsu Fundamentals
DESCRIPTION:Perfect for beginners and those looking to refine their technique\, our Jiu Jitsu Fundamentals class focuses on core movements\, essential positions\, and foundational strategies. Learn in a supportive environment while building strength\, flexibility\, and confidence on the mat.
URL:https://blackrock-kadence.gotbdev.com/event/jiu-jitsu-fundamentals-4-2/2026-03-11/
CATEGORIES:Jiu Jitsu
ATTACH;FMTTYPE=image/jpeg:https://blackrock-kadence.gotbdev.com/wp-content/uploads/2025/11/WPA4490-scaled-1-scaled.jpg
END:VEVENT
BEGIN:VEVENT
DTSTART;TZID=America/Vancouver:20260309T180000
DTEND;TZID=America/Vancouver:20260309T190000
DTSTAMP:20260421T022751
CREATED:20250307T004221Z
LAST-MODIFIED:20260221T002730Z
UID:10015123-1773079200-1773082800@blackrock-kadence.gotbdev.com
SUMMARY:Mezz: Jiu Jitsu Fundamentals
DESCRIPTION:Perfect for beginners and those looking to refine their technique\, our Jiu Jitsu Fundamentals class focuses on core movements\, essential positions\, and foundational strategies. Learn in a supportive environment while building strength\, flexibility\, and confidence on the mat.
URL:https://blackrock-kadence.gotbdev.com/event/jiu-jitsu-fundamentals-4-2/2026-03-09/
CATEGORIES:Jiu Jitsu
ATTACH;FMTTYPE=image/jpeg:https://blackrock-kadence.gotbdev.com/wp-content/uploads/2025/11/WPA4490-scaled-1-scaled.jpg
END:VEVENT
BEGIN:VEVENT
DTSTART;TZID=America/Vancouver:20260304T180000
DTEND;TZID=America/Vancouver:20260304T190000
DTSTAMP:20260421T022751
CREATED:20250307T004221Z
LAST-MODIFIED:20260221T002730Z
UID:10015122-1772647200-1772650800@blackrock-kadence.gotbdev.com
SUMMARY:Mezz: Jiu Jitsu Fundamentals
DESCRIPTION:Perfect for beginners and those looking to refine their technique\, our Jiu Jitsu Fundamentals class focuses on core movements\, essential positions\, and foundational strategies. Learn in a supportive environment while building strength\, flexibility\, and confidence on the mat.
URL:https://blackrock-kadence.gotbdev.com/event/jiu-jitsu-fundamentals-4-2/2026-03-04/
CATEGORIES:Jiu Jitsu
ATTACH;FMTTYPE=image/jpeg:https://blackrock-kadence.gotbdev.com/wp-content/uploads/2025/11/WPA4490-scaled-1-scaled.jpg
END:VEVENT
BEGIN:VEVENT
DTSTART;TZID=America/Vancouver:20260302T180000
DTEND;TZID=America/Vancouver:20260302T190000
DTSTAMP:20260421T022751
CREATED:20250307T004221Z
LAST-MODIFIED:20260221T002730Z
UID:10015121-1772474400-1772478000@blackrock-kadence.gotbdev.com
SUMMARY:Mezz: Jiu Jitsu Fundamentals
DESCRIPTION:Perfect for beginners and those looking to refine their technique\, our Jiu Jitsu Fundamentals class focuses on core movements\, essential positions\, and foundational strategies. Learn in a supportive environment while building strength\, flexibility\, and confidence on the mat.
URL:https://blackrock-kadence.gotbdev.com/event/jiu-jitsu-fundamentals-4-2/2026-03-02/
CATEGORIES:Jiu Jitsu
ATTACH;FMTTYPE=image/jpeg:https://blackrock-kadence.gotbdev.com/wp-content/uploads/2025/11/WPA4490-scaled-1-scaled.jpg
END:VEVENT
BEGIN:VEVENT
DTSTART;TZID=America/Vancouver:20260225T180000
DTEND;TZID=America/Vancouver:20260225T190000
DTSTAMP:20260421T022751
CREATED:20250307T004221Z
LAST-MODIFIED:20260221T002730Z
UID:10015120-1772042400-1772046000@blackrock-kadence.gotbdev.com
SUMMARY:Mezz: Jiu Jitsu Fundamentals
DESCRIPTION:Perfect for beginners and those looking to refine their technique\, our Jiu Jitsu Fundamentals class focuses on core movements\, essential positions\, and foundational strategies. Learn in a supportive environment while building strength\, flexibility\, and confidence on the mat.
URL:https://blackrock-kadence.gotbdev.com/event/jiu-jitsu-fundamentals-4-2/2026-02-25/
CATEGORIES:Jiu Jitsu
ATTACH;FMTTYPE=image/jpeg:https://blackrock-kadence.gotbdev.com/wp-content/uploads/2025/11/WPA4490-scaled-1-scaled.jpg
END:VEVENT
BEGIN:VEVENT
DTSTART;TZID=America/Vancouver:20260223T180000
DTEND;TZID=America/Vancouver:20260223T190000
DTSTAMP:20260421T022751
CREATED:20250307T004221Z
LAST-MODIFIED:20260221T002730Z
UID:10015119-1771869600-1771873200@blackrock-kadence.gotbdev.com
SUMMARY:Mezz: Jiu Jitsu Fundamentals
DESCRIPTION:Perfect for beginners and those looking to refine their technique\, our Jiu Jitsu Fundamentals class focuses on core movements\, essential positions\, and foundational strategies. Learn in a supportive environment while building strength\, flexibility\, and confidence on the mat.
URL:https://blackrock-kadence.gotbdev.com/event/jiu-jitsu-fundamentals-4-2/2026-02-23/
CATEGORIES:Jiu Jitsu
ATTACH;FMTTYPE=image/jpeg:https://blackrock-kadence.gotbdev.com/wp-content/uploads/2025/11/WPA4490-scaled-1-scaled.jpg
END:VEVENT
BEGIN:VEVENT
DTSTART;TZID=America/Vancouver:20260218T180000
DTEND;TZID=America/Vancouver:20260218T190000
DTSTAMP:20260421T022751
CREATED:20250307T004221Z
LAST-MODIFIED:20260221T002730Z
UID:10015118-1771437600-1771441200@blackrock-kadence.gotbdev.com
SUMMARY:Mezz: Jiu Jitsu Fundamentals
DESCRIPTION:Perfect for beginners and those looking to refine their technique\, our Jiu Jitsu Fundamentals class focuses on core movements\, essential positions\, and foundational strategies. Learn in a supportive environment while building strength\, flexibility\, and confidence on the mat.
URL:https://blackrock-kadence.gotbdev.com/event/jiu-jitsu-fundamentals-4-2/2026-02-18/
CATEGORIES:Jiu Jitsu
ATTACH;FMTTYPE=image/jpeg:https://blackrock-kadence.gotbdev.com/wp-content/uploads/2025/11/WPA4490-scaled-1-scaled.jpg
END:VEVENT
BEGIN:VEVENT
DTSTART;TZID=America/Vancouver:20260216T180000
DTEND;TZID=America/Vancouver:20260216T190000
DTSTAMP:20260421T022751
CREATED:20250307T004221Z
LAST-MODIFIED:20260221T002730Z
UID:10015117-1771264800-1771268400@blackrock-kadence.gotbdev.com
SUMMARY:Mezz: Jiu Jitsu Fundamentals
DESCRIPTION:Perfect for beginners and those looking to refine their technique\, our Jiu Jitsu Fundamentals class focuses on core movements\, essential positions\, and foundational strategies. Learn in a supportive environment while building strength\, flexibility\, and confidence on the mat.
URL:https://blackrock-kadence.gotbdev.com/event/jiu-jitsu-fundamentals-4-2/2026-02-16/
CATEGORIES:Jiu Jitsu
ATTACH;FMTTYPE=image/jpeg:https://blackrock-kadence.gotbdev.com/wp-content/uploads/2025/11/WPA4490-scaled-1-scaled.jpg
END:VEVENT
BEGIN:VEVENT
DTSTART;TZID=America/Vancouver:20260211T180000
DTEND;TZID=America/Vancouver:20260211T190000
DTSTAMP:20260421T022751
CREATED:20250307T004221Z
LAST-MODIFIED:20260221T002730Z
UID:10015116-1770832800-1770836400@blackrock-kadence.gotbdev.com
SUMMARY:Mezz: Jiu Jitsu Fundamentals
DESCRIPTION:Perfect for beginners and those looking to refine their technique\, our Jiu Jitsu Fundamentals class focuses on core movements\, essential positions\, and foundational strategies. Learn in a supportive environment while building strength\, flexibility\, and confidence on the mat.
URL:https://blackrock-kadence.gotbdev.com/event/jiu-jitsu-fundamentals-4-2/2026-02-11/
CATEGORIES:Jiu Jitsu
ATTACH;FMTTYPE=image/jpeg:https://blackrock-kadence.gotbdev.com/wp-content/uploads/2025/11/WPA4490-scaled-1-scaled.jpg
END:VEVENT
BEGIN:VEVENT
DTSTART;TZID=America/Vancouver:20260209T180000
DTEND;TZID=America/Vancouver:20260209T190000
DTSTAMP:20260421T022751
CREATED:20250307T004221Z
LAST-MODIFIED:20260221T002730Z
UID:10015115-1770660000-1770663600@blackrock-kadence.gotbdev.com
SUMMARY:Mezz: Jiu Jitsu Fundamentals
DESCRIPTION:Perfect for beginners and those looking to refine their technique\, our Jiu Jitsu Fundamentals class focuses on core movements\, essential positions\, and foundational strategies. Learn in a supportive environment while building strength\, flexibility\, and confidence on the mat.
URL:https://blackrock-kadence.gotbdev.com/event/jiu-jitsu-fundamentals-4-2/2026-02-09/
CATEGORIES:Jiu Jitsu
ATTACH;FMTTYPE=image/jpeg:https://blackrock-kadence.gotbdev.com/wp-content/uploads/2025/11/WPA4490-scaled-1-scaled.jpg
END:VEVENT
BEGIN:VEVENT
DTSTART;TZID=America/Vancouver:20260204T180000
DTEND;TZID=America/Vancouver:20260204T190000
DTSTAMP:20260421T022751
CREATED:20250307T004221Z
LAST-MODIFIED:20260221T002730Z
UID:10015114-1770228000-1770231600@blackrock-kadence.gotbdev.com
SUMMARY:Mezz: Jiu Jitsu Fundamentals
DESCRIPTION:Perfect for beginners and those looking to refine their technique\, our Jiu Jitsu Fundamentals class focuses on core movements\, essential positions\, and foundational strategies. Learn in a supportive environment while building strength\, flexibility\, and confidence on the mat.
URL:https://blackrock-kadence.gotbdev.com/event/jiu-jitsu-fundamentals-4-2/2026-02-04/
CATEGORIES:Jiu Jitsu
ATTACH;FMTTYPE=image/jpeg:https://blackrock-kadence.gotbdev.com/wp-content/uploads/2025/11/WPA4490-scaled-1-scaled.jpg
END:VEVENT
BEGIN:VEVENT
DTSTART;TZID=America/Vancouver:20260202T180000
DTEND;TZID=America/Vancouver:20260202T190000
DTSTAMP:20260421T022751
CREATED:20250307T004221Z
LAST-MODIFIED:20260221T002730Z
UID:10015113-1770055200-1770058800@blackrock-kadence.gotbdev.com
SUMMARY:Mezz: Jiu Jitsu Fundamentals
DESCRIPTION:Perfect for beginners and those looking to refine their technique\, our Jiu Jitsu Fundamentals class focuses on core movements\, essential positions\, and foundational strategies. Learn in a supportive environment while building strength\, flexibility\, and confidence on the mat.
URL:https://blackrock-kadence.gotbdev.com/event/jiu-jitsu-fundamentals-4-2/2026-02-02/
CATEGORIES:Jiu Jitsu
ATTACH;FMTTYPE=image/jpeg:https://blackrock-kadence.gotbdev.com/wp-content/uploads/2025/11/WPA4490-scaled-1-scaled.jpg
END:VEVENT
BEGIN:VEVENT
DTSTART;TZID=America/Vancouver:20260128T180000
DTEND;TZID=America/Vancouver:20260128T190000
DTSTAMP:20260421T022751
CREATED:20250307T004221Z
LAST-MODIFIED:20260221T002730Z
UID:10015112-1769623200-1769626800@blackrock-kadence.gotbdev.com
SUMMARY:Mezz: Jiu Jitsu Fundamentals
DESCRIPTION:Perfect for beginners and those looking to refine their technique\, our Jiu Jitsu Fundamentals class focuses on core movements\, essential positions\, and foundational strategies. Learn in a supportive environment while building strength\, flexibility\, and confidence on the mat.
URL:https://blackrock-kadence.gotbdev.com/event/jiu-jitsu-fundamentals-4-2/2026-01-28/
CATEGORIES:Jiu Jitsu
ATTACH;FMTTYPE=image/jpeg:https://blackrock-kadence.gotbdev.com/wp-content/uploads/2025/11/WPA4490-scaled-1-scaled.jpg
END:VEVENT
BEGIN:VEVENT
DTSTART;TZID=America/Vancouver:20260126T180000
DTEND;TZID=America/Vancouver:20260126T190000
DTSTAMP:20260421T022751
CREATED:20250307T004221Z
LAST-MODIFIED:20260221T002730Z
UID:10015111-1769450400-1769454000@blackrock-kadence.gotbdev.com
SUMMARY:Mezz: Jiu Jitsu Fundamentals
DESCRIPTION:Perfect for beginners and those looking to refine their technique\, our Jiu Jitsu Fundamentals class focuses on core movements\, essential positions\, and foundational strategies. Learn in a supportive environment while building strength\, flexibility\, and confidence on the mat.
URL:https://blackrock-kadence.gotbdev.com/event/jiu-jitsu-fundamentals-4-2/2026-01-26/
CATEGORIES:Jiu Jitsu
ATTACH;FMTTYPE=image/jpeg:https://blackrock-kadence.gotbdev.com/wp-content/uploads/2025/11/WPA4490-scaled-1-scaled.jpg
END:VEVENT
BEGIN:VEVENT
DTSTART;TZID=America/Vancouver:20260121T180000
DTEND;TZID=America/Vancouver:20260121T190000
DTSTAMP:20260421T022751
CREATED:20250307T004221Z
LAST-MODIFIED:20260221T002730Z
UID:10015110-1769018400-1769022000@blackrock-kadence.gotbdev.com
SUMMARY:Mezz: Jiu Jitsu Fundamentals
DESCRIPTION:Perfect for beginners and those looking to refine their technique\, our Jiu Jitsu Fundamentals class focuses on core movements\, essential positions\, and foundational strategies. Learn in a supportive environment while building strength\, flexibility\, and confidence on the mat.
URL:https://blackrock-kadence.gotbdev.com/event/jiu-jitsu-fundamentals-4-2/2026-01-21/
CATEGORIES:Jiu Jitsu
ATTACH;FMTTYPE=image/jpeg:https://blackrock-kadence.gotbdev.com/wp-content/uploads/2025/11/WPA4490-scaled-1-scaled.jpg
END:VEVENT
BEGIN:VEVENT
DTSTART;TZID=America/Vancouver:20260119T180000
DTEND;TZID=America/Vancouver:20260119T190000
DTSTAMP:20260421T022751
CREATED:20250307T004221Z
LAST-MODIFIED:20260221T002730Z
UID:10015109-1768845600-1768849200@blackrock-kadence.gotbdev.com
SUMMARY:Mezz: Jiu Jitsu Fundamentals
DESCRIPTION:Perfect for beginners and those looking to refine their technique\, our Jiu Jitsu Fundamentals class focuses on core movements\, essential positions\, and foundational strategies. Learn in a supportive environment while building strength\, flexibility\, and confidence on the mat.
URL:https://blackrock-kadence.gotbdev.com/event/jiu-jitsu-fundamentals-4-2/2026-01-19/
CATEGORIES:Jiu Jitsu
ATTACH;FMTTYPE=image/jpeg:https://blackrock-kadence.gotbdev.com/wp-content/uploads/2025/11/WPA4490-scaled-1-scaled.jpg
END:VEVENT
BEGIN:VEVENT
DTSTART;TZID=America/Vancouver:20260114T180000
DTEND;TZID=America/Vancouver:20260114T190000
DTSTAMP:20260421T022751
CREATED:20250307T004221Z
LAST-MODIFIED:20260221T002730Z
UID:10015108-1768413600-1768417200@blackrock-kadence.gotbdev.com
SUMMARY:Mezz: Jiu Jitsu Fundamentals
DESCRIPTION:Perfect for beginners and those looking to refine their technique\, our Jiu Jitsu Fundamentals class focuses on core movements\, essential positions\, and foundational strategies. Learn in a supportive environment while building strength\, flexibility\, and confidence on the mat.
URL:https://blackrock-kadence.gotbdev.com/event/jiu-jitsu-fundamentals-4-2/2026-01-14/
CATEGORIES:Jiu Jitsu
ATTACH;FMTTYPE=image/jpeg:https://blackrock-kadence.gotbdev.com/wp-content/uploads/2025/11/WPA4490-scaled-1-scaled.jpg
END:VEVENT
BEGIN:VEVENT
DTSTART;TZID=America/Vancouver:20260112T180000
DTEND;TZID=America/Vancouver:20260112T190000
DTSTAMP:20260421T022751
CREATED:20250307T004221Z
LAST-MODIFIED:20260221T002730Z
UID:10015107-1768240800-1768244400@blackrock-kadence.gotbdev.com
SUMMARY:Mezz: Jiu Jitsu Fundamentals
DESCRIPTION:Perfect for beginners and those looking to refine their technique\, our Jiu Jitsu Fundamentals class focuses on core movements\, essential positions\, and foundational strategies. Learn in a supportive environment while building strength\, flexibility\, and confidence on the mat.
URL:https://blackrock-kadence.gotbdev.com/event/jiu-jitsu-fundamentals-4-2/2026-01-12/
CATEGORIES:Jiu Jitsu
ATTACH;FMTTYPE=image/jpeg:https://blackrock-kadence.gotbdev.com/wp-content/uploads/2025/11/WPA4490-scaled-1-scaled.jpg
END:VEVENT
BEGIN:VEVENT
DTSTART;TZID=America/Vancouver:20260107T180000
DTEND;TZID=America/Vancouver:20260107T190000
DTSTAMP:20260421T022751
CREATED:20250307T004221Z
LAST-MODIFIED:20260221T002730Z
UID:10015106-1767808800-1767812400@blackrock-kadence.gotbdev.com
SUMMARY:Mezz: Jiu Jitsu Fundamentals
DESCRIPTION:Perfect for beginners and those looking to refine their technique\, our Jiu Jitsu Fundamentals class focuses on core movements\, essential positions\, and foundational strategies. Learn in a supportive environment while building strength\, flexibility\, and confidence on the mat.
URL:https://blackrock-kadence.gotbdev.com/event/jiu-jitsu-fundamentals-4-2/2026-01-07/
CATEGORIES:Jiu Jitsu
ATTACH;FMTTYPE=image/jpeg:https://blackrock-kadence.gotbdev.com/wp-content/uploads/2025/11/WPA4490-scaled-1-scaled.jpg
END:VEVENT
END:VCALENDAR