BEGIN:VCALENDAR
VERSION:2.0
PRODID:-// - ECPv6.15.20//NONSGML v1.0//EN
CALSCALE:GREGORIAN
METHOD:PUBLISH
X-ORIGINAL-URL:https://blackrock-kadence.gotbdev.com
X-WR-CALDESC:Events for 
REFRESH-INTERVAL;VALUE=DURATION:PT1H
X-Robots-Tag:noindex
X-PUBLISHED-TTL:PT1H
BEGIN:VTIMEZONE
TZID:America/Vancouver
BEGIN:DAYLIGHT
TZOFFSETFROM:-0800
TZOFFSETTO:-0700
TZNAME:PDT
DTSTART:20230312T100000
END:DAYLIGHT
BEGIN:STANDARD
TZOFFSETFROM:-0700
TZOFFSETTO:-0800
TZNAME:PST
DTSTART:20231105T090000
END:STANDARD
BEGIN:DAYLIGHT
TZOFFSETFROM:-0800
TZOFFSETTO:-0700
TZNAME:PDT
DTSTART:20240310T100000
END:DAYLIGHT
BEGIN:STANDARD
TZOFFSETFROM:-0700
TZOFFSETTO:-0800
TZNAME:PST
DTSTART:20241103T090000
END:STANDARD
BEGIN:DAYLIGHT
TZOFFSETFROM:-0800
TZOFFSETTO:-0700
TZNAME:PDT
DTSTART:20250309T100000
END:DAYLIGHT
BEGIN:STANDARD
TZOFFSETFROM:-0700
TZOFFSETTO:-0800
TZNAME:PST
DTSTART:20251102T090000
END:STANDARD
END:VTIMEZONE
BEGIN:VEVENT
DTSTART;TZID=America/Vancouver:20241001T190000
DTEND;TZID=America/Vancouver:20241001T203000
DTSTAMP:20260423T012722
CREATED:20240917T180118Z
LAST-MODIFIED:20260221T003433Z
UID:10006814-1727809200-1727814600@blackrock-kadence.gotbdev.com
SUMMARY:Adult Jiu Jitsu
DESCRIPTION:Experience Adult No-Gi Jiu-Jitsu at Black Rock Martial Arts\, where you’ll master grappling techniques\, enhance your strength\, and build confidence in a supportive\, dynamic environment. Our classes focus on real-world self-defense\, agility\, and strategy\, making them ideal for both beginners and seasoned practitioners. Under the guidance of skilled instructors\, you’ll learn to control opponents\, execute submissions\, and refine your skills through live sparring. Whether you’re aiming for competition or personal growth\, our classes provide the challenge and community you need to excel.
URL:https://blackrock-kadence.gotbdev.com/event/adult-no-gi-jiu-jitsu/2024-10-01/
CATEGORIES:Jiu Jitsu
ATTACH;FMTTYPE=image/jpeg:https://blackrock-kadence.gotbdev.com/wp-content/uploads/2025/11/JAK0198-scaled-1-scaled.jpg
END:VEVENT
BEGIN:VEVENT
DTSTART;TZID=America/Vancouver:20241003T190000
DTEND;TZID=America/Vancouver:20241003T203000
DTSTAMP:20260423T012722
CREATED:20240917T180118Z
LAST-MODIFIED:20260221T003433Z
UID:10006815-1727982000-1727987400@blackrock-kadence.gotbdev.com
SUMMARY:Adult Jiu Jitsu
DESCRIPTION:Experience Adult No-Gi Jiu-Jitsu at Black Rock Martial Arts\, where you’ll master grappling techniques\, enhance your strength\, and build confidence in a supportive\, dynamic environment. Our classes focus on real-world self-defense\, agility\, and strategy\, making them ideal for both beginners and seasoned practitioners. Under the guidance of skilled instructors\, you’ll learn to control opponents\, execute submissions\, and refine your skills through live sparring. Whether you’re aiming for competition or personal growth\, our classes provide the challenge and community you need to excel.
URL:https://blackrock-kadence.gotbdev.com/event/adult-no-gi-jiu-jitsu/2024-10-03/
CATEGORIES:Jiu Jitsu
ATTACH;FMTTYPE=image/jpeg:https://blackrock-kadence.gotbdev.com/wp-content/uploads/2025/11/JAK0198-scaled-1-scaled.jpg
END:VEVENT
BEGIN:VEVENT
DTSTART;TZID=America/Vancouver:20241004T180000
DTEND;TZID=America/Vancouver:20241004T190000
DTSTAMP:20260423T012722
CREATED:20240917T175703Z
LAST-MODIFIED:20260221T003145Z
UID:10006477-1728064800-1728068400@blackrock-kadence.gotbdev.com
SUMMARY:Adult Kickboxing (Dutch Drilling)
DESCRIPTION:Join our Dutch Drilling adult kickboxing classes at Black Rock Martial Arts and boost your fitness\, confidence\, and self-defense skills in a dynamic\, fun\, and supportive environment. Perfect for all experience levels\, our classes use high-intensity drills inspired by Dutch kickboxing techniques to enhance your striking\, footwork\, and endurance. Led by experienced coaches\, you’ll challenge yourself physically and mentally while enjoying a great workout. Whether you’re looking to compete or just get fit\, these sessions provide the ultimate kickboxing experience.
URL:https://blackrock-kadence.gotbdev.com/event/adult-kickboxing-dutch-drilling/2024-10-04/
CATEGORIES:Kickboxing
ATTACH;FMTTYPE=image/jpeg:https://blackrock-kadence.gotbdev.com/wp-content/uploads/2024/09/adult-mma-10.jpg
END:VEVENT
BEGIN:VEVENT
DTSTART;TZID=America/Vancouver:20241004T190000
DTEND;TZID=America/Vancouver:20241004T203000
DTSTAMP:20260423T012722
CREATED:20240917T180118Z
LAST-MODIFIED:20260221T003433Z
UID:10006816-1728068400-1728073800@blackrock-kadence.gotbdev.com
SUMMARY:Adult Jiu Jitsu
DESCRIPTION:Experience Adult No-Gi Jiu-Jitsu at Black Rock Martial Arts\, where you’ll master grappling techniques\, enhance your strength\, and build confidence in a supportive\, dynamic environment. Our classes focus on real-world self-defense\, agility\, and strategy\, making them ideal for both beginners and seasoned practitioners. Under the guidance of skilled instructors\, you’ll learn to control opponents\, execute submissions\, and refine your skills through live sparring. Whether you’re aiming for competition or personal growth\, our classes provide the challenge and community you need to excel.
URL:https://blackrock-kadence.gotbdev.com/event/adult-no-gi-jiu-jitsu/2024-10-04/
CATEGORIES:Jiu Jitsu
ATTACH;FMTTYPE=image/jpeg:https://blackrock-kadence.gotbdev.com/wp-content/uploads/2025/11/JAK0198-scaled-1-scaled.jpg
END:VEVENT
END:VCALENDAR