BEGIN:VCALENDAR
VERSION:2.0
PRODID:-// - ECPv6.15.20//NONSGML v1.0//EN
CALSCALE:GREGORIAN
METHOD:PUBLISH
X-ORIGINAL-URL:https://blackrock-kadence.gotbdev.com
X-WR-CALDESC:Events for 
REFRESH-INTERVAL;VALUE=DURATION:PT1H
X-Robots-Tag:noindex
X-PUBLISHED-TTL:PT1H
BEGIN:VTIMEZONE
TZID:America/Vancouver
BEGIN:DAYLIGHT
TZOFFSETFROM:-0800
TZOFFSETTO:-0700
TZNAME:PDT
DTSTART:20250309T100000
END:DAYLIGHT
BEGIN:STANDARD
TZOFFSETFROM:-0700
TZOFFSETTO:-0800
TZNAME:PST
DTSTART:20251102T090000
END:STANDARD
BEGIN:DAYLIGHT
TZOFFSETFROM:-0800
TZOFFSETTO:-0700
TZNAME:PDT
DTSTART:20260308T100000
END:DAYLIGHT
BEGIN:STANDARD
TZOFFSETFROM:-0700
TZOFFSETTO:-0800
TZNAME:PST
DTSTART:20261101T090000
END:STANDARD
BEGIN:DAYLIGHT
TZOFFSETFROM:-0800
TZOFFSETTO:-0700
TZNAME:PDT
DTSTART:20270314T100000
END:DAYLIGHT
BEGIN:STANDARD
TZOFFSETFROM:-0700
TZOFFSETTO:-0800
TZNAME:PST
DTSTART:20271107T090000
END:STANDARD
END:VTIMEZONE
BEGIN:VEVENT
DTSTART;TZID=America/Vancouver:20261001T153000
DTEND;TZID=America/Vancouver:20261001T161500
DTSTAMP:20260421T131445
CREATED:20250122T231701Z
LAST-MODIFIED:20260221T002745Z
UID:10013929-1790868600-1790871300@blackrock-kadence.gotbdev.com
SUMMARY:Kids Taekwondo (5-7 Years Old)
DESCRIPTION:Enroll your child in Kids Taekwondo at Black Rock Martial Arts\, designed for ages 5-7! Our fun and engaging classes introduce the basics of Taekwondo\, including kicks\, blocks\, and forms\, while fostering focus\, confidence\, and discipline. With a supportive environment\, your child will learn and grow while having fun.
URL:https://blackrock-kadence.gotbdev.com/event/kids-taekwondo-5-7-years-old-2-3-2-2-2/2026-10-01/
CATEGORIES:Taekwondo
ATTACH;FMTTYPE=image/jpeg:https://blackrock-kadence.gotbdev.com/wp-content/uploads/2024/09/kids-kickboxing-1.jpg
END:VEVENT
BEGIN:VEVENT
DTSTART;TZID=America/Vancouver:20261006T153000
DTEND;TZID=America/Vancouver:20261006T161500
DTSTAMP:20260421T131445
CREATED:20250122T231701Z
LAST-MODIFIED:20260221T002745Z
UID:10013930-1791300600-1791303300@blackrock-kadence.gotbdev.com
SUMMARY:Kids Taekwondo (5-7 Years Old)
DESCRIPTION:Enroll your child in Kids Taekwondo at Black Rock Martial Arts\, designed for ages 5-7! Our fun and engaging classes introduce the basics of Taekwondo\, including kicks\, blocks\, and forms\, while fostering focus\, confidence\, and discipline. With a supportive environment\, your child will learn and grow while having fun.
URL:https://blackrock-kadence.gotbdev.com/event/kids-taekwondo-5-7-years-old-2-3-2-2-2/2026-10-06/
CATEGORIES:Taekwondo
ATTACH;FMTTYPE=image/jpeg:https://blackrock-kadence.gotbdev.com/wp-content/uploads/2024/09/kids-kickboxing-1.jpg
END:VEVENT
BEGIN:VEVENT
DTSTART;TZID=America/Vancouver:20261008T153000
DTEND;TZID=America/Vancouver:20261008T161500
DTSTAMP:20260421T131445
CREATED:20250122T231701Z
LAST-MODIFIED:20260221T002745Z
UID:10013931-1791473400-1791476100@blackrock-kadence.gotbdev.com
SUMMARY:Kids Taekwondo (5-7 Years Old)
DESCRIPTION:Enroll your child in Kids Taekwondo at Black Rock Martial Arts\, designed for ages 5-7! Our fun and engaging classes introduce the basics of Taekwondo\, including kicks\, blocks\, and forms\, while fostering focus\, confidence\, and discipline. With a supportive environment\, your child will learn and grow while having fun.
URL:https://blackrock-kadence.gotbdev.com/event/kids-taekwondo-5-7-years-old-2-3-2-2-2/2026-10-08/
CATEGORIES:Taekwondo
ATTACH;FMTTYPE=image/jpeg:https://blackrock-kadence.gotbdev.com/wp-content/uploads/2024/09/kids-kickboxing-1.jpg
END:VEVENT
BEGIN:VEVENT
DTSTART;TZID=America/Vancouver:20261013T153000
DTEND;TZID=America/Vancouver:20261013T161500
DTSTAMP:20260421T131445
CREATED:20250122T231701Z
LAST-MODIFIED:20260221T002745Z
UID:10013932-1791905400-1791908100@blackrock-kadence.gotbdev.com
SUMMARY:Kids Taekwondo (5-7 Years Old)
DESCRIPTION:Enroll your child in Kids Taekwondo at Black Rock Martial Arts\, designed for ages 5-7! Our fun and engaging classes introduce the basics of Taekwondo\, including kicks\, blocks\, and forms\, while fostering focus\, confidence\, and discipline. With a supportive environment\, your child will learn and grow while having fun.
URL:https://blackrock-kadence.gotbdev.com/event/kids-taekwondo-5-7-years-old-2-3-2-2-2/2026-10-13/
CATEGORIES:Taekwondo
ATTACH;FMTTYPE=image/jpeg:https://blackrock-kadence.gotbdev.com/wp-content/uploads/2024/09/kids-kickboxing-1.jpg
END:VEVENT
BEGIN:VEVENT
DTSTART;TZID=America/Vancouver:20261015T153000
DTEND;TZID=America/Vancouver:20261015T161500
DTSTAMP:20260421T131445
CREATED:20250122T231701Z
LAST-MODIFIED:20260221T002745Z
UID:10013933-1792078200-1792080900@blackrock-kadence.gotbdev.com
SUMMARY:Kids Taekwondo (5-7 Years Old)
DESCRIPTION:Enroll your child in Kids Taekwondo at Black Rock Martial Arts\, designed for ages 5-7! Our fun and engaging classes introduce the basics of Taekwondo\, including kicks\, blocks\, and forms\, while fostering focus\, confidence\, and discipline. With a supportive environment\, your child will learn and grow while having fun.
URL:https://blackrock-kadence.gotbdev.com/event/kids-taekwondo-5-7-years-old-2-3-2-2-2/2026-10-15/
CATEGORIES:Taekwondo
ATTACH;FMTTYPE=image/jpeg:https://blackrock-kadence.gotbdev.com/wp-content/uploads/2024/09/kids-kickboxing-1.jpg
END:VEVENT
BEGIN:VEVENT
DTSTART;TZID=America/Vancouver:20261020T153000
DTEND;TZID=America/Vancouver:20261020T161500
DTSTAMP:20260421T131445
CREATED:20250122T231701Z
LAST-MODIFIED:20260221T002745Z
UID:10013934-1792510200-1792512900@blackrock-kadence.gotbdev.com
SUMMARY:Kids Taekwondo (5-7 Years Old)
DESCRIPTION:Enroll your child in Kids Taekwondo at Black Rock Martial Arts\, designed for ages 5-7! Our fun and engaging classes introduce the basics of Taekwondo\, including kicks\, blocks\, and forms\, while fostering focus\, confidence\, and discipline. With a supportive environment\, your child will learn and grow while having fun.
URL:https://blackrock-kadence.gotbdev.com/event/kids-taekwondo-5-7-years-old-2-3-2-2-2/2026-10-20/
CATEGORIES:Taekwondo
ATTACH;FMTTYPE=image/jpeg:https://blackrock-kadence.gotbdev.com/wp-content/uploads/2024/09/kids-kickboxing-1.jpg
END:VEVENT
BEGIN:VEVENT
DTSTART;TZID=America/Vancouver:20261022T153000
DTEND;TZID=America/Vancouver:20261022T161500
DTSTAMP:20260421T131445
CREATED:20250122T231701Z
LAST-MODIFIED:20260221T002745Z
UID:10013935-1792683000-1792685700@blackrock-kadence.gotbdev.com
SUMMARY:Kids Taekwondo (5-7 Years Old)
DESCRIPTION:Enroll your child in Kids Taekwondo at Black Rock Martial Arts\, designed for ages 5-7! Our fun and engaging classes introduce the basics of Taekwondo\, including kicks\, blocks\, and forms\, while fostering focus\, confidence\, and discipline. With a supportive environment\, your child will learn and grow while having fun.
URL:https://blackrock-kadence.gotbdev.com/event/kids-taekwondo-5-7-years-old-2-3-2-2-2/2026-10-22/
CATEGORIES:Taekwondo
ATTACH;FMTTYPE=image/jpeg:https://blackrock-kadence.gotbdev.com/wp-content/uploads/2024/09/kids-kickboxing-1.jpg
END:VEVENT
BEGIN:VEVENT
DTSTART;TZID=America/Vancouver:20261027T153000
DTEND;TZID=America/Vancouver:20261027T161500
DTSTAMP:20260421T131445
CREATED:20250122T231701Z
LAST-MODIFIED:20260221T002745Z
UID:10013936-1793115000-1793117700@blackrock-kadence.gotbdev.com
SUMMARY:Kids Taekwondo (5-7 Years Old)
DESCRIPTION:Enroll your child in Kids Taekwondo at Black Rock Martial Arts\, designed for ages 5-7! Our fun and engaging classes introduce the basics of Taekwondo\, including kicks\, blocks\, and forms\, while fostering focus\, confidence\, and discipline. With a supportive environment\, your child will learn and grow while having fun.
URL:https://blackrock-kadence.gotbdev.com/event/kids-taekwondo-5-7-years-old-2-3-2-2-2/2026-10-27/
CATEGORIES:Taekwondo
ATTACH;FMTTYPE=image/jpeg:https://blackrock-kadence.gotbdev.com/wp-content/uploads/2024/09/kids-kickboxing-1.jpg
END:VEVENT
BEGIN:VEVENT
DTSTART;TZID=America/Vancouver:20261029T153000
DTEND;TZID=America/Vancouver:20261029T161500
DTSTAMP:20260421T131445
CREATED:20250122T231701Z
LAST-MODIFIED:20260221T002745Z
UID:10013937-1793287800-1793290500@blackrock-kadence.gotbdev.com
SUMMARY:Kids Taekwondo (5-7 Years Old)
DESCRIPTION:Enroll your child in Kids Taekwondo at Black Rock Martial Arts\, designed for ages 5-7! Our fun and engaging classes introduce the basics of Taekwondo\, including kicks\, blocks\, and forms\, while fostering focus\, confidence\, and discipline. With a supportive environment\, your child will learn and grow while having fun.
URL:https://blackrock-kadence.gotbdev.com/event/kids-taekwondo-5-7-years-old-2-3-2-2-2/2026-10-29/
CATEGORIES:Taekwondo
ATTACH;FMTTYPE=image/jpeg:https://blackrock-kadence.gotbdev.com/wp-content/uploads/2024/09/kids-kickboxing-1.jpg
END:VEVENT
END:VCALENDAR