BEGIN:VCALENDAR
VERSION:2.0
PRODID:-// - ECPv6.15.20//NONSGML v1.0//EN
CALSCALE:GREGORIAN
METHOD:PUBLISH
X-ORIGINAL-URL:https://blackrock-kadence.gotbdev.com
X-WR-CALDESC:Events for 
REFRESH-INTERVAL;VALUE=DURATION:PT1H
X-Robots-Tag:noindex
X-PUBLISHED-TTL:PT1H
BEGIN:VTIMEZONE
TZID:America/Vancouver
BEGIN:DAYLIGHT
TZOFFSETFROM:-0800
TZOFFSETTO:-0700
TZNAME:PDT
DTSTART:20260308T100000
END:DAYLIGHT
BEGIN:STANDARD
TZOFFSETFROM:-0700
TZOFFSETTO:-0800
TZNAME:PST
DTSTART:20261101T090000
END:STANDARD
BEGIN:DAYLIGHT
TZOFFSETFROM:-0800
TZOFFSETTO:-0700
TZNAME:PDT
DTSTART:20270314T100000
END:DAYLIGHT
BEGIN:STANDARD
TZOFFSETFROM:-0700
TZOFFSETTO:-0800
TZNAME:PST
DTSTART:20271107T090000
END:STANDARD
BEGIN:DAYLIGHT
TZOFFSETFROM:-0800
TZOFFSETTO:-0700
TZNAME:PDT
DTSTART:20280312T100000
END:DAYLIGHT
BEGIN:STANDARD
TZOFFSETFROM:-0700
TZOFFSETTO:-0800
TZNAME:PST
DTSTART:20281105T090000
END:STANDARD
END:VTIMEZONE
BEGIN:VEVENT
DTSTART;TZID=America/Vancouver:20270209T153000
DTEND;TZID=America/Vancouver:20270209T161500
DTSTAMP:20260421T151358
CREATED:20250122T231701Z
LAST-MODIFIED:20260221T002745Z
UID:10013966-1802187000-1802189700@blackrock-kadence.gotbdev.com
SUMMARY:Kids Taekwondo (5-7 Years Old)
DESCRIPTION:Enroll your child in Kids Taekwondo at Black Rock Martial Arts\, designed for ages 5-7! Our fun and engaging classes introduce the basics of Taekwondo\, including kicks\, blocks\, and forms\, while fostering focus\, confidence\, and discipline. With a supportive environment\, your child will learn and grow while having fun.
URL:https://blackrock-kadence.gotbdev.com/event/kids-taekwondo-5-7-years-old-2-3-2-2-2/2027-02-09/
CATEGORIES:Taekwondo
ATTACH;FMTTYPE=image/jpeg:https://blackrock-kadence.gotbdev.com/wp-content/uploads/2024/09/kids-kickboxing-1.jpg
END:VEVENT
BEGIN:VEVENT
DTSTART;TZID=America/Vancouver:20270211T153000
DTEND;TZID=America/Vancouver:20270211T161500
DTSTAMP:20260421T151358
CREATED:20250122T231701Z
LAST-MODIFIED:20260221T002745Z
UID:10013967-1802359800-1802362500@blackrock-kadence.gotbdev.com
SUMMARY:Kids Taekwondo (5-7 Years Old)
DESCRIPTION:Enroll your child in Kids Taekwondo at Black Rock Martial Arts\, designed for ages 5-7! Our fun and engaging classes introduce the basics of Taekwondo\, including kicks\, blocks\, and forms\, while fostering focus\, confidence\, and discipline. With a supportive environment\, your child will learn and grow while having fun.
URL:https://blackrock-kadence.gotbdev.com/event/kids-taekwondo-5-7-years-old-2-3-2-2-2/2027-02-11/
CATEGORIES:Taekwondo
ATTACH;FMTTYPE=image/jpeg:https://blackrock-kadence.gotbdev.com/wp-content/uploads/2024/09/kids-kickboxing-1.jpg
END:VEVENT
BEGIN:VEVENT
DTSTART;TZID=America/Vancouver:20270216T153000
DTEND;TZID=America/Vancouver:20270216T161500
DTSTAMP:20260421T151358
CREATED:20250122T231701Z
LAST-MODIFIED:20260221T002745Z
UID:10013968-1802791800-1802794500@blackrock-kadence.gotbdev.com
SUMMARY:Kids Taekwondo (5-7 Years Old)
DESCRIPTION:Enroll your child in Kids Taekwondo at Black Rock Martial Arts\, designed for ages 5-7! Our fun and engaging classes introduce the basics of Taekwondo\, including kicks\, blocks\, and forms\, while fostering focus\, confidence\, and discipline. With a supportive environment\, your child will learn and grow while having fun.
URL:https://blackrock-kadence.gotbdev.com/event/kids-taekwondo-5-7-years-old-2-3-2-2-2/2027-02-16/
CATEGORIES:Taekwondo
ATTACH;FMTTYPE=image/jpeg:https://blackrock-kadence.gotbdev.com/wp-content/uploads/2024/09/kids-kickboxing-1.jpg
END:VEVENT
BEGIN:VEVENT
DTSTART;TZID=America/Vancouver:20270218T153000
DTEND;TZID=America/Vancouver:20270218T161500
DTSTAMP:20260421T151358
CREATED:20250122T231701Z
LAST-MODIFIED:20260221T002745Z
UID:10013969-1802964600-1802967300@blackrock-kadence.gotbdev.com
SUMMARY:Kids Taekwondo (5-7 Years Old)
DESCRIPTION:Enroll your child in Kids Taekwondo at Black Rock Martial Arts\, designed for ages 5-7! Our fun and engaging classes introduce the basics of Taekwondo\, including kicks\, blocks\, and forms\, while fostering focus\, confidence\, and discipline. With a supportive environment\, your child will learn and grow while having fun.
URL:https://blackrock-kadence.gotbdev.com/event/kids-taekwondo-5-7-years-old-2-3-2-2-2/2027-02-18/
CATEGORIES:Taekwondo
ATTACH;FMTTYPE=image/jpeg:https://blackrock-kadence.gotbdev.com/wp-content/uploads/2024/09/kids-kickboxing-1.jpg
END:VEVENT
BEGIN:VEVENT
DTSTART;TZID=America/Vancouver:20270223T153000
DTEND;TZID=America/Vancouver:20270223T161500
DTSTAMP:20260421T151358
CREATED:20250122T231701Z
LAST-MODIFIED:20260221T002745Z
UID:10013970-1803396600-1803399300@blackrock-kadence.gotbdev.com
SUMMARY:Kids Taekwondo (5-7 Years Old)
DESCRIPTION:Enroll your child in Kids Taekwondo at Black Rock Martial Arts\, designed for ages 5-7! Our fun and engaging classes introduce the basics of Taekwondo\, including kicks\, blocks\, and forms\, while fostering focus\, confidence\, and discipline. With a supportive environment\, your child will learn and grow while having fun.
URL:https://blackrock-kadence.gotbdev.com/event/kids-taekwondo-5-7-years-old-2-3-2-2-2/2027-02-23/
CATEGORIES:Taekwondo
ATTACH;FMTTYPE=image/jpeg:https://blackrock-kadence.gotbdev.com/wp-content/uploads/2024/09/kids-kickboxing-1.jpg
END:VEVENT
BEGIN:VEVENT
DTSTART;TZID=America/Vancouver:20270225T153000
DTEND;TZID=America/Vancouver:20270225T161500
DTSTAMP:20260421T151358
CREATED:20250122T231701Z
LAST-MODIFIED:20260221T002745Z
UID:10013971-1803569400-1803572100@blackrock-kadence.gotbdev.com
SUMMARY:Kids Taekwondo (5-7 Years Old)
DESCRIPTION:Enroll your child in Kids Taekwondo at Black Rock Martial Arts\, designed for ages 5-7! Our fun and engaging classes introduce the basics of Taekwondo\, including kicks\, blocks\, and forms\, while fostering focus\, confidence\, and discipline. With a supportive environment\, your child will learn and grow while having fun.
URL:https://blackrock-kadence.gotbdev.com/event/kids-taekwondo-5-7-years-old-2-3-2-2-2/2027-02-25/
CATEGORIES:Taekwondo
ATTACH;FMTTYPE=image/jpeg:https://blackrock-kadence.gotbdev.com/wp-content/uploads/2024/09/kids-kickboxing-1.jpg
END:VEVENT
BEGIN:VEVENT
DTSTART;TZID=America/Vancouver:20270302T153000
DTEND;TZID=America/Vancouver:20270302T161500
DTSTAMP:20260421T151358
CREATED:20250122T231701Z
LAST-MODIFIED:20260221T002745Z
UID:10013972-1804001400-1804004100@blackrock-kadence.gotbdev.com
SUMMARY:Kids Taekwondo (5-7 Years Old)
DESCRIPTION:Enroll your child in Kids Taekwondo at Black Rock Martial Arts\, designed for ages 5-7! Our fun and engaging classes introduce the basics of Taekwondo\, including kicks\, blocks\, and forms\, while fostering focus\, confidence\, and discipline. With a supportive environment\, your child will learn and grow while having fun.
URL:https://blackrock-kadence.gotbdev.com/event/kids-taekwondo-5-7-years-old-2-3-2-2-2/2027-03-02/
CATEGORIES:Taekwondo
ATTACH;FMTTYPE=image/jpeg:https://blackrock-kadence.gotbdev.com/wp-content/uploads/2024/09/kids-kickboxing-1.jpg
END:VEVENT
BEGIN:VEVENT
DTSTART;TZID=America/Vancouver:20270304T153000
DTEND;TZID=America/Vancouver:20270304T161500
DTSTAMP:20260421T151358
CREATED:20250122T231701Z
LAST-MODIFIED:20260221T002745Z
UID:10013973-1804174200-1804176900@blackrock-kadence.gotbdev.com
SUMMARY:Kids Taekwondo (5-7 Years Old)
DESCRIPTION:Enroll your child in Kids Taekwondo at Black Rock Martial Arts\, designed for ages 5-7! Our fun and engaging classes introduce the basics of Taekwondo\, including kicks\, blocks\, and forms\, while fostering focus\, confidence\, and discipline. With a supportive environment\, your child will learn and grow while having fun.
URL:https://blackrock-kadence.gotbdev.com/event/kids-taekwondo-5-7-years-old-2-3-2-2-2/2027-03-04/
CATEGORIES:Taekwondo
ATTACH;FMTTYPE=image/jpeg:https://blackrock-kadence.gotbdev.com/wp-content/uploads/2024/09/kids-kickboxing-1.jpg
END:VEVENT
BEGIN:VEVENT
DTSTART;TZID=America/Vancouver:20270309T153000
DTEND;TZID=America/Vancouver:20270309T161500
DTSTAMP:20260421T151358
CREATED:20250122T231701Z
LAST-MODIFIED:20260221T002745Z
UID:10013974-1804606200-1804608900@blackrock-kadence.gotbdev.com
SUMMARY:Kids Taekwondo (5-7 Years Old)
DESCRIPTION:Enroll your child in Kids Taekwondo at Black Rock Martial Arts\, designed for ages 5-7! Our fun and engaging classes introduce the basics of Taekwondo\, including kicks\, blocks\, and forms\, while fostering focus\, confidence\, and discipline. With a supportive environment\, your child will learn and grow while having fun.
URL:https://blackrock-kadence.gotbdev.com/event/kids-taekwondo-5-7-years-old-2-3-2-2-2/2027-03-09/
CATEGORIES:Taekwondo
ATTACH;FMTTYPE=image/jpeg:https://blackrock-kadence.gotbdev.com/wp-content/uploads/2024/09/kids-kickboxing-1.jpg
END:VEVENT
BEGIN:VEVENT
DTSTART;TZID=America/Vancouver:20270311T153000
DTEND;TZID=America/Vancouver:20270311T161500
DTSTAMP:20260421T151358
CREATED:20250122T231701Z
LAST-MODIFIED:20260221T002745Z
UID:10013975-1804779000-1804781700@blackrock-kadence.gotbdev.com
SUMMARY:Kids Taekwondo (5-7 Years Old)
DESCRIPTION:Enroll your child in Kids Taekwondo at Black Rock Martial Arts\, designed for ages 5-7! Our fun and engaging classes introduce the basics of Taekwondo\, including kicks\, blocks\, and forms\, while fostering focus\, confidence\, and discipline. With a supportive environment\, your child will learn and grow while having fun.
URL:https://blackrock-kadence.gotbdev.com/event/kids-taekwondo-5-7-years-old-2-3-2-2-2/2027-03-11/
CATEGORIES:Taekwondo
ATTACH;FMTTYPE=image/jpeg:https://blackrock-kadence.gotbdev.com/wp-content/uploads/2024/09/kids-kickboxing-1.jpg
END:VEVENT
BEGIN:VEVENT
DTSTART;TZID=America/Vancouver:20270316T153000
DTEND;TZID=America/Vancouver:20270316T161500
DTSTAMP:20260421T151358
CREATED:20250122T231701Z
LAST-MODIFIED:20260221T002745Z
UID:10013976-1805211000-1805213700@blackrock-kadence.gotbdev.com
SUMMARY:Kids Taekwondo (5-7 Years Old)
DESCRIPTION:Enroll your child in Kids Taekwondo at Black Rock Martial Arts\, designed for ages 5-7! Our fun and engaging classes introduce the basics of Taekwondo\, including kicks\, blocks\, and forms\, while fostering focus\, confidence\, and discipline. With a supportive environment\, your child will learn and grow while having fun.
URL:https://blackrock-kadence.gotbdev.com/event/kids-taekwondo-5-7-years-old-2-3-2-2-2/2027-03-16/
CATEGORIES:Taekwondo
ATTACH;FMTTYPE=image/jpeg:https://blackrock-kadence.gotbdev.com/wp-content/uploads/2024/09/kids-kickboxing-1.jpg
END:VEVENT
BEGIN:VEVENT
DTSTART;TZID=America/Vancouver:20270318T153000
DTEND;TZID=America/Vancouver:20270318T161500
DTSTAMP:20260421T151358
CREATED:20250122T231701Z
LAST-MODIFIED:20260221T002745Z
UID:10013977-1805383800-1805386500@blackrock-kadence.gotbdev.com
SUMMARY:Kids Taekwondo (5-7 Years Old)
DESCRIPTION:Enroll your child in Kids Taekwondo at Black Rock Martial Arts\, designed for ages 5-7! Our fun and engaging classes introduce the basics of Taekwondo\, including kicks\, blocks\, and forms\, while fostering focus\, confidence\, and discipline. With a supportive environment\, your child will learn and grow while having fun.
URL:https://blackrock-kadence.gotbdev.com/event/kids-taekwondo-5-7-years-old-2-3-2-2-2/2027-03-18/
CATEGORIES:Taekwondo
ATTACH;FMTTYPE=image/jpeg:https://blackrock-kadence.gotbdev.com/wp-content/uploads/2024/09/kids-kickboxing-1.jpg
END:VEVENT
BEGIN:VEVENT
DTSTART;TZID=America/Vancouver:20270323T153000
DTEND;TZID=America/Vancouver:20270323T161500
DTSTAMP:20260421T151358
CREATED:20250122T231701Z
LAST-MODIFIED:20260221T002745Z
UID:10013978-1805815800-1805818500@blackrock-kadence.gotbdev.com
SUMMARY:Kids Taekwondo (5-7 Years Old)
DESCRIPTION:Enroll your child in Kids Taekwondo at Black Rock Martial Arts\, designed for ages 5-7! Our fun and engaging classes introduce the basics of Taekwondo\, including kicks\, blocks\, and forms\, while fostering focus\, confidence\, and discipline. With a supportive environment\, your child will learn and grow while having fun.
URL:https://blackrock-kadence.gotbdev.com/event/kids-taekwondo-5-7-years-old-2-3-2-2-2/2027-03-23/
CATEGORIES:Taekwondo
ATTACH;FMTTYPE=image/jpeg:https://blackrock-kadence.gotbdev.com/wp-content/uploads/2024/09/kids-kickboxing-1.jpg
END:VEVENT
BEGIN:VEVENT
DTSTART;TZID=America/Vancouver:20270325T153000
DTEND;TZID=America/Vancouver:20270325T161500
DTSTAMP:20260421T151358
CREATED:20250122T231701Z
LAST-MODIFIED:20260221T002745Z
UID:10013979-1805988600-1805991300@blackrock-kadence.gotbdev.com
SUMMARY:Kids Taekwondo (5-7 Years Old)
DESCRIPTION:Enroll your child in Kids Taekwondo at Black Rock Martial Arts\, designed for ages 5-7! Our fun and engaging classes introduce the basics of Taekwondo\, including kicks\, blocks\, and forms\, while fostering focus\, confidence\, and discipline. With a supportive environment\, your child will learn and grow while having fun.
URL:https://blackrock-kadence.gotbdev.com/event/kids-taekwondo-5-7-years-old-2-3-2-2-2/2027-03-25/
CATEGORIES:Taekwondo
ATTACH;FMTTYPE=image/jpeg:https://blackrock-kadence.gotbdev.com/wp-content/uploads/2024/09/kids-kickboxing-1.jpg
END:VEVENT
BEGIN:VEVENT
DTSTART;TZID=America/Vancouver:20270330T153000
DTEND;TZID=America/Vancouver:20270330T161500
DTSTAMP:20260421T151358
CREATED:20250122T231701Z
LAST-MODIFIED:20260221T002745Z
UID:10013980-1806420600-1806423300@blackrock-kadence.gotbdev.com
SUMMARY:Kids Taekwondo (5-7 Years Old)
DESCRIPTION:Enroll your child in Kids Taekwondo at Black Rock Martial Arts\, designed for ages 5-7! Our fun and engaging classes introduce the basics of Taekwondo\, including kicks\, blocks\, and forms\, while fostering focus\, confidence\, and discipline. With a supportive environment\, your child will learn and grow while having fun.
URL:https://blackrock-kadence.gotbdev.com/event/kids-taekwondo-5-7-years-old-2-3-2-2-2/2027-03-30/
CATEGORIES:Taekwondo
ATTACH;FMTTYPE=image/jpeg:https://blackrock-kadence.gotbdev.com/wp-content/uploads/2024/09/kids-kickboxing-1.jpg
END:VEVENT
BEGIN:VEVENT
DTSTART;TZID=America/Vancouver:20270401T153000
DTEND;TZID=America/Vancouver:20270401T161500
DTSTAMP:20260421T151358
CREATED:20250122T231701Z
LAST-MODIFIED:20260221T002745Z
UID:10013981-1806593400-1806596100@blackrock-kadence.gotbdev.com
SUMMARY:Kids Taekwondo (5-7 Years Old)
DESCRIPTION:Enroll your child in Kids Taekwondo at Black Rock Martial Arts\, designed for ages 5-7! Our fun and engaging classes introduce the basics of Taekwondo\, including kicks\, blocks\, and forms\, while fostering focus\, confidence\, and discipline. With a supportive environment\, your child will learn and grow while having fun.
URL:https://blackrock-kadence.gotbdev.com/event/kids-taekwondo-5-7-years-old-2-3-2-2-2/2027-04-01/
CATEGORIES:Taekwondo
ATTACH;FMTTYPE=image/jpeg:https://blackrock-kadence.gotbdev.com/wp-content/uploads/2024/09/kids-kickboxing-1.jpg
END:VEVENT
BEGIN:VEVENT
DTSTART;TZID=America/Vancouver:20270406T153000
DTEND;TZID=America/Vancouver:20270406T161500
DTSTAMP:20260421T151358
CREATED:20250122T231701Z
LAST-MODIFIED:20260221T002745Z
UID:10013982-1807025400-1807028100@blackrock-kadence.gotbdev.com
SUMMARY:Kids Taekwondo (5-7 Years Old)
DESCRIPTION:Enroll your child in Kids Taekwondo at Black Rock Martial Arts\, designed for ages 5-7! Our fun and engaging classes introduce the basics of Taekwondo\, including kicks\, blocks\, and forms\, while fostering focus\, confidence\, and discipline. With a supportive environment\, your child will learn and grow while having fun.
URL:https://blackrock-kadence.gotbdev.com/event/kids-taekwondo-5-7-years-old-2-3-2-2-2/2027-04-06/
CATEGORIES:Taekwondo
ATTACH;FMTTYPE=image/jpeg:https://blackrock-kadence.gotbdev.com/wp-content/uploads/2024/09/kids-kickboxing-1.jpg
END:VEVENT
BEGIN:VEVENT
DTSTART;TZID=America/Vancouver:20270408T153000
DTEND;TZID=America/Vancouver:20270408T161500
DTSTAMP:20260421T151358
CREATED:20250122T231701Z
LAST-MODIFIED:20260221T002745Z
UID:10013983-1807198200-1807200900@blackrock-kadence.gotbdev.com
SUMMARY:Kids Taekwondo (5-7 Years Old)
DESCRIPTION:Enroll your child in Kids Taekwondo at Black Rock Martial Arts\, designed for ages 5-7! Our fun and engaging classes introduce the basics of Taekwondo\, including kicks\, blocks\, and forms\, while fostering focus\, confidence\, and discipline. With a supportive environment\, your child will learn and grow while having fun.
URL:https://blackrock-kadence.gotbdev.com/event/kids-taekwondo-5-7-years-old-2-3-2-2-2/2027-04-08/
CATEGORIES:Taekwondo
ATTACH;FMTTYPE=image/jpeg:https://blackrock-kadence.gotbdev.com/wp-content/uploads/2024/09/kids-kickboxing-1.jpg
END:VEVENT
BEGIN:VEVENT
DTSTART;TZID=America/Vancouver:20270413T153000
DTEND;TZID=America/Vancouver:20270413T161500
DTSTAMP:20260421T151358
CREATED:20250122T231701Z
LAST-MODIFIED:20260221T002745Z
UID:10013984-1807630200-1807632900@blackrock-kadence.gotbdev.com
SUMMARY:Kids Taekwondo (5-7 Years Old)
DESCRIPTION:Enroll your child in Kids Taekwondo at Black Rock Martial Arts\, designed for ages 5-7! Our fun and engaging classes introduce the basics of Taekwondo\, including kicks\, blocks\, and forms\, while fostering focus\, confidence\, and discipline. With a supportive environment\, your child will learn and grow while having fun.
URL:https://blackrock-kadence.gotbdev.com/event/kids-taekwondo-5-7-years-old-2-3-2-2-2/2027-04-13/
CATEGORIES:Taekwondo
ATTACH;FMTTYPE=image/jpeg:https://blackrock-kadence.gotbdev.com/wp-content/uploads/2024/09/kids-kickboxing-1.jpg
END:VEVENT
BEGIN:VEVENT
DTSTART;TZID=America/Vancouver:20270415T153000
DTEND;TZID=America/Vancouver:20270415T161500
DTSTAMP:20260421T151358
CREATED:20250122T231701Z
LAST-MODIFIED:20260221T002745Z
UID:10013985-1807803000-1807805700@blackrock-kadence.gotbdev.com
SUMMARY:Kids Taekwondo (5-7 Years Old)
DESCRIPTION:Enroll your child in Kids Taekwondo at Black Rock Martial Arts\, designed for ages 5-7! Our fun and engaging classes introduce the basics of Taekwondo\, including kicks\, blocks\, and forms\, while fostering focus\, confidence\, and discipline. With a supportive environment\, your child will learn and grow while having fun.
URL:https://blackrock-kadence.gotbdev.com/event/kids-taekwondo-5-7-years-old-2-3-2-2-2/2027-04-15/
CATEGORIES:Taekwondo
ATTACH;FMTTYPE=image/jpeg:https://blackrock-kadence.gotbdev.com/wp-content/uploads/2024/09/kids-kickboxing-1.jpg
END:VEVENT
BEGIN:VEVENT
DTSTART;TZID=America/Vancouver:20270420T153000
DTEND;TZID=America/Vancouver:20270420T161500
DTSTAMP:20260421T151358
CREATED:20250122T231701Z
LAST-MODIFIED:20260221T002745Z
UID:10013986-1808235000-1808237700@blackrock-kadence.gotbdev.com
SUMMARY:Kids Taekwondo (5-7 Years Old)
DESCRIPTION:Enroll your child in Kids Taekwondo at Black Rock Martial Arts\, designed for ages 5-7! Our fun and engaging classes introduce the basics of Taekwondo\, including kicks\, blocks\, and forms\, while fostering focus\, confidence\, and discipline. With a supportive environment\, your child will learn and grow while having fun.
URL:https://blackrock-kadence.gotbdev.com/event/kids-taekwondo-5-7-years-old-2-3-2-2-2/2027-04-20/
CATEGORIES:Taekwondo
ATTACH;FMTTYPE=image/jpeg:https://blackrock-kadence.gotbdev.com/wp-content/uploads/2024/09/kids-kickboxing-1.jpg
END:VEVENT
BEGIN:VEVENT
DTSTART;TZID=America/Vancouver:20270422T153000
DTEND;TZID=America/Vancouver:20270422T161500
DTSTAMP:20260421T151358
CREATED:20250122T231701Z
LAST-MODIFIED:20260221T002745Z
UID:10013987-1808407800-1808410500@blackrock-kadence.gotbdev.com
SUMMARY:Kids Taekwondo (5-7 Years Old)
DESCRIPTION:Enroll your child in Kids Taekwondo at Black Rock Martial Arts\, designed for ages 5-7! Our fun and engaging classes introduce the basics of Taekwondo\, including kicks\, blocks\, and forms\, while fostering focus\, confidence\, and discipline. With a supportive environment\, your child will learn and grow while having fun.
URL:https://blackrock-kadence.gotbdev.com/event/kids-taekwondo-5-7-years-old-2-3-2-2-2/2027-04-22/
CATEGORIES:Taekwondo
ATTACH;FMTTYPE=image/jpeg:https://blackrock-kadence.gotbdev.com/wp-content/uploads/2024/09/kids-kickboxing-1.jpg
END:VEVENT
BEGIN:VEVENT
DTSTART;TZID=America/Vancouver:20270427T153000
DTEND;TZID=America/Vancouver:20270427T161500
DTSTAMP:20260421T151358
CREATED:20250122T231701Z
LAST-MODIFIED:20260221T002745Z
UID:10013988-1808839800-1808842500@blackrock-kadence.gotbdev.com
SUMMARY:Kids Taekwondo (5-7 Years Old)
DESCRIPTION:Enroll your child in Kids Taekwondo at Black Rock Martial Arts\, designed for ages 5-7! Our fun and engaging classes introduce the basics of Taekwondo\, including kicks\, blocks\, and forms\, while fostering focus\, confidence\, and discipline. With a supportive environment\, your child will learn and grow while having fun.
URL:https://blackrock-kadence.gotbdev.com/event/kids-taekwondo-5-7-years-old-2-3-2-2-2/2027-04-27/
CATEGORIES:Taekwondo
ATTACH;FMTTYPE=image/jpeg:https://blackrock-kadence.gotbdev.com/wp-content/uploads/2024/09/kids-kickboxing-1.jpg
END:VEVENT
BEGIN:VEVENT
DTSTART;TZID=America/Vancouver:20270429T153000
DTEND;TZID=America/Vancouver:20270429T161500
DTSTAMP:20260421T151358
CREATED:20250122T231701Z
LAST-MODIFIED:20260221T002745Z
UID:10013989-1809012600-1809015300@blackrock-kadence.gotbdev.com
SUMMARY:Kids Taekwondo (5-7 Years Old)
DESCRIPTION:Enroll your child in Kids Taekwondo at Black Rock Martial Arts\, designed for ages 5-7! Our fun and engaging classes introduce the basics of Taekwondo\, including kicks\, blocks\, and forms\, while fostering focus\, confidence\, and discipline. With a supportive environment\, your child will learn and grow while having fun.
URL:https://blackrock-kadence.gotbdev.com/event/kids-taekwondo-5-7-years-old-2-3-2-2-2/2027-04-29/
CATEGORIES:Taekwondo
ATTACH;FMTTYPE=image/jpeg:https://blackrock-kadence.gotbdev.com/wp-content/uploads/2024/09/kids-kickboxing-1.jpg
END:VEVENT
BEGIN:VEVENT
DTSTART;TZID=America/Vancouver:20270504T153000
DTEND;TZID=America/Vancouver:20270504T161500
DTSTAMP:20260421T151358
CREATED:20250122T231701Z
LAST-MODIFIED:20260221T002745Z
UID:10013990-1809444600-1809447300@blackrock-kadence.gotbdev.com
SUMMARY:Kids Taekwondo (5-7 Years Old)
DESCRIPTION:Enroll your child in Kids Taekwondo at Black Rock Martial Arts\, designed for ages 5-7! Our fun and engaging classes introduce the basics of Taekwondo\, including kicks\, blocks\, and forms\, while fostering focus\, confidence\, and discipline. With a supportive environment\, your child will learn and grow while having fun.
URL:https://blackrock-kadence.gotbdev.com/event/kids-taekwondo-5-7-years-old-2-3-2-2-2/2027-05-04/
CATEGORIES:Taekwondo
ATTACH;FMTTYPE=image/jpeg:https://blackrock-kadence.gotbdev.com/wp-content/uploads/2024/09/kids-kickboxing-1.jpg
END:VEVENT
BEGIN:VEVENT
DTSTART;TZID=America/Vancouver:20270506T153000
DTEND;TZID=America/Vancouver:20270506T161500
DTSTAMP:20260421T151358
CREATED:20250122T231701Z
LAST-MODIFIED:20260221T002745Z
UID:10013991-1809617400-1809620100@blackrock-kadence.gotbdev.com
SUMMARY:Kids Taekwondo (5-7 Years Old)
DESCRIPTION:Enroll your child in Kids Taekwondo at Black Rock Martial Arts\, designed for ages 5-7! Our fun and engaging classes introduce the basics of Taekwondo\, including kicks\, blocks\, and forms\, while fostering focus\, confidence\, and discipline. With a supportive environment\, your child will learn and grow while having fun.
URL:https://blackrock-kadence.gotbdev.com/event/kids-taekwondo-5-7-years-old-2-3-2-2-2/2027-05-06/
CATEGORIES:Taekwondo
ATTACH;FMTTYPE=image/jpeg:https://blackrock-kadence.gotbdev.com/wp-content/uploads/2024/09/kids-kickboxing-1.jpg
END:VEVENT
BEGIN:VEVENT
DTSTART;TZID=America/Vancouver:20270511T153000
DTEND;TZID=America/Vancouver:20270511T161500
DTSTAMP:20260421T151358
CREATED:20250122T231701Z
LAST-MODIFIED:20260221T002745Z
UID:10013992-1810049400-1810052100@blackrock-kadence.gotbdev.com
SUMMARY:Kids Taekwondo (5-7 Years Old)
DESCRIPTION:Enroll your child in Kids Taekwondo at Black Rock Martial Arts\, designed for ages 5-7! Our fun and engaging classes introduce the basics of Taekwondo\, including kicks\, blocks\, and forms\, while fostering focus\, confidence\, and discipline. With a supportive environment\, your child will learn and grow while having fun.
URL:https://blackrock-kadence.gotbdev.com/event/kids-taekwondo-5-7-years-old-2-3-2-2-2/2027-05-11/
CATEGORIES:Taekwondo
ATTACH;FMTTYPE=image/jpeg:https://blackrock-kadence.gotbdev.com/wp-content/uploads/2024/09/kids-kickboxing-1.jpg
END:VEVENT
BEGIN:VEVENT
DTSTART;TZID=America/Vancouver:20270513T153000
DTEND;TZID=America/Vancouver:20270513T161500
DTSTAMP:20260421T151358
CREATED:20250122T231701Z
LAST-MODIFIED:20260221T002745Z
UID:10013993-1810222200-1810224900@blackrock-kadence.gotbdev.com
SUMMARY:Kids Taekwondo (5-7 Years Old)
DESCRIPTION:Enroll your child in Kids Taekwondo at Black Rock Martial Arts\, designed for ages 5-7! Our fun and engaging classes introduce the basics of Taekwondo\, including kicks\, blocks\, and forms\, while fostering focus\, confidence\, and discipline. With a supportive environment\, your child will learn and grow while having fun.
URL:https://blackrock-kadence.gotbdev.com/event/kids-taekwondo-5-7-years-old-2-3-2-2-2/2027-05-13/
CATEGORIES:Taekwondo
ATTACH;FMTTYPE=image/jpeg:https://blackrock-kadence.gotbdev.com/wp-content/uploads/2024/09/kids-kickboxing-1.jpg
END:VEVENT
BEGIN:VEVENT
DTSTART;TZID=America/Vancouver:20270518T153000
DTEND;TZID=America/Vancouver:20270518T161500
DTSTAMP:20260421T151358
CREATED:20250122T231701Z
LAST-MODIFIED:20260221T002745Z
UID:10013994-1810654200-1810656900@blackrock-kadence.gotbdev.com
SUMMARY:Kids Taekwondo (5-7 Years Old)
DESCRIPTION:Enroll your child in Kids Taekwondo at Black Rock Martial Arts\, designed for ages 5-7! Our fun and engaging classes introduce the basics of Taekwondo\, including kicks\, blocks\, and forms\, while fostering focus\, confidence\, and discipline. With a supportive environment\, your child will learn and grow while having fun.
URL:https://blackrock-kadence.gotbdev.com/event/kids-taekwondo-5-7-years-old-2-3-2-2-2/2027-05-18/
CATEGORIES:Taekwondo
ATTACH;FMTTYPE=image/jpeg:https://blackrock-kadence.gotbdev.com/wp-content/uploads/2024/09/kids-kickboxing-1.jpg
END:VEVENT
BEGIN:VEVENT
DTSTART;TZID=America/Vancouver:20270520T153000
DTEND;TZID=America/Vancouver:20270520T161500
DTSTAMP:20260421T151358
CREATED:20250122T231701Z
LAST-MODIFIED:20260221T002745Z
UID:10013995-1810827000-1810829700@blackrock-kadence.gotbdev.com
SUMMARY:Kids Taekwondo (5-7 Years Old)
DESCRIPTION:Enroll your child in Kids Taekwondo at Black Rock Martial Arts\, designed for ages 5-7! Our fun and engaging classes introduce the basics of Taekwondo\, including kicks\, blocks\, and forms\, while fostering focus\, confidence\, and discipline. With a supportive environment\, your child will learn and grow while having fun.
URL:https://blackrock-kadence.gotbdev.com/event/kids-taekwondo-5-7-years-old-2-3-2-2-2/2027-05-20/
CATEGORIES:Taekwondo
ATTACH;FMTTYPE=image/jpeg:https://blackrock-kadence.gotbdev.com/wp-content/uploads/2024/09/kids-kickboxing-1.jpg
END:VEVENT
END:VCALENDAR