BEGIN:VCALENDAR
VERSION:2.0
PRODID:-// - ECPv6.15.20//NONSGML v1.0//EN
CALSCALE:GREGORIAN
METHOD:PUBLISH
X-ORIGINAL-URL:https://blackrock-kadence.gotbdev.com
X-WR-CALDESC:Events for 
REFRESH-INTERVAL;VALUE=DURATION:PT1H
X-Robots-Tag:noindex
X-PUBLISHED-TTL:PT1H
BEGIN:VTIMEZONE
TZID:America/Vancouver
BEGIN:DAYLIGHT
TZOFFSETFROM:-0800
TZOFFSETTO:-0700
TZNAME:PDT
DTSTART:20250309T100000
END:DAYLIGHT
BEGIN:STANDARD
TZOFFSETFROM:-0700
TZOFFSETTO:-0800
TZNAME:PST
DTSTART:20251102T090000
END:STANDARD
BEGIN:DAYLIGHT
TZOFFSETFROM:-0800
TZOFFSETTO:-0700
TZNAME:PDT
DTSTART:20260308T100000
END:DAYLIGHT
BEGIN:STANDARD
TZOFFSETFROM:-0700
TZOFFSETTO:-0800
TZNAME:PST
DTSTART:20261101T090000
END:STANDARD
BEGIN:DAYLIGHT
TZOFFSETFROM:-0800
TZOFFSETTO:-0700
TZNAME:PDT
DTSTART:20270314T100000
END:DAYLIGHT
BEGIN:STANDARD
TZOFFSETFROM:-0700
TZOFFSETTO:-0800
TZNAME:PST
DTSTART:20271107T090000
END:STANDARD
END:VTIMEZONE
BEGIN:VEVENT
DTSTART;TZID=America/Vancouver:20260417T170000
DTEND;TZID=America/Vancouver:20260417T174500
DTSTAMP:20260421T131923
CREATED:20241102T203622Z
LAST-MODIFIED:20260221T003046Z
UID:10009195-1776445200-1776447900@blackrock-kadence.gotbdev.com
SUMMARY:Mezz: Kids Kickboxing (Sparring)
DESCRIPTION:Get your kids moving with Kickboxing (Optional Sparring) at Black Rock for ages 7-11! This fun and engaging class builds confidence\, fitness\, and kickboxing skills in a safe\, controlled environment. With a focus on technique and controlled sparring\, kids will learn discipline while having a blast. Perfect for all levels!
URL:https://blackrock-kadence.gotbdev.com/event/kids-kickboxing-sparring-2/2026-04-17/
CATEGORIES:Kickboxing
ATTACH;FMTTYPE=image/jpeg:https://blackrock-kadence.gotbdev.com/wp-content/uploads/2024/09/kids-kickboxing-13.jpg
END:VEVENT
BEGIN:VEVENT
DTSTART;TZID=America/Vancouver:20260417T190000
DTEND;TZID=America/Vancouver:20260417T200000
DTSTAMP:20260421T131923
CREATED:20241102T193136Z
LAST-MODIFIED:20260310T175115Z
UID:10008542-1776452400-1776456000@blackrock-kadence.gotbdev.com
SUMMARY:Mezz: Teen Sparring
DESCRIPTION:Join Teen Sparring at Black Rock Martial Arts\, designed for ages 12-17! Our sparring sessions offer a safe\, controlled environment where teens can develop their striking\, defense\, and timing skills through supervised practice. Perfect for those preparing for competition or looking to challenge themselves\, our classes help build confidence\, discipline\, and resilience. Guided by experienced instructors\, teens focus on technique\, strategy\, and sportsmanship\, ensuring growth at their own pace. Suitable for all skill levels\, these sessions promote fitness\, skill development\, and a love for martial arts.
URL:https://blackrock-kadence.gotbdev.com/event/teen-sparring-2-2/2026-04-17/
CATEGORIES:Kickboxing
ATTACH;FMTTYPE=image/jpeg:https://blackrock-kadence.gotbdev.com/wp-content/uploads/2024/09/adult-mma-9.jpg
END:VEVENT
END:VCALENDAR