BEGIN:VCALENDAR
VERSION:2.0
PRODID:-// - ECPv6.15.20//NONSGML v1.0//EN
CALSCALE:GREGORIAN
METHOD:PUBLISH
X-ORIGINAL-URL:https://blackrock-kadence.gotbdev.com
X-WR-CALDESC:Events for 
REFRESH-INTERVAL;VALUE=DURATION:PT1H
X-Robots-Tag:noindex
X-PUBLISHED-TTL:PT1H
BEGIN:VTIMEZONE
TZID:America/Vancouver
BEGIN:DAYLIGHT
TZOFFSETFROM:-0800
TZOFFSETTO:-0700
TZNAME:PDT
DTSTART:20250309T100000
END:DAYLIGHT
BEGIN:STANDARD
TZOFFSETFROM:-0700
TZOFFSETTO:-0800
TZNAME:PST
DTSTART:20251102T090000
END:STANDARD
BEGIN:DAYLIGHT
TZOFFSETFROM:-0800
TZOFFSETTO:-0700
TZNAME:PDT
DTSTART:20260308T100000
END:DAYLIGHT
BEGIN:STANDARD
TZOFFSETFROM:-0700
TZOFFSETTO:-0800
TZNAME:PST
DTSTART:20261101T090000
END:STANDARD
BEGIN:DAYLIGHT
TZOFFSETFROM:-0800
TZOFFSETTO:-0700
TZNAME:PDT
DTSTART:20270314T100000
END:DAYLIGHT
BEGIN:STANDARD
TZOFFSETFROM:-0700
TZOFFSETTO:-0800
TZNAME:PST
DTSTART:20271107T090000
END:STANDARD
END:VTIMEZONE
BEGIN:VEVENT
DTSTART;TZID=America/Vancouver:20260629T170000
DTEND;TZID=America/Vancouver:20260629T180000
DTSTAMP:20260421T153507
CREATED:20241102T184457Z
LAST-MODIFIED:20260221T004152Z
UID:10008225-1782752400-1782756000@blackrock-kadence.gotbdev.com
SUMMARY:Teen Kickboxing
DESCRIPTION:Join Teen Kickboxing classes at Black Rock Martial Arts\, tailored for ages 12-17! Bring your gloves and join our high-energy workouts combine kickboxing techniques with cardio exercises to enhance fitness\, strength\, and endurance. Suitable for all skill levels\, these classes focus on building coordination\, agility\, and confidence in a fun and supportive environment. Led by experienced instructors\, teens learn essential self-defense skills and enjoy a dynamic\, engaging workout. It’s a great way to stay active\, make friends\, and feel empowered\, while having fun and reaching fitness goals.
URL:https://blackrock-kadence.gotbdev.com/event/teen-kickboxing-dutch-drilling-2/2026-06-29/
CATEGORIES:Kickboxing
ATTACH;FMTTYPE=image/jpeg:https://blackrock-kadence.gotbdev.com/wp-content/uploads/2025/11/WPA4369-scaled-1-scaled.jpg
END:VEVENT
BEGIN:VEVENT
DTSTART;TZID=America/Vancouver:20260630T170000
DTEND;TZID=America/Vancouver:20260630T180000
DTSTAMP:20260421T153507
CREATED:20240105T011440Z
LAST-MODIFIED:20260221T003227Z
UID:10004655-1782838800-1782842400@blackrock-kadence.gotbdev.com
SUMMARY:Teen Kickboxing
DESCRIPTION:Join Teen Kickboxing classes at Black Rock Martial Arts\, designed for ages 12-17! Our high-energy sessions combine kickboxing techniques with intense cardio workouts to boost fitness\, strength\, and endurance. Perfect for all skill levels\, these classes focus on improving coordination\, agility\, and confidence while having fun in a positive\, supportive environment. Led by experienced instructors\, teens will learn essential self-defense skills and enjoy a dynamic workout that keeps them motivated and engaged. Get fit\, make friends\, and feel empowered with Teen Kickboxing!
URL:https://blackrock-kadence.gotbdev.com/event/teen-kickboxing-5-6-pm/2026-06-30/
CATEGORIES:Kickboxing
ATTACH;FMTTYPE=image/jpeg:https://blackrock-kadence.gotbdev.com/wp-content/uploads/2024/09/teen-kickboxing-22.jpg
END:VEVENT
BEGIN:VEVENT
DTSTART;TZID=America/Vancouver:20260701T170000
DTEND;TZID=America/Vancouver:20260701T180000
DTSTAMP:20260421T153507
CREATED:20241218T061524Z
LAST-MODIFIED:20260221T003029Z
UID:10010495-1782925200-1782928800@blackrock-kadence.gotbdev.com
SUMMARY:Teen Kickboxing (12-17 Years Old)
DESCRIPTION:Join Teen Kickboxing classes at Black Rock Martial Arts\, tailored for ages 12-17! Our high-energy workouts combine kickboxing techniques with cardio exercises to enhance fitness\, strength\, and endurance. Suitable for all skill levels\, these classes focus on building coordination\, agility\, and confidence in a fun and supportive environment. Led by experienced instructors\, teens learn essential self-defense skills and enjoy a dynamic\, engaging workout. It’s a great way to stay active\, make friends\, and feel empowered\, while having fun and reaching fitness goals.
URL:https://blackrock-kadence.gotbdev.com/event/teen-kickboxing-2-2-2/2026-07-01/
CATEGORIES:Kickboxing
ATTACH;FMTTYPE=image/jpeg:https://blackrock-kadence.gotbdev.com/wp-content/uploads/2025/11/IMG_30250FC53716-1.jpeg
END:VEVENT
BEGIN:VEVENT
DTSTART;TZID=America/Vancouver:20260702T170000
DTEND;TZID=America/Vancouver:20260702T180000
DTSTAMP:20260421T153507
CREATED:20240105T011440Z
LAST-MODIFIED:20260221T003227Z
UID:10004656-1783011600-1783015200@blackrock-kadence.gotbdev.com
SUMMARY:Teen Kickboxing
DESCRIPTION:Join Teen Kickboxing classes at Black Rock Martial Arts\, designed for ages 12-17! Our high-energy sessions combine kickboxing techniques with intense cardio workouts to boost fitness\, strength\, and endurance. Perfect for all skill levels\, these classes focus on improving coordination\, agility\, and confidence while having fun in a positive\, supportive environment. Led by experienced instructors\, teens will learn essential self-defense skills and enjoy a dynamic workout that keeps them motivated and engaged. Get fit\, make friends\, and feel empowered with Teen Kickboxing!
URL:https://blackrock-kadence.gotbdev.com/event/teen-kickboxing-5-6-pm/2026-07-02/
CATEGORIES:Kickboxing
ATTACH;FMTTYPE=image/jpeg:https://blackrock-kadence.gotbdev.com/wp-content/uploads/2024/09/teen-kickboxing-22.jpg
END:VEVENT
BEGIN:VEVENT
DTSTART;TZID=America/Vancouver:20260703T190000
DTEND;TZID=America/Vancouver:20260703T200000
DTSTAMP:20260421T153507
CREATED:20241102T193136Z
LAST-MODIFIED:20260310T175115Z
UID:10008553-1783105200-1783108800@blackrock-kadence.gotbdev.com
SUMMARY:Mezz: Teen Sparring
DESCRIPTION:Join Teen Sparring at Black Rock Martial Arts\, designed for ages 12-17! Our sparring sessions offer a safe\, controlled environment where teens can develop their striking\, defense\, and timing skills through supervised practice. Perfect for those preparing for competition or looking to challenge themselves\, our classes help build confidence\, discipline\, and resilience. Guided by experienced instructors\, teens focus on technique\, strategy\, and sportsmanship\, ensuring growth at their own pace. Suitable for all skill levels\, these sessions promote fitness\, skill development\, and a love for martial arts.
URL:https://blackrock-kadence.gotbdev.com/event/teen-sparring-2-2/2026-07-03/
CATEGORIES:Kickboxing
ATTACH;FMTTYPE=image/jpeg:https://blackrock-kadence.gotbdev.com/wp-content/uploads/2024/09/adult-mma-9.jpg
END:VEVENT
END:VCALENDAR