BEGIN:VCALENDAR
VERSION:2.0
PRODID:-// - ECPv6.15.20//NONSGML v1.0//EN
CALSCALE:GREGORIAN
METHOD:PUBLISH
X-ORIGINAL-URL:https://blackrock-kadence.gotbdev.com
X-WR-CALDESC:Events for 
REFRESH-INTERVAL;VALUE=DURATION:PT1H
X-Robots-Tag:noindex
X-PUBLISHED-TTL:PT1H
BEGIN:VTIMEZONE
TZID:America/Vancouver
BEGIN:DAYLIGHT
TZOFFSETFROM:-0800
TZOFFSETTO:-0700
TZNAME:PDT
DTSTART:20260308T100000
END:DAYLIGHT
BEGIN:STANDARD
TZOFFSETFROM:-0700
TZOFFSETTO:-0800
TZNAME:PST
DTSTART:20261101T090000
END:STANDARD
BEGIN:DAYLIGHT
TZOFFSETFROM:-0800
TZOFFSETTO:-0700
TZNAME:PDT
DTSTART:20270314T100000
END:DAYLIGHT
BEGIN:STANDARD
TZOFFSETFROM:-0700
TZOFFSETTO:-0800
TZNAME:PST
DTSTART:20271107T090000
END:STANDARD
BEGIN:DAYLIGHT
TZOFFSETFROM:-0800
TZOFFSETTO:-0700
TZNAME:PDT
DTSTART:20280312T100000
END:DAYLIGHT
BEGIN:STANDARD
TZOFFSETFROM:-0700
TZOFFSETTO:-0800
TZNAME:PST
DTSTART:20281105T090000
END:STANDARD
END:VTIMEZONE
BEGIN:VEVENT
DTSTART;TZID=America/Vancouver:20270325T180000
DTEND;TZID=America/Vancouver:20270325T190000
DTSTAMP:20260423T054710
CREATED:20240912T234812Z
LAST-MODIFIED:20260221T003154Z
UID:10006066-1805997600-1806001200@blackrock-kadence.gotbdev.com
SUMMARY:Mezz: Youth Jiu Jitsu (Ages 10-15)
DESCRIPTION:Discover Youth Jiu-Jitsu at Black Rock Martial Arts\, designed for ages 10-15. Build strength\, confidence\, and self-defense skills through dynamic\, fun classes. Perfect for teens looking to stay active\, learn discipline\, and connect with peers in a supportive environment.
URL:https://blackrock-kadence.gotbdev.com/event/teens-no-gi-jiu-jitsu-12-17-4/2027-03-25/
CATEGORIES:Kids Jiu Jitsu
ATTACH;FMTTYPE=image/jpeg:https://blackrock-kadence.gotbdev.com/wp-content/uploads/2025/11/JAK0147-scaled-1-scaled.jpg
END:VEVENT
BEGIN:VEVENT
DTSTART;TZID=America/Vancouver:20270330T180000
DTEND;TZID=America/Vancouver:20270330T190000
DTSTAMP:20260423T054710
CREATED:20240912T234812Z
LAST-MODIFIED:20260221T003154Z
UID:10006067-1806429600-1806433200@blackrock-kadence.gotbdev.com
SUMMARY:Mezz: Youth Jiu Jitsu (Ages 10-15)
DESCRIPTION:Discover Youth Jiu-Jitsu at Black Rock Martial Arts\, designed for ages 10-15. Build strength\, confidence\, and self-defense skills through dynamic\, fun classes. Perfect for teens looking to stay active\, learn discipline\, and connect with peers in a supportive environment.
URL:https://blackrock-kadence.gotbdev.com/event/teens-no-gi-jiu-jitsu-12-17-4/2027-03-30/
CATEGORIES:Kids Jiu Jitsu
ATTACH;FMTTYPE=image/jpeg:https://blackrock-kadence.gotbdev.com/wp-content/uploads/2025/11/JAK0147-scaled-1-scaled.jpg
END:VEVENT
BEGIN:VEVENT
DTSTART;TZID=America/Vancouver:20270401T180000
DTEND;TZID=America/Vancouver:20270401T190000
DTSTAMP:20260423T054710
CREATED:20240912T234812Z
LAST-MODIFIED:20260221T003154Z
UID:10006068-1806602400-1806606000@blackrock-kadence.gotbdev.com
SUMMARY:Mezz: Youth Jiu Jitsu (Ages 10-15)
DESCRIPTION:Discover Youth Jiu-Jitsu at Black Rock Martial Arts\, designed for ages 10-15. Build strength\, confidence\, and self-defense skills through dynamic\, fun classes. Perfect for teens looking to stay active\, learn discipline\, and connect with peers in a supportive environment.
URL:https://blackrock-kadence.gotbdev.com/event/teens-no-gi-jiu-jitsu-12-17-4/2027-04-01/
CATEGORIES:Kids Jiu Jitsu
ATTACH;FMTTYPE=image/jpeg:https://blackrock-kadence.gotbdev.com/wp-content/uploads/2025/11/JAK0147-scaled-1-scaled.jpg
END:VEVENT
BEGIN:VEVENT
DTSTART;TZID=America/Vancouver:20270406T180000
DTEND;TZID=America/Vancouver:20270406T190000
DTSTAMP:20260423T054710
CREATED:20240912T234812Z
LAST-MODIFIED:20260221T003154Z
UID:10006069-1807034400-1807038000@blackrock-kadence.gotbdev.com
SUMMARY:Mezz: Youth Jiu Jitsu (Ages 10-15)
DESCRIPTION:Discover Youth Jiu-Jitsu at Black Rock Martial Arts\, designed for ages 10-15. Build strength\, confidence\, and self-defense skills through dynamic\, fun classes. Perfect for teens looking to stay active\, learn discipline\, and connect with peers in a supportive environment.
URL:https://blackrock-kadence.gotbdev.com/event/teens-no-gi-jiu-jitsu-12-17-4/2027-04-06/
CATEGORIES:Kids Jiu Jitsu
ATTACH;FMTTYPE=image/jpeg:https://blackrock-kadence.gotbdev.com/wp-content/uploads/2025/11/JAK0147-scaled-1-scaled.jpg
END:VEVENT
BEGIN:VEVENT
DTSTART;TZID=America/Vancouver:20270408T180000
DTEND;TZID=America/Vancouver:20270408T190000
DTSTAMP:20260423T054710
CREATED:20240912T234812Z
LAST-MODIFIED:20260221T003154Z
UID:10006070-1807207200-1807210800@blackrock-kadence.gotbdev.com
SUMMARY:Mezz: Youth Jiu Jitsu (Ages 10-15)
DESCRIPTION:Discover Youth Jiu-Jitsu at Black Rock Martial Arts\, designed for ages 10-15. Build strength\, confidence\, and self-defense skills through dynamic\, fun classes. Perfect for teens looking to stay active\, learn discipline\, and connect with peers in a supportive environment.
URL:https://blackrock-kadence.gotbdev.com/event/teens-no-gi-jiu-jitsu-12-17-4/2027-04-08/
CATEGORIES:Kids Jiu Jitsu
ATTACH;FMTTYPE=image/jpeg:https://blackrock-kadence.gotbdev.com/wp-content/uploads/2025/11/JAK0147-scaled-1-scaled.jpg
END:VEVENT
BEGIN:VEVENT
DTSTART;TZID=America/Vancouver:20270413T180000
DTEND;TZID=America/Vancouver:20270413T190000
DTSTAMP:20260423T054710
CREATED:20240912T234812Z
LAST-MODIFIED:20260221T003154Z
UID:10006071-1807639200-1807642800@blackrock-kadence.gotbdev.com
SUMMARY:Mezz: Youth Jiu Jitsu (Ages 10-15)
DESCRIPTION:Discover Youth Jiu-Jitsu at Black Rock Martial Arts\, designed for ages 10-15. Build strength\, confidence\, and self-defense skills through dynamic\, fun classes. Perfect for teens looking to stay active\, learn discipline\, and connect with peers in a supportive environment.
URL:https://blackrock-kadence.gotbdev.com/event/teens-no-gi-jiu-jitsu-12-17-4/2027-04-13/
CATEGORIES:Kids Jiu Jitsu
ATTACH;FMTTYPE=image/jpeg:https://blackrock-kadence.gotbdev.com/wp-content/uploads/2025/11/JAK0147-scaled-1-scaled.jpg
END:VEVENT
BEGIN:VEVENT
DTSTART;TZID=America/Vancouver:20270415T180000
DTEND;TZID=America/Vancouver:20270415T190000
DTSTAMP:20260423T054710
CREATED:20240912T234812Z
LAST-MODIFIED:20260221T003154Z
UID:10006072-1807812000-1807815600@blackrock-kadence.gotbdev.com
SUMMARY:Mezz: Youth Jiu Jitsu (Ages 10-15)
DESCRIPTION:Discover Youth Jiu-Jitsu at Black Rock Martial Arts\, designed for ages 10-15. Build strength\, confidence\, and self-defense skills through dynamic\, fun classes. Perfect for teens looking to stay active\, learn discipline\, and connect with peers in a supportive environment.
URL:https://blackrock-kadence.gotbdev.com/event/teens-no-gi-jiu-jitsu-12-17-4/2027-04-15/
CATEGORIES:Kids Jiu Jitsu
ATTACH;FMTTYPE=image/jpeg:https://blackrock-kadence.gotbdev.com/wp-content/uploads/2025/11/JAK0147-scaled-1-scaled.jpg
END:VEVENT
BEGIN:VEVENT
DTSTART;TZID=America/Vancouver:20270420T180000
DTEND;TZID=America/Vancouver:20270420T190000
DTSTAMP:20260423T054710
CREATED:20240912T234812Z
LAST-MODIFIED:20260221T003154Z
UID:10006073-1808244000-1808247600@blackrock-kadence.gotbdev.com
SUMMARY:Mezz: Youth Jiu Jitsu (Ages 10-15)
DESCRIPTION:Discover Youth Jiu-Jitsu at Black Rock Martial Arts\, designed for ages 10-15. Build strength\, confidence\, and self-defense skills through dynamic\, fun classes. Perfect for teens looking to stay active\, learn discipline\, and connect with peers in a supportive environment.
URL:https://blackrock-kadence.gotbdev.com/event/teens-no-gi-jiu-jitsu-12-17-4/2027-04-20/
CATEGORIES:Kids Jiu Jitsu
ATTACH;FMTTYPE=image/jpeg:https://blackrock-kadence.gotbdev.com/wp-content/uploads/2025/11/JAK0147-scaled-1-scaled.jpg
END:VEVENT
BEGIN:VEVENT
DTSTART;TZID=America/Vancouver:20270422T180000
DTEND;TZID=America/Vancouver:20270422T190000
DTSTAMP:20260423T054710
CREATED:20240912T234812Z
LAST-MODIFIED:20260221T003154Z
UID:10006074-1808416800-1808420400@blackrock-kadence.gotbdev.com
SUMMARY:Mezz: Youth Jiu Jitsu (Ages 10-15)
DESCRIPTION:Discover Youth Jiu-Jitsu at Black Rock Martial Arts\, designed for ages 10-15. Build strength\, confidence\, and self-defense skills through dynamic\, fun classes. Perfect for teens looking to stay active\, learn discipline\, and connect with peers in a supportive environment.
URL:https://blackrock-kadence.gotbdev.com/event/teens-no-gi-jiu-jitsu-12-17-4/2027-04-22/
CATEGORIES:Kids Jiu Jitsu
ATTACH;FMTTYPE=image/jpeg:https://blackrock-kadence.gotbdev.com/wp-content/uploads/2025/11/JAK0147-scaled-1-scaled.jpg
END:VEVENT
BEGIN:VEVENT
DTSTART;TZID=America/Vancouver:20270427T180000
DTEND;TZID=America/Vancouver:20270427T190000
DTSTAMP:20260423T054710
CREATED:20240912T234812Z
LAST-MODIFIED:20260221T003154Z
UID:10006075-1808848800-1808852400@blackrock-kadence.gotbdev.com
SUMMARY:Mezz: Youth Jiu Jitsu (Ages 10-15)
DESCRIPTION:Discover Youth Jiu-Jitsu at Black Rock Martial Arts\, designed for ages 10-15. Build strength\, confidence\, and self-defense skills through dynamic\, fun classes. Perfect for teens looking to stay active\, learn discipline\, and connect with peers in a supportive environment.
URL:https://blackrock-kadence.gotbdev.com/event/teens-no-gi-jiu-jitsu-12-17-4/2027-04-27/
CATEGORIES:Kids Jiu Jitsu
ATTACH;FMTTYPE=image/jpeg:https://blackrock-kadence.gotbdev.com/wp-content/uploads/2025/11/JAK0147-scaled-1-scaled.jpg
END:VEVENT
BEGIN:VEVENT
DTSTART;TZID=America/Vancouver:20270429T180000
DTEND;TZID=America/Vancouver:20270429T190000
DTSTAMP:20260423T054710
CREATED:20240912T234812Z
LAST-MODIFIED:20260221T003154Z
UID:10006076-1809021600-1809025200@blackrock-kadence.gotbdev.com
SUMMARY:Mezz: Youth Jiu Jitsu (Ages 10-15)
DESCRIPTION:Discover Youth Jiu-Jitsu at Black Rock Martial Arts\, designed for ages 10-15. Build strength\, confidence\, and self-defense skills through dynamic\, fun classes. Perfect for teens looking to stay active\, learn discipline\, and connect with peers in a supportive environment.
URL:https://blackrock-kadence.gotbdev.com/event/teens-no-gi-jiu-jitsu-12-17-4/2027-04-29/
CATEGORIES:Kids Jiu Jitsu
ATTACH;FMTTYPE=image/jpeg:https://blackrock-kadence.gotbdev.com/wp-content/uploads/2025/11/JAK0147-scaled-1-scaled.jpg
END:VEVENT
BEGIN:VEVENT
DTSTART;TZID=America/Vancouver:20270504T180000
DTEND;TZID=America/Vancouver:20270504T190000
DTSTAMP:20260423T054710
CREATED:20240912T234812Z
LAST-MODIFIED:20260221T003154Z
UID:10006077-1809453600-1809457200@blackrock-kadence.gotbdev.com
SUMMARY:Mezz: Youth Jiu Jitsu (Ages 10-15)
DESCRIPTION:Discover Youth Jiu-Jitsu at Black Rock Martial Arts\, designed for ages 10-15. Build strength\, confidence\, and self-defense skills through dynamic\, fun classes. Perfect for teens looking to stay active\, learn discipline\, and connect with peers in a supportive environment.
URL:https://blackrock-kadence.gotbdev.com/event/teens-no-gi-jiu-jitsu-12-17-4/2027-05-04/
CATEGORIES:Kids Jiu Jitsu
ATTACH;FMTTYPE=image/jpeg:https://blackrock-kadence.gotbdev.com/wp-content/uploads/2025/11/JAK0147-scaled-1-scaled.jpg
END:VEVENT
BEGIN:VEVENT
DTSTART;TZID=America/Vancouver:20270506T180000
DTEND;TZID=America/Vancouver:20270506T190000
DTSTAMP:20260423T054710
CREATED:20240912T234812Z
LAST-MODIFIED:20260221T003154Z
UID:10006078-1809626400-1809630000@blackrock-kadence.gotbdev.com
SUMMARY:Mezz: Youth Jiu Jitsu (Ages 10-15)
DESCRIPTION:Discover Youth Jiu-Jitsu at Black Rock Martial Arts\, designed for ages 10-15. Build strength\, confidence\, and self-defense skills through dynamic\, fun classes. Perfect for teens looking to stay active\, learn discipline\, and connect with peers in a supportive environment.
URL:https://blackrock-kadence.gotbdev.com/event/teens-no-gi-jiu-jitsu-12-17-4/2027-05-06/
CATEGORIES:Kids Jiu Jitsu
ATTACH;FMTTYPE=image/jpeg:https://blackrock-kadence.gotbdev.com/wp-content/uploads/2025/11/JAK0147-scaled-1-scaled.jpg
END:VEVENT
BEGIN:VEVENT
DTSTART;TZID=America/Vancouver:20270511T180000
DTEND;TZID=America/Vancouver:20270511T190000
DTSTAMP:20260423T054710
CREATED:20240912T234812Z
LAST-MODIFIED:20260221T003154Z
UID:10006079-1810058400-1810062000@blackrock-kadence.gotbdev.com
SUMMARY:Mezz: Youth Jiu Jitsu (Ages 10-15)
DESCRIPTION:Discover Youth Jiu-Jitsu at Black Rock Martial Arts\, designed for ages 10-15. Build strength\, confidence\, and self-defense skills through dynamic\, fun classes. Perfect for teens looking to stay active\, learn discipline\, and connect with peers in a supportive environment.
URL:https://blackrock-kadence.gotbdev.com/event/teens-no-gi-jiu-jitsu-12-17-4/2027-05-11/
CATEGORIES:Kids Jiu Jitsu
ATTACH;FMTTYPE=image/jpeg:https://blackrock-kadence.gotbdev.com/wp-content/uploads/2025/11/JAK0147-scaled-1-scaled.jpg
END:VEVENT
BEGIN:VEVENT
DTSTART;TZID=America/Vancouver:20270513T180000
DTEND;TZID=America/Vancouver:20270513T190000
DTSTAMP:20260423T054710
CREATED:20240912T234812Z
LAST-MODIFIED:20260221T003154Z
UID:10006080-1810231200-1810234800@blackrock-kadence.gotbdev.com
SUMMARY:Mezz: Youth Jiu Jitsu (Ages 10-15)
DESCRIPTION:Discover Youth Jiu-Jitsu at Black Rock Martial Arts\, designed for ages 10-15. Build strength\, confidence\, and self-defense skills through dynamic\, fun classes. Perfect for teens looking to stay active\, learn discipline\, and connect with peers in a supportive environment.
URL:https://blackrock-kadence.gotbdev.com/event/teens-no-gi-jiu-jitsu-12-17-4/2027-05-13/
CATEGORIES:Kids Jiu Jitsu
ATTACH;FMTTYPE=image/jpeg:https://blackrock-kadence.gotbdev.com/wp-content/uploads/2025/11/JAK0147-scaled-1-scaled.jpg
END:VEVENT
BEGIN:VEVENT
DTSTART;TZID=America/Vancouver:20270518T180000
DTEND;TZID=America/Vancouver:20270518T190000
DTSTAMP:20260423T054710
CREATED:20240912T234812Z
LAST-MODIFIED:20260221T003154Z
UID:10006081-1810663200-1810666800@blackrock-kadence.gotbdev.com
SUMMARY:Mezz: Youth Jiu Jitsu (Ages 10-15)
DESCRIPTION:Discover Youth Jiu-Jitsu at Black Rock Martial Arts\, designed for ages 10-15. Build strength\, confidence\, and self-defense skills through dynamic\, fun classes. Perfect for teens looking to stay active\, learn discipline\, and connect with peers in a supportive environment.
URL:https://blackrock-kadence.gotbdev.com/event/teens-no-gi-jiu-jitsu-12-17-4/2027-05-18/
CATEGORIES:Kids Jiu Jitsu
ATTACH;FMTTYPE=image/jpeg:https://blackrock-kadence.gotbdev.com/wp-content/uploads/2025/11/JAK0147-scaled-1-scaled.jpg
END:VEVENT
BEGIN:VEVENT
DTSTART;TZID=America/Vancouver:20270520T180000
DTEND;TZID=America/Vancouver:20270520T190000
DTSTAMP:20260423T054710
CREATED:20240912T234812Z
LAST-MODIFIED:20260221T003154Z
UID:10006082-1810836000-1810839600@blackrock-kadence.gotbdev.com
SUMMARY:Mezz: Youth Jiu Jitsu (Ages 10-15)
DESCRIPTION:Discover Youth Jiu-Jitsu at Black Rock Martial Arts\, designed for ages 10-15. Build strength\, confidence\, and self-defense skills through dynamic\, fun classes. Perfect for teens looking to stay active\, learn discipline\, and connect with peers in a supportive environment.
URL:https://blackrock-kadence.gotbdev.com/event/teens-no-gi-jiu-jitsu-12-17-4/2027-05-20/
CATEGORIES:Kids Jiu Jitsu
ATTACH;FMTTYPE=image/jpeg:https://blackrock-kadence.gotbdev.com/wp-content/uploads/2025/11/JAK0147-scaled-1-scaled.jpg
END:VEVENT
BEGIN:VEVENT
DTSTART;TZID=America/Vancouver:20270525T180000
DTEND;TZID=America/Vancouver:20270525T190000
DTSTAMP:20260423T054710
CREATED:20240912T234812Z
LAST-MODIFIED:20260221T003154Z
UID:10006083-1811268000-1811271600@blackrock-kadence.gotbdev.com
SUMMARY:Mezz: Youth Jiu Jitsu (Ages 10-15)
DESCRIPTION:Discover Youth Jiu-Jitsu at Black Rock Martial Arts\, designed for ages 10-15. Build strength\, confidence\, and self-defense skills through dynamic\, fun classes. Perfect for teens looking to stay active\, learn discipline\, and connect with peers in a supportive environment.
URL:https://blackrock-kadence.gotbdev.com/event/teens-no-gi-jiu-jitsu-12-17-4/2027-05-25/
CATEGORIES:Kids Jiu Jitsu
ATTACH;FMTTYPE=image/jpeg:https://blackrock-kadence.gotbdev.com/wp-content/uploads/2025/11/JAK0147-scaled-1-scaled.jpg
END:VEVENT
BEGIN:VEVENT
DTSTART;TZID=America/Vancouver:20270527T180000
DTEND;TZID=America/Vancouver:20270527T190000
DTSTAMP:20260423T054710
CREATED:20240912T234812Z
LAST-MODIFIED:20260221T003154Z
UID:10006084-1811440800-1811444400@blackrock-kadence.gotbdev.com
SUMMARY:Mezz: Youth Jiu Jitsu (Ages 10-15)
DESCRIPTION:Discover Youth Jiu-Jitsu at Black Rock Martial Arts\, designed for ages 10-15. Build strength\, confidence\, and self-defense skills through dynamic\, fun classes. Perfect for teens looking to stay active\, learn discipline\, and connect with peers in a supportive environment.
URL:https://blackrock-kadence.gotbdev.com/event/teens-no-gi-jiu-jitsu-12-17-4/2027-05-27/
CATEGORIES:Kids Jiu Jitsu
ATTACH;FMTTYPE=image/jpeg:https://blackrock-kadence.gotbdev.com/wp-content/uploads/2025/11/JAK0147-scaled-1-scaled.jpg
END:VEVENT
BEGIN:VEVENT
DTSTART;TZID=America/Vancouver:20270601T180000
DTEND;TZID=America/Vancouver:20270601T190000
DTSTAMP:20260423T054710
CREATED:20240912T234812Z
LAST-MODIFIED:20260221T003154Z
UID:10006085-1811872800-1811876400@blackrock-kadence.gotbdev.com
SUMMARY:Mezz: Youth Jiu Jitsu (Ages 10-15)
DESCRIPTION:Discover Youth Jiu-Jitsu at Black Rock Martial Arts\, designed for ages 10-15. Build strength\, confidence\, and self-defense skills through dynamic\, fun classes. Perfect for teens looking to stay active\, learn discipline\, and connect with peers in a supportive environment.
URL:https://blackrock-kadence.gotbdev.com/event/teens-no-gi-jiu-jitsu-12-17-4/2027-06-01/
CATEGORIES:Kids Jiu Jitsu
ATTACH;FMTTYPE=image/jpeg:https://blackrock-kadence.gotbdev.com/wp-content/uploads/2025/11/JAK0147-scaled-1-scaled.jpg
END:VEVENT
BEGIN:VEVENT
DTSTART;TZID=America/Vancouver:20270603T180000
DTEND;TZID=America/Vancouver:20270603T190000
DTSTAMP:20260423T054710
CREATED:20240912T234812Z
LAST-MODIFIED:20260221T003154Z
UID:10006086-1812045600-1812049200@blackrock-kadence.gotbdev.com
SUMMARY:Mezz: Youth Jiu Jitsu (Ages 10-15)
DESCRIPTION:Discover Youth Jiu-Jitsu at Black Rock Martial Arts\, designed for ages 10-15. Build strength\, confidence\, and self-defense skills through dynamic\, fun classes. Perfect for teens looking to stay active\, learn discipline\, and connect with peers in a supportive environment.
URL:https://blackrock-kadence.gotbdev.com/event/teens-no-gi-jiu-jitsu-12-17-4/2027-06-03/
CATEGORIES:Kids Jiu Jitsu
ATTACH;FMTTYPE=image/jpeg:https://blackrock-kadence.gotbdev.com/wp-content/uploads/2025/11/JAK0147-scaled-1-scaled.jpg
END:VEVENT
BEGIN:VEVENT
DTSTART;TZID=America/Vancouver:20270608T180000
DTEND;TZID=America/Vancouver:20270608T190000
DTSTAMP:20260423T054710
CREATED:20240912T234812Z
LAST-MODIFIED:20260221T003154Z
UID:10006087-1812477600-1812481200@blackrock-kadence.gotbdev.com
SUMMARY:Mezz: Youth Jiu Jitsu (Ages 10-15)
DESCRIPTION:Discover Youth Jiu-Jitsu at Black Rock Martial Arts\, designed for ages 10-15. Build strength\, confidence\, and self-defense skills through dynamic\, fun classes. Perfect for teens looking to stay active\, learn discipline\, and connect with peers in a supportive environment.
URL:https://blackrock-kadence.gotbdev.com/event/teens-no-gi-jiu-jitsu-12-17-4/2027-06-08/
CATEGORIES:Kids Jiu Jitsu
ATTACH;FMTTYPE=image/jpeg:https://blackrock-kadence.gotbdev.com/wp-content/uploads/2025/11/JAK0147-scaled-1-scaled.jpg
END:VEVENT
BEGIN:VEVENT
DTSTART;TZID=America/Vancouver:20270610T180000
DTEND;TZID=America/Vancouver:20270610T190000
DTSTAMP:20260423T054710
CREATED:20240912T234812Z
LAST-MODIFIED:20260221T003154Z
UID:10006088-1812650400-1812654000@blackrock-kadence.gotbdev.com
SUMMARY:Mezz: Youth Jiu Jitsu (Ages 10-15)
DESCRIPTION:Discover Youth Jiu-Jitsu at Black Rock Martial Arts\, designed for ages 10-15. Build strength\, confidence\, and self-defense skills through dynamic\, fun classes. Perfect for teens looking to stay active\, learn discipline\, and connect with peers in a supportive environment.
URL:https://blackrock-kadence.gotbdev.com/event/teens-no-gi-jiu-jitsu-12-17-4/2027-06-10/
CATEGORIES:Kids Jiu Jitsu
ATTACH;FMTTYPE=image/jpeg:https://blackrock-kadence.gotbdev.com/wp-content/uploads/2025/11/JAK0147-scaled-1-scaled.jpg
END:VEVENT
BEGIN:VEVENT
DTSTART;TZID=America/Vancouver:20270615T180000
DTEND;TZID=America/Vancouver:20270615T190000
DTSTAMP:20260423T054710
CREATED:20240912T234812Z
LAST-MODIFIED:20260221T003154Z
UID:10006089-1813082400-1813086000@blackrock-kadence.gotbdev.com
SUMMARY:Mezz: Youth Jiu Jitsu (Ages 10-15)
DESCRIPTION:Discover Youth Jiu-Jitsu at Black Rock Martial Arts\, designed for ages 10-15. Build strength\, confidence\, and self-defense skills through dynamic\, fun classes. Perfect for teens looking to stay active\, learn discipline\, and connect with peers in a supportive environment.
URL:https://blackrock-kadence.gotbdev.com/event/teens-no-gi-jiu-jitsu-12-17-4/2027-06-15/
CATEGORIES:Kids Jiu Jitsu
ATTACH;FMTTYPE=image/jpeg:https://blackrock-kadence.gotbdev.com/wp-content/uploads/2025/11/JAK0147-scaled-1-scaled.jpg
END:VEVENT
BEGIN:VEVENT
DTSTART;TZID=America/Vancouver:20270617T180000
DTEND;TZID=America/Vancouver:20270617T190000
DTSTAMP:20260423T054710
CREATED:20240912T234812Z
LAST-MODIFIED:20260221T003154Z
UID:10006090-1813255200-1813258800@blackrock-kadence.gotbdev.com
SUMMARY:Mezz: Youth Jiu Jitsu (Ages 10-15)
DESCRIPTION:Discover Youth Jiu-Jitsu at Black Rock Martial Arts\, designed for ages 10-15. Build strength\, confidence\, and self-defense skills through dynamic\, fun classes. Perfect for teens looking to stay active\, learn discipline\, and connect with peers in a supportive environment.
URL:https://blackrock-kadence.gotbdev.com/event/teens-no-gi-jiu-jitsu-12-17-4/2027-06-17/
CATEGORIES:Kids Jiu Jitsu
ATTACH;FMTTYPE=image/jpeg:https://blackrock-kadence.gotbdev.com/wp-content/uploads/2025/11/JAK0147-scaled-1-scaled.jpg
END:VEVENT
BEGIN:VEVENT
DTSTART;TZID=America/Vancouver:20270622T180000
DTEND;TZID=America/Vancouver:20270622T190000
DTSTAMP:20260423T054710
CREATED:20240912T234812Z
LAST-MODIFIED:20260221T003154Z
UID:10006091-1813687200-1813690800@blackrock-kadence.gotbdev.com
SUMMARY:Mezz: Youth Jiu Jitsu (Ages 10-15)
DESCRIPTION:Discover Youth Jiu-Jitsu at Black Rock Martial Arts\, designed for ages 10-15. Build strength\, confidence\, and self-defense skills through dynamic\, fun classes. Perfect for teens looking to stay active\, learn discipline\, and connect with peers in a supportive environment.
URL:https://blackrock-kadence.gotbdev.com/event/teens-no-gi-jiu-jitsu-12-17-4/2027-06-22/
CATEGORIES:Kids Jiu Jitsu
ATTACH;FMTTYPE=image/jpeg:https://blackrock-kadence.gotbdev.com/wp-content/uploads/2025/11/JAK0147-scaled-1-scaled.jpg
END:VEVENT
BEGIN:VEVENT
DTSTART;TZID=America/Vancouver:20270624T180000
DTEND;TZID=America/Vancouver:20270624T190000
DTSTAMP:20260423T054710
CREATED:20240912T234812Z
LAST-MODIFIED:20260221T003154Z
UID:10006092-1813860000-1813863600@blackrock-kadence.gotbdev.com
SUMMARY:Mezz: Youth Jiu Jitsu (Ages 10-15)
DESCRIPTION:Discover Youth Jiu-Jitsu at Black Rock Martial Arts\, designed for ages 10-15. Build strength\, confidence\, and self-defense skills through dynamic\, fun classes. Perfect for teens looking to stay active\, learn discipline\, and connect with peers in a supportive environment.
URL:https://blackrock-kadence.gotbdev.com/event/teens-no-gi-jiu-jitsu-12-17-4/2027-06-24/
CATEGORIES:Kids Jiu Jitsu
ATTACH;FMTTYPE=image/jpeg:https://blackrock-kadence.gotbdev.com/wp-content/uploads/2025/11/JAK0147-scaled-1-scaled.jpg
END:VEVENT
BEGIN:VEVENT
DTSTART;TZID=America/Vancouver:20270629T180000
DTEND;TZID=America/Vancouver:20270629T190000
DTSTAMP:20260423T054710
CREATED:20240912T234812Z
LAST-MODIFIED:20260221T003154Z
UID:10006093-1814292000-1814295600@blackrock-kadence.gotbdev.com
SUMMARY:Mezz: Youth Jiu Jitsu (Ages 10-15)
DESCRIPTION:Discover Youth Jiu-Jitsu at Black Rock Martial Arts\, designed for ages 10-15. Build strength\, confidence\, and self-defense skills through dynamic\, fun classes. Perfect for teens looking to stay active\, learn discipline\, and connect with peers in a supportive environment.
URL:https://blackrock-kadence.gotbdev.com/event/teens-no-gi-jiu-jitsu-12-17-4/2027-06-29/
CATEGORIES:Kids Jiu Jitsu
ATTACH;FMTTYPE=image/jpeg:https://blackrock-kadence.gotbdev.com/wp-content/uploads/2025/11/JAK0147-scaled-1-scaled.jpg
END:VEVENT
BEGIN:VEVENT
DTSTART;TZID=America/Vancouver:20270701T180000
DTEND;TZID=America/Vancouver:20270701T190000
DTSTAMP:20260423T054710
CREATED:20240912T234812Z
LAST-MODIFIED:20260221T003154Z
UID:10006094-1814464800-1814468400@blackrock-kadence.gotbdev.com
SUMMARY:Mezz: Youth Jiu Jitsu (Ages 10-15)
DESCRIPTION:Discover Youth Jiu-Jitsu at Black Rock Martial Arts\, designed for ages 10-15. Build strength\, confidence\, and self-defense skills through dynamic\, fun classes. Perfect for teens looking to stay active\, learn discipline\, and connect with peers in a supportive environment.
URL:https://blackrock-kadence.gotbdev.com/event/teens-no-gi-jiu-jitsu-12-17-4/2027-07-01/
CATEGORIES:Kids Jiu Jitsu
ATTACH;FMTTYPE=image/jpeg:https://blackrock-kadence.gotbdev.com/wp-content/uploads/2025/11/JAK0147-scaled-1-scaled.jpg
END:VEVENT
BEGIN:VEVENT
DTSTART;TZID=America/Vancouver:20270706T180000
DTEND;TZID=America/Vancouver:20270706T190000
DTSTAMP:20260423T054710
CREATED:20240912T234812Z
LAST-MODIFIED:20260221T003154Z
UID:10006095-1814896800-1814900400@blackrock-kadence.gotbdev.com
SUMMARY:Mezz: Youth Jiu Jitsu (Ages 10-15)
DESCRIPTION:Discover Youth Jiu-Jitsu at Black Rock Martial Arts\, designed for ages 10-15. Build strength\, confidence\, and self-defense skills through dynamic\, fun classes. Perfect for teens looking to stay active\, learn discipline\, and connect with peers in a supportive environment.
URL:https://blackrock-kadence.gotbdev.com/event/teens-no-gi-jiu-jitsu-12-17-4/2027-07-06/
CATEGORIES:Kids Jiu Jitsu
ATTACH;FMTTYPE=image/jpeg:https://blackrock-kadence.gotbdev.com/wp-content/uploads/2025/11/JAK0147-scaled-1-scaled.jpg
END:VEVENT
END:VCALENDAR