BEGIN:VCALENDAR
VERSION:2.0
PRODID:-// - ECPv6.15.20//NONSGML v1.0//EN
CALSCALE:GREGORIAN
METHOD:PUBLISH
X-ORIGINAL-URL:https://blackrock-kadence.gotbdev.com
X-WR-CALDESC:Events for 
REFRESH-INTERVAL;VALUE=DURATION:PT1H
X-Robots-Tag:noindex
X-PUBLISHED-TTL:PT1H
BEGIN:VTIMEZONE
TZID:America/Vancouver
BEGIN:DAYLIGHT
TZOFFSETFROM:-0800
TZOFFSETTO:-0700
TZNAME:PDT
DTSTART:20250309T100000
END:DAYLIGHT
BEGIN:STANDARD
TZOFFSETFROM:-0700
TZOFFSETTO:-0800
TZNAME:PST
DTSTART:20251102T090000
END:STANDARD
BEGIN:DAYLIGHT
TZOFFSETFROM:-0800
TZOFFSETTO:-0700
TZNAME:PDT
DTSTART:20260308T100000
END:DAYLIGHT
BEGIN:STANDARD
TZOFFSETFROM:-0700
TZOFFSETTO:-0800
TZNAME:PST
DTSTART:20261101T090000
END:STANDARD
BEGIN:DAYLIGHT
TZOFFSETFROM:-0800
TZOFFSETTO:-0700
TZNAME:PDT
DTSTART:20270314T100000
END:DAYLIGHT
BEGIN:STANDARD
TZOFFSETFROM:-0700
TZOFFSETTO:-0800
TZNAME:PST
DTSTART:20271107T090000
END:STANDARD
END:VTIMEZONE
BEGIN:VEVENT
DTSTART;TZID=America/Vancouver:20260817T153000
DTEND;TZID=America/Vancouver:20260817T161500
DTSTAMP:20260421T134309
CREATED:20250902T163538Z
LAST-MODIFIED:20260221T002534Z
UID:10017304-1786980600-1786983300@blackrock-kadence.gotbdev.com
SUMMARY:Kids Jiu Jitsu (6–9 Years Old)
DESCRIPTION:Discover Kids Jiu-Jitsu at Black Rock Martial Arts\, designed for ages 6-9. Build strength\, confidence\, and self-defence skills through dynamic\, fun classes. Perfect for kids looking to stay active\, learn discipline\, and connect with peers in a supportive environment.
URL:https://blackrock-kadence.gotbdev.com/event/kids-jiu-jitsu-6-9-3/2026-08-17/
CATEGORIES:Jiu Jitsu
ATTACH;FMTTYPE=image/jpeg:https://blackrock-kadence.gotbdev.com/wp-content/uploads/2025/11/JAK0095-scaled-1-scaled.jpg
END:VEVENT
BEGIN:VEVENT
DTSTART;TZID=America/Vancouver:20260817T161500
DTEND;TZID=America/Vancouver:20260817T170000
DTSTAMP:20260421T134309
CREATED:20241218T061033Z
LAST-MODIFIED:20260221T003420Z
UID:10009945-1786983300-1786986000@blackrock-kadence.gotbdev.com
SUMMARY:Kids Taekwondo (8-12 Years Old)
DESCRIPTION:Enroll in Kids Intermediate Taekwondo at Black Rock Martial Arts\, designed for ages 8-12! Our classes help kids refine their techniques\, build strength\, and improve focus while advancing their Taekwondo skills. Perfect for those with some experience\, these sessions offer a fun\, motivating environment for growth.
URL:https://blackrock-kadence.gotbdev.com/event/kids-taekwondo-8-12-years-old-2-2/2026-08-17/
CATEGORIES:Taekwondo
ATTACH;FMTTYPE=image/jpeg:https://blackrock-kadence.gotbdev.com/wp-content/uploads/2024/09/kids-kickboxing-2.jpg
END:VEVENT
BEGIN:VEVENT
DTSTART;TZID=America/Vancouver:20260817T180000
DTEND;TZID=America/Vancouver:20260817T190000
DTSTAMP:20260421T134309
CREATED:20250307T004221Z
LAST-MODIFIED:20260221T002730Z
UID:10015169-1786989600-1786993200@blackrock-kadence.gotbdev.com
SUMMARY:Mezz: Jiu Jitsu Fundamentals
DESCRIPTION:Perfect for beginners and those looking to refine their technique\, our Jiu Jitsu Fundamentals class focuses on core movements\, essential positions\, and foundational strategies. Learn in a supportive environment while building strength\, flexibility\, and confidence on the mat.
URL:https://blackrock-kadence.gotbdev.com/event/jiu-jitsu-fundamentals-4-2/2026-08-17/
CATEGORIES:Jiu Jitsu
ATTACH;FMTTYPE=image/jpeg:https://blackrock-kadence.gotbdev.com/wp-content/uploads/2025/11/WPA4490-scaled-1-scaled.jpg
END:VEVENT
BEGIN:VEVENT
DTSTART;TZID=America/Vancouver:20260817T200000
DTEND;TZID=America/Vancouver:20260817T213000
DTSTAMP:20260421T134309
CREATED:20250705T173710Z
LAST-MODIFIED:20260221T002621Z
UID:10016458-1786996800-1787002200@blackrock-kadence.gotbdev.com
SUMMARY:Adult MMA (Mixed Martial Arts)
DESCRIPTION:Join our exclusive\, Adult MMA (Mixed Martial Arts) program at Black Rock Martial Arts! Designed for serious practitioners\, these intense sessions focus on sparring\, grappling\, and advanced MMA techniques. Experience a challenging environment that pushes your limits and hones your striking\, clinch\, and ground skills. Our experienced coaches provide personalized guidance\, ensuring that every participant improves their strategy\, stamina\, and performance. Perfect for those looking to compete or elevate their training to the next level. Join a dedicated group of fighters committed to excellence.
URL:https://blackrock-kadence.gotbdev.com/event/adult-mma-mixed-martial-arts-invite-only-2/2026-08-17/
CATEGORIES:MMA
ATTACH;FMTTYPE=image/jpeg:https://blackrock-kadence.gotbdev.com/wp-content/uploads/2025/11/WPA05634-scaled-1-scaled.jpg
END:VEVENT
END:VCALENDAR