BEGIN:VCALENDAR
VERSION:2.0
PRODID:-// - ECPv6.15.20//NONSGML v1.0//EN
CALSCALE:GREGORIAN
METHOD:PUBLISH
X-ORIGINAL-URL:https://blackrock-kadence.gotbdev.com
X-WR-CALDESC:Events for 
REFRESH-INTERVAL;VALUE=DURATION:PT1H
X-Robots-Tag:noindex
X-PUBLISHED-TTL:PT1H
BEGIN:VTIMEZONE
TZID:America/Vancouver
BEGIN:DAYLIGHT
TZOFFSETFROM:-0800
TZOFFSETTO:-0700
TZNAME:PDT
DTSTART:20260308T100000
END:DAYLIGHT
BEGIN:STANDARD
TZOFFSETFROM:-0700
TZOFFSETTO:-0800
TZNAME:PST
DTSTART:20261101T090000
END:STANDARD
BEGIN:DAYLIGHT
TZOFFSETFROM:-0800
TZOFFSETTO:-0700
TZNAME:PDT
DTSTART:20270314T100000
END:DAYLIGHT
BEGIN:STANDARD
TZOFFSETFROM:-0700
TZOFFSETTO:-0800
TZNAME:PST
DTSTART:20271107T090000
END:STANDARD
BEGIN:DAYLIGHT
TZOFFSETFROM:-0800
TZOFFSETTO:-0700
TZNAME:PDT
DTSTART:20280312T100000
END:DAYLIGHT
BEGIN:STANDARD
TZOFFSETFROM:-0700
TZOFFSETTO:-0800
TZNAME:PST
DTSTART:20281105T090000
END:STANDARD
END:VTIMEZONE
BEGIN:VEVENT
DTSTART;TZID=America/Vancouver:20270329T190000
DTEND;TZID=America/Vancouver:20270329T200000
DTSTAMP:20260421T101345
CREATED:20251001T204116Z
LAST-MODIFIED:20260221T002524Z
UID:10018173-1806346800-1806350400@blackrock-kadence.gotbdev.com
SUMMARY:Oceanside Generals Workout
DESCRIPTION:The Oceanside Generals train with us privately for a high-energy workout focused on building strength\, stamina\, and conditioning. This class combines athletic drills\, functional movements\, and team-style training to improve overall fitness and performance. This class helps support their path to success and championships – closed to the public.
URL:https://blackrock-kadence.gotbdev.com/event/oceanside-generals-workout/2027-03-29/
CATEGORIES:Open Gym
ATTACH;FMTTYPE=image/jpeg:https://blackrock-kadence.gotbdev.com/wp-content/uploads/2025/11/SS200441-scaled-1-scaled.jpg
END:VEVENT
BEGIN:VEVENT
DTSTART;TZID=America/Vancouver:20270405T190000
DTEND;TZID=America/Vancouver:20270405T200000
DTSTAMP:20260421T101345
CREATED:20251001T204116Z
LAST-MODIFIED:20260221T002524Z
UID:10018174-1806951600-1806955200@blackrock-kadence.gotbdev.com
SUMMARY:Oceanside Generals Workout
DESCRIPTION:The Oceanside Generals train with us privately for a high-energy workout focused on building strength\, stamina\, and conditioning. This class combines athletic drills\, functional movements\, and team-style training to improve overall fitness and performance. This class helps support their path to success and championships – closed to the public.
URL:https://blackrock-kadence.gotbdev.com/event/oceanside-generals-workout/2027-04-05/
CATEGORIES:Open Gym
ATTACH;FMTTYPE=image/jpeg:https://blackrock-kadence.gotbdev.com/wp-content/uploads/2025/11/SS200441-scaled-1-scaled.jpg
END:VEVENT
BEGIN:VEVENT
DTSTART;TZID=America/Vancouver:20270412T190000
DTEND;TZID=America/Vancouver:20270412T200000
DTSTAMP:20260421T101345
CREATED:20251001T204116Z
LAST-MODIFIED:20260221T002524Z
UID:10018175-1807556400-1807560000@blackrock-kadence.gotbdev.com
SUMMARY:Oceanside Generals Workout
DESCRIPTION:The Oceanside Generals train with us privately for a high-energy workout focused on building strength\, stamina\, and conditioning. This class combines athletic drills\, functional movements\, and team-style training to improve overall fitness and performance. This class helps support their path to success and championships – closed to the public.
URL:https://blackrock-kadence.gotbdev.com/event/oceanside-generals-workout/2027-04-12/
CATEGORIES:Open Gym
ATTACH;FMTTYPE=image/jpeg:https://blackrock-kadence.gotbdev.com/wp-content/uploads/2025/11/SS200441-scaled-1-scaled.jpg
END:VEVENT
BEGIN:VEVENT
DTSTART;TZID=America/Vancouver:20270419T190000
DTEND;TZID=America/Vancouver:20270419T200000
DTSTAMP:20260421T101345
CREATED:20251001T204116Z
LAST-MODIFIED:20260221T002524Z
UID:10018176-1808161200-1808164800@blackrock-kadence.gotbdev.com
SUMMARY:Oceanside Generals Workout
DESCRIPTION:The Oceanside Generals train with us privately for a high-energy workout focused on building strength\, stamina\, and conditioning. This class combines athletic drills\, functional movements\, and team-style training to improve overall fitness and performance. This class helps support their path to success and championships – closed to the public.
URL:https://blackrock-kadence.gotbdev.com/event/oceanside-generals-workout/2027-04-19/
CATEGORIES:Open Gym
ATTACH;FMTTYPE=image/jpeg:https://blackrock-kadence.gotbdev.com/wp-content/uploads/2025/11/SS200441-scaled-1-scaled.jpg
END:VEVENT
BEGIN:VEVENT
DTSTART;TZID=America/Vancouver:20270426T190000
DTEND;TZID=America/Vancouver:20270426T200000
DTSTAMP:20260421T101345
CREATED:20251001T204116Z
LAST-MODIFIED:20260221T002524Z
UID:10018177-1808766000-1808769600@blackrock-kadence.gotbdev.com
SUMMARY:Oceanside Generals Workout
DESCRIPTION:The Oceanside Generals train with us privately for a high-energy workout focused on building strength\, stamina\, and conditioning. This class combines athletic drills\, functional movements\, and team-style training to improve overall fitness and performance. This class helps support their path to success and championships – closed to the public.
URL:https://blackrock-kadence.gotbdev.com/event/oceanside-generals-workout/2027-04-26/
CATEGORIES:Open Gym
ATTACH;FMTTYPE=image/jpeg:https://blackrock-kadence.gotbdev.com/wp-content/uploads/2025/11/SS200441-scaled-1-scaled.jpg
END:VEVENT
BEGIN:VEVENT
DTSTART;TZID=America/Vancouver:20270503T190000
DTEND;TZID=America/Vancouver:20270503T200000
DTSTAMP:20260421T101345
CREATED:20251001T204116Z
LAST-MODIFIED:20260221T002524Z
UID:10018178-1809370800-1809374400@blackrock-kadence.gotbdev.com
SUMMARY:Oceanside Generals Workout
DESCRIPTION:The Oceanside Generals train with us privately for a high-energy workout focused on building strength\, stamina\, and conditioning. This class combines athletic drills\, functional movements\, and team-style training to improve overall fitness and performance. This class helps support their path to success and championships – closed to the public.
URL:https://blackrock-kadence.gotbdev.com/event/oceanside-generals-workout/2027-05-03/
CATEGORIES:Open Gym
ATTACH;FMTTYPE=image/jpeg:https://blackrock-kadence.gotbdev.com/wp-content/uploads/2025/11/SS200441-scaled-1-scaled.jpg
END:VEVENT
BEGIN:VEVENT
DTSTART;TZID=America/Vancouver:20270510T190000
DTEND;TZID=America/Vancouver:20270510T200000
DTSTAMP:20260421T101345
CREATED:20251001T204116Z
LAST-MODIFIED:20260221T002524Z
UID:10018179-1809975600-1809979200@blackrock-kadence.gotbdev.com
SUMMARY:Oceanside Generals Workout
DESCRIPTION:The Oceanside Generals train with us privately for a high-energy workout focused on building strength\, stamina\, and conditioning. This class combines athletic drills\, functional movements\, and team-style training to improve overall fitness and performance. This class helps support their path to success and championships – closed to the public.
URL:https://blackrock-kadence.gotbdev.com/event/oceanside-generals-workout/2027-05-10/
CATEGORIES:Open Gym
ATTACH;FMTTYPE=image/jpeg:https://blackrock-kadence.gotbdev.com/wp-content/uploads/2025/11/SS200441-scaled-1-scaled.jpg
END:VEVENT
BEGIN:VEVENT
DTSTART;TZID=America/Vancouver:20270517T190000
DTEND;TZID=America/Vancouver:20270517T200000
DTSTAMP:20260421T101345
CREATED:20251001T204116Z
LAST-MODIFIED:20260221T002524Z
UID:10018180-1810580400-1810584000@blackrock-kadence.gotbdev.com
SUMMARY:Oceanside Generals Workout
DESCRIPTION:The Oceanside Generals train with us privately for a high-energy workout focused on building strength\, stamina\, and conditioning. This class combines athletic drills\, functional movements\, and team-style training to improve overall fitness and performance. This class helps support their path to success and championships – closed to the public.
URL:https://blackrock-kadence.gotbdev.com/event/oceanside-generals-workout/2027-05-17/
CATEGORIES:Open Gym
ATTACH;FMTTYPE=image/jpeg:https://blackrock-kadence.gotbdev.com/wp-content/uploads/2025/11/SS200441-scaled-1-scaled.jpg
END:VEVENT
BEGIN:VEVENT
DTSTART;TZID=America/Vancouver:20270524T190000
DTEND;TZID=America/Vancouver:20270524T200000
DTSTAMP:20260421T101345
CREATED:20251001T204116Z
LAST-MODIFIED:20260221T002524Z
UID:10018181-1811185200-1811188800@blackrock-kadence.gotbdev.com
SUMMARY:Oceanside Generals Workout
DESCRIPTION:The Oceanside Generals train with us privately for a high-energy workout focused on building strength\, stamina\, and conditioning. This class combines athletic drills\, functional movements\, and team-style training to improve overall fitness and performance. This class helps support their path to success and championships – closed to the public.
URL:https://blackrock-kadence.gotbdev.com/event/oceanside-generals-workout/2027-05-24/
CATEGORIES:Open Gym
ATTACH;FMTTYPE=image/jpeg:https://blackrock-kadence.gotbdev.com/wp-content/uploads/2025/11/SS200441-scaled-1-scaled.jpg
END:VEVENT
BEGIN:VEVENT
DTSTART;TZID=America/Vancouver:20270531T190000
DTEND;TZID=America/Vancouver:20270531T200000
DTSTAMP:20260421T101345
CREATED:20251001T204116Z
LAST-MODIFIED:20260221T002524Z
UID:10018182-1811790000-1811793600@blackrock-kadence.gotbdev.com
SUMMARY:Oceanside Generals Workout
DESCRIPTION:The Oceanside Generals train with us privately for a high-energy workout focused on building strength\, stamina\, and conditioning. This class combines athletic drills\, functional movements\, and team-style training to improve overall fitness and performance. This class helps support their path to success and championships – closed to the public.
URL:https://blackrock-kadence.gotbdev.com/event/oceanside-generals-workout/2027-05-31/
CATEGORIES:Open Gym
ATTACH;FMTTYPE=image/jpeg:https://blackrock-kadence.gotbdev.com/wp-content/uploads/2025/11/SS200441-scaled-1-scaled.jpg
END:VEVENT
BEGIN:VEVENT
DTSTART;TZID=America/Vancouver:20270607T190000
DTEND;TZID=America/Vancouver:20270607T200000
DTSTAMP:20260421T101345
CREATED:20251001T204116Z
LAST-MODIFIED:20260221T002524Z
UID:10018183-1812394800-1812398400@blackrock-kadence.gotbdev.com
SUMMARY:Oceanside Generals Workout
DESCRIPTION:The Oceanside Generals train with us privately for a high-energy workout focused on building strength\, stamina\, and conditioning. This class combines athletic drills\, functional movements\, and team-style training to improve overall fitness and performance. This class helps support their path to success and championships – closed to the public.
URL:https://blackrock-kadence.gotbdev.com/event/oceanside-generals-workout/2027-06-07/
CATEGORIES:Open Gym
ATTACH;FMTTYPE=image/jpeg:https://blackrock-kadence.gotbdev.com/wp-content/uploads/2025/11/SS200441-scaled-1-scaled.jpg
END:VEVENT
BEGIN:VEVENT
DTSTART;TZID=America/Vancouver:20270614T190000
DTEND;TZID=America/Vancouver:20270614T200000
DTSTAMP:20260421T101345
CREATED:20251001T204116Z
LAST-MODIFIED:20260221T002524Z
UID:10018184-1812999600-1813003200@blackrock-kadence.gotbdev.com
SUMMARY:Oceanside Generals Workout
DESCRIPTION:The Oceanside Generals train with us privately for a high-energy workout focused on building strength\, stamina\, and conditioning. This class combines athletic drills\, functional movements\, and team-style training to improve overall fitness and performance. This class helps support their path to success and championships – closed to the public.
URL:https://blackrock-kadence.gotbdev.com/event/oceanside-generals-workout/2027-06-14/
CATEGORIES:Open Gym
ATTACH;FMTTYPE=image/jpeg:https://blackrock-kadence.gotbdev.com/wp-content/uploads/2025/11/SS200441-scaled-1-scaled.jpg
END:VEVENT
BEGIN:VEVENT
DTSTART;TZID=America/Vancouver:20270621T190000
DTEND;TZID=America/Vancouver:20270621T200000
DTSTAMP:20260421T101345
CREATED:20251001T204116Z
LAST-MODIFIED:20260221T002524Z
UID:10018185-1813604400-1813608000@blackrock-kadence.gotbdev.com
SUMMARY:Oceanside Generals Workout
DESCRIPTION:The Oceanside Generals train with us privately for a high-energy workout focused on building strength\, stamina\, and conditioning. This class combines athletic drills\, functional movements\, and team-style training to improve overall fitness and performance. This class helps support their path to success and championships – closed to the public.
URL:https://blackrock-kadence.gotbdev.com/event/oceanside-generals-workout/2027-06-21/
CATEGORIES:Open Gym
ATTACH;FMTTYPE=image/jpeg:https://blackrock-kadence.gotbdev.com/wp-content/uploads/2025/11/SS200441-scaled-1-scaled.jpg
END:VEVENT
BEGIN:VEVENT
DTSTART;TZID=America/Vancouver:20270628T190000
DTEND;TZID=America/Vancouver:20270628T200000
DTSTAMP:20260421T101345
CREATED:20251001T204116Z
LAST-MODIFIED:20260221T002524Z
UID:10018186-1814209200-1814212800@blackrock-kadence.gotbdev.com
SUMMARY:Oceanside Generals Workout
DESCRIPTION:The Oceanside Generals train with us privately for a high-energy workout focused on building strength\, stamina\, and conditioning. This class combines athletic drills\, functional movements\, and team-style training to improve overall fitness and performance. This class helps support their path to success and championships – closed to the public.
URL:https://blackrock-kadence.gotbdev.com/event/oceanside-generals-workout/2027-06-28/
CATEGORIES:Open Gym
ATTACH;FMTTYPE=image/jpeg:https://blackrock-kadence.gotbdev.com/wp-content/uploads/2025/11/SS200441-scaled-1-scaled.jpg
END:VEVENT
BEGIN:VEVENT
DTSTART;TZID=America/Vancouver:20270705T190000
DTEND;TZID=America/Vancouver:20270705T200000
DTSTAMP:20260421T101345
CREATED:20251001T204116Z
LAST-MODIFIED:20260221T002524Z
UID:10018187-1814814000-1814817600@blackrock-kadence.gotbdev.com
SUMMARY:Oceanside Generals Workout
DESCRIPTION:The Oceanside Generals train with us privately for a high-energy workout focused on building strength\, stamina\, and conditioning. This class combines athletic drills\, functional movements\, and team-style training to improve overall fitness and performance. This class helps support their path to success and championships – closed to the public.
URL:https://blackrock-kadence.gotbdev.com/event/oceanside-generals-workout/2027-07-05/
CATEGORIES:Open Gym
ATTACH;FMTTYPE=image/jpeg:https://blackrock-kadence.gotbdev.com/wp-content/uploads/2025/11/SS200441-scaled-1-scaled.jpg
END:VEVENT
BEGIN:VEVENT
DTSTART;TZID=America/Vancouver:20270712T190000
DTEND;TZID=America/Vancouver:20270712T200000
DTSTAMP:20260421T101345
CREATED:20251001T204116Z
LAST-MODIFIED:20260221T002524Z
UID:10018188-1815418800-1815422400@blackrock-kadence.gotbdev.com
SUMMARY:Oceanside Generals Workout
DESCRIPTION:The Oceanside Generals train with us privately for a high-energy workout focused on building strength\, stamina\, and conditioning. This class combines athletic drills\, functional movements\, and team-style training to improve overall fitness and performance. This class helps support their path to success and championships – closed to the public.
URL:https://blackrock-kadence.gotbdev.com/event/oceanside-generals-workout/2027-07-12/
CATEGORIES:Open Gym
ATTACH;FMTTYPE=image/jpeg:https://blackrock-kadence.gotbdev.com/wp-content/uploads/2025/11/SS200441-scaled-1-scaled.jpg
END:VEVENT
BEGIN:VEVENT
DTSTART;TZID=America/Vancouver:20270719T190000
DTEND;TZID=America/Vancouver:20270719T200000
DTSTAMP:20260421T101345
CREATED:20251001T204116Z
LAST-MODIFIED:20260221T002524Z
UID:10018189-1816023600-1816027200@blackrock-kadence.gotbdev.com
SUMMARY:Oceanside Generals Workout
DESCRIPTION:The Oceanside Generals train with us privately for a high-energy workout focused on building strength\, stamina\, and conditioning. This class combines athletic drills\, functional movements\, and team-style training to improve overall fitness and performance. This class helps support their path to success and championships – closed to the public.
URL:https://blackrock-kadence.gotbdev.com/event/oceanside-generals-workout/2027-07-19/
CATEGORIES:Open Gym
ATTACH;FMTTYPE=image/jpeg:https://blackrock-kadence.gotbdev.com/wp-content/uploads/2025/11/SS200441-scaled-1-scaled.jpg
END:VEVENT
BEGIN:VEVENT
DTSTART;TZID=America/Vancouver:20270726T190000
DTEND;TZID=America/Vancouver:20270726T200000
DTSTAMP:20260421T101345
CREATED:20251001T204116Z
LAST-MODIFIED:20260221T002524Z
UID:10018190-1816628400-1816632000@blackrock-kadence.gotbdev.com
SUMMARY:Oceanside Generals Workout
DESCRIPTION:The Oceanside Generals train with us privately for a high-energy workout focused on building strength\, stamina\, and conditioning. This class combines athletic drills\, functional movements\, and team-style training to improve overall fitness and performance. This class helps support their path to success and championships – closed to the public.
URL:https://blackrock-kadence.gotbdev.com/event/oceanside-generals-workout/2027-07-26/
CATEGORIES:Open Gym
ATTACH;FMTTYPE=image/jpeg:https://blackrock-kadence.gotbdev.com/wp-content/uploads/2025/11/SS200441-scaled-1-scaled.jpg
END:VEVENT
BEGIN:VEVENT
DTSTART;TZID=America/Vancouver:20270802T190000
DTEND;TZID=America/Vancouver:20270802T200000
DTSTAMP:20260421T101345
CREATED:20251001T204116Z
LAST-MODIFIED:20260221T002524Z
UID:10018191-1817233200-1817236800@blackrock-kadence.gotbdev.com
SUMMARY:Oceanside Generals Workout
DESCRIPTION:The Oceanside Generals train with us privately for a high-energy workout focused on building strength\, stamina\, and conditioning. This class combines athletic drills\, functional movements\, and team-style training to improve overall fitness and performance. This class helps support their path to success and championships – closed to the public.
URL:https://blackrock-kadence.gotbdev.com/event/oceanside-generals-workout/2027-08-02/
CATEGORIES:Open Gym
ATTACH;FMTTYPE=image/jpeg:https://blackrock-kadence.gotbdev.com/wp-content/uploads/2025/11/SS200441-scaled-1-scaled.jpg
END:VEVENT
BEGIN:VEVENT
DTSTART;TZID=America/Vancouver:20270809T190000
DTEND;TZID=America/Vancouver:20270809T200000
DTSTAMP:20260421T101345
CREATED:20251001T204116Z
LAST-MODIFIED:20260221T002524Z
UID:10018192-1817838000-1817841600@blackrock-kadence.gotbdev.com
SUMMARY:Oceanside Generals Workout
DESCRIPTION:The Oceanside Generals train with us privately for a high-energy workout focused on building strength\, stamina\, and conditioning. This class combines athletic drills\, functional movements\, and team-style training to improve overall fitness and performance. This class helps support their path to success and championships – closed to the public.
URL:https://blackrock-kadence.gotbdev.com/event/oceanside-generals-workout/2027-08-09/
CATEGORIES:Open Gym
ATTACH;FMTTYPE=image/jpeg:https://blackrock-kadence.gotbdev.com/wp-content/uploads/2025/11/SS200441-scaled-1-scaled.jpg
END:VEVENT
BEGIN:VEVENT
DTSTART;TZID=America/Vancouver:20270816T190000
DTEND;TZID=America/Vancouver:20270816T200000
DTSTAMP:20260421T101345
CREATED:20251001T204116Z
LAST-MODIFIED:20260221T002524Z
UID:10018193-1818442800-1818446400@blackrock-kadence.gotbdev.com
SUMMARY:Oceanside Generals Workout
DESCRIPTION:The Oceanside Generals train with us privately for a high-energy workout focused on building strength\, stamina\, and conditioning. This class combines athletic drills\, functional movements\, and team-style training to improve overall fitness and performance. This class helps support their path to success and championships – closed to the public.
URL:https://blackrock-kadence.gotbdev.com/event/oceanside-generals-workout/2027-08-16/
CATEGORIES:Open Gym
ATTACH;FMTTYPE=image/jpeg:https://blackrock-kadence.gotbdev.com/wp-content/uploads/2025/11/SS200441-scaled-1-scaled.jpg
END:VEVENT
BEGIN:VEVENT
DTSTART;TZID=America/Vancouver:20270823T190000
DTEND;TZID=America/Vancouver:20270823T200000
DTSTAMP:20260421T101345
CREATED:20251001T204116Z
LAST-MODIFIED:20260221T002524Z
UID:10018194-1819047600-1819051200@blackrock-kadence.gotbdev.com
SUMMARY:Oceanside Generals Workout
DESCRIPTION:The Oceanside Generals train with us privately for a high-energy workout focused on building strength\, stamina\, and conditioning. This class combines athletic drills\, functional movements\, and team-style training to improve overall fitness and performance. This class helps support their path to success and championships – closed to the public.
URL:https://blackrock-kadence.gotbdev.com/event/oceanside-generals-workout/2027-08-23/
CATEGORIES:Open Gym
ATTACH;FMTTYPE=image/jpeg:https://blackrock-kadence.gotbdev.com/wp-content/uploads/2025/11/SS200441-scaled-1-scaled.jpg
END:VEVENT
BEGIN:VEVENT
DTSTART;TZID=America/Vancouver:20270830T190000
DTEND;TZID=America/Vancouver:20270830T200000
DTSTAMP:20260421T101345
CREATED:20251001T204116Z
LAST-MODIFIED:20260221T002524Z
UID:10018195-1819652400-1819656000@blackrock-kadence.gotbdev.com
SUMMARY:Oceanside Generals Workout
DESCRIPTION:The Oceanside Generals train with us privately for a high-energy workout focused on building strength\, stamina\, and conditioning. This class combines athletic drills\, functional movements\, and team-style training to improve overall fitness and performance. This class helps support their path to success and championships – closed to the public.
URL:https://blackrock-kadence.gotbdev.com/event/oceanside-generals-workout/2027-08-30/
CATEGORIES:Open Gym
ATTACH;FMTTYPE=image/jpeg:https://blackrock-kadence.gotbdev.com/wp-content/uploads/2025/11/SS200441-scaled-1-scaled.jpg
END:VEVENT
BEGIN:VEVENT
DTSTART;TZID=America/Vancouver:20270906T190000
DTEND;TZID=America/Vancouver:20270906T200000
DTSTAMP:20260421T101345
CREATED:20251001T204116Z
LAST-MODIFIED:20260221T002524Z
UID:10018196-1820257200-1820260800@blackrock-kadence.gotbdev.com
SUMMARY:Oceanside Generals Workout
DESCRIPTION:The Oceanside Generals train with us privately for a high-energy workout focused on building strength\, stamina\, and conditioning. This class combines athletic drills\, functional movements\, and team-style training to improve overall fitness and performance. This class helps support their path to success and championships – closed to the public.
URL:https://blackrock-kadence.gotbdev.com/event/oceanside-generals-workout/2027-09-06/
CATEGORIES:Open Gym
ATTACH;FMTTYPE=image/jpeg:https://blackrock-kadence.gotbdev.com/wp-content/uploads/2025/11/SS200441-scaled-1-scaled.jpg
END:VEVENT
BEGIN:VEVENT
DTSTART;TZID=America/Vancouver:20270913T190000
DTEND;TZID=America/Vancouver:20270913T200000
DTSTAMP:20260421T101346
CREATED:20251001T204116Z
LAST-MODIFIED:20260221T002524Z
UID:10018197-1820862000-1820865600@blackrock-kadence.gotbdev.com
SUMMARY:Oceanside Generals Workout
DESCRIPTION:The Oceanside Generals train with us privately for a high-energy workout focused on building strength\, stamina\, and conditioning. This class combines athletic drills\, functional movements\, and team-style training to improve overall fitness and performance. This class helps support their path to success and championships – closed to the public.
URL:https://blackrock-kadence.gotbdev.com/event/oceanside-generals-workout/2027-09-13/
CATEGORIES:Open Gym
ATTACH;FMTTYPE=image/jpeg:https://blackrock-kadence.gotbdev.com/wp-content/uploads/2025/11/SS200441-scaled-1-scaled.jpg
END:VEVENT
BEGIN:VEVENT
DTSTART;TZID=America/Vancouver:20270920T190000
DTEND;TZID=America/Vancouver:20270920T200000
DTSTAMP:20260421T101346
CREATED:20251001T204116Z
LAST-MODIFIED:20260221T002524Z
UID:10018198-1821466800-1821470400@blackrock-kadence.gotbdev.com
SUMMARY:Oceanside Generals Workout
DESCRIPTION:The Oceanside Generals train with us privately for a high-energy workout focused on building strength\, stamina\, and conditioning. This class combines athletic drills\, functional movements\, and team-style training to improve overall fitness and performance. This class helps support their path to success and championships – closed to the public.
URL:https://blackrock-kadence.gotbdev.com/event/oceanside-generals-workout/2027-09-20/
CATEGORIES:Open Gym
ATTACH;FMTTYPE=image/jpeg:https://blackrock-kadence.gotbdev.com/wp-content/uploads/2025/11/SS200441-scaled-1-scaled.jpg
END:VEVENT
BEGIN:VEVENT
DTSTART;TZID=America/Vancouver:20270927T190000
DTEND;TZID=America/Vancouver:20270927T200000
DTSTAMP:20260421T101346
CREATED:20251001T204116Z
LAST-MODIFIED:20260221T002524Z
UID:10018199-1822071600-1822075200@blackrock-kadence.gotbdev.com
SUMMARY:Oceanside Generals Workout
DESCRIPTION:The Oceanside Generals train with us privately for a high-energy workout focused on building strength\, stamina\, and conditioning. This class combines athletic drills\, functional movements\, and team-style training to improve overall fitness and performance. This class helps support their path to success and championships – closed to the public.
URL:https://blackrock-kadence.gotbdev.com/event/oceanside-generals-workout/2027-09-27/
CATEGORIES:Open Gym
ATTACH;FMTTYPE=image/jpeg:https://blackrock-kadence.gotbdev.com/wp-content/uploads/2025/11/SS200441-scaled-1-scaled.jpg
END:VEVENT
BEGIN:VEVENT
DTSTART;TZID=America/Vancouver:20271004T190000
DTEND;TZID=America/Vancouver:20271004T200000
DTSTAMP:20260421T101346
CREATED:20251001T204116Z
LAST-MODIFIED:20260221T002524Z
UID:10018200-1822676400-1822680000@blackrock-kadence.gotbdev.com
SUMMARY:Oceanside Generals Workout
DESCRIPTION:The Oceanside Generals train with us privately for a high-energy workout focused on building strength\, stamina\, and conditioning. This class combines athletic drills\, functional movements\, and team-style training to improve overall fitness and performance. This class helps support their path to success and championships – closed to the public.
URL:https://blackrock-kadence.gotbdev.com/event/oceanside-generals-workout/2027-10-04/
CATEGORIES:Open Gym
ATTACH;FMTTYPE=image/jpeg:https://blackrock-kadence.gotbdev.com/wp-content/uploads/2025/11/SS200441-scaled-1-scaled.jpg
END:VEVENT
BEGIN:VEVENT
DTSTART;TZID=America/Vancouver:20271011T190000
DTEND;TZID=America/Vancouver:20271011T200000
DTSTAMP:20260421T101346
CREATED:20251001T204116Z
LAST-MODIFIED:20260221T002524Z
UID:10018201-1823281200-1823284800@blackrock-kadence.gotbdev.com
SUMMARY:Oceanside Generals Workout
DESCRIPTION:The Oceanside Generals train with us privately for a high-energy workout focused on building strength\, stamina\, and conditioning. This class combines athletic drills\, functional movements\, and team-style training to improve overall fitness and performance. This class helps support their path to success and championships – closed to the public.
URL:https://blackrock-kadence.gotbdev.com/event/oceanside-generals-workout/2027-10-11/
CATEGORIES:Open Gym
ATTACH;FMTTYPE=image/jpeg:https://blackrock-kadence.gotbdev.com/wp-content/uploads/2025/11/SS200441-scaled-1-scaled.jpg
END:VEVENT
BEGIN:VEVENT
DTSTART;TZID=America/Vancouver:20271018T190000
DTEND;TZID=America/Vancouver:20271018T200000
DTSTAMP:20260421T101346
CREATED:20251001T204116Z
LAST-MODIFIED:20260221T002524Z
UID:10018202-1823886000-1823889600@blackrock-kadence.gotbdev.com
SUMMARY:Oceanside Generals Workout
DESCRIPTION:The Oceanside Generals train with us privately for a high-energy workout focused on building strength\, stamina\, and conditioning. This class combines athletic drills\, functional movements\, and team-style training to improve overall fitness and performance. This class helps support their path to success and championships – closed to the public.
URL:https://blackrock-kadence.gotbdev.com/event/oceanside-generals-workout/2027-10-18/
CATEGORIES:Open Gym
ATTACH;FMTTYPE=image/jpeg:https://blackrock-kadence.gotbdev.com/wp-content/uploads/2025/11/SS200441-scaled-1-scaled.jpg
END:VEVENT
END:VCALENDAR