BEGIN:VCALENDAR
VERSION:2.0
PRODID:-// - ECPv6.15.20//NONSGML v1.0//EN
CALSCALE:GREGORIAN
METHOD:PUBLISH
X-ORIGINAL-URL:https://blackrock-kadence.gotbdev.com
X-WR-CALDESC:Events for 
REFRESH-INTERVAL;VALUE=DURATION:PT1H
X-Robots-Tag:noindex
X-PUBLISHED-TTL:PT1H
BEGIN:VTIMEZONE
TZID:America/Vancouver
BEGIN:DAYLIGHT
TZOFFSETFROM:-0800
TZOFFSETTO:-0700
TZNAME:PDT
DTSTART:20260308T100000
END:DAYLIGHT
BEGIN:STANDARD
TZOFFSETFROM:-0700
TZOFFSETTO:-0800
TZNAME:PST
DTSTART:20261101T090000
END:STANDARD
BEGIN:DAYLIGHT
TZOFFSETFROM:-0800
TZOFFSETTO:-0700
TZNAME:PDT
DTSTART:20270314T100000
END:DAYLIGHT
BEGIN:STANDARD
TZOFFSETFROM:-0700
TZOFFSETTO:-0800
TZNAME:PST
DTSTART:20271107T090000
END:STANDARD
BEGIN:DAYLIGHT
TZOFFSETFROM:-0800
TZOFFSETTO:-0700
TZNAME:PDT
DTSTART:20280312T100000
END:DAYLIGHT
BEGIN:STANDARD
TZOFFSETFROM:-0700
TZOFFSETTO:-0800
TZNAME:PST
DTSTART:20281105T090000
END:STANDARD
BEGIN:DAYLIGHT
TZOFFSETFROM:-0800
TZOFFSETTO:-0700
TZNAME:PDT
DTSTART:20290311T100000
END:DAYLIGHT
BEGIN:STANDARD
TZOFFSETFROM:-0700
TZOFFSETTO:-0800
TZNAME:PST
DTSTART:20291104T090000
END:STANDARD
END:VTIMEZONE
BEGIN:VEVENT
DTSTART;TZID=America/Vancouver:20270913T190000
DTEND;TZID=America/Vancouver:20270913T200000
DTSTAMP:20260423T074014
CREATED:20251001T204116Z
LAST-MODIFIED:20260221T002524Z
UID:10018197-1820862000-1820865600@blackrock-kadence.gotbdev.com
SUMMARY:Oceanside Generals Workout
DESCRIPTION:The Oceanside Generals train with us privately for a high-energy workout focused on building strength\, stamina\, and conditioning. This class combines athletic drills\, functional movements\, and team-style training to improve overall fitness and performance. This class helps support their path to success and championships – closed to the public.
URL:https://blackrock-kadence.gotbdev.com/event/oceanside-generals-workout/2027-09-13/
CATEGORIES:Open Gym
ATTACH;FMTTYPE=image/jpeg:https://blackrock-kadence.gotbdev.com/wp-content/uploads/2025/11/SS200441-scaled-1-scaled.jpg
END:VEVENT
BEGIN:VEVENT
DTSTART;TZID=America/Vancouver:20270920T190000
DTEND;TZID=America/Vancouver:20270920T200000
DTSTAMP:20260423T074014
CREATED:20251001T204116Z
LAST-MODIFIED:20260221T002524Z
UID:10018198-1821466800-1821470400@blackrock-kadence.gotbdev.com
SUMMARY:Oceanside Generals Workout
DESCRIPTION:The Oceanside Generals train with us privately for a high-energy workout focused on building strength\, stamina\, and conditioning. This class combines athletic drills\, functional movements\, and team-style training to improve overall fitness and performance. This class helps support their path to success and championships – closed to the public.
URL:https://blackrock-kadence.gotbdev.com/event/oceanside-generals-workout/2027-09-20/
CATEGORIES:Open Gym
ATTACH;FMTTYPE=image/jpeg:https://blackrock-kadence.gotbdev.com/wp-content/uploads/2025/11/SS200441-scaled-1-scaled.jpg
END:VEVENT
BEGIN:VEVENT
DTSTART;TZID=America/Vancouver:20270927T190000
DTEND;TZID=America/Vancouver:20270927T200000
DTSTAMP:20260423T074014
CREATED:20251001T204116Z
LAST-MODIFIED:20260221T002524Z
UID:10018199-1822071600-1822075200@blackrock-kadence.gotbdev.com
SUMMARY:Oceanside Generals Workout
DESCRIPTION:The Oceanside Generals train with us privately for a high-energy workout focused on building strength\, stamina\, and conditioning. This class combines athletic drills\, functional movements\, and team-style training to improve overall fitness and performance. This class helps support their path to success and championships – closed to the public.
URL:https://blackrock-kadence.gotbdev.com/event/oceanside-generals-workout/2027-09-27/
CATEGORIES:Open Gym
ATTACH;FMTTYPE=image/jpeg:https://blackrock-kadence.gotbdev.com/wp-content/uploads/2025/11/SS200441-scaled-1-scaled.jpg
END:VEVENT
BEGIN:VEVENT
DTSTART;TZID=America/Vancouver:20271004T190000
DTEND;TZID=America/Vancouver:20271004T200000
DTSTAMP:20260423T074014
CREATED:20251001T204116Z
LAST-MODIFIED:20260221T002524Z
UID:10018200-1822676400-1822680000@blackrock-kadence.gotbdev.com
SUMMARY:Oceanside Generals Workout
DESCRIPTION:The Oceanside Generals train with us privately for a high-energy workout focused on building strength\, stamina\, and conditioning. This class combines athletic drills\, functional movements\, and team-style training to improve overall fitness and performance. This class helps support their path to success and championships – closed to the public.
URL:https://blackrock-kadence.gotbdev.com/event/oceanside-generals-workout/2027-10-04/
CATEGORIES:Open Gym
ATTACH;FMTTYPE=image/jpeg:https://blackrock-kadence.gotbdev.com/wp-content/uploads/2025/11/SS200441-scaled-1-scaled.jpg
END:VEVENT
BEGIN:VEVENT
DTSTART;TZID=America/Vancouver:20271011T190000
DTEND;TZID=America/Vancouver:20271011T200000
DTSTAMP:20260423T074014
CREATED:20251001T204116Z
LAST-MODIFIED:20260221T002524Z
UID:10018201-1823281200-1823284800@blackrock-kadence.gotbdev.com
SUMMARY:Oceanside Generals Workout
DESCRIPTION:The Oceanside Generals train with us privately for a high-energy workout focused on building strength\, stamina\, and conditioning. This class combines athletic drills\, functional movements\, and team-style training to improve overall fitness and performance. This class helps support their path to success and championships – closed to the public.
URL:https://blackrock-kadence.gotbdev.com/event/oceanside-generals-workout/2027-10-11/
CATEGORIES:Open Gym
ATTACH;FMTTYPE=image/jpeg:https://blackrock-kadence.gotbdev.com/wp-content/uploads/2025/11/SS200441-scaled-1-scaled.jpg
END:VEVENT
BEGIN:VEVENT
DTSTART;TZID=America/Vancouver:20271018T190000
DTEND;TZID=America/Vancouver:20271018T200000
DTSTAMP:20260423T074014
CREATED:20251001T204116Z
LAST-MODIFIED:20260221T002524Z
UID:10018202-1823886000-1823889600@blackrock-kadence.gotbdev.com
SUMMARY:Oceanside Generals Workout
DESCRIPTION:The Oceanside Generals train with us privately for a high-energy workout focused on building strength\, stamina\, and conditioning. This class combines athletic drills\, functional movements\, and team-style training to improve overall fitness and performance. This class helps support their path to success and championships – closed to the public.
URL:https://blackrock-kadence.gotbdev.com/event/oceanside-generals-workout/2027-10-18/
CATEGORIES:Open Gym
ATTACH;FMTTYPE=image/jpeg:https://blackrock-kadence.gotbdev.com/wp-content/uploads/2025/11/SS200441-scaled-1-scaled.jpg
END:VEVENT
BEGIN:VEVENT
DTSTART;TZID=America/Vancouver:20271025T190000
DTEND;TZID=America/Vancouver:20271025T200000
DTSTAMP:20260423T074014
CREATED:20251001T204116Z
LAST-MODIFIED:20260221T002524Z
UID:10018203-1824490800-1824494400@blackrock-kadence.gotbdev.com
SUMMARY:Oceanside Generals Workout
DESCRIPTION:The Oceanside Generals train with us privately for a high-energy workout focused on building strength\, stamina\, and conditioning. This class combines athletic drills\, functional movements\, and team-style training to improve overall fitness and performance. This class helps support their path to success and championships – closed to the public.
URL:https://blackrock-kadence.gotbdev.com/event/oceanside-generals-workout/2027-10-25/
CATEGORIES:Open Gym
ATTACH;FMTTYPE=image/jpeg:https://blackrock-kadence.gotbdev.com/wp-content/uploads/2025/11/SS200441-scaled-1-scaled.jpg
END:VEVENT
BEGIN:VEVENT
DTSTART;TZID=America/Vancouver:20271101T190000
DTEND;TZID=America/Vancouver:20271101T200000
DTSTAMP:20260423T074014
CREATED:20251001T204116Z
LAST-MODIFIED:20260221T002524Z
UID:10018204-1825095600-1825099200@blackrock-kadence.gotbdev.com
SUMMARY:Oceanside Generals Workout
DESCRIPTION:The Oceanside Generals train with us privately for a high-energy workout focused on building strength\, stamina\, and conditioning. This class combines athletic drills\, functional movements\, and team-style training to improve overall fitness and performance. This class helps support their path to success and championships – closed to the public.
URL:https://blackrock-kadence.gotbdev.com/event/oceanside-generals-workout/2027-11-01/
CATEGORIES:Open Gym
ATTACH;FMTTYPE=image/jpeg:https://blackrock-kadence.gotbdev.com/wp-content/uploads/2025/11/SS200441-scaled-1-scaled.jpg
END:VEVENT
BEGIN:VEVENT
DTSTART;TZID=America/Vancouver:20271108T190000
DTEND;TZID=America/Vancouver:20271108T200000
DTSTAMP:20260423T074014
CREATED:20251001T204116Z
LAST-MODIFIED:20260221T002524Z
UID:10018205-1825700400-1825704000@blackrock-kadence.gotbdev.com
SUMMARY:Oceanside Generals Workout
DESCRIPTION:The Oceanside Generals train with us privately for a high-energy workout focused on building strength\, stamina\, and conditioning. This class combines athletic drills\, functional movements\, and team-style training to improve overall fitness and performance. This class helps support their path to success and championships – closed to the public.
URL:https://blackrock-kadence.gotbdev.com/event/oceanside-generals-workout/2027-11-08/
CATEGORIES:Open Gym
ATTACH;FMTTYPE=image/jpeg:https://blackrock-kadence.gotbdev.com/wp-content/uploads/2025/11/SS200441-scaled-1-scaled.jpg
END:VEVENT
BEGIN:VEVENT
DTSTART;TZID=America/Vancouver:20271115T190000
DTEND;TZID=America/Vancouver:20271115T200000
DTSTAMP:20260423T074014
CREATED:20251001T204116Z
LAST-MODIFIED:20260221T002524Z
UID:10018206-1826305200-1826308800@blackrock-kadence.gotbdev.com
SUMMARY:Oceanside Generals Workout
DESCRIPTION:The Oceanside Generals train with us privately for a high-energy workout focused on building strength\, stamina\, and conditioning. This class combines athletic drills\, functional movements\, and team-style training to improve overall fitness and performance. This class helps support their path to success and championships – closed to the public.
URL:https://blackrock-kadence.gotbdev.com/event/oceanside-generals-workout/2027-11-15/
CATEGORIES:Open Gym
ATTACH;FMTTYPE=image/jpeg:https://blackrock-kadence.gotbdev.com/wp-content/uploads/2025/11/SS200441-scaled-1-scaled.jpg
END:VEVENT
BEGIN:VEVENT
DTSTART;TZID=America/Vancouver:20271122T190000
DTEND;TZID=America/Vancouver:20271122T200000
DTSTAMP:20260423T074014
CREATED:20251001T204116Z
LAST-MODIFIED:20260221T002524Z
UID:10018207-1826910000-1826913600@blackrock-kadence.gotbdev.com
SUMMARY:Oceanside Generals Workout
DESCRIPTION:The Oceanside Generals train with us privately for a high-energy workout focused on building strength\, stamina\, and conditioning. This class combines athletic drills\, functional movements\, and team-style training to improve overall fitness and performance. This class helps support their path to success and championships – closed to the public.
URL:https://blackrock-kadence.gotbdev.com/event/oceanside-generals-workout/2027-11-22/
CATEGORIES:Open Gym
ATTACH;FMTTYPE=image/jpeg:https://blackrock-kadence.gotbdev.com/wp-content/uploads/2025/11/SS200441-scaled-1-scaled.jpg
END:VEVENT
BEGIN:VEVENT
DTSTART;TZID=America/Vancouver:20271129T190000
DTEND;TZID=America/Vancouver:20271129T200000
DTSTAMP:20260423T074014
CREATED:20251001T204116Z
LAST-MODIFIED:20260221T002524Z
UID:10018208-1827514800-1827518400@blackrock-kadence.gotbdev.com
SUMMARY:Oceanside Generals Workout
DESCRIPTION:The Oceanside Generals train with us privately for a high-energy workout focused on building strength\, stamina\, and conditioning. This class combines athletic drills\, functional movements\, and team-style training to improve overall fitness and performance. This class helps support their path to success and championships – closed to the public.
URL:https://blackrock-kadence.gotbdev.com/event/oceanside-generals-workout/2027-11-29/
CATEGORIES:Open Gym
ATTACH;FMTTYPE=image/jpeg:https://blackrock-kadence.gotbdev.com/wp-content/uploads/2025/11/SS200441-scaled-1-scaled.jpg
END:VEVENT
BEGIN:VEVENT
DTSTART;TZID=America/Vancouver:20271206T190000
DTEND;TZID=America/Vancouver:20271206T200000
DTSTAMP:20260423T074014
CREATED:20251001T204116Z
LAST-MODIFIED:20260221T002524Z
UID:10018209-1828119600-1828123200@blackrock-kadence.gotbdev.com
SUMMARY:Oceanside Generals Workout
DESCRIPTION:The Oceanside Generals train with us privately for a high-energy workout focused on building strength\, stamina\, and conditioning. This class combines athletic drills\, functional movements\, and team-style training to improve overall fitness and performance. This class helps support their path to success and championships – closed to the public.
URL:https://blackrock-kadence.gotbdev.com/event/oceanside-generals-workout/2027-12-06/
CATEGORIES:Open Gym
ATTACH;FMTTYPE=image/jpeg:https://blackrock-kadence.gotbdev.com/wp-content/uploads/2025/11/SS200441-scaled-1-scaled.jpg
END:VEVENT
BEGIN:VEVENT
DTSTART;TZID=America/Vancouver:20271213T190000
DTEND;TZID=America/Vancouver:20271213T200000
DTSTAMP:20260423T074014
CREATED:20251001T204116Z
LAST-MODIFIED:20260221T002524Z
UID:10018210-1828724400-1828728000@blackrock-kadence.gotbdev.com
SUMMARY:Oceanside Generals Workout
DESCRIPTION:The Oceanside Generals train with us privately for a high-energy workout focused on building strength\, stamina\, and conditioning. This class combines athletic drills\, functional movements\, and team-style training to improve overall fitness and performance. This class helps support their path to success and championships – closed to the public.
URL:https://blackrock-kadence.gotbdev.com/event/oceanside-generals-workout/2027-12-13/
CATEGORIES:Open Gym
ATTACH;FMTTYPE=image/jpeg:https://blackrock-kadence.gotbdev.com/wp-content/uploads/2025/11/SS200441-scaled-1-scaled.jpg
END:VEVENT
BEGIN:VEVENT
DTSTART;TZID=America/Vancouver:20271220T190000
DTEND;TZID=America/Vancouver:20271220T200000
DTSTAMP:20260423T074014
CREATED:20251001T204116Z
LAST-MODIFIED:20260221T002524Z
UID:10018211-1829329200-1829332800@blackrock-kadence.gotbdev.com
SUMMARY:Oceanside Generals Workout
DESCRIPTION:The Oceanside Generals train with us privately for a high-energy workout focused on building strength\, stamina\, and conditioning. This class combines athletic drills\, functional movements\, and team-style training to improve overall fitness and performance. This class helps support their path to success and championships – closed to the public.
URL:https://blackrock-kadence.gotbdev.com/event/oceanside-generals-workout/2027-12-20/
CATEGORIES:Open Gym
ATTACH;FMTTYPE=image/jpeg:https://blackrock-kadence.gotbdev.com/wp-content/uploads/2025/11/SS200441-scaled-1-scaled.jpg
END:VEVENT
BEGIN:VEVENT
DTSTART;TZID=America/Vancouver:20271227T190000
DTEND;TZID=America/Vancouver:20271227T200000
DTSTAMP:20260423T074014
CREATED:20251001T204116Z
LAST-MODIFIED:20260221T002524Z
UID:10018212-1829934000-1829937600@blackrock-kadence.gotbdev.com
SUMMARY:Oceanside Generals Workout
DESCRIPTION:The Oceanside Generals train with us privately for a high-energy workout focused on building strength\, stamina\, and conditioning. This class combines athletic drills\, functional movements\, and team-style training to improve overall fitness and performance. This class helps support their path to success and championships – closed to the public.
URL:https://blackrock-kadence.gotbdev.com/event/oceanside-generals-workout/2027-12-27/
CATEGORIES:Open Gym
ATTACH;FMTTYPE=image/jpeg:https://blackrock-kadence.gotbdev.com/wp-content/uploads/2025/11/SS200441-scaled-1-scaled.jpg
END:VEVENT
BEGIN:VEVENT
DTSTART;TZID=America/Vancouver:20280103T190000
DTEND;TZID=America/Vancouver:20280103T200000
DTSTAMP:20260423T074014
CREATED:20251001T204116Z
LAST-MODIFIED:20260221T002524Z
UID:10018213-1830538800-1830542400@blackrock-kadence.gotbdev.com
SUMMARY:Oceanside Generals Workout
DESCRIPTION:The Oceanside Generals train with us privately for a high-energy workout focused on building strength\, stamina\, and conditioning. This class combines athletic drills\, functional movements\, and team-style training to improve overall fitness and performance. This class helps support their path to success and championships – closed to the public.
URL:https://blackrock-kadence.gotbdev.com/event/oceanside-generals-workout/2028-01-03/
CATEGORIES:Open Gym
ATTACH;FMTTYPE=image/jpeg:https://blackrock-kadence.gotbdev.com/wp-content/uploads/2025/11/SS200441-scaled-1-scaled.jpg
END:VEVENT
BEGIN:VEVENT
DTSTART;TZID=America/Vancouver:20280110T190000
DTEND;TZID=America/Vancouver:20280110T200000
DTSTAMP:20260423T074014
CREATED:20251001T204116Z
LAST-MODIFIED:20260221T002524Z
UID:10018214-1831143600-1831147200@blackrock-kadence.gotbdev.com
SUMMARY:Oceanside Generals Workout
DESCRIPTION:The Oceanside Generals train with us privately for a high-energy workout focused on building strength\, stamina\, and conditioning. This class combines athletic drills\, functional movements\, and team-style training to improve overall fitness and performance. This class helps support their path to success and championships – closed to the public.
URL:https://blackrock-kadence.gotbdev.com/event/oceanside-generals-workout/2028-01-10/
CATEGORIES:Open Gym
ATTACH;FMTTYPE=image/jpeg:https://blackrock-kadence.gotbdev.com/wp-content/uploads/2025/11/SS200441-scaled-1-scaled.jpg
END:VEVENT
BEGIN:VEVENT
DTSTART;TZID=America/Vancouver:20280117T190000
DTEND;TZID=America/Vancouver:20280117T200000
DTSTAMP:20260423T074014
CREATED:20251001T204116Z
LAST-MODIFIED:20260221T002524Z
UID:10018215-1831748400-1831752000@blackrock-kadence.gotbdev.com
SUMMARY:Oceanside Generals Workout
DESCRIPTION:The Oceanside Generals train with us privately for a high-energy workout focused on building strength\, stamina\, and conditioning. This class combines athletic drills\, functional movements\, and team-style training to improve overall fitness and performance. This class helps support their path to success and championships – closed to the public.
URL:https://blackrock-kadence.gotbdev.com/event/oceanside-generals-workout/2028-01-17/
CATEGORIES:Open Gym
ATTACH;FMTTYPE=image/jpeg:https://blackrock-kadence.gotbdev.com/wp-content/uploads/2025/11/SS200441-scaled-1-scaled.jpg
END:VEVENT
BEGIN:VEVENT
DTSTART;TZID=America/Vancouver:20280124T190000
DTEND;TZID=America/Vancouver:20280124T200000
DTSTAMP:20260423T074014
CREATED:20251001T204116Z
LAST-MODIFIED:20260221T002524Z
UID:10018216-1832353200-1832356800@blackrock-kadence.gotbdev.com
SUMMARY:Oceanside Generals Workout
DESCRIPTION:The Oceanside Generals train with us privately for a high-energy workout focused on building strength\, stamina\, and conditioning. This class combines athletic drills\, functional movements\, and team-style training to improve overall fitness and performance. This class helps support their path to success and championships – closed to the public.
URL:https://blackrock-kadence.gotbdev.com/event/oceanside-generals-workout/2028-01-24/
CATEGORIES:Open Gym
ATTACH;FMTTYPE=image/jpeg:https://blackrock-kadence.gotbdev.com/wp-content/uploads/2025/11/SS200441-scaled-1-scaled.jpg
END:VEVENT
BEGIN:VEVENT
DTSTART;TZID=America/Vancouver:20280131T190000
DTEND;TZID=America/Vancouver:20280131T200000
DTSTAMP:20260423T074014
CREATED:20251001T204116Z
LAST-MODIFIED:20260221T002524Z
UID:10018217-1832958000-1832961600@blackrock-kadence.gotbdev.com
SUMMARY:Oceanside Generals Workout
DESCRIPTION:The Oceanside Generals train with us privately for a high-energy workout focused on building strength\, stamina\, and conditioning. This class combines athletic drills\, functional movements\, and team-style training to improve overall fitness and performance. This class helps support their path to success and championships – closed to the public.
URL:https://blackrock-kadence.gotbdev.com/event/oceanside-generals-workout/2028-01-31/
CATEGORIES:Open Gym
ATTACH;FMTTYPE=image/jpeg:https://blackrock-kadence.gotbdev.com/wp-content/uploads/2025/11/SS200441-scaled-1-scaled.jpg
END:VEVENT
BEGIN:VEVENT
DTSTART;TZID=America/Vancouver:20280207T190000
DTEND;TZID=America/Vancouver:20280207T200000
DTSTAMP:20260423T074014
CREATED:20251001T204116Z
LAST-MODIFIED:20260221T002524Z
UID:10018218-1833562800-1833566400@blackrock-kadence.gotbdev.com
SUMMARY:Oceanside Generals Workout
DESCRIPTION:The Oceanside Generals train with us privately for a high-energy workout focused on building strength\, stamina\, and conditioning. This class combines athletic drills\, functional movements\, and team-style training to improve overall fitness and performance. This class helps support their path to success and championships – closed to the public.
URL:https://blackrock-kadence.gotbdev.com/event/oceanside-generals-workout/2028-02-07/
CATEGORIES:Open Gym
ATTACH;FMTTYPE=image/jpeg:https://blackrock-kadence.gotbdev.com/wp-content/uploads/2025/11/SS200441-scaled-1-scaled.jpg
END:VEVENT
BEGIN:VEVENT
DTSTART;TZID=America/Vancouver:20280214T190000
DTEND;TZID=America/Vancouver:20280214T200000
DTSTAMP:20260423T074014
CREATED:20251001T204116Z
LAST-MODIFIED:20260221T002524Z
UID:10018219-1834167600-1834171200@blackrock-kadence.gotbdev.com
SUMMARY:Oceanside Generals Workout
DESCRIPTION:The Oceanside Generals train with us privately for a high-energy workout focused on building strength\, stamina\, and conditioning. This class combines athletic drills\, functional movements\, and team-style training to improve overall fitness and performance. This class helps support their path to success and championships – closed to the public.
URL:https://blackrock-kadence.gotbdev.com/event/oceanside-generals-workout/2028-02-14/
CATEGORIES:Open Gym
ATTACH;FMTTYPE=image/jpeg:https://blackrock-kadence.gotbdev.com/wp-content/uploads/2025/11/SS200441-scaled-1-scaled.jpg
END:VEVENT
BEGIN:VEVENT
DTSTART;TZID=America/Vancouver:20280221T190000
DTEND;TZID=America/Vancouver:20280221T200000
DTSTAMP:20260423T074014
CREATED:20251001T204116Z
LAST-MODIFIED:20260221T002524Z
UID:10018220-1834772400-1834776000@blackrock-kadence.gotbdev.com
SUMMARY:Oceanside Generals Workout
DESCRIPTION:The Oceanside Generals train with us privately for a high-energy workout focused on building strength\, stamina\, and conditioning. This class combines athletic drills\, functional movements\, and team-style training to improve overall fitness and performance. This class helps support their path to success and championships – closed to the public.
URL:https://blackrock-kadence.gotbdev.com/event/oceanside-generals-workout/2028-02-21/
CATEGORIES:Open Gym
ATTACH;FMTTYPE=image/jpeg:https://blackrock-kadence.gotbdev.com/wp-content/uploads/2025/11/SS200441-scaled-1-scaled.jpg
END:VEVENT
BEGIN:VEVENT
DTSTART;TZID=America/Vancouver:20280228T190000
DTEND;TZID=America/Vancouver:20280228T200000
DTSTAMP:20260423T074014
CREATED:20251001T204116Z
LAST-MODIFIED:20260221T002524Z
UID:10018221-1835377200-1835380800@blackrock-kadence.gotbdev.com
SUMMARY:Oceanside Generals Workout
DESCRIPTION:The Oceanside Generals train with us privately for a high-energy workout focused on building strength\, stamina\, and conditioning. This class combines athletic drills\, functional movements\, and team-style training to improve overall fitness and performance. This class helps support their path to success and championships – closed to the public.
URL:https://blackrock-kadence.gotbdev.com/event/oceanside-generals-workout/2028-02-28/
CATEGORIES:Open Gym
ATTACH;FMTTYPE=image/jpeg:https://blackrock-kadence.gotbdev.com/wp-content/uploads/2025/11/SS200441-scaled-1-scaled.jpg
END:VEVENT
BEGIN:VEVENT
DTSTART;TZID=America/Vancouver:20280306T190000
DTEND;TZID=America/Vancouver:20280306T200000
DTSTAMP:20260423T074014
CREATED:20251001T204116Z
LAST-MODIFIED:20260221T002524Z
UID:10018222-1835982000-1835985600@blackrock-kadence.gotbdev.com
SUMMARY:Oceanside Generals Workout
DESCRIPTION:The Oceanside Generals train with us privately for a high-energy workout focused on building strength\, stamina\, and conditioning. This class combines athletic drills\, functional movements\, and team-style training to improve overall fitness and performance. This class helps support their path to success and championships – closed to the public.
URL:https://blackrock-kadence.gotbdev.com/event/oceanside-generals-workout/2028-03-06/
CATEGORIES:Open Gym
ATTACH;FMTTYPE=image/jpeg:https://blackrock-kadence.gotbdev.com/wp-content/uploads/2025/11/SS200441-scaled-1-scaled.jpg
END:VEVENT
BEGIN:VEVENT
DTSTART;TZID=America/Vancouver:20280313T190000
DTEND;TZID=America/Vancouver:20280313T200000
DTSTAMP:20260423T074014
CREATED:20251001T204116Z
LAST-MODIFIED:20260221T002524Z
UID:10018223-1836586800-1836590400@blackrock-kadence.gotbdev.com
SUMMARY:Oceanside Generals Workout
DESCRIPTION:The Oceanside Generals train with us privately for a high-energy workout focused on building strength\, stamina\, and conditioning. This class combines athletic drills\, functional movements\, and team-style training to improve overall fitness and performance. This class helps support their path to success and championships – closed to the public.
URL:https://blackrock-kadence.gotbdev.com/event/oceanside-generals-workout/2028-03-13/
CATEGORIES:Open Gym
ATTACH;FMTTYPE=image/jpeg:https://blackrock-kadence.gotbdev.com/wp-content/uploads/2025/11/SS200441-scaled-1-scaled.jpg
END:VEVENT
BEGIN:VEVENT
DTSTART;TZID=America/Vancouver:20280320T190000
DTEND;TZID=America/Vancouver:20280320T200000
DTSTAMP:20260423T074014
CREATED:20251001T204116Z
LAST-MODIFIED:20260221T002524Z
UID:10018224-1837191600-1837195200@blackrock-kadence.gotbdev.com
SUMMARY:Oceanside Generals Workout
DESCRIPTION:The Oceanside Generals train with us privately for a high-energy workout focused on building strength\, stamina\, and conditioning. This class combines athletic drills\, functional movements\, and team-style training to improve overall fitness and performance. This class helps support their path to success and championships – closed to the public.
URL:https://blackrock-kadence.gotbdev.com/event/oceanside-generals-workout/2028-03-20/
CATEGORIES:Open Gym
ATTACH;FMTTYPE=image/jpeg:https://blackrock-kadence.gotbdev.com/wp-content/uploads/2025/11/SS200441-scaled-1-scaled.jpg
END:VEVENT
BEGIN:VEVENT
DTSTART;TZID=America/Vancouver:20280327T190000
DTEND;TZID=America/Vancouver:20280327T200000
DTSTAMP:20260423T074014
CREATED:20251001T204116Z
LAST-MODIFIED:20260221T002524Z
UID:10018225-1837796400-1837800000@blackrock-kadence.gotbdev.com
SUMMARY:Oceanside Generals Workout
DESCRIPTION:The Oceanside Generals train with us privately for a high-energy workout focused on building strength\, stamina\, and conditioning. This class combines athletic drills\, functional movements\, and team-style training to improve overall fitness and performance. This class helps support their path to success and championships – closed to the public.
URL:https://blackrock-kadence.gotbdev.com/event/oceanside-generals-workout/2028-03-27/
CATEGORIES:Open Gym
ATTACH;FMTTYPE=image/jpeg:https://blackrock-kadence.gotbdev.com/wp-content/uploads/2025/11/SS200441-scaled-1-scaled.jpg
END:VEVENT
BEGIN:VEVENT
DTSTART;TZID=America/Vancouver:20280403T190000
DTEND;TZID=America/Vancouver:20280403T200000
DTSTAMP:20260423T074014
CREATED:20251001T204116Z
LAST-MODIFIED:20260221T002524Z
UID:10018226-1838401200-1838404800@blackrock-kadence.gotbdev.com
SUMMARY:Oceanside Generals Workout
DESCRIPTION:The Oceanside Generals train with us privately for a high-energy workout focused on building strength\, stamina\, and conditioning. This class combines athletic drills\, functional movements\, and team-style training to improve overall fitness and performance. This class helps support their path to success and championships – closed to the public.
URL:https://blackrock-kadence.gotbdev.com/event/oceanside-generals-workout/2028-04-03/
CATEGORIES:Open Gym
ATTACH;FMTTYPE=image/jpeg:https://blackrock-kadence.gotbdev.com/wp-content/uploads/2025/11/SS200441-scaled-1-scaled.jpg
END:VEVENT
END:VCALENDAR