BEGIN:VCALENDAR
VERSION:2.0
PRODID:-// - ECPv6.15.20//NONSGML v1.0//EN
CALSCALE:GREGORIAN
METHOD:PUBLISH
X-ORIGINAL-URL:https://blackrock-kadence.gotbdev.com
X-WR-CALDESC:Events for 
REFRESH-INTERVAL;VALUE=DURATION:PT1H
X-Robots-Tag:noindex
X-PUBLISHED-TTL:PT1H
BEGIN:VTIMEZONE
TZID:America/Vancouver
BEGIN:DAYLIGHT
TZOFFSETFROM:-0800
TZOFFSETTO:-0700
TZNAME:PDT
DTSTART:20250309T100000
END:DAYLIGHT
BEGIN:STANDARD
TZOFFSETFROM:-0700
TZOFFSETTO:-0800
TZNAME:PST
DTSTART:20251102T090000
END:STANDARD
BEGIN:DAYLIGHT
TZOFFSETFROM:-0800
TZOFFSETTO:-0700
TZNAME:PDT
DTSTART:20260308T100000
END:DAYLIGHT
BEGIN:STANDARD
TZOFFSETFROM:-0700
TZOFFSETTO:-0800
TZNAME:PST
DTSTART:20261101T090000
END:STANDARD
BEGIN:DAYLIGHT
TZOFFSETFROM:-0800
TZOFFSETTO:-0700
TZNAME:PDT
DTSTART:20270314T100000
END:DAYLIGHT
BEGIN:STANDARD
TZOFFSETFROM:-0700
TZOFFSETTO:-0800
TZNAME:PST
DTSTART:20271107T090000
END:STANDARD
END:VTIMEZONE
BEGIN:VEVENT
DTSTART;TZID=America/Vancouver:20260426T110000
DTEND;TZID=America/Vancouver:20260426T120000
DTSTAMP:20260420T222404
CREATED:20241102T184143Z
LAST-MODIFIED:20260221T003109Z
UID:10007889-1777201200-1777204800@blackrock-kadence.gotbdev.com
SUMMARY:Mezz: Adult Wrestling (Free to Members)
DESCRIPTION:Experience Adult Wrestling at Black Rock! A dedicated space to develop your strength\, endurance\, and wrestling technique. This is a no-Jiu-Jitsu\, no-striking program\, offering a challenging and rewarding workout for all skill levels. Whether you’re a beginner or seasoned wrestler\, Black Rock has you covered.
URL:https://blackrock-kadence.gotbdev.com/event/adult-wrestling-2/2026-04-26/
CATEGORIES:MMA
ATTACH;FMTTYPE=image/jpeg:https://blackrock-kadence.gotbdev.com/wp-content/uploads/2024/09/adult-mma-27.jpg
END:VEVENT
BEGIN:VEVENT
DTSTART;TZID=America/Vancouver:20260503T110000
DTEND;TZID=America/Vancouver:20260503T120000
DTSTAMP:20260420T222404
CREATED:20241102T184143Z
LAST-MODIFIED:20260221T003109Z
UID:10007890-1777806000-1777809600@blackrock-kadence.gotbdev.com
SUMMARY:Mezz: Adult Wrestling (Free to Members)
DESCRIPTION:Experience Adult Wrestling at Black Rock! A dedicated space to develop your strength\, endurance\, and wrestling technique. This is a no-Jiu-Jitsu\, no-striking program\, offering a challenging and rewarding workout for all skill levels. Whether you’re a beginner or seasoned wrestler\, Black Rock has you covered.
URL:https://blackrock-kadence.gotbdev.com/event/adult-wrestling-2/2026-05-03/
CATEGORIES:MMA
ATTACH;FMTTYPE=image/jpeg:https://blackrock-kadence.gotbdev.com/wp-content/uploads/2024/09/adult-mma-27.jpg
END:VEVENT
BEGIN:VEVENT
DTSTART;TZID=America/Vancouver:20260510T110000
DTEND;TZID=America/Vancouver:20260510T120000
DTSTAMP:20260420T222404
CREATED:20241102T184143Z
LAST-MODIFIED:20260221T003109Z
UID:10007891-1778410800-1778414400@blackrock-kadence.gotbdev.com
SUMMARY:Mezz: Adult Wrestling (Free to Members)
DESCRIPTION:Experience Adult Wrestling at Black Rock! A dedicated space to develop your strength\, endurance\, and wrestling technique. This is a no-Jiu-Jitsu\, no-striking program\, offering a challenging and rewarding workout for all skill levels. Whether you’re a beginner or seasoned wrestler\, Black Rock has you covered.
URL:https://blackrock-kadence.gotbdev.com/event/adult-wrestling-2/2026-05-10/
CATEGORIES:MMA
ATTACH;FMTTYPE=image/jpeg:https://blackrock-kadence.gotbdev.com/wp-content/uploads/2024/09/adult-mma-27.jpg
END:VEVENT
BEGIN:VEVENT
DTSTART;TZID=America/Vancouver:20260517T110000
DTEND;TZID=America/Vancouver:20260517T120000
DTSTAMP:20260420T222404
CREATED:20241102T184143Z
LAST-MODIFIED:20260221T003109Z
UID:10007892-1779015600-1779019200@blackrock-kadence.gotbdev.com
SUMMARY:Mezz: Adult Wrestling (Free to Members)
DESCRIPTION:Experience Adult Wrestling at Black Rock! A dedicated space to develop your strength\, endurance\, and wrestling technique. This is a no-Jiu-Jitsu\, no-striking program\, offering a challenging and rewarding workout for all skill levels. Whether you’re a beginner or seasoned wrestler\, Black Rock has you covered.
URL:https://blackrock-kadence.gotbdev.com/event/adult-wrestling-2/2026-05-17/
CATEGORIES:MMA
ATTACH;FMTTYPE=image/jpeg:https://blackrock-kadence.gotbdev.com/wp-content/uploads/2024/09/adult-mma-27.jpg
END:VEVENT
BEGIN:VEVENT
DTSTART;TZID=America/Vancouver:20260524T110000
DTEND;TZID=America/Vancouver:20260524T120000
DTSTAMP:20260420T222404
CREATED:20241102T184143Z
LAST-MODIFIED:20260221T003109Z
UID:10007893-1779620400-1779624000@blackrock-kadence.gotbdev.com
SUMMARY:Mezz: Adult Wrestling (Free to Members)
DESCRIPTION:Experience Adult Wrestling at Black Rock! A dedicated space to develop your strength\, endurance\, and wrestling technique. This is a no-Jiu-Jitsu\, no-striking program\, offering a challenging and rewarding workout for all skill levels. Whether you’re a beginner or seasoned wrestler\, Black Rock has you covered.
URL:https://blackrock-kadence.gotbdev.com/event/adult-wrestling-2/2026-05-24/
CATEGORIES:MMA
ATTACH;FMTTYPE=image/jpeg:https://blackrock-kadence.gotbdev.com/wp-content/uploads/2024/09/adult-mma-27.jpg
END:VEVENT
BEGIN:VEVENT
DTSTART;TZID=America/Vancouver:20260531T110000
DTEND;TZID=America/Vancouver:20260531T120000
DTSTAMP:20260420T222404
CREATED:20241102T184143Z
LAST-MODIFIED:20260221T003109Z
UID:10007894-1780225200-1780228800@blackrock-kadence.gotbdev.com
SUMMARY:Mezz: Adult Wrestling (Free to Members)
DESCRIPTION:Experience Adult Wrestling at Black Rock! A dedicated space to develop your strength\, endurance\, and wrestling technique. This is a no-Jiu-Jitsu\, no-striking program\, offering a challenging and rewarding workout for all skill levels. Whether you’re a beginner or seasoned wrestler\, Black Rock has you covered.
URL:https://blackrock-kadence.gotbdev.com/event/adult-wrestling-2/2026-05-31/
CATEGORIES:MMA
ATTACH;FMTTYPE=image/jpeg:https://blackrock-kadence.gotbdev.com/wp-content/uploads/2024/09/adult-mma-27.jpg
END:VEVENT
BEGIN:VEVENT
DTSTART;TZID=America/Vancouver:20260607T110000
DTEND;TZID=America/Vancouver:20260607T120000
DTSTAMP:20260420T222404
CREATED:20241102T184143Z
LAST-MODIFIED:20260221T003109Z
UID:10007895-1780830000-1780833600@blackrock-kadence.gotbdev.com
SUMMARY:Mezz: Adult Wrestling (Free to Members)
DESCRIPTION:Experience Adult Wrestling at Black Rock! A dedicated space to develop your strength\, endurance\, and wrestling technique. This is a no-Jiu-Jitsu\, no-striking program\, offering a challenging and rewarding workout for all skill levels. Whether you’re a beginner or seasoned wrestler\, Black Rock has you covered.
URL:https://blackrock-kadence.gotbdev.com/event/adult-wrestling-2/2026-06-07/
CATEGORIES:MMA
ATTACH;FMTTYPE=image/jpeg:https://blackrock-kadence.gotbdev.com/wp-content/uploads/2024/09/adult-mma-27.jpg
END:VEVENT
BEGIN:VEVENT
DTSTART;TZID=America/Vancouver:20260614T110000
DTEND;TZID=America/Vancouver:20260614T120000
DTSTAMP:20260420T222404
CREATED:20241102T184143Z
LAST-MODIFIED:20260221T003109Z
UID:10007896-1781434800-1781438400@blackrock-kadence.gotbdev.com
SUMMARY:Mezz: Adult Wrestling (Free to Members)
DESCRIPTION:Experience Adult Wrestling at Black Rock! A dedicated space to develop your strength\, endurance\, and wrestling technique. This is a no-Jiu-Jitsu\, no-striking program\, offering a challenging and rewarding workout for all skill levels. Whether you’re a beginner or seasoned wrestler\, Black Rock has you covered.
URL:https://blackrock-kadence.gotbdev.com/event/adult-wrestling-2/2026-06-14/
CATEGORIES:MMA
ATTACH;FMTTYPE=image/jpeg:https://blackrock-kadence.gotbdev.com/wp-content/uploads/2024/09/adult-mma-27.jpg
END:VEVENT
BEGIN:VEVENT
DTSTART;TZID=America/Vancouver:20260621T110000
DTEND;TZID=America/Vancouver:20260621T120000
DTSTAMP:20260420T222404
CREATED:20241102T184143Z
LAST-MODIFIED:20260221T003109Z
UID:10007897-1782039600-1782043200@blackrock-kadence.gotbdev.com
SUMMARY:Mezz: Adult Wrestling (Free to Members)
DESCRIPTION:Experience Adult Wrestling at Black Rock! A dedicated space to develop your strength\, endurance\, and wrestling technique. This is a no-Jiu-Jitsu\, no-striking program\, offering a challenging and rewarding workout for all skill levels. Whether you’re a beginner or seasoned wrestler\, Black Rock has you covered.
URL:https://blackrock-kadence.gotbdev.com/event/adult-wrestling-2/2026-06-21/
CATEGORIES:MMA
ATTACH;FMTTYPE=image/jpeg:https://blackrock-kadence.gotbdev.com/wp-content/uploads/2024/09/adult-mma-27.jpg
END:VEVENT
BEGIN:VEVENT
DTSTART;TZID=America/Vancouver:20260628T110000
DTEND;TZID=America/Vancouver:20260628T120000
DTSTAMP:20260420T222404
CREATED:20241102T184143Z
LAST-MODIFIED:20260221T003109Z
UID:10007898-1782644400-1782648000@blackrock-kadence.gotbdev.com
SUMMARY:Mezz: Adult Wrestling (Free to Members)
DESCRIPTION:Experience Adult Wrestling at Black Rock! A dedicated space to develop your strength\, endurance\, and wrestling technique. This is a no-Jiu-Jitsu\, no-striking program\, offering a challenging and rewarding workout for all skill levels. Whether you’re a beginner or seasoned wrestler\, Black Rock has you covered.
URL:https://blackrock-kadence.gotbdev.com/event/adult-wrestling-2/2026-06-28/
CATEGORIES:MMA
ATTACH;FMTTYPE=image/jpeg:https://blackrock-kadence.gotbdev.com/wp-content/uploads/2024/09/adult-mma-27.jpg
END:VEVENT
BEGIN:VEVENT
DTSTART;TZID=America/Vancouver:20260705T110000
DTEND;TZID=America/Vancouver:20260705T120000
DTSTAMP:20260420T222404
CREATED:20241102T184143Z
LAST-MODIFIED:20260221T003109Z
UID:10007899-1783249200-1783252800@blackrock-kadence.gotbdev.com
SUMMARY:Mezz: Adult Wrestling (Free to Members)
DESCRIPTION:Experience Adult Wrestling at Black Rock! A dedicated space to develop your strength\, endurance\, and wrestling technique. This is a no-Jiu-Jitsu\, no-striking program\, offering a challenging and rewarding workout for all skill levels. Whether you’re a beginner or seasoned wrestler\, Black Rock has you covered.
URL:https://blackrock-kadence.gotbdev.com/event/adult-wrestling-2/2026-07-05/
CATEGORIES:MMA
ATTACH;FMTTYPE=image/jpeg:https://blackrock-kadence.gotbdev.com/wp-content/uploads/2024/09/adult-mma-27.jpg
END:VEVENT
BEGIN:VEVENT
DTSTART;TZID=America/Vancouver:20260712T110000
DTEND;TZID=America/Vancouver:20260712T120000
DTSTAMP:20260420T222404
CREATED:20241102T184143Z
LAST-MODIFIED:20260221T003109Z
UID:10007900-1783854000-1783857600@blackrock-kadence.gotbdev.com
SUMMARY:Mezz: Adult Wrestling (Free to Members)
DESCRIPTION:Experience Adult Wrestling at Black Rock! A dedicated space to develop your strength\, endurance\, and wrestling technique. This is a no-Jiu-Jitsu\, no-striking program\, offering a challenging and rewarding workout for all skill levels. Whether you’re a beginner or seasoned wrestler\, Black Rock has you covered.
URL:https://blackrock-kadence.gotbdev.com/event/adult-wrestling-2/2026-07-12/
CATEGORIES:MMA
ATTACH;FMTTYPE=image/jpeg:https://blackrock-kadence.gotbdev.com/wp-content/uploads/2024/09/adult-mma-27.jpg
END:VEVENT
BEGIN:VEVENT
DTSTART;TZID=America/Vancouver:20260719T110000
DTEND;TZID=America/Vancouver:20260719T120000
DTSTAMP:20260420T222404
CREATED:20241102T184143Z
LAST-MODIFIED:20260221T003109Z
UID:10007901-1784458800-1784462400@blackrock-kadence.gotbdev.com
SUMMARY:Mezz: Adult Wrestling (Free to Members)
DESCRIPTION:Experience Adult Wrestling at Black Rock! A dedicated space to develop your strength\, endurance\, and wrestling technique. This is a no-Jiu-Jitsu\, no-striking program\, offering a challenging and rewarding workout for all skill levels. Whether you’re a beginner or seasoned wrestler\, Black Rock has you covered.
URL:https://blackrock-kadence.gotbdev.com/event/adult-wrestling-2/2026-07-19/
CATEGORIES:MMA
ATTACH;FMTTYPE=image/jpeg:https://blackrock-kadence.gotbdev.com/wp-content/uploads/2024/09/adult-mma-27.jpg
END:VEVENT
BEGIN:VEVENT
DTSTART;TZID=America/Vancouver:20260726T110000
DTEND;TZID=America/Vancouver:20260726T120000
DTSTAMP:20260420T222404
CREATED:20241102T184143Z
LAST-MODIFIED:20260221T003109Z
UID:10007902-1785063600-1785067200@blackrock-kadence.gotbdev.com
SUMMARY:Mezz: Adult Wrestling (Free to Members)
DESCRIPTION:Experience Adult Wrestling at Black Rock! A dedicated space to develop your strength\, endurance\, and wrestling technique. This is a no-Jiu-Jitsu\, no-striking program\, offering a challenging and rewarding workout for all skill levels. Whether you’re a beginner or seasoned wrestler\, Black Rock has you covered.
URL:https://blackrock-kadence.gotbdev.com/event/adult-wrestling-2/2026-07-26/
CATEGORIES:MMA
ATTACH;FMTTYPE=image/jpeg:https://blackrock-kadence.gotbdev.com/wp-content/uploads/2024/09/adult-mma-27.jpg
END:VEVENT
BEGIN:VEVENT
DTSTART;TZID=America/Vancouver:20260802T110000
DTEND;TZID=America/Vancouver:20260802T120000
DTSTAMP:20260420T222404
CREATED:20241102T184143Z
LAST-MODIFIED:20260221T003109Z
UID:10007903-1785668400-1785672000@blackrock-kadence.gotbdev.com
SUMMARY:Mezz: Adult Wrestling (Free to Members)
DESCRIPTION:Experience Adult Wrestling at Black Rock! A dedicated space to develop your strength\, endurance\, and wrestling technique. This is a no-Jiu-Jitsu\, no-striking program\, offering a challenging and rewarding workout for all skill levels. Whether you’re a beginner or seasoned wrestler\, Black Rock has you covered.
URL:https://blackrock-kadence.gotbdev.com/event/adult-wrestling-2/2026-08-02/
CATEGORIES:MMA
ATTACH;FMTTYPE=image/jpeg:https://blackrock-kadence.gotbdev.com/wp-content/uploads/2024/09/adult-mma-27.jpg
END:VEVENT
BEGIN:VEVENT
DTSTART;TZID=America/Vancouver:20260809T110000
DTEND;TZID=America/Vancouver:20260809T120000
DTSTAMP:20260420T222404
CREATED:20241102T184143Z
LAST-MODIFIED:20260221T003109Z
UID:10007904-1786273200-1786276800@blackrock-kadence.gotbdev.com
SUMMARY:Mezz: Adult Wrestling (Free to Members)
DESCRIPTION:Experience Adult Wrestling at Black Rock! A dedicated space to develop your strength\, endurance\, and wrestling technique. This is a no-Jiu-Jitsu\, no-striking program\, offering a challenging and rewarding workout for all skill levels. Whether you’re a beginner or seasoned wrestler\, Black Rock has you covered.
URL:https://blackrock-kadence.gotbdev.com/event/adult-wrestling-2/2026-08-09/
CATEGORIES:MMA
ATTACH;FMTTYPE=image/jpeg:https://blackrock-kadence.gotbdev.com/wp-content/uploads/2024/09/adult-mma-27.jpg
END:VEVENT
BEGIN:VEVENT
DTSTART;TZID=America/Vancouver:20260816T110000
DTEND;TZID=America/Vancouver:20260816T120000
DTSTAMP:20260420T222404
CREATED:20241102T184143Z
LAST-MODIFIED:20260221T003109Z
UID:10007905-1786878000-1786881600@blackrock-kadence.gotbdev.com
SUMMARY:Mezz: Adult Wrestling (Free to Members)
DESCRIPTION:Experience Adult Wrestling at Black Rock! A dedicated space to develop your strength\, endurance\, and wrestling technique. This is a no-Jiu-Jitsu\, no-striking program\, offering a challenging and rewarding workout for all skill levels. Whether you’re a beginner or seasoned wrestler\, Black Rock has you covered.
URL:https://blackrock-kadence.gotbdev.com/event/adult-wrestling-2/2026-08-16/
CATEGORIES:MMA
ATTACH;FMTTYPE=image/jpeg:https://blackrock-kadence.gotbdev.com/wp-content/uploads/2024/09/adult-mma-27.jpg
END:VEVENT
BEGIN:VEVENT
DTSTART;TZID=America/Vancouver:20260823T110000
DTEND;TZID=America/Vancouver:20260823T120000
DTSTAMP:20260420T222404
CREATED:20241102T184143Z
LAST-MODIFIED:20260221T003109Z
UID:10007906-1787482800-1787486400@blackrock-kadence.gotbdev.com
SUMMARY:Mezz: Adult Wrestling (Free to Members)
DESCRIPTION:Experience Adult Wrestling at Black Rock! A dedicated space to develop your strength\, endurance\, and wrestling technique. This is a no-Jiu-Jitsu\, no-striking program\, offering a challenging and rewarding workout for all skill levels. Whether you’re a beginner or seasoned wrestler\, Black Rock has you covered.
URL:https://blackrock-kadence.gotbdev.com/event/adult-wrestling-2/2026-08-23/
CATEGORIES:MMA
ATTACH;FMTTYPE=image/jpeg:https://blackrock-kadence.gotbdev.com/wp-content/uploads/2024/09/adult-mma-27.jpg
END:VEVENT
BEGIN:VEVENT
DTSTART;TZID=America/Vancouver:20260830T110000
DTEND;TZID=America/Vancouver:20260830T120000
DTSTAMP:20260420T222404
CREATED:20241102T184143Z
LAST-MODIFIED:20260221T003109Z
UID:10007907-1788087600-1788091200@blackrock-kadence.gotbdev.com
SUMMARY:Mezz: Adult Wrestling (Free to Members)
DESCRIPTION:Experience Adult Wrestling at Black Rock! A dedicated space to develop your strength\, endurance\, and wrestling technique. This is a no-Jiu-Jitsu\, no-striking program\, offering a challenging and rewarding workout for all skill levels. Whether you’re a beginner or seasoned wrestler\, Black Rock has you covered.
URL:https://blackrock-kadence.gotbdev.com/event/adult-wrestling-2/2026-08-30/
CATEGORIES:MMA
ATTACH;FMTTYPE=image/jpeg:https://blackrock-kadence.gotbdev.com/wp-content/uploads/2024/09/adult-mma-27.jpg
END:VEVENT
BEGIN:VEVENT
DTSTART;TZID=America/Vancouver:20260906T110000
DTEND;TZID=America/Vancouver:20260906T120000
DTSTAMP:20260420T222404
CREATED:20241102T184143Z
LAST-MODIFIED:20260221T003109Z
UID:10007908-1788692400-1788696000@blackrock-kadence.gotbdev.com
SUMMARY:Mezz: Adult Wrestling (Free to Members)
DESCRIPTION:Experience Adult Wrestling at Black Rock! A dedicated space to develop your strength\, endurance\, and wrestling technique. This is a no-Jiu-Jitsu\, no-striking program\, offering a challenging and rewarding workout for all skill levels. Whether you’re a beginner or seasoned wrestler\, Black Rock has you covered.
URL:https://blackrock-kadence.gotbdev.com/event/adult-wrestling-2/2026-09-06/
CATEGORIES:MMA
ATTACH;FMTTYPE=image/jpeg:https://blackrock-kadence.gotbdev.com/wp-content/uploads/2024/09/adult-mma-27.jpg
END:VEVENT
BEGIN:VEVENT
DTSTART;TZID=America/Vancouver:20260913T110000
DTEND;TZID=America/Vancouver:20260913T120000
DTSTAMP:20260420T222404
CREATED:20241102T184143Z
LAST-MODIFIED:20260221T003109Z
UID:10007909-1789297200-1789300800@blackrock-kadence.gotbdev.com
SUMMARY:Mezz: Adult Wrestling (Free to Members)
DESCRIPTION:Experience Adult Wrestling at Black Rock! A dedicated space to develop your strength\, endurance\, and wrestling technique. This is a no-Jiu-Jitsu\, no-striking program\, offering a challenging and rewarding workout for all skill levels. Whether you’re a beginner or seasoned wrestler\, Black Rock has you covered.
URL:https://blackrock-kadence.gotbdev.com/event/adult-wrestling-2/2026-09-13/
CATEGORIES:MMA
ATTACH;FMTTYPE=image/jpeg:https://blackrock-kadence.gotbdev.com/wp-content/uploads/2024/09/adult-mma-27.jpg
END:VEVENT
BEGIN:VEVENT
DTSTART;TZID=America/Vancouver:20260920T110000
DTEND;TZID=America/Vancouver:20260920T120000
DTSTAMP:20260420T222404
CREATED:20241102T184143Z
LAST-MODIFIED:20260221T003109Z
UID:10007910-1789902000-1789905600@blackrock-kadence.gotbdev.com
SUMMARY:Mezz: Adult Wrestling (Free to Members)
DESCRIPTION:Experience Adult Wrestling at Black Rock! A dedicated space to develop your strength\, endurance\, and wrestling technique. This is a no-Jiu-Jitsu\, no-striking program\, offering a challenging and rewarding workout for all skill levels. Whether you’re a beginner or seasoned wrestler\, Black Rock has you covered.
URL:https://blackrock-kadence.gotbdev.com/event/adult-wrestling-2/2026-09-20/
CATEGORIES:MMA
ATTACH;FMTTYPE=image/jpeg:https://blackrock-kadence.gotbdev.com/wp-content/uploads/2024/09/adult-mma-27.jpg
END:VEVENT
BEGIN:VEVENT
DTSTART;TZID=America/Vancouver:20260927T110000
DTEND;TZID=America/Vancouver:20260927T120000
DTSTAMP:20260420T222404
CREATED:20241102T184143Z
LAST-MODIFIED:20260221T003109Z
UID:10007911-1790506800-1790510400@blackrock-kadence.gotbdev.com
SUMMARY:Mezz: Adult Wrestling (Free to Members)
DESCRIPTION:Experience Adult Wrestling at Black Rock! A dedicated space to develop your strength\, endurance\, and wrestling technique. This is a no-Jiu-Jitsu\, no-striking program\, offering a challenging and rewarding workout for all skill levels. Whether you’re a beginner or seasoned wrestler\, Black Rock has you covered.
URL:https://blackrock-kadence.gotbdev.com/event/adult-wrestling-2/2026-09-27/
CATEGORIES:MMA
ATTACH;FMTTYPE=image/jpeg:https://blackrock-kadence.gotbdev.com/wp-content/uploads/2024/09/adult-mma-27.jpg
END:VEVENT
BEGIN:VEVENT
DTSTART;TZID=America/Vancouver:20261004T110000
DTEND;TZID=America/Vancouver:20261004T120000
DTSTAMP:20260420T222404
CREATED:20241102T184143Z
LAST-MODIFIED:20260221T003109Z
UID:10007912-1791111600-1791115200@blackrock-kadence.gotbdev.com
SUMMARY:Mezz: Adult Wrestling (Free to Members)
DESCRIPTION:Experience Adult Wrestling at Black Rock! A dedicated space to develop your strength\, endurance\, and wrestling technique. This is a no-Jiu-Jitsu\, no-striking program\, offering a challenging and rewarding workout for all skill levels. Whether you’re a beginner or seasoned wrestler\, Black Rock has you covered.
URL:https://blackrock-kadence.gotbdev.com/event/adult-wrestling-2/2026-10-04/
CATEGORIES:MMA
ATTACH;FMTTYPE=image/jpeg:https://blackrock-kadence.gotbdev.com/wp-content/uploads/2024/09/adult-mma-27.jpg
END:VEVENT
BEGIN:VEVENT
DTSTART;TZID=America/Vancouver:20261011T110000
DTEND;TZID=America/Vancouver:20261011T120000
DTSTAMP:20260420T222404
CREATED:20241102T184143Z
LAST-MODIFIED:20260221T003109Z
UID:10007913-1791716400-1791720000@blackrock-kadence.gotbdev.com
SUMMARY:Mezz: Adult Wrestling (Free to Members)
DESCRIPTION:Experience Adult Wrestling at Black Rock! A dedicated space to develop your strength\, endurance\, and wrestling technique. This is a no-Jiu-Jitsu\, no-striking program\, offering a challenging and rewarding workout for all skill levels. Whether you’re a beginner or seasoned wrestler\, Black Rock has you covered.
URL:https://blackrock-kadence.gotbdev.com/event/adult-wrestling-2/2026-10-11/
CATEGORIES:MMA
ATTACH;FMTTYPE=image/jpeg:https://blackrock-kadence.gotbdev.com/wp-content/uploads/2024/09/adult-mma-27.jpg
END:VEVENT
BEGIN:VEVENT
DTSTART;TZID=America/Vancouver:20261018T110000
DTEND;TZID=America/Vancouver:20261018T120000
DTSTAMP:20260420T222404
CREATED:20241102T184143Z
LAST-MODIFIED:20260221T003109Z
UID:10007914-1792321200-1792324800@blackrock-kadence.gotbdev.com
SUMMARY:Mezz: Adult Wrestling (Free to Members)
DESCRIPTION:Experience Adult Wrestling at Black Rock! A dedicated space to develop your strength\, endurance\, and wrestling technique. This is a no-Jiu-Jitsu\, no-striking program\, offering a challenging and rewarding workout for all skill levels. Whether you’re a beginner or seasoned wrestler\, Black Rock has you covered.
URL:https://blackrock-kadence.gotbdev.com/event/adult-wrestling-2/2026-10-18/
CATEGORIES:MMA
ATTACH;FMTTYPE=image/jpeg:https://blackrock-kadence.gotbdev.com/wp-content/uploads/2024/09/adult-mma-27.jpg
END:VEVENT
BEGIN:VEVENT
DTSTART;TZID=America/Vancouver:20261025T110000
DTEND;TZID=America/Vancouver:20261025T120000
DTSTAMP:20260420T222404
CREATED:20241102T184143Z
LAST-MODIFIED:20260221T003109Z
UID:10007915-1792926000-1792929600@blackrock-kadence.gotbdev.com
SUMMARY:Mezz: Adult Wrestling (Free to Members)
DESCRIPTION:Experience Adult Wrestling at Black Rock! A dedicated space to develop your strength\, endurance\, and wrestling technique. This is a no-Jiu-Jitsu\, no-striking program\, offering a challenging and rewarding workout for all skill levels. Whether you’re a beginner or seasoned wrestler\, Black Rock has you covered.
URL:https://blackrock-kadence.gotbdev.com/event/adult-wrestling-2/2026-10-25/
CATEGORIES:MMA
ATTACH;FMTTYPE=image/jpeg:https://blackrock-kadence.gotbdev.com/wp-content/uploads/2024/09/adult-mma-27.jpg
END:VEVENT
BEGIN:VEVENT
DTSTART;TZID=America/Vancouver:20261101T110000
DTEND;TZID=America/Vancouver:20261101T120000
DTSTAMP:20260420T222404
CREATED:20241102T184143Z
LAST-MODIFIED:20260221T003109Z
UID:10007916-1793530800-1793534400@blackrock-kadence.gotbdev.com
SUMMARY:Mezz: Adult Wrestling (Free to Members)
DESCRIPTION:Experience Adult Wrestling at Black Rock! A dedicated space to develop your strength\, endurance\, and wrestling technique. This is a no-Jiu-Jitsu\, no-striking program\, offering a challenging and rewarding workout for all skill levels. Whether you’re a beginner or seasoned wrestler\, Black Rock has you covered.
URL:https://blackrock-kadence.gotbdev.com/event/adult-wrestling-2/2026-11-01/
CATEGORIES:MMA
ATTACH;FMTTYPE=image/jpeg:https://blackrock-kadence.gotbdev.com/wp-content/uploads/2024/09/adult-mma-27.jpg
END:VEVENT
BEGIN:VEVENT
DTSTART;TZID=America/Vancouver:20261108T110000
DTEND;TZID=America/Vancouver:20261108T120000
DTSTAMP:20260420T222404
CREATED:20241102T184143Z
LAST-MODIFIED:20260221T003109Z
UID:10007917-1794135600-1794139200@blackrock-kadence.gotbdev.com
SUMMARY:Mezz: Adult Wrestling (Free to Members)
DESCRIPTION:Experience Adult Wrestling at Black Rock! A dedicated space to develop your strength\, endurance\, and wrestling technique. This is a no-Jiu-Jitsu\, no-striking program\, offering a challenging and rewarding workout for all skill levels. Whether you’re a beginner or seasoned wrestler\, Black Rock has you covered.
URL:https://blackrock-kadence.gotbdev.com/event/adult-wrestling-2/2026-11-08/
CATEGORIES:MMA
ATTACH;FMTTYPE=image/jpeg:https://blackrock-kadence.gotbdev.com/wp-content/uploads/2024/09/adult-mma-27.jpg
END:VEVENT
BEGIN:VEVENT
DTSTART;TZID=America/Vancouver:20261115T110000
DTEND;TZID=America/Vancouver:20261115T120000
DTSTAMP:20260420T222404
CREATED:20241102T184143Z
LAST-MODIFIED:20260221T003109Z
UID:10007918-1794740400-1794744000@blackrock-kadence.gotbdev.com
SUMMARY:Mezz: Adult Wrestling (Free to Members)
DESCRIPTION:Experience Adult Wrestling at Black Rock! A dedicated space to develop your strength\, endurance\, and wrestling technique. This is a no-Jiu-Jitsu\, no-striking program\, offering a challenging and rewarding workout for all skill levels. Whether you’re a beginner or seasoned wrestler\, Black Rock has you covered.
URL:https://blackrock-kadence.gotbdev.com/event/adult-wrestling-2/2026-11-15/
CATEGORIES:MMA
ATTACH;FMTTYPE=image/jpeg:https://blackrock-kadence.gotbdev.com/wp-content/uploads/2024/09/adult-mma-27.jpg
END:VEVENT
END:VCALENDAR