BEGIN:VCALENDAR
VERSION:2.0
PRODID:-// - ECPv6.15.20//NONSGML v1.0//EN
CALSCALE:GREGORIAN
METHOD:PUBLISH
X-ORIGINAL-URL:https://blackrock-kadence.gotbdev.com
X-WR-CALDESC:Events for 
REFRESH-INTERVAL;VALUE=DURATION:PT1H
X-Robots-Tag:noindex
X-PUBLISHED-TTL:PT1H
BEGIN:VTIMEZONE
TZID:America/Vancouver
BEGIN:DAYLIGHT
TZOFFSETFROM:-0800
TZOFFSETTO:-0700
TZNAME:PDT
DTSTART:20280312T100000
END:DAYLIGHT
BEGIN:STANDARD
TZOFFSETFROM:-0700
TZOFFSETTO:-0800
TZNAME:PST
DTSTART:20281105T090000
END:STANDARD
BEGIN:DAYLIGHT
TZOFFSETFROM:-0800
TZOFFSETTO:-0700
TZNAME:PDT
DTSTART:20290311T100000
END:DAYLIGHT
BEGIN:STANDARD
TZOFFSETFROM:-0700
TZOFFSETTO:-0800
TZNAME:PST
DTSTART:20291104T090000
END:STANDARD
BEGIN:DAYLIGHT
TZOFFSETFROM:-0800
TZOFFSETTO:-0700
TZNAME:PDT
DTSTART:20300310T100000
END:DAYLIGHT
BEGIN:STANDARD
TZOFFSETFROM:-0700
TZOFFSETTO:-0800
TZNAME:PST
DTSTART:20301103T090000
END:STANDARD
END:VTIMEZONE
BEGIN:VEVENT
DTSTART;TZID=America/Vancouver:20290128T110000
DTEND;TZID=America/Vancouver:20290128T120000
DTSTAMP:20260422T030505
CREATED:20241102T184143Z
LAST-MODIFIED:20260221T003109Z
UID:10008033-1864292400-1864296000@blackrock-kadence.gotbdev.com
SUMMARY:Mezz: Adult Wrestling (Free to Members)
DESCRIPTION:Experience Adult Wrestling at Black Rock! A dedicated space to develop your strength\, endurance\, and wrestling technique. This is a no-Jiu-Jitsu\, no-striking program\, offering a challenging and rewarding workout for all skill levels. Whether you’re a beginner or seasoned wrestler\, Black Rock has you covered.
URL:https://blackrock-kadence.gotbdev.com/event/adult-wrestling-2/2029-01-28/
CATEGORIES:MMA
ATTACH;FMTTYPE=image/jpeg:https://blackrock-kadence.gotbdev.com/wp-content/uploads/2024/09/adult-mma-27.jpg
END:VEVENT
BEGIN:VEVENT
DTSTART;TZID=America/Vancouver:20290204T110000
DTEND;TZID=America/Vancouver:20290204T120000
DTSTAMP:20260422T030505
CREATED:20241102T184143Z
LAST-MODIFIED:20260221T003109Z
UID:10008034-1864897200-1864900800@blackrock-kadence.gotbdev.com
SUMMARY:Mezz: Adult Wrestling (Free to Members)
DESCRIPTION:Experience Adult Wrestling at Black Rock! A dedicated space to develop your strength\, endurance\, and wrestling technique. This is a no-Jiu-Jitsu\, no-striking program\, offering a challenging and rewarding workout for all skill levels. Whether you’re a beginner or seasoned wrestler\, Black Rock has you covered.
URL:https://blackrock-kadence.gotbdev.com/event/adult-wrestling-2/2029-02-04/
CATEGORIES:MMA
ATTACH;FMTTYPE=image/jpeg:https://blackrock-kadence.gotbdev.com/wp-content/uploads/2024/09/adult-mma-27.jpg
END:VEVENT
BEGIN:VEVENT
DTSTART;TZID=America/Vancouver:20290211T110000
DTEND;TZID=America/Vancouver:20290211T120000
DTSTAMP:20260422T030505
CREATED:20241102T184143Z
LAST-MODIFIED:20260221T003109Z
UID:10008035-1865502000-1865505600@blackrock-kadence.gotbdev.com
SUMMARY:Mezz: Adult Wrestling (Free to Members)
DESCRIPTION:Experience Adult Wrestling at Black Rock! A dedicated space to develop your strength\, endurance\, and wrestling technique. This is a no-Jiu-Jitsu\, no-striking program\, offering a challenging and rewarding workout for all skill levels. Whether you’re a beginner or seasoned wrestler\, Black Rock has you covered.
URL:https://blackrock-kadence.gotbdev.com/event/adult-wrestling-2/2029-02-11/
CATEGORIES:MMA
ATTACH;FMTTYPE=image/jpeg:https://blackrock-kadence.gotbdev.com/wp-content/uploads/2024/09/adult-mma-27.jpg
END:VEVENT
BEGIN:VEVENT
DTSTART;TZID=America/Vancouver:20290218T110000
DTEND;TZID=America/Vancouver:20290218T120000
DTSTAMP:20260422T030505
CREATED:20241102T184143Z
LAST-MODIFIED:20260221T003109Z
UID:10008036-1866106800-1866110400@blackrock-kadence.gotbdev.com
SUMMARY:Mezz: Adult Wrestling (Free to Members)
DESCRIPTION:Experience Adult Wrestling at Black Rock! A dedicated space to develop your strength\, endurance\, and wrestling technique. This is a no-Jiu-Jitsu\, no-striking program\, offering a challenging and rewarding workout for all skill levels. Whether you’re a beginner or seasoned wrestler\, Black Rock has you covered.
URL:https://blackrock-kadence.gotbdev.com/event/adult-wrestling-2/2029-02-18/
CATEGORIES:MMA
ATTACH;FMTTYPE=image/jpeg:https://blackrock-kadence.gotbdev.com/wp-content/uploads/2024/09/adult-mma-27.jpg
END:VEVENT
BEGIN:VEVENT
DTSTART;TZID=America/Vancouver:20290225T110000
DTEND;TZID=America/Vancouver:20290225T120000
DTSTAMP:20260422T030505
CREATED:20241102T184143Z
LAST-MODIFIED:20260221T003109Z
UID:10008037-1866711600-1866715200@blackrock-kadence.gotbdev.com
SUMMARY:Mezz: Adult Wrestling (Free to Members)
DESCRIPTION:Experience Adult Wrestling at Black Rock! A dedicated space to develop your strength\, endurance\, and wrestling technique. This is a no-Jiu-Jitsu\, no-striking program\, offering a challenging and rewarding workout for all skill levels. Whether you’re a beginner or seasoned wrestler\, Black Rock has you covered.
URL:https://blackrock-kadence.gotbdev.com/event/adult-wrestling-2/2029-02-25/
CATEGORIES:MMA
ATTACH;FMTTYPE=image/jpeg:https://blackrock-kadence.gotbdev.com/wp-content/uploads/2024/09/adult-mma-27.jpg
END:VEVENT
BEGIN:VEVENT
DTSTART;TZID=America/Vancouver:20290304T110000
DTEND;TZID=America/Vancouver:20290304T120000
DTSTAMP:20260422T030505
CREATED:20241102T184143Z
LAST-MODIFIED:20260221T003109Z
UID:10008038-1867316400-1867320000@blackrock-kadence.gotbdev.com
SUMMARY:Mezz: Adult Wrestling (Free to Members)
DESCRIPTION:Experience Adult Wrestling at Black Rock! A dedicated space to develop your strength\, endurance\, and wrestling technique. This is a no-Jiu-Jitsu\, no-striking program\, offering a challenging and rewarding workout for all skill levels. Whether you’re a beginner or seasoned wrestler\, Black Rock has you covered.
URL:https://blackrock-kadence.gotbdev.com/event/adult-wrestling-2/2029-03-04/
CATEGORIES:MMA
ATTACH;FMTTYPE=image/jpeg:https://blackrock-kadence.gotbdev.com/wp-content/uploads/2024/09/adult-mma-27.jpg
END:VEVENT
BEGIN:VEVENT
DTSTART;TZID=America/Vancouver:20290311T110000
DTEND;TZID=America/Vancouver:20290311T120000
DTSTAMP:20260422T030505
CREATED:20241102T184143Z
LAST-MODIFIED:20260221T003109Z
UID:10008039-1867921200-1867924800@blackrock-kadence.gotbdev.com
SUMMARY:Mezz: Adult Wrestling (Free to Members)
DESCRIPTION:Experience Adult Wrestling at Black Rock! A dedicated space to develop your strength\, endurance\, and wrestling technique. This is a no-Jiu-Jitsu\, no-striking program\, offering a challenging and rewarding workout for all skill levels. Whether you’re a beginner or seasoned wrestler\, Black Rock has you covered.
URL:https://blackrock-kadence.gotbdev.com/event/adult-wrestling-2/2029-03-11/
CATEGORIES:MMA
ATTACH;FMTTYPE=image/jpeg:https://blackrock-kadence.gotbdev.com/wp-content/uploads/2024/09/adult-mma-27.jpg
END:VEVENT
BEGIN:VEVENT
DTSTART;TZID=America/Vancouver:20290318T110000
DTEND;TZID=America/Vancouver:20290318T120000
DTSTAMP:20260422T030505
CREATED:20241102T184143Z
LAST-MODIFIED:20260221T003109Z
UID:10008040-1868526000-1868529600@blackrock-kadence.gotbdev.com
SUMMARY:Mezz: Adult Wrestling (Free to Members)
DESCRIPTION:Experience Adult Wrestling at Black Rock! A dedicated space to develop your strength\, endurance\, and wrestling technique. This is a no-Jiu-Jitsu\, no-striking program\, offering a challenging and rewarding workout for all skill levels. Whether you’re a beginner or seasoned wrestler\, Black Rock has you covered.
URL:https://blackrock-kadence.gotbdev.com/event/adult-wrestling-2/2029-03-18/
CATEGORIES:MMA
ATTACH;FMTTYPE=image/jpeg:https://blackrock-kadence.gotbdev.com/wp-content/uploads/2024/09/adult-mma-27.jpg
END:VEVENT
BEGIN:VEVENT
DTSTART;TZID=America/Vancouver:20290325T110000
DTEND;TZID=America/Vancouver:20290325T120000
DTSTAMP:20260422T030505
CREATED:20241102T184143Z
LAST-MODIFIED:20260221T003109Z
UID:10008041-1869130800-1869134400@blackrock-kadence.gotbdev.com
SUMMARY:Mezz: Adult Wrestling (Free to Members)
DESCRIPTION:Experience Adult Wrestling at Black Rock! A dedicated space to develop your strength\, endurance\, and wrestling technique. This is a no-Jiu-Jitsu\, no-striking program\, offering a challenging and rewarding workout for all skill levels. Whether you’re a beginner or seasoned wrestler\, Black Rock has you covered.
URL:https://blackrock-kadence.gotbdev.com/event/adult-wrestling-2/2029-03-25/
CATEGORIES:MMA
ATTACH;FMTTYPE=image/jpeg:https://blackrock-kadence.gotbdev.com/wp-content/uploads/2024/09/adult-mma-27.jpg
END:VEVENT
BEGIN:VEVENT
DTSTART;TZID=America/Vancouver:20290401T110000
DTEND;TZID=America/Vancouver:20290401T120000
DTSTAMP:20260422T030505
CREATED:20241102T184143Z
LAST-MODIFIED:20260221T003109Z
UID:10008042-1869735600-1869739200@blackrock-kadence.gotbdev.com
SUMMARY:Mezz: Adult Wrestling (Free to Members)
DESCRIPTION:Experience Adult Wrestling at Black Rock! A dedicated space to develop your strength\, endurance\, and wrestling technique. This is a no-Jiu-Jitsu\, no-striking program\, offering a challenging and rewarding workout for all skill levels. Whether you’re a beginner or seasoned wrestler\, Black Rock has you covered.
URL:https://blackrock-kadence.gotbdev.com/event/adult-wrestling-2/2029-04-01/
CATEGORIES:MMA
ATTACH;FMTTYPE=image/jpeg:https://blackrock-kadence.gotbdev.com/wp-content/uploads/2024/09/adult-mma-27.jpg
END:VEVENT
BEGIN:VEVENT
DTSTART;TZID=America/Vancouver:20290408T110000
DTEND;TZID=America/Vancouver:20290408T120000
DTSTAMP:20260422T030505
CREATED:20241102T184143Z
LAST-MODIFIED:20260221T003109Z
UID:10008043-1870340400-1870344000@blackrock-kadence.gotbdev.com
SUMMARY:Mezz: Adult Wrestling (Free to Members)
DESCRIPTION:Experience Adult Wrestling at Black Rock! A dedicated space to develop your strength\, endurance\, and wrestling technique. This is a no-Jiu-Jitsu\, no-striking program\, offering a challenging and rewarding workout for all skill levels. Whether you’re a beginner or seasoned wrestler\, Black Rock has you covered.
URL:https://blackrock-kadence.gotbdev.com/event/adult-wrestling-2/2029-04-08/
CATEGORIES:MMA
ATTACH;FMTTYPE=image/jpeg:https://blackrock-kadence.gotbdev.com/wp-content/uploads/2024/09/adult-mma-27.jpg
END:VEVENT
BEGIN:VEVENT
DTSTART;TZID=America/Vancouver:20290415T110000
DTEND;TZID=America/Vancouver:20290415T120000
DTSTAMP:20260422T030506
CREATED:20241102T184143Z
LAST-MODIFIED:20260221T003109Z
UID:10008044-1870945200-1870948800@blackrock-kadence.gotbdev.com
SUMMARY:Mezz: Adult Wrestling (Free to Members)
DESCRIPTION:Experience Adult Wrestling at Black Rock! A dedicated space to develop your strength\, endurance\, and wrestling technique. This is a no-Jiu-Jitsu\, no-striking program\, offering a challenging and rewarding workout for all skill levels. Whether you’re a beginner or seasoned wrestler\, Black Rock has you covered.
URL:https://blackrock-kadence.gotbdev.com/event/adult-wrestling-2/2029-04-15/
CATEGORIES:MMA
ATTACH;FMTTYPE=image/jpeg:https://blackrock-kadence.gotbdev.com/wp-content/uploads/2024/09/adult-mma-27.jpg
END:VEVENT
BEGIN:VEVENT
DTSTART;TZID=America/Vancouver:20290422T110000
DTEND;TZID=America/Vancouver:20290422T120000
DTSTAMP:20260422T030506
CREATED:20241102T184143Z
LAST-MODIFIED:20260221T003109Z
UID:10008045-1871550000-1871553600@blackrock-kadence.gotbdev.com
SUMMARY:Mezz: Adult Wrestling (Free to Members)
DESCRIPTION:Experience Adult Wrestling at Black Rock! A dedicated space to develop your strength\, endurance\, and wrestling technique. This is a no-Jiu-Jitsu\, no-striking program\, offering a challenging and rewarding workout for all skill levels. Whether you’re a beginner or seasoned wrestler\, Black Rock has you covered.
URL:https://blackrock-kadence.gotbdev.com/event/adult-wrestling-2/2029-04-22/
CATEGORIES:MMA
ATTACH;FMTTYPE=image/jpeg:https://blackrock-kadence.gotbdev.com/wp-content/uploads/2024/09/adult-mma-27.jpg
END:VEVENT
BEGIN:VEVENT
DTSTART;TZID=America/Vancouver:20290429T110000
DTEND;TZID=America/Vancouver:20290429T120000
DTSTAMP:20260422T030506
CREATED:20241102T184143Z
LAST-MODIFIED:20260221T003109Z
UID:10008046-1872154800-1872158400@blackrock-kadence.gotbdev.com
SUMMARY:Mezz: Adult Wrestling (Free to Members)
DESCRIPTION:Experience Adult Wrestling at Black Rock! A dedicated space to develop your strength\, endurance\, and wrestling technique. This is a no-Jiu-Jitsu\, no-striking program\, offering a challenging and rewarding workout for all skill levels. Whether you’re a beginner or seasoned wrestler\, Black Rock has you covered.
URL:https://blackrock-kadence.gotbdev.com/event/adult-wrestling-2/2029-04-29/
CATEGORIES:MMA
ATTACH;FMTTYPE=image/jpeg:https://blackrock-kadence.gotbdev.com/wp-content/uploads/2024/09/adult-mma-27.jpg
END:VEVENT
BEGIN:VEVENT
DTSTART;TZID=America/Vancouver:20290506T110000
DTEND;TZID=America/Vancouver:20290506T120000
DTSTAMP:20260422T030506
CREATED:20241102T184143Z
LAST-MODIFIED:20260221T003109Z
UID:10008047-1872759600-1872763200@blackrock-kadence.gotbdev.com
SUMMARY:Mezz: Adult Wrestling (Free to Members)
DESCRIPTION:Experience Adult Wrestling at Black Rock! A dedicated space to develop your strength\, endurance\, and wrestling technique. This is a no-Jiu-Jitsu\, no-striking program\, offering a challenging and rewarding workout for all skill levels. Whether you’re a beginner or seasoned wrestler\, Black Rock has you covered.
URL:https://blackrock-kadence.gotbdev.com/event/adult-wrestling-2/2029-05-06/
CATEGORIES:MMA
ATTACH;FMTTYPE=image/jpeg:https://blackrock-kadence.gotbdev.com/wp-content/uploads/2024/09/adult-mma-27.jpg
END:VEVENT
BEGIN:VEVENT
DTSTART;TZID=America/Vancouver:20290513T110000
DTEND;TZID=America/Vancouver:20290513T120000
DTSTAMP:20260422T030506
CREATED:20241102T184143Z
LAST-MODIFIED:20260221T003109Z
UID:10008048-1873364400-1873368000@blackrock-kadence.gotbdev.com
SUMMARY:Mezz: Adult Wrestling (Free to Members)
DESCRIPTION:Experience Adult Wrestling at Black Rock! A dedicated space to develop your strength\, endurance\, and wrestling technique. This is a no-Jiu-Jitsu\, no-striking program\, offering a challenging and rewarding workout for all skill levels. Whether you’re a beginner or seasoned wrestler\, Black Rock has you covered.
URL:https://blackrock-kadence.gotbdev.com/event/adult-wrestling-2/2029-05-13/
CATEGORIES:MMA
ATTACH;FMTTYPE=image/jpeg:https://blackrock-kadence.gotbdev.com/wp-content/uploads/2024/09/adult-mma-27.jpg
END:VEVENT
BEGIN:VEVENT
DTSTART;TZID=America/Vancouver:20290520T110000
DTEND;TZID=America/Vancouver:20290520T120000
DTSTAMP:20260422T030506
CREATED:20241102T184143Z
LAST-MODIFIED:20260221T003109Z
UID:10008049-1873969200-1873972800@blackrock-kadence.gotbdev.com
SUMMARY:Mezz: Adult Wrestling (Free to Members)
DESCRIPTION:Experience Adult Wrestling at Black Rock! A dedicated space to develop your strength\, endurance\, and wrestling technique. This is a no-Jiu-Jitsu\, no-striking program\, offering a challenging and rewarding workout for all skill levels. Whether you’re a beginner or seasoned wrestler\, Black Rock has you covered.
URL:https://blackrock-kadence.gotbdev.com/event/adult-wrestling-2/2029-05-20/
CATEGORIES:MMA
ATTACH;FMTTYPE=image/jpeg:https://blackrock-kadence.gotbdev.com/wp-content/uploads/2024/09/adult-mma-27.jpg
END:VEVENT
BEGIN:VEVENT
DTSTART;TZID=America/Vancouver:20290527T110000
DTEND;TZID=America/Vancouver:20290527T120000
DTSTAMP:20260422T030506
CREATED:20241102T184143Z
LAST-MODIFIED:20260221T003109Z
UID:10008050-1874574000-1874577600@blackrock-kadence.gotbdev.com
SUMMARY:Mezz: Adult Wrestling (Free to Members)
DESCRIPTION:Experience Adult Wrestling at Black Rock! A dedicated space to develop your strength\, endurance\, and wrestling technique. This is a no-Jiu-Jitsu\, no-striking program\, offering a challenging and rewarding workout for all skill levels. Whether you’re a beginner or seasoned wrestler\, Black Rock has you covered.
URL:https://blackrock-kadence.gotbdev.com/event/adult-wrestling-2/2029-05-27/
CATEGORIES:MMA
ATTACH;FMTTYPE=image/jpeg:https://blackrock-kadence.gotbdev.com/wp-content/uploads/2024/09/adult-mma-27.jpg
END:VEVENT
BEGIN:VEVENT
DTSTART;TZID=America/Vancouver:20290603T110000
DTEND;TZID=America/Vancouver:20290603T120000
DTSTAMP:20260422T030506
CREATED:20241102T184143Z
LAST-MODIFIED:20260221T003109Z
UID:10008051-1875178800-1875182400@blackrock-kadence.gotbdev.com
SUMMARY:Mezz: Adult Wrestling (Free to Members)
DESCRIPTION:Experience Adult Wrestling at Black Rock! A dedicated space to develop your strength\, endurance\, and wrestling technique. This is a no-Jiu-Jitsu\, no-striking program\, offering a challenging and rewarding workout for all skill levels. Whether you’re a beginner or seasoned wrestler\, Black Rock has you covered.
URL:https://blackrock-kadence.gotbdev.com/event/adult-wrestling-2/2029-06-03/
CATEGORIES:MMA
ATTACH;FMTTYPE=image/jpeg:https://blackrock-kadence.gotbdev.com/wp-content/uploads/2024/09/adult-mma-27.jpg
END:VEVENT
BEGIN:VEVENT
DTSTART;TZID=America/Vancouver:20290610T110000
DTEND;TZID=America/Vancouver:20290610T120000
DTSTAMP:20260422T030506
CREATED:20241102T184143Z
LAST-MODIFIED:20260221T003109Z
UID:10008052-1875783600-1875787200@blackrock-kadence.gotbdev.com
SUMMARY:Mezz: Adult Wrestling (Free to Members)
DESCRIPTION:Experience Adult Wrestling at Black Rock! A dedicated space to develop your strength\, endurance\, and wrestling technique. This is a no-Jiu-Jitsu\, no-striking program\, offering a challenging and rewarding workout for all skill levels. Whether you’re a beginner or seasoned wrestler\, Black Rock has you covered.
URL:https://blackrock-kadence.gotbdev.com/event/adult-wrestling-2/2029-06-10/
CATEGORIES:MMA
ATTACH;FMTTYPE=image/jpeg:https://blackrock-kadence.gotbdev.com/wp-content/uploads/2024/09/adult-mma-27.jpg
END:VEVENT
BEGIN:VEVENT
DTSTART;TZID=America/Vancouver:20290617T110000
DTEND;TZID=America/Vancouver:20290617T120000
DTSTAMP:20260422T030506
CREATED:20241102T184143Z
LAST-MODIFIED:20260221T003109Z
UID:10008053-1876388400-1876392000@blackrock-kadence.gotbdev.com
SUMMARY:Mezz: Adult Wrestling (Free to Members)
DESCRIPTION:Experience Adult Wrestling at Black Rock! A dedicated space to develop your strength\, endurance\, and wrestling technique. This is a no-Jiu-Jitsu\, no-striking program\, offering a challenging and rewarding workout for all skill levels. Whether you’re a beginner or seasoned wrestler\, Black Rock has you covered.
URL:https://blackrock-kadence.gotbdev.com/event/adult-wrestling-2/2029-06-17/
CATEGORIES:MMA
ATTACH;FMTTYPE=image/jpeg:https://blackrock-kadence.gotbdev.com/wp-content/uploads/2024/09/adult-mma-27.jpg
END:VEVENT
BEGIN:VEVENT
DTSTART;TZID=America/Vancouver:20290624T110000
DTEND;TZID=America/Vancouver:20290624T120000
DTSTAMP:20260422T030506
CREATED:20241102T184143Z
LAST-MODIFIED:20260221T003109Z
UID:10008054-1876993200-1876996800@blackrock-kadence.gotbdev.com
SUMMARY:Mezz: Adult Wrestling (Free to Members)
DESCRIPTION:Experience Adult Wrestling at Black Rock! A dedicated space to develop your strength\, endurance\, and wrestling technique. This is a no-Jiu-Jitsu\, no-striking program\, offering a challenging and rewarding workout for all skill levels. Whether you’re a beginner or seasoned wrestler\, Black Rock has you covered.
URL:https://blackrock-kadence.gotbdev.com/event/adult-wrestling-2/2029-06-24/
CATEGORIES:MMA
ATTACH;FMTTYPE=image/jpeg:https://blackrock-kadence.gotbdev.com/wp-content/uploads/2024/09/adult-mma-27.jpg
END:VEVENT
BEGIN:VEVENT
DTSTART;TZID=America/Vancouver:20290701T110000
DTEND;TZID=America/Vancouver:20290701T120000
DTSTAMP:20260422T030506
CREATED:20241102T184143Z
LAST-MODIFIED:20260221T003109Z
UID:10008055-1877598000-1877601600@blackrock-kadence.gotbdev.com
SUMMARY:Mezz: Adult Wrestling (Free to Members)
DESCRIPTION:Experience Adult Wrestling at Black Rock! A dedicated space to develop your strength\, endurance\, and wrestling technique. This is a no-Jiu-Jitsu\, no-striking program\, offering a challenging and rewarding workout for all skill levels. Whether you’re a beginner or seasoned wrestler\, Black Rock has you covered.
URL:https://blackrock-kadence.gotbdev.com/event/adult-wrestling-2/2029-07-01/
CATEGORIES:MMA
ATTACH;FMTTYPE=image/jpeg:https://blackrock-kadence.gotbdev.com/wp-content/uploads/2024/09/adult-mma-27.jpg
END:VEVENT
BEGIN:VEVENT
DTSTART;TZID=America/Vancouver:20290708T110000
DTEND;TZID=America/Vancouver:20290708T120000
DTSTAMP:20260422T030506
CREATED:20241102T184143Z
LAST-MODIFIED:20260221T003109Z
UID:10008056-1878202800-1878206400@blackrock-kadence.gotbdev.com
SUMMARY:Mezz: Adult Wrestling (Free to Members)
DESCRIPTION:Experience Adult Wrestling at Black Rock! A dedicated space to develop your strength\, endurance\, and wrestling technique. This is a no-Jiu-Jitsu\, no-striking program\, offering a challenging and rewarding workout for all skill levels. Whether you’re a beginner or seasoned wrestler\, Black Rock has you covered.
URL:https://blackrock-kadence.gotbdev.com/event/adult-wrestling-2/2029-07-08/
CATEGORIES:MMA
ATTACH;FMTTYPE=image/jpeg:https://blackrock-kadence.gotbdev.com/wp-content/uploads/2024/09/adult-mma-27.jpg
END:VEVENT
BEGIN:VEVENT
DTSTART;TZID=America/Vancouver:20290715T110000
DTEND;TZID=America/Vancouver:20290715T120000
DTSTAMP:20260422T030506
CREATED:20241102T184143Z
LAST-MODIFIED:20260221T003109Z
UID:10008057-1878807600-1878811200@blackrock-kadence.gotbdev.com
SUMMARY:Mezz: Adult Wrestling (Free to Members)
DESCRIPTION:Experience Adult Wrestling at Black Rock! A dedicated space to develop your strength\, endurance\, and wrestling technique. This is a no-Jiu-Jitsu\, no-striking program\, offering a challenging and rewarding workout for all skill levels. Whether you’re a beginner or seasoned wrestler\, Black Rock has you covered.
URL:https://blackrock-kadence.gotbdev.com/event/adult-wrestling-2/2029-07-15/
CATEGORIES:MMA
ATTACH;FMTTYPE=image/jpeg:https://blackrock-kadence.gotbdev.com/wp-content/uploads/2024/09/adult-mma-27.jpg
END:VEVENT
BEGIN:VEVENT
DTSTART;TZID=America/Vancouver:20290722T110000
DTEND;TZID=America/Vancouver:20290722T120000
DTSTAMP:20260422T030506
CREATED:20241102T184143Z
LAST-MODIFIED:20260221T003109Z
UID:10008058-1879412400-1879416000@blackrock-kadence.gotbdev.com
SUMMARY:Mezz: Adult Wrestling (Free to Members)
DESCRIPTION:Experience Adult Wrestling at Black Rock! A dedicated space to develop your strength\, endurance\, and wrestling technique. This is a no-Jiu-Jitsu\, no-striking program\, offering a challenging and rewarding workout for all skill levels. Whether you’re a beginner or seasoned wrestler\, Black Rock has you covered.
URL:https://blackrock-kadence.gotbdev.com/event/adult-wrestling-2/2029-07-22/
CATEGORIES:MMA
ATTACH;FMTTYPE=image/jpeg:https://blackrock-kadence.gotbdev.com/wp-content/uploads/2024/09/adult-mma-27.jpg
END:VEVENT
BEGIN:VEVENT
DTSTART;TZID=America/Vancouver:20290729T110000
DTEND;TZID=America/Vancouver:20290729T120000
DTSTAMP:20260422T030506
CREATED:20241102T184143Z
LAST-MODIFIED:20260221T003109Z
UID:10008059-1880017200-1880020800@blackrock-kadence.gotbdev.com
SUMMARY:Mezz: Adult Wrestling (Free to Members)
DESCRIPTION:Experience Adult Wrestling at Black Rock! A dedicated space to develop your strength\, endurance\, and wrestling technique. This is a no-Jiu-Jitsu\, no-striking program\, offering a challenging and rewarding workout for all skill levels. Whether you’re a beginner or seasoned wrestler\, Black Rock has you covered.
URL:https://blackrock-kadence.gotbdev.com/event/adult-wrestling-2/2029-07-29/
CATEGORIES:MMA
ATTACH;FMTTYPE=image/jpeg:https://blackrock-kadence.gotbdev.com/wp-content/uploads/2024/09/adult-mma-27.jpg
END:VEVENT
BEGIN:VEVENT
DTSTART;TZID=America/Vancouver:20290805T110000
DTEND;TZID=America/Vancouver:20290805T120000
DTSTAMP:20260422T030506
CREATED:20241102T184143Z
LAST-MODIFIED:20260221T003109Z
UID:10008060-1880622000-1880625600@blackrock-kadence.gotbdev.com
SUMMARY:Mezz: Adult Wrestling (Free to Members)
DESCRIPTION:Experience Adult Wrestling at Black Rock! A dedicated space to develop your strength\, endurance\, and wrestling technique. This is a no-Jiu-Jitsu\, no-striking program\, offering a challenging and rewarding workout for all skill levels. Whether you’re a beginner or seasoned wrestler\, Black Rock has you covered.
URL:https://blackrock-kadence.gotbdev.com/event/adult-wrestling-2/2029-08-05/
CATEGORIES:MMA
ATTACH;FMTTYPE=image/jpeg:https://blackrock-kadence.gotbdev.com/wp-content/uploads/2024/09/adult-mma-27.jpg
END:VEVENT
BEGIN:VEVENT
DTSTART;TZID=America/Vancouver:20290812T110000
DTEND;TZID=America/Vancouver:20290812T120000
DTSTAMP:20260422T030506
CREATED:20241102T184143Z
LAST-MODIFIED:20260221T003109Z
UID:10008061-1881226800-1881230400@blackrock-kadence.gotbdev.com
SUMMARY:Mezz: Adult Wrestling (Free to Members)
DESCRIPTION:Experience Adult Wrestling at Black Rock! A dedicated space to develop your strength\, endurance\, and wrestling technique. This is a no-Jiu-Jitsu\, no-striking program\, offering a challenging and rewarding workout for all skill levels. Whether you’re a beginner or seasoned wrestler\, Black Rock has you covered.
URL:https://blackrock-kadence.gotbdev.com/event/adult-wrestling-2/2029-08-12/
CATEGORIES:MMA
ATTACH;FMTTYPE=image/jpeg:https://blackrock-kadence.gotbdev.com/wp-content/uploads/2024/09/adult-mma-27.jpg
END:VEVENT
BEGIN:VEVENT
DTSTART;TZID=America/Vancouver:20290819T110000
DTEND;TZID=America/Vancouver:20290819T120000
DTSTAMP:20260422T030506
CREATED:20241102T184143Z
LAST-MODIFIED:20260221T003109Z
UID:10008062-1881831600-1881835200@blackrock-kadence.gotbdev.com
SUMMARY:Mezz: Adult Wrestling (Free to Members)
DESCRIPTION:Experience Adult Wrestling at Black Rock! A dedicated space to develop your strength\, endurance\, and wrestling technique. This is a no-Jiu-Jitsu\, no-striking program\, offering a challenging and rewarding workout for all skill levels. Whether you’re a beginner or seasoned wrestler\, Black Rock has you covered.
URL:https://blackrock-kadence.gotbdev.com/event/adult-wrestling-2/2029-08-19/
CATEGORIES:MMA
ATTACH;FMTTYPE=image/jpeg:https://blackrock-kadence.gotbdev.com/wp-content/uploads/2024/09/adult-mma-27.jpg
END:VEVENT
END:VCALENDAR