BEGIN:VCALENDAR
VERSION:2.0
PRODID:-// - ECPv6.15.20//NONSGML v1.0//EN
CALSCALE:GREGORIAN
METHOD:PUBLISH
X-ORIGINAL-URL:https://blackrock-kadence.gotbdev.com
X-WR-CALDESC:Events for 
REFRESH-INTERVAL;VALUE=DURATION:PT1H
X-Robots-Tag:noindex
X-PUBLISHED-TTL:PT1H
BEGIN:VTIMEZONE
TZID:America/Vancouver
BEGIN:DAYLIGHT
TZOFFSETFROM:-0800
TZOFFSETTO:-0700
TZNAME:PDT
DTSTART:20280312T100000
END:DAYLIGHT
BEGIN:STANDARD
TZOFFSETFROM:-0700
TZOFFSETTO:-0800
TZNAME:PST
DTSTART:20281105T090000
END:STANDARD
BEGIN:DAYLIGHT
TZOFFSETFROM:-0800
TZOFFSETTO:-0700
TZNAME:PDT
DTSTART:20290311T100000
END:DAYLIGHT
BEGIN:STANDARD
TZOFFSETFROM:-0700
TZOFFSETTO:-0800
TZNAME:PST
DTSTART:20291104T090000
END:STANDARD
BEGIN:DAYLIGHT
TZOFFSETFROM:-0800
TZOFFSETTO:-0700
TZNAME:PDT
DTSTART:20300310T100000
END:DAYLIGHT
BEGIN:STANDARD
TZOFFSETFROM:-0700
TZOFFSETTO:-0800
TZNAME:PST
DTSTART:20301103T090000
END:STANDARD
BEGIN:DAYLIGHT
TZOFFSETFROM:-0800
TZOFFSETTO:-0700
TZNAME:PDT
DTSTART:20310309T100000
END:DAYLIGHT
BEGIN:STANDARD
TZOFFSETFROM:-0700
TZOFFSETTO:-0800
TZNAME:PST
DTSTART:20311102T090000
END:STANDARD
END:VTIMEZONE
BEGIN:VEVENT
DTSTART;TZID=America/Vancouver:20291007T110000
DTEND;TZID=America/Vancouver:20291007T120000
DTSTAMP:20260422T174713
CREATED:20241102T184143Z
LAST-MODIFIED:20260221T003109Z
UID:10008069-1886065200-1886068800@blackrock-kadence.gotbdev.com
SUMMARY:Mezz: Adult Wrestling (Free to Members)
DESCRIPTION:Experience Adult Wrestling at Black Rock! A dedicated space to develop your strength\, endurance\, and wrestling technique. This is a no-Jiu-Jitsu\, no-striking program\, offering a challenging and rewarding workout for all skill levels. Whether you’re a beginner or seasoned wrestler\, Black Rock has you covered.
URL:https://blackrock-kadence.gotbdev.com/event/adult-wrestling-2/2029-10-07/
CATEGORIES:MMA
ATTACH;FMTTYPE=image/jpeg:https://blackrock-kadence.gotbdev.com/wp-content/uploads/2024/09/adult-mma-27.jpg
END:VEVENT
BEGIN:VEVENT
DTSTART;TZID=America/Vancouver:20291014T110000
DTEND;TZID=America/Vancouver:20291014T120000
DTSTAMP:20260422T174713
CREATED:20241102T184143Z
LAST-MODIFIED:20260221T003109Z
UID:10008070-1886670000-1886673600@blackrock-kadence.gotbdev.com
SUMMARY:Mezz: Adult Wrestling (Free to Members)
DESCRIPTION:Experience Adult Wrestling at Black Rock! A dedicated space to develop your strength\, endurance\, and wrestling technique. This is a no-Jiu-Jitsu\, no-striking program\, offering a challenging and rewarding workout for all skill levels. Whether you’re a beginner or seasoned wrestler\, Black Rock has you covered.
URL:https://blackrock-kadence.gotbdev.com/event/adult-wrestling-2/2029-10-14/
CATEGORIES:MMA
ATTACH;FMTTYPE=image/jpeg:https://blackrock-kadence.gotbdev.com/wp-content/uploads/2024/09/adult-mma-27.jpg
END:VEVENT
BEGIN:VEVENT
DTSTART;TZID=America/Vancouver:20291021T110000
DTEND;TZID=America/Vancouver:20291021T120000
DTSTAMP:20260422T174713
CREATED:20241102T184143Z
LAST-MODIFIED:20260221T003109Z
UID:10008071-1887274800-1887278400@blackrock-kadence.gotbdev.com
SUMMARY:Mezz: Adult Wrestling (Free to Members)
DESCRIPTION:Experience Adult Wrestling at Black Rock! A dedicated space to develop your strength\, endurance\, and wrestling technique. This is a no-Jiu-Jitsu\, no-striking program\, offering a challenging and rewarding workout for all skill levels. Whether you’re a beginner or seasoned wrestler\, Black Rock has you covered.
URL:https://blackrock-kadence.gotbdev.com/event/adult-wrestling-2/2029-10-21/
CATEGORIES:MMA
ATTACH;FMTTYPE=image/jpeg:https://blackrock-kadence.gotbdev.com/wp-content/uploads/2024/09/adult-mma-27.jpg
END:VEVENT
BEGIN:VEVENT
DTSTART;TZID=America/Vancouver:20291028T110000
DTEND;TZID=America/Vancouver:20291028T120000
DTSTAMP:20260422T174713
CREATED:20241102T184143Z
LAST-MODIFIED:20260221T003109Z
UID:10008072-1887879600-1887883200@blackrock-kadence.gotbdev.com
SUMMARY:Mezz: Adult Wrestling (Free to Members)
DESCRIPTION:Experience Adult Wrestling at Black Rock! A dedicated space to develop your strength\, endurance\, and wrestling technique. This is a no-Jiu-Jitsu\, no-striking program\, offering a challenging and rewarding workout for all skill levels. Whether you’re a beginner or seasoned wrestler\, Black Rock has you covered.
URL:https://blackrock-kadence.gotbdev.com/event/adult-wrestling-2/2029-10-28/
CATEGORIES:MMA
ATTACH;FMTTYPE=image/jpeg:https://blackrock-kadence.gotbdev.com/wp-content/uploads/2024/09/adult-mma-27.jpg
END:VEVENT
BEGIN:VEVENT
DTSTART;TZID=America/Vancouver:20291104T110000
DTEND;TZID=America/Vancouver:20291104T120000
DTSTAMP:20260422T174713
CREATED:20241102T184143Z
LAST-MODIFIED:20260221T003109Z
UID:10008073-1888484400-1888488000@blackrock-kadence.gotbdev.com
SUMMARY:Mezz: Adult Wrestling (Free to Members)
DESCRIPTION:Experience Adult Wrestling at Black Rock! A dedicated space to develop your strength\, endurance\, and wrestling technique. This is a no-Jiu-Jitsu\, no-striking program\, offering a challenging and rewarding workout for all skill levels. Whether you’re a beginner or seasoned wrestler\, Black Rock has you covered.
URL:https://blackrock-kadence.gotbdev.com/event/adult-wrestling-2/2029-11-04/
CATEGORIES:MMA
ATTACH;FMTTYPE=image/jpeg:https://blackrock-kadence.gotbdev.com/wp-content/uploads/2024/09/adult-mma-27.jpg
END:VEVENT
BEGIN:VEVENT
DTSTART;TZID=America/Vancouver:20291111T110000
DTEND;TZID=America/Vancouver:20291111T120000
DTSTAMP:20260422T174713
CREATED:20241102T184143Z
LAST-MODIFIED:20260221T003109Z
UID:10008074-1889089200-1889092800@blackrock-kadence.gotbdev.com
SUMMARY:Mezz: Adult Wrestling (Free to Members)
DESCRIPTION:Experience Adult Wrestling at Black Rock! A dedicated space to develop your strength\, endurance\, and wrestling technique. This is a no-Jiu-Jitsu\, no-striking program\, offering a challenging and rewarding workout for all skill levels. Whether you’re a beginner or seasoned wrestler\, Black Rock has you covered.
URL:https://blackrock-kadence.gotbdev.com/event/adult-wrestling-2/2029-11-11/
CATEGORIES:MMA
ATTACH;FMTTYPE=image/jpeg:https://blackrock-kadence.gotbdev.com/wp-content/uploads/2024/09/adult-mma-27.jpg
END:VEVENT
BEGIN:VEVENT
DTSTART;TZID=America/Vancouver:20291118T110000
DTEND;TZID=America/Vancouver:20291118T120000
DTSTAMP:20260422T174713
CREATED:20241102T184143Z
LAST-MODIFIED:20260221T003109Z
UID:10008075-1889694000-1889697600@blackrock-kadence.gotbdev.com
SUMMARY:Mezz: Adult Wrestling (Free to Members)
DESCRIPTION:Experience Adult Wrestling at Black Rock! A dedicated space to develop your strength\, endurance\, and wrestling technique. This is a no-Jiu-Jitsu\, no-striking program\, offering a challenging and rewarding workout for all skill levels. Whether you’re a beginner or seasoned wrestler\, Black Rock has you covered.
URL:https://blackrock-kadence.gotbdev.com/event/adult-wrestling-2/2029-11-18/
CATEGORIES:MMA
ATTACH;FMTTYPE=image/jpeg:https://blackrock-kadence.gotbdev.com/wp-content/uploads/2024/09/adult-mma-27.jpg
END:VEVENT
BEGIN:VEVENT
DTSTART;TZID=America/Vancouver:20291125T110000
DTEND;TZID=America/Vancouver:20291125T120000
DTSTAMP:20260422T174713
CREATED:20241102T184143Z
LAST-MODIFIED:20260221T003109Z
UID:10008076-1890298800-1890302400@blackrock-kadence.gotbdev.com
SUMMARY:Mezz: Adult Wrestling (Free to Members)
DESCRIPTION:Experience Adult Wrestling at Black Rock! A dedicated space to develop your strength\, endurance\, and wrestling technique. This is a no-Jiu-Jitsu\, no-striking program\, offering a challenging and rewarding workout for all skill levels. Whether you’re a beginner or seasoned wrestler\, Black Rock has you covered.
URL:https://blackrock-kadence.gotbdev.com/event/adult-wrestling-2/2029-11-25/
CATEGORIES:MMA
ATTACH;FMTTYPE=image/jpeg:https://blackrock-kadence.gotbdev.com/wp-content/uploads/2024/09/adult-mma-27.jpg
END:VEVENT
BEGIN:VEVENT
DTSTART;TZID=America/Vancouver:20291202T110000
DTEND;TZID=America/Vancouver:20291202T120000
DTSTAMP:20260422T174713
CREATED:20241102T184143Z
LAST-MODIFIED:20260221T003109Z
UID:10008077-1890903600-1890907200@blackrock-kadence.gotbdev.com
SUMMARY:Mezz: Adult Wrestling (Free to Members)
DESCRIPTION:Experience Adult Wrestling at Black Rock! A dedicated space to develop your strength\, endurance\, and wrestling technique. This is a no-Jiu-Jitsu\, no-striking program\, offering a challenging and rewarding workout for all skill levels. Whether you’re a beginner or seasoned wrestler\, Black Rock has you covered.
URL:https://blackrock-kadence.gotbdev.com/event/adult-wrestling-2/2029-12-02/
CATEGORIES:MMA
ATTACH;FMTTYPE=image/jpeg:https://blackrock-kadence.gotbdev.com/wp-content/uploads/2024/09/adult-mma-27.jpg
END:VEVENT
BEGIN:VEVENT
DTSTART;TZID=America/Vancouver:20291209T110000
DTEND;TZID=America/Vancouver:20291209T120000
DTSTAMP:20260422T174713
CREATED:20241102T184143Z
LAST-MODIFIED:20260221T003109Z
UID:10008078-1891508400-1891512000@blackrock-kadence.gotbdev.com
SUMMARY:Mezz: Adult Wrestling (Free to Members)
DESCRIPTION:Experience Adult Wrestling at Black Rock! A dedicated space to develop your strength\, endurance\, and wrestling technique. This is a no-Jiu-Jitsu\, no-striking program\, offering a challenging and rewarding workout for all skill levels. Whether you’re a beginner or seasoned wrestler\, Black Rock has you covered.
URL:https://blackrock-kadence.gotbdev.com/event/adult-wrestling-2/2029-12-09/
CATEGORIES:MMA
ATTACH;FMTTYPE=image/jpeg:https://blackrock-kadence.gotbdev.com/wp-content/uploads/2024/09/adult-mma-27.jpg
END:VEVENT
BEGIN:VEVENT
DTSTART;TZID=America/Vancouver:20291216T110000
DTEND;TZID=America/Vancouver:20291216T120000
DTSTAMP:20260422T174713
CREATED:20241102T184143Z
LAST-MODIFIED:20260221T003109Z
UID:10008079-1892113200-1892116800@blackrock-kadence.gotbdev.com
SUMMARY:Mezz: Adult Wrestling (Free to Members)
DESCRIPTION:Experience Adult Wrestling at Black Rock! A dedicated space to develop your strength\, endurance\, and wrestling technique. This is a no-Jiu-Jitsu\, no-striking program\, offering a challenging and rewarding workout for all skill levels. Whether you’re a beginner or seasoned wrestler\, Black Rock has you covered.
URL:https://blackrock-kadence.gotbdev.com/event/adult-wrestling-2/2029-12-16/
CATEGORIES:MMA
ATTACH;FMTTYPE=image/jpeg:https://blackrock-kadence.gotbdev.com/wp-content/uploads/2024/09/adult-mma-27.jpg
END:VEVENT
BEGIN:VEVENT
DTSTART;TZID=America/Vancouver:20291223T110000
DTEND;TZID=America/Vancouver:20291223T120000
DTSTAMP:20260422T174713
CREATED:20241102T184143Z
LAST-MODIFIED:20260221T003109Z
UID:10008080-1892718000-1892721600@blackrock-kadence.gotbdev.com
SUMMARY:Mezz: Adult Wrestling (Free to Members)
DESCRIPTION:Experience Adult Wrestling at Black Rock! A dedicated space to develop your strength\, endurance\, and wrestling technique. This is a no-Jiu-Jitsu\, no-striking program\, offering a challenging and rewarding workout for all skill levels. Whether you’re a beginner or seasoned wrestler\, Black Rock has you covered.
URL:https://blackrock-kadence.gotbdev.com/event/adult-wrestling-2/2029-12-23/
CATEGORIES:MMA
ATTACH;FMTTYPE=image/jpeg:https://blackrock-kadence.gotbdev.com/wp-content/uploads/2024/09/adult-mma-27.jpg
END:VEVENT
BEGIN:VEVENT
DTSTART;TZID=America/Vancouver:20291230T110000
DTEND;TZID=America/Vancouver:20291230T120000
DTSTAMP:20260422T174713
CREATED:20241102T184143Z
LAST-MODIFIED:20260221T003109Z
UID:10008081-1893322800-1893326400@blackrock-kadence.gotbdev.com
SUMMARY:Mezz: Adult Wrestling (Free to Members)
DESCRIPTION:Experience Adult Wrestling at Black Rock! A dedicated space to develop your strength\, endurance\, and wrestling technique. This is a no-Jiu-Jitsu\, no-striking program\, offering a challenging and rewarding workout for all skill levels. Whether you’re a beginner or seasoned wrestler\, Black Rock has you covered.
URL:https://blackrock-kadence.gotbdev.com/event/adult-wrestling-2/2029-12-30/
CATEGORIES:MMA
ATTACH;FMTTYPE=image/jpeg:https://blackrock-kadence.gotbdev.com/wp-content/uploads/2024/09/adult-mma-27.jpg
END:VEVENT
BEGIN:VEVENT
DTSTART;TZID=America/Vancouver:20300106T110000
DTEND;TZID=America/Vancouver:20300106T120000
DTSTAMP:20260422T174713
CREATED:20241102T184143Z
LAST-MODIFIED:20260221T003109Z
UID:10008082-1893927600-1893931200@blackrock-kadence.gotbdev.com
SUMMARY:Mezz: Adult Wrestling (Free to Members)
DESCRIPTION:Experience Adult Wrestling at Black Rock! A dedicated space to develop your strength\, endurance\, and wrestling technique. This is a no-Jiu-Jitsu\, no-striking program\, offering a challenging and rewarding workout for all skill levels. Whether you’re a beginner or seasoned wrestler\, Black Rock has you covered.
URL:https://blackrock-kadence.gotbdev.com/event/adult-wrestling-2/2030-01-06/
CATEGORIES:MMA
ATTACH;FMTTYPE=image/jpeg:https://blackrock-kadence.gotbdev.com/wp-content/uploads/2024/09/adult-mma-27.jpg
END:VEVENT
BEGIN:VEVENT
DTSTART;TZID=America/Vancouver:20300113T110000
DTEND;TZID=America/Vancouver:20300113T120000
DTSTAMP:20260422T174713
CREATED:20241102T184143Z
LAST-MODIFIED:20260221T003109Z
UID:10008083-1894532400-1894536000@blackrock-kadence.gotbdev.com
SUMMARY:Mezz: Adult Wrestling (Free to Members)
DESCRIPTION:Experience Adult Wrestling at Black Rock! A dedicated space to develop your strength\, endurance\, and wrestling technique. This is a no-Jiu-Jitsu\, no-striking program\, offering a challenging and rewarding workout for all skill levels. Whether you’re a beginner or seasoned wrestler\, Black Rock has you covered.
URL:https://blackrock-kadence.gotbdev.com/event/adult-wrestling-2/2030-01-13/
CATEGORIES:MMA
ATTACH;FMTTYPE=image/jpeg:https://blackrock-kadence.gotbdev.com/wp-content/uploads/2024/09/adult-mma-27.jpg
END:VEVENT
BEGIN:VEVENT
DTSTART;TZID=America/Vancouver:20300120T110000
DTEND;TZID=America/Vancouver:20300120T120000
DTSTAMP:20260422T174713
CREATED:20241102T184143Z
LAST-MODIFIED:20260221T003109Z
UID:10008084-1895137200-1895140800@blackrock-kadence.gotbdev.com
SUMMARY:Mezz: Adult Wrestling (Free to Members)
DESCRIPTION:Experience Adult Wrestling at Black Rock! A dedicated space to develop your strength\, endurance\, and wrestling technique. This is a no-Jiu-Jitsu\, no-striking program\, offering a challenging and rewarding workout for all skill levels. Whether you’re a beginner or seasoned wrestler\, Black Rock has you covered.
URL:https://blackrock-kadence.gotbdev.com/event/adult-wrestling-2/2030-01-20/
CATEGORIES:MMA
ATTACH;FMTTYPE=image/jpeg:https://blackrock-kadence.gotbdev.com/wp-content/uploads/2024/09/adult-mma-27.jpg
END:VEVENT
BEGIN:VEVENT
DTSTART;TZID=America/Vancouver:20300127T110000
DTEND;TZID=America/Vancouver:20300127T120000
DTSTAMP:20260422T174713
CREATED:20241102T184143Z
LAST-MODIFIED:20260221T003109Z
UID:10008085-1895742000-1895745600@blackrock-kadence.gotbdev.com
SUMMARY:Mezz: Adult Wrestling (Free to Members)
DESCRIPTION:Experience Adult Wrestling at Black Rock! A dedicated space to develop your strength\, endurance\, and wrestling technique. This is a no-Jiu-Jitsu\, no-striking program\, offering a challenging and rewarding workout for all skill levels. Whether you’re a beginner or seasoned wrestler\, Black Rock has you covered.
URL:https://blackrock-kadence.gotbdev.com/event/adult-wrestling-2/2030-01-27/
CATEGORIES:MMA
ATTACH;FMTTYPE=image/jpeg:https://blackrock-kadence.gotbdev.com/wp-content/uploads/2024/09/adult-mma-27.jpg
END:VEVENT
BEGIN:VEVENT
DTSTART;TZID=America/Vancouver:20300203T110000
DTEND;TZID=America/Vancouver:20300203T120000
DTSTAMP:20260422T174713
CREATED:20241102T184143Z
LAST-MODIFIED:20260221T003109Z
UID:10008086-1896346800-1896350400@blackrock-kadence.gotbdev.com
SUMMARY:Mezz: Adult Wrestling (Free to Members)
DESCRIPTION:Experience Adult Wrestling at Black Rock! A dedicated space to develop your strength\, endurance\, and wrestling technique. This is a no-Jiu-Jitsu\, no-striking program\, offering a challenging and rewarding workout for all skill levels. Whether you’re a beginner or seasoned wrestler\, Black Rock has you covered.
URL:https://blackrock-kadence.gotbdev.com/event/adult-wrestling-2/2030-02-03/
CATEGORIES:MMA
ATTACH;FMTTYPE=image/jpeg:https://blackrock-kadence.gotbdev.com/wp-content/uploads/2024/09/adult-mma-27.jpg
END:VEVENT
BEGIN:VEVENT
DTSTART;TZID=America/Vancouver:20300210T110000
DTEND;TZID=America/Vancouver:20300210T120000
DTSTAMP:20260422T174713
CREATED:20241102T184143Z
LAST-MODIFIED:20260221T003109Z
UID:10008087-1896951600-1896955200@blackrock-kadence.gotbdev.com
SUMMARY:Mezz: Adult Wrestling (Free to Members)
DESCRIPTION:Experience Adult Wrestling at Black Rock! A dedicated space to develop your strength\, endurance\, and wrestling technique. This is a no-Jiu-Jitsu\, no-striking program\, offering a challenging and rewarding workout for all skill levels. Whether you’re a beginner or seasoned wrestler\, Black Rock has you covered.
URL:https://blackrock-kadence.gotbdev.com/event/adult-wrestling-2/2030-02-10/
CATEGORIES:MMA
ATTACH;FMTTYPE=image/jpeg:https://blackrock-kadence.gotbdev.com/wp-content/uploads/2024/09/adult-mma-27.jpg
END:VEVENT
BEGIN:VEVENT
DTSTART;TZID=America/Vancouver:20300217T110000
DTEND;TZID=America/Vancouver:20300217T120000
DTSTAMP:20260422T174713
CREATED:20241102T184143Z
LAST-MODIFIED:20260221T003109Z
UID:10008088-1897556400-1897560000@blackrock-kadence.gotbdev.com
SUMMARY:Mezz: Adult Wrestling (Free to Members)
DESCRIPTION:Experience Adult Wrestling at Black Rock! A dedicated space to develop your strength\, endurance\, and wrestling technique. This is a no-Jiu-Jitsu\, no-striking program\, offering a challenging and rewarding workout for all skill levels. Whether you’re a beginner or seasoned wrestler\, Black Rock has you covered.
URL:https://blackrock-kadence.gotbdev.com/event/adult-wrestling-2/2030-02-17/
CATEGORIES:MMA
ATTACH;FMTTYPE=image/jpeg:https://blackrock-kadence.gotbdev.com/wp-content/uploads/2024/09/adult-mma-27.jpg
END:VEVENT
BEGIN:VEVENT
DTSTART;TZID=America/Vancouver:20300224T110000
DTEND;TZID=America/Vancouver:20300224T120000
DTSTAMP:20260422T174713
CREATED:20241102T184143Z
LAST-MODIFIED:20260221T003109Z
UID:10008089-1898161200-1898164800@blackrock-kadence.gotbdev.com
SUMMARY:Mezz: Adult Wrestling (Free to Members)
DESCRIPTION:Experience Adult Wrestling at Black Rock! A dedicated space to develop your strength\, endurance\, and wrestling technique. This is a no-Jiu-Jitsu\, no-striking program\, offering a challenging and rewarding workout for all skill levels. Whether you’re a beginner or seasoned wrestler\, Black Rock has you covered.
URL:https://blackrock-kadence.gotbdev.com/event/adult-wrestling-2/2030-02-24/
CATEGORIES:MMA
ATTACH;FMTTYPE=image/jpeg:https://blackrock-kadence.gotbdev.com/wp-content/uploads/2024/09/adult-mma-27.jpg
END:VEVENT
BEGIN:VEVENT
DTSTART;TZID=America/Vancouver:20300303T110000
DTEND;TZID=America/Vancouver:20300303T120000
DTSTAMP:20260422T174713
CREATED:20241102T184143Z
LAST-MODIFIED:20260221T003109Z
UID:10008090-1898766000-1898769600@blackrock-kadence.gotbdev.com
SUMMARY:Mezz: Adult Wrestling (Free to Members)
DESCRIPTION:Experience Adult Wrestling at Black Rock! A dedicated space to develop your strength\, endurance\, and wrestling technique. This is a no-Jiu-Jitsu\, no-striking program\, offering a challenging and rewarding workout for all skill levels. Whether you’re a beginner or seasoned wrestler\, Black Rock has you covered.
URL:https://blackrock-kadence.gotbdev.com/event/adult-wrestling-2/2030-03-03/
CATEGORIES:MMA
ATTACH;FMTTYPE=image/jpeg:https://blackrock-kadence.gotbdev.com/wp-content/uploads/2024/09/adult-mma-27.jpg
END:VEVENT
BEGIN:VEVENT
DTSTART;TZID=America/Vancouver:20300310T110000
DTEND;TZID=America/Vancouver:20300310T120000
DTSTAMP:20260422T174713
CREATED:20241102T184143Z
LAST-MODIFIED:20260221T003109Z
UID:10008091-1899370800-1899374400@blackrock-kadence.gotbdev.com
SUMMARY:Mezz: Adult Wrestling (Free to Members)
DESCRIPTION:Experience Adult Wrestling at Black Rock! A dedicated space to develop your strength\, endurance\, and wrestling technique. This is a no-Jiu-Jitsu\, no-striking program\, offering a challenging and rewarding workout for all skill levels. Whether you’re a beginner or seasoned wrestler\, Black Rock has you covered.
URL:https://blackrock-kadence.gotbdev.com/event/adult-wrestling-2/2030-03-10/
CATEGORIES:MMA
ATTACH;FMTTYPE=image/jpeg:https://blackrock-kadence.gotbdev.com/wp-content/uploads/2024/09/adult-mma-27.jpg
END:VEVENT
BEGIN:VEVENT
DTSTART;TZID=America/Vancouver:20300317T110000
DTEND;TZID=America/Vancouver:20300317T120000
DTSTAMP:20260422T174713
CREATED:20241102T184143Z
LAST-MODIFIED:20260221T003109Z
UID:10008092-1899975600-1899979200@blackrock-kadence.gotbdev.com
SUMMARY:Mezz: Adult Wrestling (Free to Members)
DESCRIPTION:Experience Adult Wrestling at Black Rock! A dedicated space to develop your strength\, endurance\, and wrestling technique. This is a no-Jiu-Jitsu\, no-striking program\, offering a challenging and rewarding workout for all skill levels. Whether you’re a beginner or seasoned wrestler\, Black Rock has you covered.
URL:https://blackrock-kadence.gotbdev.com/event/adult-wrestling-2/2030-03-17/
CATEGORIES:MMA
ATTACH;FMTTYPE=image/jpeg:https://blackrock-kadence.gotbdev.com/wp-content/uploads/2024/09/adult-mma-27.jpg
END:VEVENT
BEGIN:VEVENT
DTSTART;TZID=America/Vancouver:20300324T110000
DTEND;TZID=America/Vancouver:20300324T120000
DTSTAMP:20260422T174713
CREATED:20241102T184143Z
LAST-MODIFIED:20260221T003109Z
UID:10008093-1900580400-1900584000@blackrock-kadence.gotbdev.com
SUMMARY:Mezz: Adult Wrestling (Free to Members)
DESCRIPTION:Experience Adult Wrestling at Black Rock! A dedicated space to develop your strength\, endurance\, and wrestling technique. This is a no-Jiu-Jitsu\, no-striking program\, offering a challenging and rewarding workout for all skill levels. Whether you’re a beginner or seasoned wrestler\, Black Rock has you covered.
URL:https://blackrock-kadence.gotbdev.com/event/adult-wrestling-2/2030-03-24/
CATEGORIES:MMA
ATTACH;FMTTYPE=image/jpeg:https://blackrock-kadence.gotbdev.com/wp-content/uploads/2024/09/adult-mma-27.jpg
END:VEVENT
BEGIN:VEVENT
DTSTART;TZID=America/Vancouver:20300331T110000
DTEND;TZID=America/Vancouver:20300331T120000
DTSTAMP:20260422T174713
CREATED:20241102T184143Z
LAST-MODIFIED:20260221T003109Z
UID:10008094-1901185200-1901188800@blackrock-kadence.gotbdev.com
SUMMARY:Mezz: Adult Wrestling (Free to Members)
DESCRIPTION:Experience Adult Wrestling at Black Rock! A dedicated space to develop your strength\, endurance\, and wrestling technique. This is a no-Jiu-Jitsu\, no-striking program\, offering a challenging and rewarding workout for all skill levels. Whether you’re a beginner or seasoned wrestler\, Black Rock has you covered.
URL:https://blackrock-kadence.gotbdev.com/event/adult-wrestling-2/2030-03-31/
CATEGORIES:MMA
ATTACH;FMTTYPE=image/jpeg:https://blackrock-kadence.gotbdev.com/wp-content/uploads/2024/09/adult-mma-27.jpg
END:VEVENT
BEGIN:VEVENT
DTSTART;TZID=America/Vancouver:20300407T110000
DTEND;TZID=America/Vancouver:20300407T120000
DTSTAMP:20260422T174713
CREATED:20241102T184143Z
LAST-MODIFIED:20260221T003109Z
UID:10008095-1901790000-1901793600@blackrock-kadence.gotbdev.com
SUMMARY:Mezz: Adult Wrestling (Free to Members)
DESCRIPTION:Experience Adult Wrestling at Black Rock! A dedicated space to develop your strength\, endurance\, and wrestling technique. This is a no-Jiu-Jitsu\, no-striking program\, offering a challenging and rewarding workout for all skill levels. Whether you’re a beginner or seasoned wrestler\, Black Rock has you covered.
URL:https://blackrock-kadence.gotbdev.com/event/adult-wrestling-2/2030-04-07/
CATEGORIES:MMA
ATTACH;FMTTYPE=image/jpeg:https://blackrock-kadence.gotbdev.com/wp-content/uploads/2024/09/adult-mma-27.jpg
END:VEVENT
BEGIN:VEVENT
DTSTART;TZID=America/Vancouver:20300414T110000
DTEND;TZID=America/Vancouver:20300414T120000
DTSTAMP:20260422T174713
CREATED:20241102T184143Z
LAST-MODIFIED:20260221T003109Z
UID:10008096-1902394800-1902398400@blackrock-kadence.gotbdev.com
SUMMARY:Mezz: Adult Wrestling (Free to Members)
DESCRIPTION:Experience Adult Wrestling at Black Rock! A dedicated space to develop your strength\, endurance\, and wrestling technique. This is a no-Jiu-Jitsu\, no-striking program\, offering a challenging and rewarding workout for all skill levels. Whether you’re a beginner or seasoned wrestler\, Black Rock has you covered.
URL:https://blackrock-kadence.gotbdev.com/event/adult-wrestling-2/2030-04-14/
CATEGORIES:MMA
ATTACH;FMTTYPE=image/jpeg:https://blackrock-kadence.gotbdev.com/wp-content/uploads/2024/09/adult-mma-27.jpg
END:VEVENT
BEGIN:VEVENT
DTSTART;TZID=America/Vancouver:20300421T110000
DTEND;TZID=America/Vancouver:20300421T120000
DTSTAMP:20260422T174713
CREATED:20241102T184143Z
LAST-MODIFIED:20260221T003109Z
UID:10008097-1902999600-1903003200@blackrock-kadence.gotbdev.com
SUMMARY:Mezz: Adult Wrestling (Free to Members)
DESCRIPTION:Experience Adult Wrestling at Black Rock! A dedicated space to develop your strength\, endurance\, and wrestling technique. This is a no-Jiu-Jitsu\, no-striking program\, offering a challenging and rewarding workout for all skill levels. Whether you’re a beginner or seasoned wrestler\, Black Rock has you covered.
URL:https://blackrock-kadence.gotbdev.com/event/adult-wrestling-2/2030-04-21/
CATEGORIES:MMA
ATTACH;FMTTYPE=image/jpeg:https://blackrock-kadence.gotbdev.com/wp-content/uploads/2024/09/adult-mma-27.jpg
END:VEVENT
BEGIN:VEVENT
DTSTART;TZID=America/Vancouver:20300428T110000
DTEND;TZID=America/Vancouver:20300428T120000
DTSTAMP:20260422T174713
CREATED:20241102T184143Z
LAST-MODIFIED:20260221T003109Z
UID:10008098-1903604400-1903608000@blackrock-kadence.gotbdev.com
SUMMARY:Mezz: Adult Wrestling (Free to Members)
DESCRIPTION:Experience Adult Wrestling at Black Rock! A dedicated space to develop your strength\, endurance\, and wrestling technique. This is a no-Jiu-Jitsu\, no-striking program\, offering a challenging and rewarding workout for all skill levels. Whether you’re a beginner or seasoned wrestler\, Black Rock has you covered.
URL:https://blackrock-kadence.gotbdev.com/event/adult-wrestling-2/2030-04-28/
CATEGORIES:MMA
ATTACH;FMTTYPE=image/jpeg:https://blackrock-kadence.gotbdev.com/wp-content/uploads/2024/09/adult-mma-27.jpg
END:VEVENT
END:VCALENDAR